{"text_format":"1","workbook":"xlsx","n_sheets":23,"sheets":["Сбор показателей - случ","Графики","СОДЕРЖАНИЕ","Отбор участников","Данные для фильтра","Карточка участника","РЕЙТИНГ Тех","Фото","Данные для карточки","Паспорт показателей","РЕЙТИНГ","Показатели за ГОД","ИНТЕГРАЛЬНЫЙ РЕЙТИНГ","РЕЙТИНГ Результативность","РЕЙТИНГ Проактивность","РЕЙТИНГ Развитие","РЕЙТИНГ Взаимодействие","РЕЙТИНГ КЦ Общий","РЕЙТИНГ КЦ Шкалы","Сбор показателей I кв","Сбор показателей II кв","Сбор показателей III кв","Сбор показателей IV кв"],"not_rendered":{"charts":3,"images":12,"macros":1,"external_links":1,"defined_names":18,"comments":0,"pivot_tables":1},"unopened":[],"bounds":{"document_bytes":16777216,"sheet_cells":100000,"rows_first":2000,"rows_last":500,"rows_between":2000,"halvings":0,"cell_chars":16384,"cell_head_chars":4096},"cells_cut":0,"cells_raw":0,"read":"whole","date_system":"1900"}

{"sheet":"Сбор показателей - случ","index":0,"n_rows":41,"n_cols":23,"rows_kept":41,"cut":false,"hidden":true,"merged":[[3,21,3,22],[3,19,4,19],[3,20,4,20],[2,12,2,18],[2,19,2,22],[3,14,3,15],[3,0,4,0],[3,1,4,1],[2,0,2,1],[3,16,3,18],[3,4,4,4],[3,5,4,5],[3,12,4,12],[3,13,4,13],[2,4,2,5],[2,6,2,11],[3,6,3,8],[3,9,3,11],[3,2,4,2],[3,3,4,3],[2,2,2,3]]}
[]
[]
["УЧАСТНИК",null,"ЗОНА УПРАВЛЕНИЯ",null,"РЕЗУЛЬТАТИВНОСТЬ",null,"ПРОАКТИВНОСТЬ",null,null,null,null,null,"ПРОФЕССИОНАЛЬНОЕ РАЗВИТИЕ",null,null,null,null,null,null,"ЭФФЕКТИВНОЕ ВЗАИМОДЕЙСТВИЕ"]
["ФИО","ТИП","Число сотрудников      в прямом подчинении","Число сотрудников в подразделении","Выполнение УПЦ","Множитель","Поданные инициативы",null,null,"Инициативы, одобренные к реализации",null,null,"Выполнение ИПР самим участником","Выполнение ИПР непосредственными подчиненными ","Наполнение Кадрового резерва функции",null,"Управление знаниями функции",null,null,"Обратная связь от подрядчиков","Обратная связь от прямых подчиненных","Работа кросс-функциональных команд"]
[null,null,null,null,null,null,"ЛИНиЯ","И.Д.Е.Я.","Другие","ЛИНиЯ","И.Д.Е.Я.","Другие",null,null,"Оперативный кадровый резерв","Перспективный кадровый резерв","Число внутренних тренеров","Число курсов внутренних тренеров вне Института Закупки","Число курсов внутренних тренеров в рамках Института Закупки",null,null,"Инициация кросс-функциональных команд","Участие в кросс-функциональных командах"]
["Андреева Анна","ОКР",{"$f":"RANDBETWEEN(3,7)","v":3},{"$f":"RANDBETWEEN(C6,IF(B6=\"окр\",20,IF(B6=\"Згд\",40,10))+C6)","v":4},{"$f":"RANDBETWEEN(95,110)/100","v":1.03},{"$f":"RANDBETWEEN(1,3)","v":2},{"$f":"RANDBETWEEN(0,50)","v":0},{"$f":"RANDBETWEEN(0,50)","v":26},{"$f":"RANDBETWEEN(0,50)","v":11},{"$f":"RANDBETWEEN(0,G6)","v":0},{"$f":"RANDBETWEEN(0,H6)","v":15},{"$f":"RANDBETWEEN(0,I6)","v":1},{"$f":"RANDBETWEEN(50,100)/100","v":0.91},{"$f":"MEDIAN(RANDBETWEEN(50,100),RANDBETWEEN(50,100),RANDBETWEEN(50,100))/100","v":0.59},{"$f":"RANDBETWEEN(0,3)","v":3},{"$f":"RANDBETWEEN(0,5)","v":5},{"$f":"RANDBETWEEN(0,D6*0.5)","v":0},{"$f":"RANDBETWEEN(0,20)","v":15},{"$f":"RANDBETWEEN(0,7)","v":6},{"$f":"RANDBETWEEN(50,99)/100","v":0.9},{"$f":"RANDBETWEEN(50,99)/100","v":0.92},{"$f":"RANDBETWEEN(0,20)","v":0},{"$f":"RANDBETWEEN(0,D6*0.5)","v":0}]
["Анисимова Марина","ОКР",{"$f":"RANDBETWEEN(3,7)","v":3},{"$f":"RANDBETWEEN(C7,IF(B7=\"окр\",20,IF(B7=\"Згд\",40,10))+C7)","v":12},{"$f":"RANDBETWEEN(95,110)/100","v":1.06},{"$f":"RANDBETWEEN(1,3)","v":2},{"$f":"RANDBETWEEN(0,50)","v":40},19,0,32,0,0,{"$f":"RANDBETWEEN(50,100)/100","v":0.85},{"$f":"MEDIAN(RANDBETWEEN(50,100),RANDBETWEEN(50,100),RANDBETWEEN(50,100))/100","v":0.59},{"$f":"RANDBETWEEN(0,3)","v":1},{"$f":"RANDBETWEEN(0,5)","v":1},0,{"$f":"RANDBETWEEN(0,20)","v":12},{"$f":"RANDBETWEEN(0,7)","v":5},{"$f":"RANDBETWEEN(50,99)/100","v":0.85},0.8,{"$f":"RANDBETWEEN(0,20)","v":17},5]
["Билый Александр","ОКР",7,19,1,3,27,22,7,3,4,4,0.61,0.65,3,2,1,8,4,0.56999999999999995,0.84,16,0]
["Бильвина Валерия","ОКР",3,5,0.99,1,45,13,23,9,8,22,0.81,0.62,1,2,1,10,2,0.72,0.57999999999999996,9,1]
["Борисов Сергей","ОКР",3,11,1.1000000000000001,1,40,44,32,7,33,8,0.7,0.57999999999999996,0,1,0,2,1,0.82,0.53,17,3]
["Булковский Сергей","ЗГД",4,37,1.0900000000000001,3,23,20,3,8,9,2,0.76,0.83,2,4,4,11,1,0.76,0.95,18,14]
["Винокурова Елена","КЦ",5,12,1.07,2,16,2,16,8,0,4,0.72,0.72,1,3,0,5,5,0.85,0.81,14,0]
["Войтюк Юлия","ОКР",3,20,1,1,21,17,23,12,17,8,0.93,0.51,2,0,10,18,5,0.71,0.55000000000000004,16,6]
["Горбунова Татьяна","КЦ",5,14,1,3,3,21,23,0,14,17,0.91,0.66,1,5,2,9,3,0.6,0.52,13,4]
["Гудкова Людмила","ОКР (КЦ)",3,8,1.0900000000000001,1,16,32,48,1,11,22,0.92,0.92,0,1,1,16,3,0.68,0.82,20,3]
["Гулиев Рагим","ЗГД",4,11,1.03,1,7,18,1,2,7,0,0.71,0.57999999999999996,3,3,0,1,5,0.77,0.63,15,2]
["Давыденков Евгений","КЦ",4,8,1.0900000000000001,2,28,50,31,10,23,2,0.59,0.55000000000000004,3,1,3,8,2,0.89,0.82,4,1]
["Журавлев Сергей","КЦ",7,10,1.05,1,28,20,12,4,10,0,1,0.78,0,3,2,12,4,0.69,0.6,16,0]
["Завьялов Василий","ЗГД",7,45,1.01,2,36,44,26,36,32,4,0.71,0.69,3,0,20,2,2,0.61,0.79,4,7]
["Коваленко Тамара","ОКР",5,21,1.08,2,48,37,23,48,21,1,0.56999999999999995,0.82,1,2,1,0,5,0.67,0.78,15,3]
["Колесников Сергей","ОКР",4,18,0.98,2,7,39,10,3,30,7,0.75,0.79,1,2,5,1,0,0.76,0.77,15,9]
["Коробейников Павел","ЗГД",5,18,1,1,25,40,17,10,11,15,0.57999999999999996,0.54,1,2,7,6,2,0.84,0.82,16,1]
["Марченко Лариса","ОКР",3,20,1.03,2,9,22,6,9,5,5,0.97,0.65,0,2,10,4,7,0.71,0.87,7,10]
["Мелёхин Денис","ОКР (КЦ)",3,13,0.98,1,37,18,20,5,5,16,0.54,0.8,3,2,5,13,1,0.67,0.67,6,5]
["Миняева Ирина","ОКР (КЦ)",7,13,1,1,44,4,28,42,1,3,0.9,0.82,2,1,1,5,1,0.55000000000000004,0.78,11,0]
["Мирсаитов Дмитрий","ЗГД",4,13,0.99,2,3,38,34,1,21,12,0.65,0.98,2,4,0,2,3,0.85,0.71,6,3]
["Навальнева Евгения","ЗГД",5,9,0.99,2,11,27,30,6,12,6,0.64,0.71,3,4,0,19,6,0.76,0.61,4,1]
["Османов Руслан","ЗГД",5,14,0.96,2,9,44,16,9,32,4,0.9,0.82,3,5,7,20,5,0.6,0.88,7,2]
["Приймак Андрей","ЗГД",3,39,0.99,3,43,40,3,29,40,2,0.87,0.61,1,0,11,17,5,0.5,0.77,10,9]
["Проскуряков Алексей","ОКР",5,18,1.1000000000000001,1,22,41,3,21,17,0,0.51,0.78,3,5,4,4,0,0.67,0.75,6,9]
["Савченко Яна","ОКР (КЦ)",5,8,0.96,1,50,23,49,31,19,4,0.5,0.74,1,5,1,4,3,0.54,0.51,2,3]
["Сафиуллин Наиль","ОКР (КЦ)",4,11,0.96,2,25,3,16,1,0,2,0.98,0.71,3,1,4,15,7,0.52,0.66,12,3]
["Сметанин Павел","ОКР",3,22,0.97,1,36,18,26,8,2,21,0.76,0.71,0,0,3,0,6,0.63,0.88,11,4]
["Степин Константин","ОКР (КЦ)",3,12,0.96,3,38,41,15,30,17,11,0.81,0.73,0,4,1,6,2,0.98,0.84,16,2]
["Титов Александр","ЗГД",7,24,1.04,2,37,28,11,34,20,10,0.86,0.75,3,0,2,18,5,0.69,0.88,10,0]
["Ульданов Динар","КЦ",7,7,1.05,3,16,42,42,3,16,23,0.97,0.92,3,1,0,5,1,0.95,0.86,10,0]
["Фирсов Владимир","ОКР",3,11,1.08,3,39,17,15,16,0,9,0.85,0.71,2,0,5,6,6,0.82,0.52,20,4]
["Шепляков Алексей","ЗГД",3,5,1.02,1,47,1,20,0,1,9,0.51,0.88,2,1,1,12,0,0.67,0.91,17,0]
["Шестаков Антон","ЗГД",5,22,0.95,3,25,7,45,4,4,37,0.9,0.56000000000000005,2,3,8,5,3,0.56000000000000005,0.65,5,3]
["Ялымов Денис","ОКР",6,9,1.07,3,39,0,26,33,0,12,0.68,0.67,1,2,2,2,6,0.52,0.81,13,2]
["Чунц Илья","ЗГД",5,17,0.95,2,46,33,48,4,9,2,0.78,0.65,3,1,1,13,0,0.65,0.92,5,6]

{"sheet":"Графики","index":1,"n_rows":25,"n_cols":9,"rows_kept":25,"cut":false,"hidden":true,"merged":[]}
["Рейтинг"]
[{"$f":"VLOOKUP('Карточка участника'!F3,'Данные для карточки'!A4:BS125,67,FALSE)","v":6},{"$f":"A4-A2","v":4}]
[{"$f":"A4-A2","v":4}]
[{"$f":"10","v":10}]
[]
["Оценка лидерских компетенций"]
[{"$f":"VLOOKUP('Карточка участника'!F3,'Данные для карточки'!A4:BT125,72,FALSE)","v":8},{"$f":"A8-A7","v":4}]
[12]
[]
["Самооценка управленческих навыков"]
[null,"Постановка целей и задач","Планирование и решение проблем","Создание необходимых условий для выполнения работы","Обеспечение обратной связи","Позитивный контроль","Признание заслуг","Эффективное взаимодействие с подчиненными","Создание мотивирующей рабочей среды"]
["Медиана по России",5,5.5,5.6,4.3,5.0999999999999996,5.4,5.4,5]
["Результат",{"$f":"VLOOKUP('Карточка участника'!F3,'Данные для карточки'!A1:BT125,23,FALSE)","v":6.4},{"$f":"VLOOKUP('Карточка участника'!F3,'Данные для карточки'!A1:BT125,24,FALSE)","v":5.63},{"$f":"VLOOKUP('Карточка участника'!F3,'Данные для карточки'!A1:BT125,25,FALSE)","v":6.2},{"$f":"VLOOKUP('Карточка участника'!F3,'Данные для карточки'!A1:BT125,26,FALSE)","v":6.8},{"$f":"VLOOKUP('Карточка участника'!F3,'Данные для карточки'!A1:BT125,27,FALSE)","v":5.23},{"$f":"VLOOKUP('Карточка участника'!F3,'Данные для карточки'!A1:BT125,28,FALSE)","v":6.9},{"$f":"VLOOKUP('Карточка участника'!F3,'Данные для карточки'!A1:BT125,29,FALSE)","v":6.6},{"$f":"VLOOKUP('Карточка участника'!F3,'Данные для карточки'!A1:BT125,30,FALSE)","v":5.99}]
["Медиана по участникам",5.8,5.6,6,5.4,4.5999999999999996,6.1,6.2,5.3]
[]
[]
["ИНТЕГРАЛЬНЫЙ РЕЙТИНГ"]
["РЕЗУЛЬТАТИВНОСТЬ"]
["ПРОАКТИВНОСТЬ"]
["ПРОФЕССИОНАЛЬНОЕ РАЗВИТИЕ"]
["ЭФФЕКТИВНОЕ ВЗАИМОДЕЙСТВИЕ"]
[]
["ВОЗМОЖНЫЕ ГОРОДА"]
["              НАКОПЛЕННЫЙ РЕЙТИНГ"]
["                   ОЦЕНКА ЛИДЕРСКИХ КОМПЕТЕНЦИЙ по Lominger"]

{"sheet":"СОДЕРЖАНИЕ","index":2,"n_rows":26,"n_cols":5,"rows_kept":26,"cut":false,"hidden":true,"merged":[[8,2,9,2],[22,4,22,6],[21,4,21,6],[20,4,20,6],[18,4,18,6],[19,4,19,6],[12,6,13,6],[14,6,15,6],[11,4,11,5],[2,4,2,5],[4,4,4,5],[5,4,5,5],[24,4,24,6],[25,4,25,6],[8,4,9,5],[12,4,15,4],[23,4,23,6]]}
[]
[]
[null,null,"СОДЕРЖАНИЕ",null,"ОПИСАНИЕ"]
[]
[null,null,"Отбор участников",null,"База участников программы \"Энергия\" с установленными фильтрами для отбора по параметрам"]
[null,null,"Карточка участника",null,"Индивидуальная карточка на каждого участника программы Энергия"]
[]
[]
[null,null,"Паспорт показателей",null,"По ссылке - описание методики сбора и подсчета показателей, их вес, сроки сбора"]
[]
[]
[null,null,"Сбор показателей"]
[null,null,"За I квартал",null,"Формы для внесения сырых данных по показателям для проведения расчетов"]
[null,null,"За II квартал"]
[null,null,"За III квартал"]
[null,null,"За IV квартал"]
[]
[null,null,"Результаты рейтингований"]
[null,null,"РЕЙТИНГ",null,"Общая таблица с рейтингом участников (кроме КЦ) \nпо всем шкалам, \nпо кварталам и по году"]
[null,null,"ИНТЕГРАЛЬНЫЙ РЕЙТИНГ",null,"Рейтинг участников (кроме КЦ) \nсовокупно по всем показателям\nпо кварталам и году"]
[null,null,"РЕЙТИНГ Результативность",null,"Рейтинг участников (кроме КЦ) \nпо шкале РЕЗУЛЬТАТИВНОСТЬ \nпо кварталам и по году"]
[null,null,"РЕЙТИНГ Проактивность",null,"Рейтинг участников (кроме КЦ) \nпо шкале ПРОАКТИВНОСТЬ\nпо кварталам и по году"]
[null,null,"РЕЙТИНГ Развитие",null,"Рейтинг участников (кроме КЦ) \nпо шкале ПРОФЕССИОНАЛЬНОЕ РАЗВИТИЕ\nпо кварталам и по году"]
[null,null,"РЕЙТИНГ Взаимодействие",null,"Рейтинг участников (кроме КЦ) \nпо шкале ЭФФЕКТИВНОЕ ВЗАИМОДЕЙСТВИЕ \nпо кварталам и по году"]
[null,null,"РЕЙТИНГ КЦ Общий",null,"Общая таблица с рейтингом участников из КЦ\nпо всем шкалам, \nпо кварталам и по году"]
[null,null,"РЕЙТИНГ КЦ Шкалы",null,"Рейтинги участников из КЦ\nразбитые по шкалам, \nпо кварталам и по году"]

{"sheet":"Отбор участников","index":3,"n_rows":21,"n_cols":8,"rows_kept":21,"cut":false,"hidden":false,"merged":[[9,3,9,5],[10,3,10,4],[10,5,10,6],[2,2,3,3]]}
[]
[]
[null,null,"ФИЛЬТРЫ ДЛЯ ОТБОРА УЧАСТНИКОВ ПО ПАРАМЕТРАМ"]
[]
[null,null,"Место работы","(Все)"]
[null,null,"Уровень должности","(Все)"]
[null,null,"Город проживания","(Все)"]
[null,null,"Город переезда","(Все)"]
[null,null,"Уровень владения Английским языком","(Все)"]
[null,null,null,"\nРЕЗУЛЬТАТ ОТБОРА",null,null,"выбор содержания - \nаспекты оценки ","выбор содержания - \nБлок рейтингования"]
[null,null,"ФИО","ОБЩАЯ ИНФОРМАЦИЯ__________________",null,"              НАКОПЛЕННЫЙ РЕЙТИНГ",null,"ИНТЕГРАЛЬНЫЙ РЕЙТИНГ"]
[null,null,"Василий Леонтьев",{"$f":"IF(C12=\"\",\"\",\"Место работы: \"&CHAR(10)&CHAR(10)&\"Должность: \"&CHAR(10)&CHAR(10)&\"Срок в должности: \")","v":"Место работы: \n\nДолжность: \n\nСрок в должности: "},{"$f":"IF(C12=\"\",\"\",(VLOOKUP(C12,'Данные для карточки'!$A$4:$BS$175,3,FALSE)&CHAR(10)&CHAR(10)&VLOOKUP(C12,'Данные для карточки'!$A$4:$BS$175,4,FALSE)&CHAR(10))&CHAR(10)&IF(INT(YEARFRAC(VLOOKUP(C12,'Данные для карточки'!A4:EG175,77,FALSE),TODAY()))=0,\"\",INT(YEARFRAC(VLOOKUP(C12,'Данные для карточки'!A4:EG175,77,FALSE),TODAY()))&IF(INT(YEARFRAC(VLOOKUP(C12,'Данные для карточки'!A4:EG175,77,FALSE),TODAY()))=1,\" год\",IF(INT(YEARFRAC(VLOOKUP(C12,'Данные для карточки'!A4:EG175,77,FALSE),TODAY()))=2,\" года\",IF(INT(YEARFRAC(VLOOKUP(C12,'Данные для карточки'!A4:EG175,77,FALSE),TODAY()))=3,\" года\",IF(INT(YEARFRAC(VLOOKUP(C12,'Данные для карточки'!A4:EG175,77,FALSE),TODAY()))=4,\" года\",IF(INT(YEARFRAC(VLOOKUP(C12,'Данные для карточки'!A4:EG175,77,FALSE),TODAY()))>4,\" лет\"))))))&\" \"&IF(DATEDIF(VLOOKUP(C12,'Данные для карточки'!A4:EG175,77,0),TODAY(),\"YM\")=0,\"\",(DATEDIF(VLOOKUP(C12,'Данные для карточки'!A4:EG175,77,0),TODAY(),\"YM\")&\" мес.\")))","v":"Johnson & Johnson\n\nНачальник управления межотраслевого анализа\n\n7 лет 5 мес."},{"$f":"IF(C12=\"\",\"\",IF(F$11=Графики!$A$24,(\"Интегральный: \"&CHAR(10)&\"Результативность: \"&CHAR(10)&\"Проактивность: \"&CHAR(10)&\"Профессиональное и лидерское развитие: \"&CHAR(10)&\"Межкомандное взаимодействие: \"),IF(F$10=Графики!$A$23,\"\",IF(F$11=Графики!$A$25,(\"Общий результат: \"&CHAR(10)&\"Стратегическое видение: \"&CHAR(10)&\"Создание эффективной команды: \"&CHAR(10)&\"Руководящие навыки: \"&CHAR(10)&\"Способность действовать в условиях неопределенности: \")))))","v":"Интегральный: \nРезультативность: \nПроактивность: \nПрофессиональное и лидерское развитие: \nМежкомандное взаимодействие: "},{"$f":"IF(C12=\"\",\"\",\nIF(F$11=Графики!$A$24,\n(VLOOKUP(C12,'Данные для карточки'!$A$4:$BS$175,67,FALSE)&\" место из 10\"&CHAR(10)&VLOOKUP(C12,'Данные для карточки'!$A$4:$BS$175,68,FALSE)&\" место из 10\"&CHAR(10)&VLOOKUP(C12,'Данные для карточки'!$A$4:$BS$175,69,FALSE)&\" место из 10\"&CHAR(10)&VLOOKUP(C12,'Данные для карточки'!$A$4:$BS$175,70,FALSE)&\" место из 10\"&CHAR(10)&VLOOKUP(C12,'Данные для карточки'!$A$4:$BS$175,71,FALSE)&\" место из 10\"),\nIF(F$11=Графики!$A$25,(VLOOKUP(C12,'Данные для карточки'!$A$4:$BS$175,18,FALSE)&CHAR(10)&VLOOKUP(C12,'Данные для карточки'!$A$4:$BS$175,20,FALSE)&CHAR(10)&VLOOKUP(C12,'Данные для карточки'!$A$4:$BS$175,19,FALSE)&CHAR(10)&VLOOKUP(C12,'Данные для карточки'!$A$4:$BS$175,21,FALSE)&CHAR(10)&VLOOKUP(C12,'Данные для карточки'!$A$4:$BS$175,22,FALSE))))\n)","v":"10 место из 10\n3 место из 10\n9 место из 10\n7 место из 10\n10 место из 10"},{"$f":"IF(C12=\"\",\"\",IF($H$11=\"ИНТЕГРАЛЬНЫЙ РЕЙТИНГ\",VLOOKUP(C12,'Данные для карточки'!$A$4:$BS$175,67,FALSE),IF($H$11=\"РЕЗУЛЬТАТИВНОСТЬ\",VLOOKUP(C12,'Данные для карточки'!$A$4:$BS$175,68,FALSE),IF($H$11=\"ПРОАКТИВНОСТЬ\",VLOOKUP(C12,'Данные для карточки'!$A$4:$BS$175,69,FALSE),IF($H$11=\"ПРОФЕССИОНАЛЬНОЕ РАЗВИТИЕ\",VLOOKUP(C12,'Данные для карточки'!$A$4:$BS$175,70,FALSE),IF($H$11=\"ЭФФЕКТИВНОЕ ВЗАИМОДЕЙСТВИЕ\",VLOOKUP(C12,'Данные для карточки'!$A$4:$BS$175,71,FALSE))))))&\" место из 10\")","v":"10 место из 10"}]
[null,null,"Гуннар Мюрдаль",{"$f":"IF(C13=\"\",CHAR(10)&CHAR(10)&CHAR(10)&CHAR(10),\"Место работы: \"&CHAR(10)&CHAR(10)&\"Должность: \"&CHAR(10)&CHAR(10)&\"Срок в должности: \")","v":"Место работы: \n\nДолжность: \n\nСрок в должности: "},{"$f":"IF(C13=\"\",\"\",(VLOOKUP(C13,'Данные для карточки'!$A$4:$BS$175,3,FALSE)&CHAR(10)&CHAR(10)&VLOOKUP(C13,'Данные для карточки'!$A$4:$BS$175,4,FALSE)&CHAR(10))&CHAR(10)&IF(INT(YEARFRAC(VLOOKUP(C13,'Данные для карточки'!A5:EG176,77,FALSE),TODAY()))=0,\"\",INT(YEARFRAC(VLOOKUP(C13,'Данные для карточки'!A5:EG176,77,FALSE),TODAY()))&IF(INT(YEARFRAC(VLOOKUP(C13,'Данные для карточки'!A5:EG176,77,FALSE),TODAY()))=1,\" год\",IF(INT(YEARFRAC(VLOOKUP(C13,'Данные для карточки'!A5:EG176,77,FALSE),TODAY()))=2,\" года\",IF(INT(YEARFRAC(VLOOKUP(C13,'Данные для карточки'!A5:EG176,77,FALSE),TODAY()))=3,\" года\",IF(INT(YEARFRAC(VLOOKUP(C13,'Данные для карточки'!A5:EG176,77,FALSE),TODAY()))=4,\" года\",IF(INT(YEARFRAC(VLOOKUP(C13,'Данные для карточки'!A5:EG176,77,FALSE),TODAY()))>4,\" лет\"))))))&\" \"&IF(DATEDIF(VLOOKUP(C13,'Данные для карточки'!A5:EG176,77,0),TODAY(),\"YM\")=0,\"\",(DATEDIF(VLOOKUP(C13,'Данные для карточки'!A5:EG176,77,0),TODAY(),\"YM\")&\" мес.\")))","v":"Chrysler\n\nНачальник департамента взаимозависимости явлений\n\n 10 мес."},{"$f":"IF(C13=\"\",\"\",IF(F$11=Графики!$A$24,(\"Интегральный: \"&CHAR(10)&\"Результативность: \"&CHAR(10)&\"Проактивность: \"&CHAR(10)&\"Профессиональное и лидерское развитие: \"&CHAR(10)&\"Межкомандное взаимодействие: \"),IF(F$10=Графики!$A$23,\"\",IF(F$11=Графики!$A$25,(\"Общий результат: \"&CHAR(10)&\"Стратегическое видение: \"&CHAR(10)&\"Создание эффективной команды: \"&CHAR(10)&\"Руководящие навыки: \"&CHAR(10)&\"Способность действовать в условиях неопределенности: \")))))","v":"Интегральный: \nРезультативность: \nПроактивность: \nПрофессиональное и лидерское развитие: \nМежкомандное взаимодействие: "},{"$f":"IF(C13=\"\",\"\",\nIF(F$11=Графики!$A$24,\n(VLOOKUP(C13,'Данные для карточки'!$A$4:$BS$175,67,FALSE)&\" место из 10\"&CHAR(10)&VLOOKUP(C13,'Данные для карточки'!$A$4:$BS$175,68,FALSE)&\" место из 10\"&CHAR(10)&VLOOKUP(C13,'Данные для карточки'!$A$4:$BS$175,69,FALSE)&\" место из 10\"&CHAR(10)&VLOOKUP(C13,'Данные для карточки'!$A$4:$BS$175,70,FALSE)&\" место из 10\"&CHAR(10)&VLOOKUP(C13,'Данные для карточки'!$A$4:$BS$175,71,FALSE)&\" место из 10\"),\nIF(F$11=Графики!$A$25,(VLOOKUP(C13,'Данные для карточки'!$A$4:$BS$175,18,FALSE)&CHAR(10)&VLOOKUP(C13,'Данные для карточки'!$A$4:$BS$175,20,FALSE)&CHAR(10)&VLOOKUP(C13,'Данные для карточки'!$A$4:$BS$175,19,FALSE)&CHAR(10)&VLOOKUP(C13,'Данные для карточки'!$A$4:$BS$175,21,FALSE)&CHAR(10)&VLOOKUP(C13,'Данные для карточки'!$A$4:$BS$175,22,FALSE))))\n)","v":"9 место из 10\n2 место из 10\n8 место из 10\n8 место из 10\n9 место из 10"},{"$f":"IF(C13=\"\",\"\",IF($H$11=\"ИНТЕГРАЛЬНЫЙ РЕЙТИНГ\",VLOOKUP(C13,'Данные для карточки'!$A$4:$BS$175,67,FALSE),IF($H$11=\"РЕЗУЛЬТАТИВНОСТЬ\",VLOOKUP(C13,'Данные для карточки'!$A$4:$BS$175,68,FALSE),IF($H$11=\"ПРОАКТИВНОСТЬ\",VLOOKUP(C13,'Данные для карточки'!$A$4:$BS$175,69,FALSE),IF($H$11=\"ПРОФЕССИОНАЛЬНОЕ РАЗВИТИЕ\",VLOOKUP(C13,'Данные для карточки'!$A$4:$BS$175,70,FALSE),IF($H$11=\"ЭФФЕКТИВНОЕ ВЗАИМОДЕЙСТВИЕ\",VLOOKUP(C13,'Данные для карточки'!$A$4:$BS$175,71,FALSE))))))&\" место из 10\")","v":"9 место из 10"}]
[null,null,"Джон Ричард Хикс",{"$f":"IF(C14=\"\",CHAR(10)&CHAR(10)&CHAR(10)&CHAR(10),\"Место работы: \"&CHAR(10)&CHAR(10)&\"Должность: \"&CHAR(10)&CHAR(10)&\"Срок в должности: \")","v":"Место работы: \n\nДолжность: \n\nСрок в должности: "},{"$f":"IF(C14=\"\",\"\",(VLOOKUP(C14,'Данные для карточки'!$A$4:$BS$175,3,FALSE)&CHAR(10)&CHAR(10)&VLOOKUP(C14,'Данные для карточки'!$A$4:$BS$175,4,FALSE)&CHAR(10))&CHAR(10)&IF(INT(YEARFRAC(VLOOKUP(C14,'Данные для карточки'!A6:EG177,77,FALSE),TODAY()))=0,\"\",INT(YEARFRAC(VLOOKUP(C14,'Данные для карточки'!A6:EG177,77,FALSE),TODAY()))&IF(INT(YEARFRAC(VLOOKUP(C14,'Данные для карточки'!A6:EG177,77,FALSE),TODAY()))=1,\" год\",IF(INT(YEARFRAC(VLOOKUP(C14,'Данные для карточки'!A6:EG177,77,FALSE),TODAY()))=2,\" года\",IF(INT(YEARFRAC(VLOOKUP(C14,'Данные для карточки'!A6:EG177,77,FALSE),TODAY()))=3,\" года\",IF(INT(YEARFRAC(VLOOKUP(C14,'Данные для карточки'!A6:EG177,77,FALSE),TODAY()))=4,\" года\",IF(INT(YEARFRAC(VLOOKUP(C14,'Данные для карточки'!A6:EG177,77,FALSE),TODAY()))>4,\" лет\"))))))&\" \"&IF(DATEDIF(VLOOKUP(C14,'Данные для карточки'!A6:EG177,77,0),TODAY(),\"YM\")=0,\"\",(DATEDIF(VLOOKUP(C14,'Данные для карточки'!A6:EG177,77,0),TODAY(),\"YM\")&\" мес.\")))","v":"Chevron Corporation\n\nРуководитель направления равновесия и благосостояния\n\n8 лет 9 мес."},{"$f":"IF(C14=\"\",\"\",IF(F$11=Графики!$A$24,(\"Интегральный: \"&CHAR(10)&\"Результативность: \"&CHAR(10)&\"Проактивность: \"&CHAR(10)&\"Профессиональное и лидерское развитие: \"&CHAR(10)&\"Межкомандное взаимодействие: \"),IF(F$10=Графики!$A$23,\"\",IF(F$11=Графики!$A$25,(\"Общий результат: \"&CHAR(10)&\"Стратегическое видение: \"&CHAR(10)&\"Создание эффективной команды: \"&CHAR(10)&\"Руководящие навыки: \"&CHAR(10)&\"Способность действовать в условиях неопределенности: \")))))","v":"Интегральный: \nРезультативность: \nПроактивность: \nПрофессиональное и лидерское развитие: \nМежкомандное взаимодействие: "},{"$f":"IF(C14=\"\",\"\",\nIF(F$11=Графики!$A$24,\n(VLOOKUP(C14,'Данные для карточки'!$A$4:$BS$175,67,FALSE)&\" место из 10\"&CHAR(10)&VLOOKUP(C14,'Данные для карточки'!$A$4:$BS$175,68,FALSE)&\" место из 10\"&CHAR(10)&VLOOKUP(C14,'Данные для карточки'!$A$4:$BS$175,69,FALSE)&\" место из 10\"&CHAR(10)&VLOOKUP(C14,'Данные для карточки'!$A$4:$BS$175,70,FALSE)&\" место из 10\"&CHAR(10)&VLOOKUP(C14,'Данные для карточки'!$A$4:$BS$175,71,FALSE)&\" место из 10\"),\nIF(F$11=Графики!$A$25,(VLOOKUP(C14,'Данные для карточки'!$A$4:$BS$175,18,FALSE)&CHAR(10)&VLOOKUP(C14,'Данные для карточки'!$A$4:$BS$175,20,FALSE)&CHAR(10)&VLOOKUP(C14,'Данные для карточки'!$A$4:$BS$175,19,FALSE)&CHAR(10)&VLOOKUP(C14,'Данные для карточки'!$A$4:$BS$175,21,FALSE)&CHAR(10)&VLOOKUP(C14,'Данные для карточки'!$A$4:$BS$175,22,FALSE))))\n)","v":"5 место из 10\n10 место из 10\n1 место из 10\n10 место из 10\n7 место из 10"},{"$f":"IF(C14=\"\",\"\",IF($H$11=\"ИНТЕГРАЛЬНЫЙ РЕЙТИНГ\",VLOOKUP(C14,'Данные для карточки'!$A$4:$BS$175,67,FALSE),IF($H$11=\"РЕЗУЛЬТАТИВНОСТЬ\",VLOOKUP(C14,'Данные для карточки'!$A$4:$BS$175,68,FALSE),IF($H$11=\"ПРОАКТИВНОСТЬ\",VLOOKUP(C14,'Данные для карточки'!$A$4:$BS$175,69,FALSE),IF($H$11=\"ПРОФЕССИОНАЛЬНОЕ РАЗВИТИЕ\",VLOOKUP(C14,'Данные для карточки'!$A$4:$BS$175,70,FALSE),IF($H$11=\"ЭФФЕКТИВНОЕ ВЗАИМОДЕЙСТВИЕ\",VLOOKUP(C14,'Данные для карточки'!$A$4:$BS$175,71,FALSE))))))&\" место из 10\")","v":"5 место из 10"}]
[null,null,"Кеннет Эрроу",{"$f":"IF(C15=\"\",CHAR(10)&CHAR(10)&CHAR(10)&CHAR(10),\"Место работы: \"&CHAR(10)&CHAR(10)&\"Должность: \"&CHAR(10)&CHAR(10)&\"Срок в должности: \")","v":"Место работы: \n\nДолжность: \n\nСрок в должности: "},{"$f":"IF(C15=\"\",\"\",(VLOOKUP(C15,'Данные для карточки'!$A$4:$BS$175,3,FALSE)&CHAR(10)&CHAR(10)&VLOOKUP(C15,'Данные для карточки'!$A$4:$BS$175,4,FALSE)&CHAR(10))&CHAR(10)&IF(INT(YEARFRAC(VLOOKUP(C15,'Данные для карточки'!A7:EG178,77,FALSE),TODAY()))=0,\"\",INT(YEARFRAC(VLOOKUP(C15,'Данные для карточки'!A7:EG178,77,FALSE),TODAY()))&IF(INT(YEARFRAC(VLOOKUP(C15,'Данные для карточки'!A7:EG178,77,FALSE),TODAY()))=1,\" год\",IF(INT(YEARFRAC(VLOOKUP(C15,'Данные для карточки'!A7:EG178,77,FALSE),TODAY()))=2,\" года\",IF(INT(YEARFRAC(VLOOKUP(C15,'Данные для карточки'!A7:EG178,77,FALSE),TODAY()))=3,\" года\",IF(INT(YEARFRAC(VLOOKUP(C15,'Данные для карточки'!A7:EG178,77,FALSE),TODAY()))=4,\" года\",IF(INT(YEARFRAC(VLOOKUP(C15,'Данные для карточки'!A7:EG178,77,FALSE),TODAY()))>4,\" лет\"))))))&\" \"&IF(DATEDIF(VLOOKUP(C15,'Данные для карточки'!A7:EG178,77,0),TODAY(),\"YM\")=0,\"\",(DATEDIF(VLOOKUP(C15,'Данные для карточки'!A7:EG178,77,0),TODAY(),\"YM\")&\" мес.\")))","v":"Pan American\n\nНачальник управления равновесия и благосостояния\n\n5 лет 8 мес."},{"$f":"IF(C15=\"\",\"\",IF(F$11=Графики!$A$24,(\"Интегральный: \"&CHAR(10)&\"Результативность: \"&CHAR(10)&\"Проактивность: \"&CHAR(10)&\"Профессиональное и лидерское развитие: \"&CHAR(10)&\"Межкомандное взаимодействие: \"),IF(F$10=Графики!$A$23,\"\",IF(F$11=Графики!$A$25,(\"Общий результат: \"&CHAR(10)&\"Стратегическое видение: \"&CHAR(10)&\"Создание эффективной команды: \"&CHAR(10)&\"Руководящие навыки: \"&CHAR(10)&\"Способность действовать в условиях неопределенности: \")))))","v":"Интегральный: \nРезультативность: \nПроактивность: \nПрофессиональное и лидерское развитие: \nМежкомандное взаимодействие: "},{"$f":"IF(C15=\"\",\"\",\nIF(F$11=Графики!$A$24,\n(VLOOKUP(C15,'Данные для карточки'!$A$4:$BS$175,67,FALSE)&\" место из 10\"&CHAR(10)&VLOOKUP(C15,'Данные для карточки'!$A$4:$BS$175,68,FALSE)&\" место из 10\"&CHAR(10)&VLOOKUP(C15,'Данные для карточки'!$A$4:$BS$175,69,FALSE)&\" место из 10\"&CHAR(10)&VLOOKUP(C15,'Данные для карточки'!$A$4:$BS$175,70,FALSE)&\" место из 10\"&CHAR(10)&VLOOKUP(C15,'Данные для карточки'!$A$4:$BS$175,71,FALSE)&\" место из 10\"),\nIF(F$11=Графики!$A$25,(VLOOKUP(C15,'Данные для карточки'!$A$4:$BS$175,18,FALSE)&CHAR(10)&VLOOKUP(C15,'Данные для карточки'!$A$4:$BS$175,20,FALSE)&CHAR(10)&VLOOKUP(C15,'Данные для карточки'!$A$4:$BS$175,19,FALSE)&CHAR(10)&VLOOKUP(C15,'Данные для карточки'!$A$4:$BS$175,21,FALSE)&CHAR(10)&VLOOKUP(C15,'Данные для карточки'!$A$4:$BS$175,22,FALSE))))\n)","v":"6 место из 10\n5 место из 10\n6 место из 10\n6 место из 10\n4 место из 10"},{"$f":"IF(C15=\"\",\"\",IF($H$11=\"ИНТЕГРАЛЬНЫЙ РЕЙТИНГ\",VLOOKUP(C15,'Данные для карточки'!$A$4:$BS$175,67,FALSE),IF($H$11=\"РЕЗУЛЬТАТИВНОСТЬ\",VLOOKUP(C15,'Данные для карточки'!$A$4:$BS$175,68,FALSE),IF($H$11=\"ПРОАКТИВНОСТЬ\",VLOOKUP(C15,'Данные для карточки'!$A$4:$BS$175,69,FALSE),IF($H$11=\"ПРОФЕССИОНАЛЬНОЕ РАЗВИТИЕ\",VLOOKUP(C15,'Данные для карточки'!$A$4:$BS$175,70,FALSE),IF($H$11=\"ЭФФЕКТИВНОЕ ВЗАИМОДЕЙСТВИЕ\",VLOOKUP(C15,'Данные для карточки'!$A$4:$BS$175,71,FALSE))))))&\" место из 10\")","v":"6 место из 10"}]
[null,null,"Кэрол Грейдер",{"$f":"IF(C16=\"\",CHAR(10)&CHAR(10)&CHAR(10)&CHAR(10),\"Место работы: \"&CHAR(10)&CHAR(10)&\"Должность: \"&CHAR(10)&CHAR(10)&\"Срок в должности: \")","v":"Место работы: \n\nДолжность: \n\nСрок в должности: "},{"$f":"IF(C16=\"\",\"\",(VLOOKUP(C16,'Данные для карточки'!$A$4:$BS$175,3,FALSE)&CHAR(10)&CHAR(10)&VLOOKUP(C16,'Данные для карточки'!$A$4:$BS$175,4,FALSE)&CHAR(10))&CHAR(10)&IF(INT(YEARFRAC(VLOOKUP(C16,'Данные для карточки'!A8:EG179,77,FALSE),TODAY()))=0,\"\",INT(YEARFRAC(VLOOKUP(C16,'Данные для карточки'!A8:EG179,77,FALSE),TODAY()))&IF(INT(YEARFRAC(VLOOKUP(C16,'Данные для карточки'!A8:EG179,77,FALSE),TODAY()))=1,\" год\",IF(INT(YEARFRAC(VLOOKUP(C16,'Данные для карточки'!A8:EG179,77,FALSE),TODAY()))=2,\" года\",IF(INT(YEARFRAC(VLOOKUP(C16,'Данные для карточки'!A8:EG179,77,FALSE),TODAY()))=3,\" года\",IF(INT(YEARFRAC(VLOOKUP(C16,'Данные для карточки'!A8:EG179,77,FALSE),TODAY()))=4,\" года\",IF(INT(YEARFRAC(VLOOKUP(C16,'Данные для карточки'!A8:EG179,77,FALSE),TODAY()))>4,\" лет\"))))))&\" \"&IF(DATEDIF(VLOOKUP(C16,'Данные для карточки'!A8:EG179,77,0),TODAY(),\"YM\")=0,\"\",(DATEDIF(VLOOKUP(C16,'Данные для карточки'!A8:EG179,77,0),TODAY(),\"YM\")&\" мес.\")))","v":"Boing\n\nНачальник департамента защиты хромосом теломерами\n\n3 года 2 мес."},{"$f":"IF(C16=\"\",\"\",IF(F$11=Графики!$A$24,(\"Интегральный: \"&CHAR(10)&\"Результативность: \"&CHAR(10)&\"Проактивность: \"&CHAR(10)&\"Профессиональное и лидерское развитие: \"&CHAR(10)&\"Межкомандное взаимодействие: \"),IF(F$10=Графики!$A$23,\"\",IF(F$11=Графики!$A$25,(\"Общий результат: \"&CHAR(10)&\"Стратегическое видение: \"&CHAR(10)&\"Создание эффективной команды: \"&CHAR(10)&\"Руководящие навыки: \"&CHAR(10)&\"Способность действовать в условиях неопределенности: \")))))","v":"Интегральный: \nРезультативность: \nПроактивность: \nПрофессиональное и лидерское развитие: \nМежкомандное взаимодействие: "},{"$f":"IF(C16=\"\",\"\",\nIF(F$11=Графики!$A$24,\n(VLOOKUP(C16,'Данные для карточки'!$A$4:$BS$175,67,FALSE)&\" место из 10\"&CHAR(10)&VLOOKUP(C16,'Данные для карточки'!$A$4:$BS$175,68,FALSE)&\" место из 10\"&CHAR(10)&VLOOKUP(C16,'Данные для карточки'!$A$4:$BS$175,69,FALSE)&\" место из 10\"&CHAR(10)&VLOOKUP(C16,'Данные для карточки'!$A$4:$BS$175,70,FALSE)&\" место из 10\"&CHAR(10)&VLOOKUP(C16,'Данные для карточки'!$A$4:$BS$175,71,FALSE)&\" место из 10\"),\nIF(F$11=Графики!$A$25,(VLOOKUP(C16,'Данные для карточки'!$A$4:$BS$175,18,FALSE)&CHAR(10)&VLOOKUP(C16,'Данные для карточки'!$A$4:$BS$175,20,FALSE)&CHAR(10)&VLOOKUP(C16,'Данные для карточки'!$A$4:$BS$175,19,FALSE)&CHAR(10)&VLOOKUP(C16,'Данные для карточки'!$A$4:$BS$175,21,FALSE)&CHAR(10)&VLOOKUP(C16,'Данные для карточки'!$A$4:$BS$175,22,FALSE))))\n)","v":"7 место из 10\n9 место из 10\n5 место из 10\n1 место из 10\n8 место из 10"},{"$f":"IF(C16=\"\",\"\",IF($H$11=\"ИНТЕГРАЛЬНЫЙ РЕЙТИНГ\",VLOOKUP(C16,'Данные для карточки'!$A$4:$BS$175,67,FALSE),IF($H$11=\"РЕЗУЛЬТАТИВНОСТЬ\",VLOOKUP(C16,'Данные для карточки'!$A$4:$BS$175,68,FALSE),IF($H$11=\"ПРОАКТИВНОСТЬ\",VLOOKUP(C16,'Данные для карточки'!$A$4:$BS$175,69,FALSE),IF($H$11=\"ПРОФЕССИОНАЛЬНОЕ РАЗВИТИЕ\",VLOOKUP(C16,'Данные для карточки'!$A$4:$BS$175,70,FALSE),IF($H$11=\"ЭФФЕКТИВНОЕ ВЗАИМОДЕЙСТВИЕ\",VLOOKUP(C16,'Данные для карточки'!$A$4:$BS$175,71,FALSE))))))&\" место из 10\")","v":"7 место из 10"}]
[null,null,"Линда Бак",{"$f":"IF(C17=\"\",CHAR(10)&CHAR(10)&CHAR(10)&CHAR(10),\"Место работы: \"&CHAR(10)&CHAR(10)&\"Должность: \"&CHAR(10)&CHAR(10)&\"Срок в должности: \")","v":"Место работы: \n\nДолжность: \n\nСрок в должности: "},{"$f":"IF(C17=\"\",\"\",(VLOOKUP(C17,'Данные для карточки'!$A$4:$BS$175,3,FALSE)&CHAR(10)&CHAR(10)&VLOOKUP(C17,'Данные для карточки'!$A$4:$BS$175,4,FALSE)&CHAR(10))&CHAR(10)&IF(INT(YEARFRAC(VLOOKUP(C17,'Данные для карточки'!A9:EG180,77,FALSE),TODAY()))=0,\"\",INT(YEARFRAC(VLOOKUP(C17,'Данные для карточки'!A9:EG180,77,FALSE),TODAY()))&IF(INT(YEARFRAC(VLOOKUP(C17,'Данные для карточки'!A9:EG180,77,FALSE),TODAY()))=1,\" год\",IF(INT(YEARFRAC(VLOOKUP(C17,'Данные для карточки'!A9:EG180,77,FALSE),TODAY()))=2,\" года\",IF(INT(YEARFRAC(VLOOKUP(C17,'Данные для карточки'!A9:EG180,77,FALSE),TODAY()))=3,\" года\",IF(INT(YEARFRAC(VLOOKUP(C17,'Данные для карточки'!A9:EG180,77,FALSE),TODAY()))=4,\" года\",IF(INT(YEARFRAC(VLOOKUP(C17,'Данные для карточки'!A9:EG180,77,FALSE),TODAY()))>4,\" лет\"))))))&\" \"&IF(DATEDIF(VLOOKUP(C17,'Данные для карточки'!A9:EG180,77,0),TODAY(),\"YM\")=0,\"\",(DATEDIF(VLOOKUP(C17,'Данные для карточки'!A9:EG180,77,0),TODAY(),\"YM\")&\" мес.\")))","v":"General Electrics\n\nНачальник управления организации органов обоняния\n\n1 год 10 мес."},{"$f":"IF(C17=\"\",\"\",IF(F$11=Графики!$A$24,(\"Интегральный: \"&CHAR(10)&\"Результативность: \"&CHAR(10)&\"Проактивность: \"&CHAR(10)&\"Профессиональное и лидерское развитие: \"&CHAR(10)&\"Межкомандное взаимодействие: \"),IF(F$10=Графики!$A$23,\"\",IF(F$11=Графики!$A$25,(\"Общий результат: \"&CHAR(10)&\"Стратегическое видение: \"&CHAR(10)&\"Создание эффективной команды: \"&CHAR(10)&\"Руководящие навыки: \"&CHAR(10)&\"Способность действовать в условиях неопределенности: \")))))","v":"Интегральный: \nРезультативность: \nПроактивность: \nПрофессиональное и лидерское развитие: \nМежкомандное взаимодействие: "},{"$f":"IF(C17=\"\",\"\",\nIF(F$11=Графики!$A$24,\n(VLOOKUP(C17,'Данные для карточки'!$A$4:$BS$175,67,FALSE)&\" место из 10\"&CHAR(10)&VLOOKUP(C17,'Данные для карточки'!$A$4:$BS$175,68,FALSE)&\" место из 10\"&CHAR(10)&VLOOKUP(C17,'Данные для карточки'!$A$4:$BS$175,69,FALSE)&\" место из 10\"&CHAR(10)&VLOOKUP(C17,'Данные для карточки'!$A$4:$BS$175,70,FALSE)&\" место из 10\"&CHAR(10)&VLOOKUP(C17,'Данные для карточки'!$A$4:$BS$175,71,FALSE)&\" место из 10\"),\nIF(F$11=Графики!$A$25,(VLOOKUP(C17,'Данные для карточки'!$A$4:$BS$175,18,FALSE)&CHAR(10)&VLOOKUP(C17,'Данные для карточки'!$A$4:$BS$175,20,FALSE)&CHAR(10)&VLOOKUP(C17,'Данные для карточки'!$A$4:$BS$175,19,FALSE)&CHAR(10)&VLOOKUP(C17,'Данные для карточки'!$A$4:$BS$175,21,FALSE)&CHAR(10)&VLOOKUP(C17,'Данные для карточки'!$A$4:$BS$175,22,FALSE))))\n)","v":"3 место из 10\n1 место из 10\n10 место из 10\n4 место из 10\n2 место из 10"},{"$f":"IF(C17=\"\",\"\",IF($H$11=\"ИНТЕГРАЛЬНЫЙ РЕЙТИНГ\",VLOOKUP(C17,'Данные для карточки'!$A$4:$BS$175,67,FALSE),IF($H$11=\"РЕЗУЛЬТАТИВНОСТЬ\",VLOOKUP(C17,'Данные для карточки'!$A$4:$BS$175,68,FALSE),IF($H$11=\"ПРОАКТИВНОСТЬ\",VLOOKUP(C17,'Данные для карточки'!$A$4:$BS$175,69,FALSE),IF($H$11=\"ПРОФЕССИОНАЛЬНОЕ РАЗВИТИЕ\",VLOOKUP(C17,'Данные для карточки'!$A$4:$BS$175,70,FALSE),IF($H$11=\"ЭФФЕКТИВНОЕ ВЗАИМОДЕЙСТВИЕ\",VLOOKUP(C17,'Данные для карточки'!$A$4:$BS$175,71,FALSE))))))&\" место из 10\")","v":"3 место из 10"}]
[null,null,"Мэй-Брит Мозер",{"$f":"IF(C18=\"\",CHAR(10)&CHAR(10)&CHAR(10)&CHAR(10),\"Место работы: \"&CHAR(10)&CHAR(10)&\"Должность: \"&CHAR(10)&CHAR(10)&\"Срок в должности: \")","v":"Место работы: \n\nДолжность: \n\nСрок в должности: "},{"$f":"IF(C18=\"\",\"\",(VLOOKUP(C18,'Данные для карточки'!$A$4:$BS$175,3,FALSE)&CHAR(10)&CHAR(10)&VLOOKUP(C18,'Данные для карточки'!$A$4:$BS$175,4,FALSE)&CHAR(10))&CHAR(10)&IF(INT(YEARFRAC(VLOOKUP(C18,'Данные для карточки'!A10:EG181,77,FALSE),TODAY()))=0,\"\",INT(YEARFRAC(VLOOKUP(C18,'Данные для карточки'!A10:EG181,77,FALSE),TODAY()))&IF(INT(YEARFRAC(VLOOKUP(C18,'Данные для карточки'!A10:EG181,77,FALSE),TODAY()))=1,\" год\",IF(INT(YEARFRAC(VLOOKUP(C18,'Данные для карточки'!A10:EG181,77,FALSE),TODAY()))=2,\" года\",IF(INT(YEARFRAC(VLOOKUP(C18,'Данные для карточки'!A10:EG181,77,FALSE),TODAY()))=3,\" года\",IF(INT(YEARFRAC(VLOOKUP(C18,'Данные для карточки'!A10:EG181,77,FALSE),TODAY()))=4,\" года\",IF(INT(YEARFRAC(VLOOKUP(C18,'Данные для карточки'!A10:EG181,77,FALSE),TODAY()))>4,\" лет\"))))))&\" \"&IF(DATEDIF(VLOOKUP(C18,'Данные для карточки'!A10:EG181,77,0),TODAY(),\"YM\")=0,\"\",(DATEDIF(VLOOKUP(C18,'Данные для карточки'!A10:EG181,77,0),TODAY(),\"YM\")&\" мес.\")))","v":"Pan American\n\nНачальник департамента систем позиционирования\n\n5 лет 2 мес."},{"$f":"IF(C18=\"\",\"\",IF(F$11=Графики!$A$24,(\"Интегральный: \"&CHAR(10)&\"Результативность: \"&CHAR(10)&\"Проактивность: \"&CHAR(10)&\"Профессиональное и лидерское развитие: \"&CHAR(10)&\"Межкомандное взаимодействие: \"),IF(F$10=Графики!$A$23,\"\",IF(F$11=Графики!$A$25,(\"Общий результат: \"&CHAR(10)&\"Стратегическое видение: \"&CHAR(10)&\"Создание эффективной команды: \"&CHAR(10)&\"Руководящие навыки: \"&CHAR(10)&\"Способность действовать в условиях неопределенности: \")))))","v":"Интегральный: \nРезультативность: \nПроактивность: \nПрофессиональное и лидерское развитие: \nМежкомандное взаимодействие: "},{"$f":"IF(C18=\"\",\"\",\nIF(F$11=Графики!$A$24,\n(VLOOKUP(C18,'Данные для карточки'!$A$4:$BS$175,67,FALSE)&\" место из 10\"&CHAR(10)&VLOOKUP(C18,'Данные для карточки'!$A$4:$BS$175,68,FALSE)&\" место из 10\"&CHAR(10)&VLOOKUP(C18,'Данные для карточки'!$A$4:$BS$175,69,FALSE)&\" место из 10\"&CHAR(10)&VLOOKUP(C18,'Данные для карточки'!$A$4:$BS$175,70,FALSE)&\" место из 10\"&CHAR(10)&VLOOKUP(C18,'Данные для карточки'!$A$4:$BS$175,71,FALSE)&\" место из 10\"),\nIF(F$11=Графики!$A$25,(VLOOKUP(C18,'Данные для карточки'!$A$4:$BS$175,18,FALSE)&CHAR(10)&VLOOKUP(C18,'Данные для карточки'!$A$4:$BS$175,20,FALSE)&CHAR(10)&VLOOKUP(C18,'Данные для карточки'!$A$4:$BS$175,19,FALSE)&CHAR(10)&VLOOKUP(C18,'Данные для карточки'!$A$4:$BS$175,21,FALSE)&CHAR(10)&VLOOKUP(C18,'Данные для карточки'!$A$4:$BS$175,22,FALSE))))\n)","v":"4 место из 10\n7 место из 10\n4 место из 10\n5 место из 10\n3 место из 10"},{"$f":"IF(C18=\"\",\"\",IF($H$11=\"ИНТЕГРАЛЬНЫЙ РЕЙТИНГ\",VLOOKUP(C18,'Данные для карточки'!$A$4:$BS$175,67,FALSE),IF($H$11=\"РЕЗУЛЬТАТИВНОСТЬ\",VLOOKUP(C18,'Данные для карточки'!$A$4:$BS$175,68,FALSE),IF($H$11=\"ПРОАКТИВНОСТЬ\",VLOOKUP(C18,'Данные для карточки'!$A$4:$BS$175,69,FALSE),IF($H$11=\"ПРОФЕССИОНАЛЬНОЕ РАЗВИТИЕ\",VLOOKUP(C18,'Данные для карточки'!$A$4:$BS$175,70,FALSE),IF($H$11=\"ЭФФЕКТИВНОЕ ВЗАИМОДЕЙСТВИЕ\",VLOOKUP(C18,'Данные для карточки'!$A$4:$BS$175,71,FALSE))))))&\" место из 10\")","v":"4 место из 10"}]
[null,null,"Саймон Кузнец",{"$f":"IF(C19=\"\",CHAR(10)&CHAR(10)&CHAR(10)&CHAR(10),\"Место работы: \"&CHAR(10)&CHAR(10)&\"Должность: \"&CHAR(10)&CHAR(10)&\"Срок в должности: \")","v":"Место работы: \n\nДолжность: \n\nСрок в должности: "},{"$f":"IF(C19=\"\",\"\",(VLOOKUP(C19,'Данные для карточки'!$A$4:$BS$175,3,FALSE)&CHAR(10)&CHAR(10)&VLOOKUP(C19,'Данные для карточки'!$A$4:$BS$175,4,FALSE)&CHAR(10))&CHAR(10)&IF(INT(YEARFRAC(VLOOKUP(C19,'Данные для карточки'!A11:EG182,77,FALSE),TODAY()))=0,\"\",INT(YEARFRAC(VLOOKUP(C19,'Данные для карточки'!A11:EG182,77,FALSE),TODAY()))&IF(INT(YEARFRAC(VLOOKUP(C19,'Данные для карточки'!A11:EG182,77,FALSE),TODAY()))=1,\" год\",IF(INT(YEARFRAC(VLOOKUP(C19,'Данные для карточки'!A11:EG182,77,FALSE),TODAY()))=2,\" года\",IF(INT(YEARFRAC(VLOOKUP(C19,'Данные для карточки'!A11:EG182,77,FALSE),TODAY()))=3,\" года\",IF(INT(YEARFRAC(VLOOKUP(C19,'Данные для карточки'!A11:EG182,77,FALSE),TODAY()))=4,\" года\",IF(INT(YEARFRAC(VLOOKUP(C19,'Данные для карточки'!A11:EG182,77,FALSE),TODAY()))>4,\" лет\"))))))&\" \"&IF(DATEDIF(VLOOKUP(C19,'Данные для карточки'!A11:EG182,77,0),TODAY(),\"YM\")=0,\"\",(DATEDIF(VLOOKUP(C19,'Данные для карточки'!A11:EG182,77,0),TODAY(),\"YM\")&\" мес.\")))","v":"Chrysler\n\nРуководитель направления социальной структуры\n\n7 лет 5 мес."},{"$f":"IF(C19=\"\",\"\",IF(F$11=Графики!$A$24,(\"Интегральный: \"&CHAR(10)&\"Результативность: \"&CHAR(10)&\"Проактивность: \"&CHAR(10)&\"Профессиональное и лидерское развитие: \"&CHAR(10)&\"Межкомандное взаимодействие: \"),IF(F$10=Графики!$A$23,\"\",IF(F$11=Графики!$A$25,(\"Общий результат: \"&CHAR(10)&\"Стратегическое видение: \"&CHAR(10)&\"Создание эффективной команды: \"&CHAR(10)&\"Руководящие навыки: \"&CHAR(10)&\"Способность действовать в условиях неопределенности: \")))))","v":"Интегральный: \nРезультативность: \nПроактивность: \nПрофессиональное и лидерское развитие: \nМежкомандное взаимодействие: "},{"$f":"IF(C19=\"\",\"\",\nIF(F$11=Графики!$A$24,\n(VLOOKUP(C19,'Данные для карточки'!$A$4:$BS$175,67,FALSE)&\" место из 10\"&CHAR(10)&VLOOKUP(C19,'Данные для карточки'!$A$4:$BS$175,68,FALSE)&\" место из 10\"&CHAR(10)&VLOOKUP(C19,'Данные для карточки'!$A$4:$BS$175,69,FALSE)&\" место из 10\"&CHAR(10)&VLOOKUP(C19,'Данные для карточки'!$A$4:$BS$175,70,FALSE)&\" место из 10\"&CHAR(10)&VLOOKUP(C19,'Данные для карточки'!$A$4:$BS$175,71,FALSE)&\" место из 10\"),\nIF(F$11=Графики!$A$25,(VLOOKUP(C19,'Данные для карточки'!$A$4:$BS$175,18,FALSE)&CHAR(10)&VLOOKUP(C19,'Данные для карточки'!$A$4:$BS$175,20,FALSE)&CHAR(10)&VLOOKUP(C19,'Данные для карточки'!$A$4:$BS$175,19,FALSE)&CHAR(10)&VLOOKUP(C19,'Данные для карточки'!$A$4:$BS$175,21,FALSE)&CHAR(10)&VLOOKUP(C19,'Данные для карточки'!$A$4:$BS$175,22,FALSE))))\n)","v":"1 место из 10\n6 место из 10\n2 место из 10\n3 место из 10\n1 место из 10"},{"$f":"IF(C19=\"\",\"\",IF($H$11=\"ИНТЕГРАЛЬНЫЙ РЕЙТИНГ\",VLOOKUP(C19,'Данные для карточки'!$A$4:$BS$175,67,FALSE),IF($H$11=\"РЕЗУЛЬТАТИВНОСТЬ\",VLOOKUP(C19,'Данные для карточки'!$A$4:$BS$175,68,FALSE),IF($H$11=\"ПРОАКТИВНОСТЬ\",VLOOKUP(C19,'Данные для карточки'!$A$4:$BS$175,69,FALSE),IF($H$11=\"ПРОФЕССИОНАЛЬНОЕ РАЗВИТИЕ\",VLOOKUP(C19,'Данные для карточки'!$A$4:$BS$175,70,FALSE),IF($H$11=\"ЭФФЕКТИВНОЕ ВЗАИМОДЕЙСТВИЕ\",VLOOKUP(C19,'Данные для карточки'!$A$4:$BS$175,71,FALSE))))))&\" место из 10\")","v":"1 место из 10"}]
[null,null,"Светлана Алексеевич",{"$f":"IF(C20=\"\",CHAR(10)&CHAR(10)&CHAR(10)&CHAR(10),\"Место работы: \"&CHAR(10)&CHAR(10)&\"Должность: \"&CHAR(10)&CHAR(10)&\"Срок в должности: \")","v":"Место работы: \n\nДолжность: \n\nСрок в должности: "},{"$f":"IF(C20=\"\",\"\",(VLOOKUP(C20,'Данные для карточки'!$A$4:$BS$175,3,FALSE)&CHAR(10)&CHAR(10)&VLOOKUP(C20,'Данные для карточки'!$A$4:$BS$175,4,FALSE)&CHAR(10))&CHAR(10)&IF(INT(YEARFRAC(VLOOKUP(C20,'Данные для карточки'!A12:EG183,77,FALSE),TODAY()))=0,\"\",INT(YEARFRAC(VLOOKUP(C20,'Данные для карточки'!A12:EG183,77,FALSE),TODAY()))&IF(INT(YEARFRAC(VLOOKUP(C20,'Данные для карточки'!A12:EG183,77,FALSE),TODAY()))=1,\" год\",IF(INT(YEARFRAC(VLOOKUP(C20,'Данные для карточки'!A12:EG183,77,FALSE),TODAY()))=2,\" года\",IF(INT(YEARFRAC(VLOOKUP(C20,'Данные для карточки'!A12:EG183,77,FALSE),TODAY()))=3,\" года\",IF(INT(YEARFRAC(VLOOKUP(C20,'Данные для карточки'!A12:EG183,77,FALSE),TODAY()))=4,\" года\",IF(INT(YEARFRAC(VLOOKUP(C20,'Данные для карточки'!A12:EG183,77,FALSE),TODAY()))>4,\" лет\"))))))&\" \"&IF(DATEDIF(VLOOKUP(C20,'Данные для карточки'!A12:EG183,77,0),TODAY(),\"YM\")=0,\"\",(DATEDIF(VLOOKUP(C20,'Данные для карточки'!A12:EG183,77,0),TODAY(),\"YM\")&\" мес.\")))","v":"General Electrics\n\nНачальник управления многогласного творчества\n\n6 лет 11 мес."},{"$f":"IF(C20=\"\",\"\",IF(F$11=Графики!$A$24,(\"Интегральный: \"&CHAR(10)&\"Результативность: \"&CHAR(10)&\"Проактивность: \"&CHAR(10)&\"Профессиональное и лидерское развитие: \"&CHAR(10)&\"Межкомандное взаимодействие: \"),IF(F$10=Графики!$A$23,\"\",IF(F$11=Графики!$A$25,(\"Общий результат: \"&CHAR(10)&\"Стратегическое видение: \"&CHAR(10)&\"Создание эффективной команды: \"&CHAR(10)&\"Руководящие навыки: \"&CHAR(10)&\"Способность действовать в условиях неопределенности: \")))))","v":"Интегральный: \nРезультативность: \nПроактивность: \nПрофессиональное и лидерское развитие: \nМежкомандное взаимодействие: "},{"$f":"IF(C20=\"\",\"\",\nIF(F$11=Графики!$A$24,\n(VLOOKUP(C20,'Данные для карточки'!$A$4:$BS$175,67,FALSE)&\" место из 10\"&CHAR(10)&VLOOKUP(C20,'Данные для карточки'!$A$4:$BS$175,68,FALSE)&\" место из 10\"&CHAR(10)&VLOOKUP(C20,'Данные для карточки'!$A$4:$BS$175,69,FALSE)&\" место из 10\"&CHAR(10)&VLOOKUP(C20,'Данные для карточки'!$A$4:$BS$175,70,FALSE)&\" место из 10\"&CHAR(10)&VLOOKUP(C20,'Данные для карточки'!$A$4:$BS$175,71,FALSE)&\" место из 10\"),\nIF(F$11=Графики!$A$25,(VLOOKUP(C20,'Данные для карточки'!$A$4:$BS$175,18,FALSE)&CHAR(10)&VLOOKUP(C20,'Данные для карточки'!$A$4:$BS$175,20,FALSE)&CHAR(10)&VLOOKUP(C20,'Данные для карточки'!$A$4:$BS$175,19,FALSE)&CHAR(10)&VLOOKUP(C20,'Данные для карточки'!$A$4:$BS$175,21,FALSE)&CHAR(10)&VLOOKUP(C20,'Данные для карточки'!$A$4:$BS$175,22,FALSE))))\n)","v":"8 место из 10\n8 место из 10\n7 место из 10\n9 место из 10\n6 место из 10"},{"$f":"IF(C20=\"\",\"\",IF($H$11=\"ИНТЕГРАЛЬНЫЙ РЕЙТИНГ\",VLOOKUP(C20,'Данные для карточки'!$A$4:$BS$175,67,FALSE),IF($H$11=\"РЕЗУЛЬТАТИВНОСТЬ\",VLOOKUP(C20,'Данные для карточки'!$A$4:$BS$175,68,FALSE),IF($H$11=\"ПРОАКТИВНОСТЬ\",VLOOKUP(C20,'Данные для карточки'!$A$4:$BS$175,69,FALSE),IF($H$11=\"ПРОФЕССИОНАЛЬНОЕ РАЗВИТИЕ\",VLOOKUP(C20,'Данные для карточки'!$A$4:$BS$175,70,FALSE),IF($H$11=\"ЭФФЕКТИВНОЕ ВЗАИМОДЕЙСТВИЕ\",VLOOKUP(C20,'Данные для карточки'!$A$4:$BS$175,71,FALSE))))))&\" место из 10\")","v":"8 место из 10"}]
[null,null,"Эстер Дюфло",{"$f":"IF(C21=\"\",CHAR(10)&CHAR(10)&CHAR(10)&CHAR(10),\"Место работы: \"&CHAR(10)&CHAR(10)&\"Должность: \"&CHAR(10)&CHAR(10)&\"Срок в должности: \")","v":"Место работы: \n\nДолжность: \n\nСрок в должности: "},{"$f":"IF(C21=\"\",\"\",(VLOOKUP(C21,'Данные для карточки'!$A$4:$BS$175,3,FALSE)&CHAR(10)&CHAR(10)&VLOOKUP(C21,'Данные для карточки'!$A$4:$BS$175,4,FALSE)&CHAR(10))&CHAR(10)&IF(INT(YEARFRAC(VLOOKUP(C21,'Данные для карточки'!A13:EG184,77,FALSE),TODAY()))=0,\"\",INT(YEARFRAC(VLOOKUP(C21,'Данные для карточки'!A13:EG184,77,FALSE),TODAY()))&IF(INT(YEARFRAC(VLOOKUP(C21,'Данные для карточки'!A13:EG184,77,FALSE),TODAY()))=1,\" год\",IF(INT(YEARFRAC(VLOOKUP(C21,'Данные для карточки'!A13:EG184,77,FALSE),TODAY()))=2,\" года\",IF(INT(YEARFRAC(VLOOKUP(C21,'Данные для карточки'!A13:EG184,77,FALSE),TODAY()))=3,\" года\",IF(INT(YEARFRAC(VLOOKUP(C21,'Данные для карточки'!A13:EG184,77,FALSE),TODAY()))=4,\" года\",IF(INT(YEARFRAC(VLOOKUP(C21,'Данные для карточки'!A13:EG184,77,FALSE),TODAY()))>4,\" лет\"))))))&\" \"&IF(DATEDIF(VLOOKUP(C21,'Данные для карточки'!A13:EG184,77,0),TODAY(),\"YM\")=0,\"\",(DATEDIF(VLOOKUP(C21,'Данные для карточки'!A13:EG184,77,0),TODAY(),\"YM\")&\" мес.\")))","v":"Johnson & Johnson\n\nНачальник департамента борьбы с глобальной бедностью\n\n2 года 7 мес."},{"$f":"IF(C21=\"\",\"\",IF(F$11=Графики!$A$24,(\"Интегральный: \"&CHAR(10)&\"Результативность: \"&CHAR(10)&\"Проактивность: \"&CHAR(10)&\"Профессиональное и лидерское развитие: \"&CHAR(10)&\"Межкомандное взаимодействие: \"),IF(F$10=Графики!$A$23,\"\",IF(F$11=Графики!$A$25,(\"Общий результат: \"&CHAR(10)&\"Стратегическое видение: \"&CHAR(10)&\"Создание эффективной команды: \"&CHAR(10)&\"Руководящие навыки: \"&CHAR(10)&\"Способность действовать в условиях неопределенности: \")))))","v":"Интегральный: \nРезультативность: \nПроактивность: \nПрофессиональное и лидерское развитие: \nМежкомандное взаимодействие: "},{"$f":"IF(C21=\"\",\"\",\nIF(F$11=Графики!$A$24,\n(VLOOKUP(C21,'Данные для карточки'!$A$4:$BS$175,67,FALSE)&\" место из 10\"&CHAR(10)&VLOOKUP(C21,'Данные для карточки'!$A$4:$BS$175,68,FALSE)&\" место из 10\"&CHAR(10)&VLOOKUP(C21,'Данные для карточки'!$A$4:$BS$175,69,FALSE)&\" место из 10\"&CHAR(10)&VLOOKUP(C21,'Данные для карточки'!$A$4:$BS$175,70,FALSE)&\" место из 10\"&CHAR(10)&VLOOKUP(C21,'Данные для карточки'!$A$4:$BS$175,71,FALSE)&\" место из 10\"),\nIF(F$11=Графики!$A$25,(VLOOKUP(C21,'Данные для карточки'!$A$4:$BS$175,18,FALSE)&CHAR(10)&VLOOKUP(C21,'Данные для карточки'!$A$4:$BS$175,20,FALSE)&CHAR(10)&VLOOKUP(C21,'Данные для карточки'!$A$4:$BS$175,19,FALSE)&CHAR(10)&VLOOKUP(C21,'Данные для карточки'!$A$4:$BS$175,21,FALSE)&CHAR(10)&VLOOKUP(C21,'Данные для карточки'!$A$4:$BS$175,22,FALSE))))\n)","v":"2 место из 10\n4 место из 10\n3 место из 10\n2 место из 10\n5 место из 10"},{"$f":"IF(C21=\"\",\"\",IF($H$11=\"ИНТЕГРАЛЬНЫЙ РЕЙТИНГ\",VLOOKUP(C21,'Данные для карточки'!$A$4:$BS$175,67,FALSE),IF($H$11=\"РЕЗУЛЬТАТИВНОСТЬ\",VLOOKUP(C21,'Данные для карточки'!$A$4:$BS$175,68,FALSE),IF($H$11=\"ПРОАКТИВНОСТЬ\",VLOOKUP(C21,'Данные для карточки'!$A$4:$BS$175,69,FALSE),IF($H$11=\"ПРОФЕССИОНАЛЬНОЕ РАЗВИТИЕ\",VLOOKUP(C21,'Данные для карточки'!$A$4:$BS$175,70,FALSE),IF($H$11=\"ЭФФЕКТИВНОЕ ВЗАИМОДЕЙСТВИЕ\",VLOOKUP(C21,'Данные для карточки'!$A$4:$BS$175,71,FALSE))))))&\" место из 10\")","v":"2 место из 10"}]

{"sheet":"Данные для фильтра","index":4,"n_rows":33,"n_cols":147,"rows_kept":33,"cut":false,"hidden":true,"merged":[]}
[null,2,3,4,74,77,67,68,69,70,71,72,5,6,7,8,9,10,11,12,13,14,15,16,17,18,19,20,21,22,23,24,25,26,27,28,29,30,31,32,33,34,35,36,37,38,39,40,41,42,43,44,45,46,47,48,49,50,51,52,53,54,55,56,57,58,59,60,61,62,63,64,65,66,67,68,69,70,78,79,80,81,82,83,84,85,86,87,88,89,90,91,92,93,94,95,96,97,98,99,100,101,102,103,104,105,106,107,108,109,110,111,112,113,114,115,116,117,118,119,120,121,122,123,124,125,126,127,128,129,130,131,132,133,134,135,136,137,138,139,140,141,142,143,144,145,146]
[null,"Данные",null,null,null,null,"Диалоги о развитии",null,null,null,null,null,null,null,null,null,null,"Профиль компетенций ЗГД по закупкам (Lominger)\nmin - 0 баллов\nmax - 3 балла",null,null,null,null,"Индивидуальный профиль руководителя\nОЦЕНКИ ПО БЛОКАМ НАВЫКОВ\nmin - 1\nmax -7 ",null,null,null,null,null,null,null,"Индивидуальный профиль руководителя\nОЦЕНКИ ПО ОТДЕЛЬНЫМ ШКАЛАМ\nmin - 1\nmax -7 ",null,null,null,null,null,null,null,null,null,null,null,null,null,null,null,null,null,null,null,null,null,null,"Личностный опросник",null,null,null,null,null,null,null,null,"Впечатления карьерного консультанта",null,null,null,"Рейтингование"]
["ФИО","Город проживания","Место работы","Должность","Уровень должности","Уровень владения Английским языком","Ближайшие зоны развития","Способы развития","Предпочитаемая позиция","Перейти в КЦ или продолжить в ДО?","Возможная зона экспертизы","Желаемый уровень должности","Возможная Функция (Если не Закупки)","География возможного переезда","Мотивация для переезда","Семейные обстоятельства, возможные ограничения","Альтернативный сценарий развития","Общая оценка по профилю компетенций","Создание эффективной команды","Стратегическое видение","Руководящие навыки","Способность действовать в условиях неопределенности","Блок I. Постановка целей и задач","Блок II. Планирование и решение проблем","Блок III. Создание необходимых условий для выполнения работы","Блок IV. Обеспечение обратной связи","Блок V. Позитивный контроль","Блок VI. Признание заслуг","Блок VII. Эффективное взаимодействие с подчиненными","Блок VIII. Создание мотивирующей рабочей среды","A. Разъяснение целей и задач","B. Коммуникация с подчиненными","C. Тщательное планирование рабочего процесса","D. Знание особенностей конкретной компании","E. Обеспечение подчиненных ресурсами и информацией","F. Предоставление обратной связи","G. Контроль времени (своевременное достижение поставленных задач)","H. Контроль деталей","I. Мотивация подчиненных на достижение целей","J. Делегирование полномочий","K. Поощрение за хорошо выполненную работу","L. Ориентация на людей (открытость и дружелюбие)","M. Координация работы подчиненных","N. Создание условий для профессионального роста подчиненных","O. Наличие доверия подчиненных и руководства","P. Умение сделать работу интересной для подчиненных","Q. Профессиональная компетентность подчиненных","R. Создание сплоченной команды","S. Создание условий для должностного роста подчиненных","T. Уровень напряженности в коллективе","U. Забота о подчиненных","V. Нематериальная мотивация","W. Мотивация подчиненных на качественное выполнение работы","Роль","E (Экстраверсия)\nчеловек получает энергию из внешнего мира через общение с людьми или совместную деятельность","I (Интроверсия)\nчеловек получает энергию из своего внутреннего мира: размышлений и визуализации","S (Ощущение)\nчеловек склонен обращать внимание на факты, детали окружающую действительность","N (Интуиция)\nчеловек склонен обращать внимание на взаимосвязи, теории и будущие возможности","T (Мышление) \nчеловек принимает решения, исходя из логического, объективного анализа","F (Чувство)\nчеловек склонен принимать решения, ориентируясь на личностные ценности, чтобы достичь гармонии","J (Суждение)\nчеловек склонен к организованности, порядку и быстрому принятию решений","P (Восприятие)\nчеловек склонен к гибкости, адаптируется к изменениям и оттягивает принятие окончательного решения","Самая яркая черта участника","Сильные стороны участника, его возможности и перспективы","Зоны риска\n(короткими бизнесовыми предложениями. Если есть лишь предположение/гипотеза об участнике, используйте слова \"возможно\" и т.п.)","Зоны развития \n(то, что попало в ИПР, описать буллитами)","ИНТЕГРАЛЬНЫЙ","РЕЗУЛЬТАТИВНОСТЬ","ПРОАКТИВНОСТЬ","ПРОФЕССИОНАЛЬНОЕ РАЗВИТИЕ","ЭФФЕКТИВНОЕ ВЗАИМОДЕЙСТВИЕ","Общее значение компетенции","Город переезда","Роль","Состав","Описание","Дата вступления в должность","Дата рождения"]
["Василий Леонтьев","Лондон","Johnson & Johnson","Начальник управления межотраслевого анализа","ГД-3","Средний","коммуникации, эмоциональная устойчивость, самомотивация, \"освежить\" лидерство и мотивацию людей. А также разбираться лучше в логистике и складском учете. ","тренинги, коучинг, обмен опытом, книги","Лидер","Дочернее общество","-","руководитель","кросс- функции, бизнес-девеломпент, HR, консалтинг, проектное управление, HSE","Санкт-Петербург, НЕ регионы","-","нет","может продолжить в своей функции, так и рассматривает другие варианты.  Интересно- кросс-функции, консалтинг, проектное управление , бизнес-девеломпент, HR, HSE","6 из 12","1 из 3","0 из 3","2 из 3","3 из 3",4.3,4.63,5.7,4.8,3.85,5.6,5.75,4.6399999999999997,4.3,5.3,3.6,5,5.7,4.8,4.3,2.6,3.2,5.3,5.6,6.2,6,5.3,5.5,4.8,5.5,6.2,3.3,3.5,3.6,5.2,5,"МАСТЕР / УМЕЛЕЦ / ВИРТУОЗ\nISTP: интроверт, сенсорик, логик, иррационал",10,19,13,12,11,7,11,18,"Консервативный лидер. Очень опытный, сбалансированный, спокойный.","Ответственный. Способен выстраивать хорошие отношения с командой. Четкий, структурированный, устойчивый и в хорошем смысле предсказуемый. «Нет предела совершенству» - всегда готов учиться и развиваться. \n","Иногда излишне контролирует подчиненных, чтобы не приходилось их наказывать за ошибки.  Эмоционален. Вероятно, иногда отстаивает свое мнение слишком настойчиво. Считает своей зоной развития - гибкость. ",0,10,3,9,7,10,6,"Париж","МАСТЕР / УМЕЛЕЦ / ВИРТУОЗ","ISTP: интроверт, сенсорик, логик, иррационал","Люди с данной ролью, более расположены выжидать, анализировать ситуацию, нежели сразу предлагать свое решение и бросаться в бой.  Сосредоточенные на себе, склонные к объективности в принятии решений.  Проявляют эмпатию, тонко чувствуют других людей, отвергают искусственность и фальшь. Отличаются техническим складом ума, любят работать руками, при этом всегда укладываясь в нужные сроки. Обычно бывают терпеливы, аккуратны. Свято верят в принцип экономии усилий; большим достоинством является умение тщательно рассчитать, сколько усилий необходимо затратить, и поступить в соответствии с ситуацией.","2013-04-19","1986-07-23"]
["Василий Леонтьев","Лондон","Johnson & Johnson","Начальник управления межотраслевого анализа","ГД-3","Средний","коммуникации, эмоциональная устойчивость, самомотивация, \"освежить\" лидерство и мотивацию людей. А также разбираться лучше в логистике и складском учете. ","тренинги, коучинг, обмен опытом, книги","Лидер","Дочернее общество","-","руководитель","кросс- функции, бизнес-девеломпент, HR, консалтинг, проектное управление, HSE","Санкт-Петербург, НЕ регионы","-","нет","может продолжить в своей функции, так и рассматривает другие варианты.  Интересно- кросс-функции, консалтинг, проектное управление , бизнес-девеломпент, HR, HSE","6 из 12","1 из 3","0 из 3","2 из 3","3 из 3",4.3,4.63,5.7,4.8,3.85,5.6,5.75,4.6399999999999997,4.3,5.3,3.6,5,5.7,4.8,4.3,2.6,3.2,5.3,5.6,6.2,6,5.3,5.5,4.8,5.5,6.2,3.3,3.5,3.6,5.2,5,"МАСТЕР / УМЕЛЕЦ / ВИРТУОЗ\nISTP: интроверт, сенсорик, логик, иррационал",10,19,13,12,11,7,11,18,"Консервативный лидер. Очень опытный, сбалансированный, спокойный.","Ответственный. Способен выстраивать хорошие отношения с командой. Четкий, структурированный, устойчивый и в хорошем смысле предсказуемый. «Нет предела совершенству» - всегда готов учиться и развиваться. \n","Иногда излишне контролирует подчиненных, чтобы не приходилось их наказывать за ошибки.  Эмоционален. Вероятно, иногда отстаивает свое мнение слишком настойчиво. Считает своей зоной развития - гибкость. ",0,10,3,9,7,10,6,"Варшава","МАСТЕР / УМЕЛЕЦ / ВИРТУОЗ","ISTP: интроверт, сенсорик, логик, иррационал","Люди с данной ролью, более расположены выжидать, анализировать ситуацию, нежели сразу предлагать свое решение и бросаться в бой.  Сосредоточенные на себе, склонные к объективности в принятии решений.  Проявляют эмпатию, тонко чувствуют других людей, отвергают искусственность и фальшь. Отличаются техническим складом ума, любят работать руками, при этом всегда укладываясь в нужные сроки. Обычно бывают терпеливы, аккуратны. Свято верят в принцип экономии усилий; большим достоинством является умение тщательно рассчитать, сколько усилий необходимо затратить, и поступить в соответствии с ситуацией.","2013-04-19","1986-07-23"]
["Василий Леонтьев","Лондон","Johnson & Johnson","Начальник управления межотраслевого анализа","ГД-3","Средний","коммуникации, эмоциональная устойчивость, самомотивация, \"освежить\" лидерство и мотивацию людей. А также разбираться лучше в логистике и складском учете. ","тренинги, коучинг, обмен опытом, книги","Лидер","Дочернее общество","-","руководитель","кросс- функции, бизнес-девеломпент, HR, консалтинг, проектное управление, HSE","Санкт-Петербург, НЕ регионы","-","нет","может продолжить в своей функции, так и рассматривает другие варианты.  Интересно- кросс-функции, консалтинг, проектное управление , бизнес-девеломпент, HR, HSE","6 из 12","1 из 3","0 из 3","2 из 3","3 из 3",4.3,4.63,5.7,4.8,3.85,5.6,5.75,4.6399999999999997,4.3,5.3,3.6,5,5.7,4.8,4.3,2.6,3.2,5.3,5.6,6.2,6,5.3,5.5,4.8,5.5,6.2,3.3,3.5,3.6,5.2,5,"МАСТЕР / УМЕЛЕЦ / ВИРТУОЗ\nISTP: интроверт, сенсорик, логик, иррационал",10,19,13,12,11,7,11,18,"Консервативный лидер. Очень опытный, сбалансированный, спокойный.","Ответственный. Способен выстраивать хорошие отношения с командой. Четкий, структурированный, устойчивый и в хорошем смысле предсказуемый. «Нет предела совершенству» - всегда готов учиться и развиваться. \n","Иногда излишне контролирует подчиненных, чтобы не приходилось их наказывать за ошибки.  Эмоционален. Вероятно, иногда отстаивает свое мнение слишком настойчиво. Считает своей зоной развития - гибкость. ",0,10,3,9,7,10,6,"Мадрид","МАСТЕР / УМЕЛЕЦ / ВИРТУОЗ","ISTP: интроверт, сенсорик, логик, иррационал","Люди с данной ролью, более расположены выжидать, анализировать ситуацию, нежели сразу предлагать свое решение и бросаться в бой.  Сосредоточенные на себе, склонные к объективности в принятии решений.  Проявляют эмпатию, тонко чувствуют других людей, отвергают искусственность и фальшь. Отличаются техническим складом ума, любят работать руками, при этом всегда укладываясь в нужные сроки. Обычно бывают терпеливы, аккуратны. Свято верят в принцип экономии усилий; большим достоинством является умение тщательно рассчитать, сколько усилий необходимо затратить, и поступить в соответствии с ситуацией.","2013-04-19","1986-07-23"]
["Гуннар Мюрдаль","Париж","Chrysler","Начальник департамента взаимозависимости явлений","ГД-2","Средний","Отчетливого запроса нет. Любит нестандартные неповторяющиеся задачи и развивается по ходу выполнения","Интересно учиться в диалоге, во взаимодействии. Много читает для саморазвития","Менеджер","Не имеет значения","-","Ориентирована на повышение до следующего уровня. В данной должности видит смысл максимум на год","Продажи. Управление услугами. Цифровизация. Использование РИД","\"Не где, а с кем и насколько интересно\". (Работала в Москве, в англоязычных странах).","Интересный кейс, возможность проявить себя","Ребенок 4 года. Климат локации важен. Новый Порт и аналогичные локации не привлекают","Мыслит трехлетними периодами. В целом лояльна, но готова к смене карьеры в случае, если здесь станет недостаточно интересных новых задач","8 из 12","2 из 3","1 из 3","2 из 3","3 из 3",5.7,5.2,6.3,5.6,4.78,5.9,6.05,5.13,5.7,5.5,5,5.0999999999999996,6.3,5.6,5.2,3.6,4.5,5.8,5.9,5.8,6.5,5.8,6.1,5.8,5,6,5.2,3.5,4.8,5.2,5.5,"МАРШАЛ / ДЕЛЕЦ  / НЕПОСЕДА\nESTP: экстраверт, сенсорик, логик, иррационал",20,9,17,8,20,4,9,21,"Уравновешен, умеет слышать другого, но в ситуациях стресса и неопределенности может теряться, с его слов, ему необходимо взять паузу, чтобы разобраться с фактами","Взвешенность, конструктивность, готовность слышать и учитывать точки зрения других","Навыки влияния в коммуникации, особенно с вышестоящими, Стрессоустойчивость в ситуации публичных выступлений. Умение быстро действовать в условиях неопределенности. Возможно - поддержание эмоционального климата в коллективе.",0,9,2,8,8,9,8,"Мадрид","МАРШАЛ / ДЕЛЕЦ  / НЕПОСЕДА","ESTP: экстраверт, сенсорик, логик, иррационал","Люди с данной ролью изобретательны. Дружелюбны, привлекательны, с заметным элементом театральности. Социально искусны, прекрасно манипулируют людьми и ситуациями. Все действия рассчитаны на аудиторию. Остроумны, умеют пошутить. Увлекаются рискованными затеями. Безудержные прагматисты – цель оправдывает средства. Незаменимы в организации деятельности многих людей, требующей согласования, переговоров. Отношения с другими непредсказуемы и очень зависят от того, что от них можно получить. Плохо переносят беспокойство и стремятся избегать ситуаций напряженных отношений.","2019-11-06","1963-07-24"]
["Гуннар Мюрдаль","Париж","Chrysler","Начальник департамента взаимозависимости явлений","ГД-2","Средний","Отчетливого запроса нет. Любит нестандартные неповторяющиеся задачи и развивается по ходу выполнения","Интересно учиться в диалоге, во взаимодействии. Много читает для саморазвития","Менеджер","Не имеет значения","-","Ориентирована на повышение до следующего уровня. В данной должности видит смысл максимум на год","Продажи. Управление услугами. Цифровизация. Использование РИД","\"Не где, а с кем и насколько интересно\". (Работала в Москве, в англоязычных странах).","Интересный кейс, возможность проявить себя","Ребенок 4 года. Климат локации важен. Новый Порт и аналогичные локации не привлекают","Мыслит трехлетними периодами. В целом лояльна, но готова к смене карьеры в случае, если здесь станет недостаточно интересных новых задач","8 из 12","2 из 3","1 из 3","2 из 3","3 из 3",5.7,5.2,6.3,5.6,4.78,5.9,6.05,5.13,5.7,5.5,5,5.0999999999999996,6.3,5.6,5.2,3.6,4.5,5.8,5.9,5.8,6.5,5.8,6.1,5.8,5,6,5.2,3.5,4.8,5.2,5.5,"МАРШАЛ / ДЕЛЕЦ  / НЕПОСЕДА\nESTP: экстраверт, сенсорик, логик, иррационал",20,9,17,8,20,4,9,21,"Уравновешен, умеет слышать другого, но в ситуациях стресса и неопределенности может теряться, с его слов, ему необходимо взять паузу, чтобы разобраться с фактами","Взвешенность, конструктивность, готовность слышать и учитывать точки зрения других","Навыки влияния в коммуникации, особенно с вышестоящими, Стрессоустойчивость в ситуации публичных выступлений. Умение быстро действовать в условиях неопределенности. Возможно - поддержание эмоционального климата в коллективе.",0,9,2,8,8,9,8,"Афины","МАРШАЛ / ДЕЛЕЦ  / НЕПОСЕДА","ESTP: экстраверт, сенсорик, логик, иррационал","Люди с данной ролью изобретательны. Дружелюбны, привлекательны, с заметным элементом театральности. Социально искусны, прекрасно манипулируют людьми и ситуациями. Все действия рассчитаны на аудиторию. Остроумны, умеют пошутить. Увлекаются рискованными затеями. Безудержные прагматисты – цель оправдывает средства. Незаменимы в организации деятельности многих людей, требующей согласования, переговоров. Отношения с другими непредсказуемы и очень зависят от того, что от них можно получить. Плохо переносят беспокойство и стремятся избегать ситуаций напряженных отношений.","2019-11-06","1963-07-24"]
["Гуннар Мюрдаль","Париж","Chrysler","Начальник департамента взаимозависимости явлений","ГД-2","Средний","Отчетливого запроса нет. Любит нестандартные неповторяющиеся задачи и развивается по ходу выполнения","Интересно учиться в диалоге, во взаимодействии. Много читает для саморазвития","Менеджер","Не имеет значения","-","Ориентирована на повышение до следующего уровня. В данной должности видит смысл максимум на год","Продажи. Управление услугами. Цифровизация. Использование РИД","\"Не где, а с кем и насколько интересно\". (Работала в Москве, в англоязычных странах).","Интересный кейс, возможность проявить себя","Ребенок 4 года. Климат локации важен. Новый Порт и аналогичные локации не привлекают","Мыслит трехлетними периодами. В целом лояльна, но готова к смене карьеры в случае, если здесь станет недостаточно интересных новых задач","8 из 12","2 из 3","1 из 3","2 из 3","3 из 3",5.7,5.2,6.3,5.6,4.78,5.9,6.05,5.13,5.7,5.5,5,5.0999999999999996,6.3,5.6,5.2,3.6,4.5,5.8,5.9,5.8,6.5,5.8,6.1,5.8,5,6,5.2,3.5,4.8,5.2,5.5,"МАРШАЛ / ДЕЛЕЦ  / НЕПОСЕДА\nESTP: экстраверт, сенсорик, логик, иррационал",20,9,17,8,20,4,9,21,"Уравновешен, умеет слышать другого, но в ситуациях стресса и неопределенности может теряться, с его слов, ему необходимо взять паузу, чтобы разобраться с фактами","Взвешенность, конструктивность, готовность слышать и учитывать точки зрения других","Навыки влияния в коммуникации, особенно с вышестоящими, Стрессоустойчивость в ситуации публичных выступлений. Умение быстро действовать в условиях неопределенности. Возможно - поддержание эмоционального климата в коллективе.",0,9,2,8,8,9,8,"Варшава","МАРШАЛ / ДЕЛЕЦ  / НЕПОСЕДА","ESTP: экстраверт, сенсорик, логик, иррационал","Люди с данной ролью изобретательны. Дружелюбны, привлекательны, с заметным элементом театральности. Социально искусны, прекрасно манипулируют людьми и ситуациями. Все действия рассчитаны на аудиторию. Остроумны, умеют пошутить. Увлекаются рискованными затеями. Безудержные прагматисты – цель оправдывает средства. Незаменимы в организации деятельности многих людей, требующей согласования, переговоров. Отношения с другими непредсказуемы и очень зависят от того, что от них можно получить. Плохо переносят беспокойство и стремятся избегать ситуаций напряженных отношений.","2019-11-06","1963-07-24"]
["Джон Ричард Хикс","Мюнхен","Chevron Corporation","Руководитель направления равновесия и благосостояния","ГД-4","Средний",0,"Тренинги. Самообразование. Участие в конференциях (не корпоративных, а с более широким участием, лучше международным). «Посмотреть на инструменты, попробовать»","Лидер","Не имеет значения","-","Через год закрепиться операционным директором. Через 3 года ГД","Едва ли закупки. Интереснее бизнес, управление проектами","В целом готов к переездам, делал это многократно ","Интересные задачи. Демотивация — отсутствие возможности принятия решений","Жена привыкла к переездам и готова, многократно переезжали, но сейчас ребенку 4 года. Локация «совсем без цивилизации» не подойдет, потому что важно развитие ребенка","Создание эффективной системы в большой компании. Интересна роль тренера, спикера для большой аудитории. Работал в разных отраслях, дальше тоже не исключает смены отрасли, если там будет интересно.","6 из 12","2 из 3","0 из 3","2 из 3","2 из 3",5.7,5.43,5.2,5.3,4.95,6.7,6.23,4.75,5.7,5.6,5.4,5.3,5.2,5.3,5.8,4.2,4.8,5,6.7,6,6.2,6.3,6.4,5.4,3.7,5.5,5.2,3.8,5.2,5,4.2,"АДМИНИСТРАТОР / РЕАЛИСТ / РУКОВОДИТЕЛЬ\nESTJ: экстраверт, сенсорик, логик, рационал ",16,10,18,5,27,0,21,7,"Молодой, проактивный, временами резкий с командой. Готов меняться и развиваться. Больше индивидуалист, чем командный игрок","Умеет принимать смелые и быстрые решения. Стремится контролировать все ключевые аспекты ситуации. Активно работает над собой и своей эффективностью как лидера. Наиболее продуктивен тогда, когда может принимать решения самостоятельно","Чувствует себя некомфортно в ситуациях, которые ему неподконтрольны. Может быть резок с подчиненными и демотивировать их своей обратной связью (обозначили как первоочередную зону роста). Недостаточны навыки предоставления позитивной обратной связи и мотивации команды. Также целесообразно усиливать навыки делегирования. Испытывает демотивацию в случае отсутствия интересных задач, при невозможности принимать самостоятельные решения и однообразных задачах",0,5,10,1,10,7,6,"Афины","ЭНТУЗИАСТ / ВОСПИТАТЕЛЬ / УЧИТЕЛЬ","ESFJ: экстраверт, сенсорик, этик, рационал.",{"$error":"#N/A"},"2011-12-03","1983-04-12"]
["Джон Ричард Хикс","Мюнхен","Chevron Corporation","Руководитель направления равновесия и благосостояния","ГД-4","Средний",0,"Тренинги. Самообразование. Участие в конференциях (не корпоративных, а с более широким участием, лучше международным). «Посмотреть на инструменты, попробовать»","Лидер","Не имеет значения","-","Через год закрепиться операционным директором. Через 3 года ГД","Едва ли закупки. Интереснее бизнес, управление проектами","В целом готов к переездам, делал это многократно ","Интересные задачи. Демотивация — отсутствие возможности принятия решений","Жена привыкла к переездам и готова, многократно переезжали, но сейчас ребенку 4 года. Локация «совсем без цивилизации» не подойдет, потому что важно развитие ребенка","Создание эффективной системы в большой компании. Интересна роль тренера, спикера для большой аудитории. Работал в разных отраслях, дальше тоже не исключает смены отрасли, если там будет интересно.","6 из 12","2 из 3","0 из 3","2 из 3","2 из 3",5.7,5.43,5.2,5.3,4.95,6.7,6.23,4.75,5.7,5.6,5.4,5.3,5.2,5.3,5.8,4.2,4.8,5,6.7,6,6.2,6.3,6.4,5.4,3.7,5.5,5.2,3.8,5.2,5,4.2,"АДМИНИСТРАТОР / РЕАЛИСТ / РУКОВОДИТЕЛЬ\nESTJ: экстраверт, сенсорик, логик, рационал ",16,10,18,5,27,0,21,7,"Молодой, проактивный, временами резкий с командой. Готов меняться и развиваться. Больше индивидуалист, чем командный игрок","Умеет принимать смелые и быстрые решения. Стремится контролировать все ключевые аспекты ситуации. Активно работает над собой и своей эффективностью как лидера. Наиболее продуктивен тогда, когда может принимать решения самостоятельно","Чувствует себя некомфортно в ситуациях, которые ему неподконтрольны. Может быть резок с подчиненными и демотивировать их своей обратной связью (обозначили как первоочередную зону роста). Недостаточны навыки предоставления позитивной обратной связи и мотивации команды. Также целесообразно усиливать навыки делегирования. Испытывает демотивацию в случае отсутствия интересных задач, при невозможности принимать самостоятельные решения и однообразных задачах",0,5,10,1,10,7,6,"Мадрид","ЭНТУЗИАСТ / ВОСПИТАТЕЛЬ / УЧИТЕЛЬ","ESFJ: экстраверт, сенсорик, этик, рационал.",{"$error":"#N/A"},"2011-12-03","1983-04-12"]
["Джон Ричард Хикс","Мюнхен","Chevron Corporation","Руководитель направления равновесия и благосостояния","ГД-4","Средний",0,"Тренинги. Самообразование. Участие в конференциях (не корпоративных, а с более широким участием, лучше международным). «Посмотреть на инструменты, попробовать»","Лидер","Не имеет значения","-","Через год закрепиться операционным директором. Через 3 года ГД","Едва ли закупки. Интереснее бизнес, управление проектами","В целом готов к переездам, делал это многократно ","Интересные задачи. Демотивация — отсутствие возможности принятия решений","Жена привыкла к переездам и готова, многократно переезжали, но сейчас ребенку 4 года. Локация «совсем без цивилизации» не подойдет, потому что важно развитие ребенка","Создание эффективной системы в большой компании. Интересна роль тренера, спикера для большой аудитории. Работал в разных отраслях, дальше тоже не исключает смены отрасли, если там будет интересно.","6 из 12","2 из 3","0 из 3","2 из 3","2 из 3",5.7,5.43,5.2,5.3,4.95,6.7,6.23,4.75,5.7,5.6,5.4,5.3,5.2,5.3,5.8,4.2,4.8,5,6.7,6,6.2,6.3,6.4,5.4,3.7,5.5,5.2,3.8,5.2,5,4.2,"АДМИНИСТРАТОР / РЕАЛИСТ / РУКОВОДИТЕЛЬ\nESTJ: экстраверт, сенсорик, логик, рационал ",16,10,18,5,27,0,21,7,"Молодой, проактивный, временами резкий с командой. Готов меняться и развиваться. Больше индивидуалист, чем командный игрок","Умеет принимать смелые и быстрые решения. Стремится контролировать все ключевые аспекты ситуации. Активно работает над собой и своей эффективностью как лидера. Наиболее продуктивен тогда, когда может принимать решения самостоятельно","Чувствует себя некомфортно в ситуациях, которые ему неподконтрольны. Может быть резок с подчиненными и демотивировать их своей обратной связью (обозначили как первоочередную зону роста). Недостаточны навыки предоставления позитивной обратной связи и мотивации команды. Также целесообразно усиливать навыки делегирования. Испытывает демотивацию в случае отсутствия интересных задач, при невозможности принимать самостоятельные решения и однообразных задачах",0,5,10,1,10,7,6,"Рим","ЭНТУЗИАСТ / ВОСПИТАТЕЛЬ / УЧИТЕЛЬ","ESFJ: экстраверт, сенсорик, этик, рационал.",{"$error":"#N/A"},"2011-12-03","1983-04-12"]
["Кеннет Эрроу","Рим","Pan American","Начальник управления равновесия и благосостояния","ГД-3","Начальный","Внутренняя уверенность в ходе публичных выступлений","Более эффективно - очное обучение и индивидуальная работа","Менеджер","Дочернее общество","-","ЗГД, начальник управления","Планирование, ценообразование","По возможности хотелось бы сохранить текущую локацию","-","Дети, муж и его карьера. По сути, переезд возможен только \"по приказу\", как нежелательный на сегодняшний день вариант","Как вариант - возвращение в производство, ","8 из 12","2 из 3","2 из 3","2 из 3","2 из 3",6.4,5.63,6.2,6.8,5.23,6.9,6.6,5.99,6.4,5.9,5.3,5.7,6.2,6.8,6.3,5.4,5.2,4,6.9,6.4,6.8,6.6,6.6,6.4,6.2,7,6,3.8,6.2,6,6.3,"ЭНТУЗИАСТ / ВОСПИТАТЕЛЬ / УЧИТЕЛЬ\nESFJ: экстраверт, сенсорик, этик, рационал.",15,7,14,6,10,11,21,10,"Харизматичный лидер. Горит своей работой, вдохновляет и заряжает людей.","Развивает членов своей команды, успешно «растит» подчиненных, видит в этом много смысла и мотивации для себя. Высокая резистентность к неопределенности, эффективно решает задачи в условиях мгновенных изменений. Заинтересован в собственном развитии и обучении. Честный, искренний во взаимодействии.\n","В обратной связи подчиненным больше концентрируется на ошибках, чем на признании заслуг. Также строго относится и к себе. Эмоционален, принимает многие вещи близко к сердцу. Из-за высокой неопределенности в сфере зоной развития считает стратегическое видение. ",{"$error":"#N/A"},6,5,6,6,4,8,"Лондон","АДМИНИСТРАТОР / РЕАЛИСТ / РУКОВОДИТЕЛЬ","ESTJ: экстраверт, сенсорик, логик, рационал ","Люди с данной ролью ответственные, пунктуальные, надежные и стойкие. Успешно организуя дела, они любят порядок. Знают свои обязанности и не стремятся увиливать. Следуют установленному порядку, точны, аккуратны. Во взаимоотношениях следуют сложившимся традициям. Практичны, реалистичны, основываются на фактах, их заботит ситуация «здесь и сейчас». Больший интерес у них вызывают новые вещи и предметы, а не новые идеи. При решении возникающих проблем они используют свой прошлый опыт. Люди этого типа любят работать в таких сферах деятельности, где они могут достичь непосредственных, видимых глазом, ощутимых результатов. ","2015-01-12","1989-07-17"]
["Кеннет Эрроу","Рим","Pan American","Начальник управления равновесия и благосостояния","ГД-3","Начальный","Внутренняя уверенность в ходе публичных выступлений","Более эффективно - очное обучение и индивидуальная работа","Менеджер","Дочернее общество","-","ЗГД, начальник управления","Планирование, ценообразование","По возможности хотелось бы сохранить текущую локацию","-","Дети, муж и его карьера. По сути, переезд возможен только \"по приказу\", как нежелательный на сегодняшний день вариант","Как вариант - возвращение в производство, ","8 из 12","2 из 3","2 из 3","2 из 3","2 из 3",6.4,5.63,6.2,6.8,5.23,6.9,6.6,5.99,6.4,5.9,5.3,5.7,6.2,6.8,6.3,5.4,5.2,4,6.9,6.4,6.8,6.6,6.6,6.4,6.2,7,6,3.8,6.2,6,6.3,"ЭНТУЗИАСТ / ВОСПИТАТЕЛЬ / УЧИТЕЛЬ\nESFJ: экстраверт, сенсорик, этик, рационал.",15,7,14,6,10,11,21,10,"Харизматичный лидер. Горит своей работой, вдохновляет и заряжает людей.","Развивает членов своей команды, успешно «растит» подчиненных, видит в этом много смысла и мотивации для себя. Высокая резистентность к неопределенности, эффективно решает задачи в условиях мгновенных изменений. Заинтересован в собственном развитии и обучении. Честный, искренний во взаимодействии.\n","В обратной связи подчиненным больше концентрируется на ошибках, чем на признании заслуг. Также строго относится и к себе. Эмоционален, принимает многие вещи близко к сердцу. Из-за высокой неопределенности в сфере зоной развития считает стратегическое видение. ",{"$error":"#N/A"},6,5,6,6,4,8,"Афины","АДМИНИСТРАТОР / РЕАЛИСТ / РУКОВОДИТЕЛЬ","ESTJ: экстраверт, сенсорик, логик, рационал ","Люди с данной ролью ответственные, пунктуальные, надежные и стойкие. Успешно организуя дела, они любят порядок. Знают свои обязанности и не стремятся увиливать. Следуют установленному порядку, точны, аккуратны. Во взаимоотношениях следуют сложившимся традициям. Практичны, реалистичны, основываются на фактах, их заботит ситуация «здесь и сейчас». Больший интерес у них вызывают новые вещи и предметы, а не новые идеи. При решении возникающих проблем они используют свой прошлый опыт. Люди этого типа любят работать в таких сферах деятельности, где они могут достичь непосредственных, видимых глазом, ощутимых результатов. ","2015-01-12","1989-07-17"]
["Кеннет Эрроу","Рим","Pan American","Начальник управления равновесия и благосостояния","ГД-3","Начальный","Внутренняя уверенность в ходе публичных выступлений","Более эффективно - очное обучение и индивидуальная работа","Менеджер","Дочернее общество","-","ЗГД, начальник управления","Планирование, ценообразование","По возможности хотелось бы сохранить текущую локацию","-","Дети, муж и его карьера. По сути, переезд возможен только \"по приказу\", как нежелательный на сегодняшний день вариант","Как вариант - возвращение в производство, ","8 из 12","2 из 3","2 из 3","2 из 3","2 из 3",6.4,5.63,6.2,6.8,5.23,6.9,6.6,5.99,6.4,5.9,5.3,5.7,6.2,6.8,6.3,5.4,5.2,4,6.9,6.4,6.8,6.6,6.6,6.4,6.2,7,6,3.8,6.2,6,6.3,"ЭНТУЗИАСТ / ВОСПИТАТЕЛЬ / УЧИТЕЛЬ\nESFJ: экстраверт, сенсорик, этик, рационал.",15,7,14,6,10,11,21,10,"Харизматичный лидер. Горит своей работой, вдохновляет и заряжает людей.","Развивает членов своей команды, успешно «растит» подчиненных, видит в этом много смысла и мотивации для себя. Высокая резистентность к неопределенности, эффективно решает задачи в условиях мгновенных изменений. Заинтересован в собственном развитии и обучении. Честный, искренний во взаимодействии.\n","В обратной связи подчиненным больше концентрируется на ошибках, чем на признании заслуг. Также строго относится и к себе. Эмоционален, принимает многие вещи близко к сердцу. Из-за высокой неопределенности в сфере зоной развития считает стратегическое видение. ",{"$error":"#N/A"},6,5,6,6,4,8,"Лиссабон","АДМИНИСТРАТОР / РЕАЛИСТ / РУКОВОДИТЕЛЬ","ESTJ: экстраверт, сенсорик, логик, рационал ","Люди с данной ролью ответственные, пунктуальные, надежные и стойкие. Успешно организуя дела, они любят порядок. Знают свои обязанности и не стремятся увиливать. Следуют установленному порядку, точны, аккуратны. Во взаимоотношениях следуют сложившимся традициям. Практичны, реалистичны, основываются на фактах, их заботит ситуация «здесь и сейчас». Больший интерес у них вызывают новые вещи и предметы, а не новые идеи. При решении возникающих проблем они используют свой прошлый опыт. Люди этого типа любят работать в таких сферах деятельности, где они могут достичь непосредственных, видимых глазом, ощутимых результатов. ","2015-01-12","1989-07-17"]
["Кэрол Грейдер","Москва","Boing","Начальник департамента защиты хромосом теломерами","ГД-2","Средний","развивать умение убеждать, донести свою точку зрения, эффективные коммуникации, развивать гибкость, умение идти на компромисы ","делиться опытом с коллегами, литература, обучение в компании ","Лидер","Дочернее общество","-","ЗГД, исполнительный директор","нет","без ограничений","-","нет","не рассматривает","5 из 12","0 из 3","1 из 3","2 из 3","2 из 3",5.7,5.67,6,5.3,4.5,5.7,5.9,5.45,5.7,5,5.9,6.1,6,5.3,5.5,4,4.5,4,5.7,6,6.5,5.0999999999999996,6,5.8,6,6.2,5.8,2,5.8,6,6,"ИНСПЕКТОР / ОРГАНИЗАТОР / ОПЕКУН\nISTJ: интроверт, сенсорик, логик, рационал",11,17,23,5,22,2,24,3," Душа компании - направляет, вдохновляет сотрудников, «видит» их.","Мягкий, гибкий стиль управления. Мастер коммуникации. Выстраивает доброжелательные отношения с подчиненными. Создает комфортные условия для работы, мотивирует без давления. Открыта к развитию. \n","Скорее всего, не всегда проявляет ассертивную позицию, когда это требуется. Вероятно, чувствует усталость от высокой неопределенности.",0,7,9,5,1,8,5,"Рим","ИНСПЕКТОР / ОРГАНИЗАТОР / ОПЕКУН","ISTJ: интроверт, сенсорик, логик, рационал","Люди с данной ролью надежные, спокойные и серьезные. Любят порядок и строгость, глубоко вникают в работу, анализируя информацию с разных сторон. Отличаются некой педантичностью. Реально смотрят на вещи, берутся за дело только если точно знают, что смогут его завершить. Во взаимоотношения предпочитают короткие деловые контакты с другими людьми. Слово «долг» для них значимо. Их поведение ориентировано на конечный результат. Их склонность ко всему, что находится «здесь и сейчас», не позволяет им ничего принимать на веру что-либо.","2017-06-29","1954-03-12"]
["Кэрол Грейдер","Москва","Boing","Начальник департамента защиты хромосом теломерами","ГД-2","Средний","развивать умение убеждать, донести свою точку зрения, эффективные коммуникации, развивать гибкость, умение идти на компромисы ","делиться опытом с коллегами, литература, обучение в компании ","Лидер","Дочернее общество","-","ЗГД, исполнительный директор","нет","без ограничений","-","нет","не рассматривает","5 из 12","0 из 3","1 из 3","2 из 3","2 из 3",5.7,5.67,6,5.3,4.5,5.7,5.9,5.45,5.7,5,5.9,6.1,6,5.3,5.5,4,4.5,4,5.7,6,6.5,5.0999999999999996,6,5.8,6,6.2,5.8,2,5.8,6,6,"ИНСПЕКТОР / ОРГАНИЗАТОР / ОПЕКУН\nISTJ: интроверт, сенсорик, логик, рационал",11,17,23,5,22,2,24,3," Душа компании - направляет, вдохновляет сотрудников, «видит» их.","Мягкий, гибкий стиль управления. Мастер коммуникации. Выстраивает доброжелательные отношения с подчиненными. Создает комфортные условия для работы, мотивирует без давления. Открыта к развитию. \n","Скорее всего, не всегда проявляет ассертивную позицию, когда это требуется. Вероятно, чувствует усталость от высокой неопределенности.",0,7,9,5,1,8,5,"Мадрид","ИНСПЕКТОР / ОРГАНИЗАТОР / ОПЕКУН","ISTJ: интроверт, сенсорик, логик, рационал","Люди с данной ролью надежные, спокойные и серьезные. Любят порядок и строгость, глубоко вникают в работу, анализируя информацию с разных сторон. Отличаются некой педантичностью. Реально смотрят на вещи, берутся за дело только если точно знают, что смогут его завершить. Во взаимоотношения предпочитают короткие деловые контакты с другими людьми. Слово «долг» для них значимо. Их поведение ориентировано на конечный результат. Их склонность ко всему, что находится «здесь и сейчас», не позволяет им ничего принимать на веру что-либо.","2017-06-29","1954-03-12"]
["Кэрол Грейдер","Москва","Boing","Начальник департамента защиты хромосом теломерами","ГД-2","Средний","развивать умение убеждать, донести свою точку зрения, эффективные коммуникации, развивать гибкость, умение идти на компромисы ","делиться опытом с коллегами, литература, обучение в компании ","Лидер","Дочернее общество","-","ЗГД, исполнительный директор","нет","без ограничений","-","нет","не рассматривает","5 из 12","0 из 3","1 из 3","2 из 3","2 из 3",5.7,5.67,6,5.3,4.5,5.7,5.9,5.45,5.7,5,5.9,6.1,6,5.3,5.5,4,4.5,4,5.7,6,6.5,5.0999999999999996,6,5.8,6,6.2,5.8,2,5.8,6,6,"ИНСПЕКТОР / ОРГАНИЗАТОР / ОПЕКУН\nISTJ: интроверт, сенсорик, логик, рационал",11,17,23,5,22,2,24,3," Душа компании - направляет, вдохновляет сотрудников, «видит» их.","Мягкий, гибкий стиль управления. Мастер коммуникации. Выстраивает доброжелательные отношения с подчиненными. Создает комфортные условия для работы, мотивирует без давления. Открыта к развитию. \n","Скорее всего, не всегда проявляет ассертивную позицию, когда это требуется. Вероятно, чувствует усталость от высокой неопределенности.",0,7,9,5,1,8,5,"Лондон","ИНСПЕКТОР / ОРГАНИЗАТОР / ОПЕКУН","ISTJ: интроверт, сенсорик, логик, рационал","Люди с данной ролью надежные, спокойные и серьезные. Любят порядок и строгость, глубоко вникают в работу, анализируя информацию с разных сторон. Отличаются некой педантичностью. Реально смотрят на вещи, берутся за дело только если точно знают, что смогут его завершить. Во взаимоотношения предпочитают короткие деловые контакты с другими людьми. Слово «долг» для них значимо. Их поведение ориентировано на конечный результат. Их склонность ко всему, что находится «здесь и сейчас», не позволяет им ничего принимать на веру что-либо.","2017-06-29","1954-03-12"]
["Линда Бак","Мадрид","General Electrics","Начальник управления организации системы органов обоняния","ГД-3","Нулевой","Стеснительность, сложности в отстаивании своих интересов перед руководством","Индивидуальные сессии, тренинги","Менеджер","Дочернее общество","-","ЗГД, ГД","добыча","не готов к переезду","-","Мама, которая нуждается в поддержке","Вернуться в функцию добычи, восстановить технические знания и быть руководителем там, хотя этот сцеарий кажется не очень вероятным, в силу того, что технологии ушли вперед","6 из 12","1 из 3","2 из 3","2 из 3","1 из 3",5.6,5.17,5.3,5,4.03,6,5.8,5.48,5.6,5.0999999999999996,5.3,5.0999999999999996,5.3,5,5,2.8,3,5.3,6,5.8,5.8,5.6,6,6,6,6,6,2,5.8,6,6,"ИНСПЕКТОР / ОРГАНИЗАТОР / ОПЕКУН\nISTJ: интроверт, сенсорик, логик, рационал",5,25,31,2,27,2,24,2,"Энергична, позитивна, конструктивно азартна. Любит нестандартные сложные задачи","Готова браться за нестандартные и сложные задачи, рисковать, находить наилучшие решения. Заинтересована в ситуациях, где можно проявить себя. Ориентирована на максимальный результат, пресекает возможности совершить ошибку. Активно занимается самообразованием ","Может быть резка с собеседниками и не учитывать их особенности. Испытывает раздражение и демотивацию в случае детальной регламентации своих действий и решений и внешних жестких правил (любого ограничения свободы)",0,3,1,10,4,2,6,"Афины","ИНСПЕКТОР / ОРГАНИЗАТОР / ОПЕКУН","ISTJ: интроверт, сенсорик, логик, рационал","Люди с данной ролью надежные, спокойные и серьезные. Любят порядок и строгость, глубоко вникают в работу, анализируя информацию с разных сторон. Отличаются некой педантичностью. Реально смотрят на вещи, берутся за дело только если точно знают, что смогут его завершить. Во взаимоотношения предпочитают короткие деловые контакты с другими людьми. Слово «долг» для них значимо. Их поведение ориентировано на конечный результат. Их склонность ко всему, что находится «здесь и сейчас», не позволяет им ничего принимать на веру что-либо.","2018-11-17","1964-01-14"]
["Линда Бак","Мадрид","General Electrics","Начальник управления организации системы органов обоняния","ГД-3","Нулевой","Стеснительность, сложности в отстаивании своих интересов перед руководством","Индивидуальные сессии, тренинги","Менеджер","Дочернее общество","-","ЗГД, ГД","добыча","не готов к переезду","-","Мама, которая нуждается в поддержке","Вернуться в функцию добычи, восстановить технические знания и быть руководителем там, хотя этот сцеарий кажется не очень вероятным, в силу того, что технологии ушли вперед","6 из 12","1 из 3","2 из 3","2 из 3","1 из 3",5.6,5.17,5.3,5,4.03,6,5.8,5.48,5.6,5.0999999999999996,5.3,5.0999999999999996,5.3,5,5,2.8,3,5.3,6,5.8,5.8,5.6,6,6,6,6,6,2,5.8,6,6,"ИНСПЕКТОР / ОРГАНИЗАТОР / ОПЕКУН\nISTJ: интроверт, сенсорик, логик, рационал",5,25,31,2,27,2,24,2,"Энергична, позитивна, конструктивно азартна. Любит нестандартные сложные задачи","Готова браться за нестандартные и сложные задачи, рисковать, находить наилучшие решения. Заинтересована в ситуациях, где можно проявить себя. Ориентирована на максимальный результат, пресекает возможности совершить ошибку. Активно занимается самообразованием ","Может быть резка с собеседниками и не учитывать их особенности. Испытывает раздражение и демотивацию в случае детальной регламентации своих действий и решений и внешних жестких правил (любого ограничения свободы)",0,3,1,10,4,2,6,"Варшава","ИНСПЕКТОР / ОРГАНИЗАТОР / ОПЕКУН","ISTJ: интроверт, сенсорик, логик, рационал","Люди с данной ролью надежные, спокойные и серьезные. Любят порядок и строгость, глубоко вникают в работу, анализируя информацию с разных сторон. Отличаются некой педантичностью. Реально смотрят на вещи, берутся за дело только если точно знают, что смогут его завершить. Во взаимоотношения предпочитают короткие деловые контакты с другими людьми. Слово «долг» для них значимо. Их поведение ориентировано на конечный результат. Их склонность ко всему, что находится «здесь и сейчас», не позволяет им ничего принимать на веру что-либо.","2018-11-17","1964-01-14"]
["Линда Бак","Мадрид","General Electrics","Начальник управления организации системы органов обоняния","ГД-3","Нулевой","Стеснительность, сложности в отстаивании своих интересов перед руководством","Индивидуальные сессии, тренинги","Менеджер","Дочернее общество","-","ЗГД, ГД","добыча","не готов к переезду","-","Мама, которая нуждается в поддержке","Вернуться в функцию добычи, восстановить технические знания и быть руководителем там, хотя этот сцеарий кажется не очень вероятным, в силу того, что технологии ушли вперед","6 из 12","1 из 3","2 из 3","2 из 3","1 из 3",5.6,5.17,5.3,5,4.03,6,5.8,5.48,5.6,5.0999999999999996,5.3,5.0999999999999996,5.3,5,5,2.8,3,5.3,6,5.8,5.8,5.6,6,6,6,6,6,2,5.8,6,6,"ИНСПЕКТОР / ОРГАНИЗАТОР / ОПЕКУН\nISTJ: интроверт, сенсорик, логик, рационал",5,25,31,2,27,2,24,2,"Энергична, позитивна, конструктивно азартна. Любит нестандартные сложные задачи","Готова браться за нестандартные и сложные задачи, рисковать, находить наилучшие решения. Заинтересована в ситуациях, где можно проявить себя. Ориентирована на максимальный результат, пресекает возможности совершить ошибку. Активно занимается самообразованием ","Может быть резка с собеседниками и не учитывать их особенности. Испытывает раздражение и демотивацию в случае детальной регламентации своих действий и решений и внешних жестких правил (любого ограничения свободы)",0,3,1,10,4,2,6,"Мюнхен","ИНСПЕКТОР / ОРГАНИЗАТОР / ОПЕКУН","ISTJ: интроверт, сенсорик, логик, рационал","Люди с данной ролью надежные, спокойные и серьезные. Любят порядок и строгость, глубоко вникают в работу, анализируя информацию с разных сторон. Отличаются некой педантичностью. Реально смотрят на вещи, берутся за дело только если точно знают, что смогут его завершить. Во взаимоотношения предпочитают короткие деловые контакты с другими людьми. Слово «долг» для них значимо. Их поведение ориентировано на конечный результат. Их склонность ко всему, что находится «здесь и сейчас», не позволяет им ничего принимать на веру что-либо.","2018-11-17","1964-01-14"]
["Мэй-Брит Мозер","Лиссабон","Pan American","Начальник департамента систем позиционирования","ГД-2","Начальный","Принятие высокоуровневых решений с меньшей глубиной погружения в детали. Внутренняя уверенность, расширение границ, личный бренд, готовность к изменениям","Проходит обучение по MBA в SSE. Предпочитает традиционные групповые методы обучения, онлайн не так привлекателен","Лидер","Корпоративный центр","-","Хотела бы двигаться по вертикали, но по результатам переговоров знает, что руководство предпочитает ее ротацию по горизонтали","Выбирает не с точки зрения функции, а по возможностям проектной работы в ней, интересных, новых, нетиповых проектов","Москва, Петербург","Вертикальная карьера. (либо) Более гибкий график, больше возможностей для work‐life balance","Сын подросток с хорошими перспективами в математике и спорте, через 3 года нужно будет обеспечивать ему возможность дальнейшей реализации, а это только крупные города ","Пока не очень понятно. При принятии решений интересы и ценности семьи будут в приоритете","6 из 12","2 из 3","0 из 3","2 из 3","2 из 3",6,5.9,6,5.5,4.7,6,6.2,5.23,6,5.8,6,5.9,6,5.5,5,3.6,4.7,5.5,6,5.4,6.8,6,6.6,6,6,6,5.3,1.8,5.6,5.8,5.3,"ИНСПЕКТОР / ОРГАНИЗАТОР / ОПЕКУН\nISTJ: интроверт, сенсорик, логик, рационал",11,14,19,5,18,6,24,3,"Спокойна, рассудительна, склонна к системным решениям. Четкое понимание своих интересов при внешней мягкости","Умеет принимать системные взвешенные решения с оптимальным балансом внимания к деталям и общей картине. Лояльна к компании. Понимает, как находить баланс интересов различных сторон. Обучается по программе MBA","Одна из обозначенных ключевых зон роста — усиление способности генерировать идеи. В условиях «стеклянного потолка» дополнительное внимание стоит уделить усилению стрессоустойчивости и навыков личного профессионального самопродвижения",0,4,7,4,5,3,6,"Лондон","ИНСПЕКТОР / ОРГАНИЗАТОР / ОПЕКУН","ISTJ: интроверт, сенсорик, логик, рационал","Люди с данной ролью надежные, спокойные и серьезные. Любят порядок и строгость, глубоко вникают в работу, анализируя информацию с разных сторон. Отличаются некой педантичностью. Реально смотрят на вещи, берутся за дело только если точно знают, что смогут его завершить. Во взаимоотношения предпочитают короткие деловые контакты с другими людьми. Слово «долг» для них значимо. Их поведение ориентировано на конечный результат. Их склонность ко всему, что находится «здесь и сейчас», не позволяет им ничего принимать на веру что-либо.","2015-07-02","1979-05-23"]
["Мэй-Брит Мозер","Лиссабон","Pan American","Начальник департамента систем позиционирования","ГД-2","Начальный","Принятие высокоуровневых решений с меньшей глубиной погружения в детали. Внутренняя уверенность, расширение границ, личный бренд, готовность к изменениям","Проходит обучение по MBA в SSE. Предпочитает традиционные групповые методы обучения, онлайн не так привлекателен","Лидер","Корпоративный центр","-","Хотела бы двигаться по вертикали, но по результатам переговоров знает, что руководство предпочитает ее ротацию по горизонтали","Выбирает не с точки зрения функции, а по возможностям проектной работы в ней, интересных, новых, нетиповых проектов","Москва, Петербург","Вертикальная карьера. (либо) Более гибкий график, больше возможностей для work‐life balance","Сын подросток с хорошими перспективами в математике и спорте, через 3 года нужно будет обеспечивать ему возможность дальнейшей реализации, а это только крупные города ","Пока не очень понятно. При принятии решений интересы и ценности семьи будут в приоритете","6 из 12","2 из 3","0 из 3","2 из 3","2 из 3",6,5.9,6,5.5,4.7,6,6.2,5.23,6,5.8,6,5.9,6,5.5,5,3.6,4.7,5.5,6,5.4,6.8,6,6.6,6,6,6,5.3,1.8,5.6,5.8,5.3,"ИНСПЕКТОР / ОРГАНИЗАТОР / ОПЕКУН\nISTJ: интроверт, сенсорик, логик, рационал",11,14,19,5,18,6,24,3,"Спокойна, рассудительна, склонна к системным решениям. Четкое понимание своих интересов при внешней мягкости","Умеет принимать системные взвешенные решения с оптимальным балансом внимания к деталям и общей картине. Лояльна к компании. Понимает, как находить баланс интересов различных сторон. Обучается по программе MBA","Одна из обозначенных ключевых зон роста — усиление способности генерировать идеи. В условиях «стеклянного потолка» дополнительное внимание стоит уделить усилению стрессоустойчивости и навыков личного профессионального самопродвижения",0,4,7,4,5,3,6,"Лиссабон","ИНСПЕКТОР / ОРГАНИЗАТОР / ОПЕКУН","ISTJ: интроверт, сенсорик, логик, рационал","Люди с данной ролью надежные, спокойные и серьезные. Любят порядок и строгость, глубоко вникают в работу, анализируя информацию с разных сторон. Отличаются некой педантичностью. Реально смотрят на вещи, берутся за дело только если точно знают, что смогут его завершить. Во взаимоотношения предпочитают короткие деловые контакты с другими людьми. Слово «долг» для них значимо. Их поведение ориентировано на конечный результат. Их склонность ко всему, что находится «здесь и сейчас», не позволяет им ничего принимать на веру что-либо.","2015-07-02","1979-05-23"]
["Мэй-Брит Мозер","Лиссабон","Pan American","Начальник департамента систем позиционирования","ГД-2","Начальный","Принятие высокоуровневых решений с меньшей глубиной погружения в детали. Внутренняя уверенность, расширение границ, личный бренд, готовность к изменениям","Проходит обучение по MBA в SSE. Предпочитает традиционные групповые методы обучения, онлайн не так привлекателен","Лидер","Корпоративный центр","-","Хотела бы двигаться по вертикали, но по результатам переговоров знает, что руководство предпочитает ее ротацию по горизонтали","Выбирает не с точки зрения функции, а по возможностям проектной работы в ней, интересных, новых, нетиповых проектов","Москва, Петербург","Вертикальная карьера. (либо) Более гибкий график, больше возможностей для work‐life balance","Сын подросток с хорошими перспективами в математике и спорте, через 3 года нужно будет обеспечивать ему возможность дальнейшей реализации, а это только крупные города ","Пока не очень понятно. При принятии решений интересы и ценности семьи будут в приоритете","6 из 12","2 из 3","0 из 3","2 из 3","2 из 3",6,5.9,6,5.5,4.7,6,6.2,5.23,6,5.8,6,5.9,6,5.5,5,3.6,4.7,5.5,6,5.4,6.8,6,6.6,6,6,6,5.3,1.8,5.6,5.8,5.3,"ИНСПЕКТОР / ОРГАНИЗАТОР / ОПЕКУН\nISTJ: интроверт, сенсорик, логик, рационал",11,14,19,5,18,6,24,3,"Спокойна, рассудительна, склонна к системным решениям. Четкое понимание своих интересов при внешней мягкости","Умеет принимать системные взвешенные решения с оптимальным балансом внимания к деталям и общей картине. Лояльна к компании. Понимает, как находить баланс интересов различных сторон. Обучается по программе MBA","Одна из обозначенных ключевых зон роста — усиление способности генерировать идеи. В условиях «стеклянного потолка» дополнительное внимание стоит уделить усилению стрессоустойчивости и навыков личного профессионального самопродвижения",0,4,7,4,5,3,6,"Мадрид","ИНСПЕКТОР / ОРГАНИЗАТОР / ОПЕКУН","ISTJ: интроверт, сенсорик, логик, рационал","Люди с данной ролью надежные, спокойные и серьезные. Любят порядок и строгость, глубоко вникают в работу, анализируя информацию с разных сторон. Отличаются некой педантичностью. Реально смотрят на вещи, берутся за дело только если точно знают, что смогут его завершить. Во взаимоотношения предпочитают короткие деловые контакты с другими людьми. Слово «долг» для них значимо. Их поведение ориентировано на конечный результат. Их склонность ко всему, что находится «здесь и сейчас», не позволяет им ничего принимать на веру что-либо.","2015-07-02","1979-05-23"]
["Саймон Кузнец","Варшава","Chrysler","Руководитель направления экономической и социальной структуры","ГД-4","Свободный","Знание капитального строительства, цепочки поставок в части стратегии закупок, категорийный менеджмент. Умение выстраивать работу команды в части делегирования, повышение мотивации и самостоятельности, активности и инициативности сотрудников. Выстраивание своей авторитетной позиции. Умение эффективно действовать в ситуации конфликта интересов.","У сотрудника уже составлен ИПР, который она заинтересована дополнить. Обучение очно и онлайн, стажировки, участие в проектах, обратная связь от наставника/карьерного консультанта.","Лидер","КЦ либо ДО. Сотрудник планирует стажировку в КЦ ориентировочно в марте, после этого будет решение","-","ЗГД либо руководитель департамента закупок либо team leader в КЦ (название последней должности еще не формализовано)","промышленная безопасность, повышение операционной эффективности,  непрерывное улучшение, выстравание бизнес-процессов с заказчиками, продажи","Москва, Санкт-Петербург","Рост по карьерной лестнице, новые проекты, муж в настоящее время работает в Москве.","Ребенок 5,5 лет, переезд потребует адаптации ребенка на новом месте, поиск детского сада","В целом сотрудник очень широко смотрит на перспективы своего развития, готова развиваться как верикально, так и в смежных функциях, интересует опыт работы в совместных компаниях, с международным опытом. Сама так же обучает сотрудников, проводит внутренее обучение.","8 из 12","2 из 3","1 из 3","3 из 3","2 из 3",5.9,5.43,5.8,6.1,3.88,7,6.2,5.35,5.9,5.8,5.0999999999999996,5.4,5.8,6.1,5.2,1.6,4.2,4.5,7,6.6,6.5,5.8,5.9,6,6,6.7,5.5,2.5,5.4,5.4,5.3,"АДМИНИСТРАТОР / РЕАЛИСТ / РУКОВОДИТЕЛЬ\nESTJ: экстраверт, сенсорик, логик, рационал ",24,3,13,10,17,4,19,9,"В работе с командой проявляет себя и как лидер, и как менеджер. Энергичен, стремится к объективному и разностороннему взгляду на ситуацию","Внимателен к команде, прикладывает усилия к развитию подчиненных и формированию конструктивной атмосферы в коллективе. Уверенный в себе переговорщик, готовый использовать различные методы для отстаивания интересов компании. Стрессоустойчив. Имеет сильную соревновательную мотивацию. При выстраивании работы заинтересован в анализе и учете лучших практик","Испытывает затруднения при необходимости выступать на публике (большая незнакомая аудитория). Испытывает демотивацию в случае невозможности самостоятельно выстраивать стратегию своей работу и в случае отсутствия новых интересных проектов (расценивает такую ситуацию как стагнацию, в случае продолжительной стагнации не исключает смену карьеры)",0,1,6,2,3,1,8,"Лиссабон","АДМИНИСТРАТОР / РЕАЛИСТ / РУКОВОДИТЕЛЬ","ESTJ: экстраверт, сенсорик, логик, рационал ","Люди с данной ролью ответственные, пунктуальные, надежные и стойкие. Успешно организуя дела, они любят порядок. Знают свои обязанности и не стремятся увиливать. Следуют установленному порядку, точны, аккуратны. Во взаимоотношениях следуют сложившимся традициям. Практичны, реалистичны, основываются на фактах, их заботит ситуация «здесь и сейчас». Больший интерес у них вызывают новые вещи и предметы, а не новые идеи. При решении возникающих проблем они используют свой прошлый опыт. Люди этого типа любят работать в таких сферах деятельности, где они могут достичь непосредственных, видимых глазом, ощутимых результатов. ","2013-04-09","1982-06-04"]
["Саймон Кузнец","Варшава","Chrysler","Руководитель направления экономической и социальной структуры","ГД-4","Свободный","Знание капитального строительства, цепочки поставок в части стратегии закупок, категорийный менеджмент. Умение выстраивать работу команды в части делегирования, повышение мотивации и самостоятельности, активности и инициативности сотрудников. Выстраивание своей авторитетной позиции. Умение эффективно действовать в ситуации конфликта интересов.","У сотрудника уже составлен ИПР, который она заинтересована дополнить. Обучение очно и онлайн, стажировки, участие в проектах, обратная связь от наставника/карьерного консультанта.","Лидер","КЦ либо ДО. Сотрудник планирует стажировку в КЦ ориентировочно в марте, после этого будет решение","-","ЗГД либо руководитель департамента закупок либо team leader в КЦ (название последней должности еще не формализовано)","промышленная безопасность, повышение операционной эффективности,  непрерывное улучшение, выстравание бизнес-процессов с заказчиками, продажи","Москва, Санкт-Петербург","Рост по карьерной лестнице, новые проекты, муж в настоящее время работает в Москве.","Ребенок 5,5 лет, переезд потребует адаптации ребенка на новом месте, поиск детского сада","В целом сотрудник очень широко смотрит на перспективы своего развития, готова развиваться как верикально, так и в смежных функциях, интересует опыт работы в совместных компаниях, с международным опытом. Сама так же обучает сотрудников, проводит внутренее обучение.","8 из 12","2 из 3","1 из 3","3 из 3","2 из 3",5.9,5.43,5.8,6.1,3.88,7,6.2,5.35,5.9,5.8,5.0999999999999996,5.4,5.8,6.1,5.2,1.6,4.2,4.5,7,6.6,6.5,5.8,5.9,6,6,6.7,5.5,2.5,5.4,5.4,5.3,"АДМИНИСТРАТОР / РЕАЛИСТ / РУКОВОДИТЕЛЬ\nESTJ: экстраверт, сенсорик, логик, рационал ",24,3,13,10,17,4,19,9,"В работе с командой проявляет себя и как лидер, и как менеджер. Энергичен, стремится к объективному и разностороннему взгляду на ситуацию","Внимателен к команде, прикладывает усилия к развитию подчиненных и формированию конструктивной атмосферы в коллективе. Уверенный в себе переговорщик, готовый использовать различные методы для отстаивания интересов компании. Стрессоустойчив. Имеет сильную соревновательную мотивацию. При выстраивании работы заинтересован в анализе и учете лучших практик","Испытывает затруднения при необходимости выступать на публике (большая незнакомая аудитория). Испытывает демотивацию в случае невозможности самостоятельно выстраивать стратегию своей работу и в случае отсутствия новых интересных проектов (расценивает такую ситуацию как стагнацию, в случае продолжительной стагнации не исключает смену карьеры)",0,1,6,2,3,1,8,"Рим","АДМИНИСТРАТОР / РЕАЛИСТ / РУКОВОДИТЕЛЬ","ESTJ: экстраверт, сенсорик, логик, рационал ","Люди с данной ролью ответственные, пунктуальные, надежные и стойкие. Успешно организуя дела, они любят порядок. Знают свои обязанности и не стремятся увиливать. Следуют установленному порядку, точны, аккуратны. Во взаимоотношениях следуют сложившимся традициям. Практичны, реалистичны, основываются на фактах, их заботит ситуация «здесь и сейчас». Больший интерес у них вызывают новые вещи и предметы, а не новые идеи. При решении возникающих проблем они используют свой прошлый опыт. Люди этого типа любят работать в таких сферах деятельности, где они могут достичь непосредственных, видимых глазом, ощутимых результатов. ","2013-04-09","1982-06-04"]
["Саймон Кузнец","Варшава","Chrysler","Руководитель направления экономической и социальной структуры","ГД-4","Свободный","Знание капитального строительства, цепочки поставок в части стратегии закупок, категорийный менеджмент. Умение выстраивать работу команды в части делегирования, повышение мотивации и самостоятельности, активности и инициативности сотрудников. Выстраивание своей авторитетной позиции. Умение эффективно действовать в ситуации конфликта интересов.","У сотрудника уже составлен ИПР, который она заинтересована дополнить. Обучение очно и онлайн, стажировки, участие в проектах, обратная связь от наставника/карьерного консультанта.","Лидер","КЦ либо ДО. Сотрудник планирует стажировку в КЦ ориентировочно в марте, после этого будет решение","-","ЗГД либо руководитель департамента закупок либо team leader в КЦ (название последней должности еще не формализовано)","промышленная безопасность, повышение операционной эффективности,  непрерывное улучшение, выстравание бизнес-процессов с заказчиками, продажи","Москва, Санкт-Петербург","Рост по карьерной лестнице, новые проекты, муж в настоящее время работает в Москве.","Ребенок 5,5 лет, переезд потребует адаптации ребенка на новом месте, поиск детского сада","В целом сотрудник очень широко смотрит на перспективы своего развития, готова развиваться как верикально, так и в смежных функциях, интересует опыт работы в совместных компаниях, с международным опытом. Сама так же обучает сотрудников, проводит внутренее обучение.","8 из 12","2 из 3","1 из 3","3 из 3","2 из 3",5.9,5.43,5.8,6.1,3.88,7,6.2,5.35,5.9,5.8,5.0999999999999996,5.4,5.8,6.1,5.2,1.6,4.2,4.5,7,6.6,6.5,5.8,5.9,6,6,6.7,5.5,2.5,5.4,5.4,5.3,"АДМИНИСТРАТОР / РЕАЛИСТ / РУКОВОДИТЕЛЬ\nESTJ: экстраверт, сенсорик, логик, рационал ",24,3,13,10,17,4,19,9,"В работе с командой проявляет себя и как лидер, и как менеджер. Энергичен, стремится к объективному и разностороннему взгляду на ситуацию","Внимателен к команде, прикладывает усилия к развитию подчиненных и формированию конструктивной атмосферы в коллективе. Уверенный в себе переговорщик, готовый использовать различные методы для отстаивания интересов компании. Стрессоустойчив. Имеет сильную соревновательную мотивацию. При выстраивании работы заинтересован в анализе и учете лучших практик","Испытывает затруднения при необходимости выступать на публике (большая незнакомая аудитория). Испытывает демотивацию в случае невозможности самостоятельно выстраивать стратегию своей работу и в случае отсутствия новых интересных проектов (расценивает такую ситуацию как стагнацию, в случае продолжительной стагнации не исключает смену карьеры)",0,1,6,2,3,1,8,"Париж","АДМИНИСТРАТОР / РЕАЛИСТ / РУКОВОДИТЕЛЬ","ESTJ: экстраверт, сенсорик, логик, рационал ","Люди с данной ролью ответственные, пунктуальные, надежные и стойкие. Успешно организуя дела, они любят порядок. Знают свои обязанности и не стремятся увиливать. Следуют установленному порядку, точны, аккуратны. Во взаимоотношениях следуют сложившимся традициям. Практичны, реалистичны, основываются на фактах, их заботит ситуация «здесь и сейчас». Больший интерес у них вызывают новые вещи и предметы, а не новые идеи. При решении возникающих проблем они используют свой прошлый опыт. Люди этого типа любят работать в таких сферах деятельности, где они могут достичь непосредственных, видимых глазом, ощутимых результатов. ","2013-04-09","1982-06-04"]
["Светлана Алексеевич","Афины","General Electrics","Начальник управления многогласного творчества","ГД-3","Свободный","Работа с эмоциями, управление стрессом, личная эффективность, эмоциональная гибкость,работа с персоналом, работа с командой","Тренинги, индивидуальные консультации","Эксперт","Корпоративный центр","-","В ближайшие 2-3 года видит себя в текущей должности","Аудит","Тюмень","-","Дочь учится в школе в СПБ. Если после 9 класса уезжает учиться, готова рассматривать варианты релокации.","Активно не занималась планированием карьеры, текущей должностью и работой довольна. Видит себя на этом месте в ближайшее время. Сама не стала бы искать новую функцию. Если бы пришлось переходить, готова была бы рассматривать функцию Аудит. ","7 из 12","1 из 3","1 из 3","2 из 3","3 из 3",5.4,5.63,6.2,4.5999999999999996,4.38,5.0999999999999996,6.05,5.34,5.4,5.8,5,6.1,6.2,4.5999999999999996,5.7,2.6,4.5,4.7,5.0999999999999996,5,6.5,6.3,6.4,5.4,5,6,6.2,3.5,5,5.8,5.8,"АДМИНИСТРАТОР / РЕАЛИСТ / РУКОВОДИТЕЛЬ\nESTJ: экстраверт, сенсорик, логик, рационал ",15,12,13,10,17,4,20,6,"Ответственна, готова принимать обратную связь, нацелена на результат. ","Есть понимание, чего хочет от работы, готова вкладываться в развитие команды, если что-то делает, то качественно. ","Возможно, есть элемент выгорания. Это может со временем сказаться на качестве работы, на уровне мотивации и вовлечённости, а также к внутреннему саботажу задач. ",0,8,8,7,9,6,7,"Варшава","АДМИНИСТРАТОР / РЕАЛИСТ / РУКОВОДИТЕЛЬ","ESTJ: экстраверт, сенсорик, логик, рационал ","Люди с данной ролью ответственные, пунктуальные, надежные и стойкие. Успешно организуя дела, они любят порядок. Знают свои обязанности и не стремятся увиливать. Следуют установленному порядку, точны, аккуратны. Во взаимоотношениях следуют сложившимся традициям. Практичны, реалистичны, основываются на фактах, их заботит ситуация «здесь и сейчас». Больший интерес у них вызывают новые вещи и предметы, а не новые идеи. При решении возникающих проблем они используют свой прошлый опыт. Люди этого типа любят работать в таких сферах деятельности, где они могут достичь непосредственных, видимых глазом, ощутимых результатов. ","2013-10-14","1957-05-31"]
["Светлана Алексеевич","Афины","General Electrics","Начальник управления многогласного творчества","ГД-3","Свободный","Работа с эмоциями, управление стрессом, личная эффективность, эмоциональная гибкость,работа с персоналом, работа с командой","Тренинги, индивидуальные консультации","Эксперт","Корпоративный центр","-","В ближайшие 2-3 года видит себя в текущей должности","Аудит","Тюмень","-","Дочь учится в школе в СПБ. Если после 9 класса уезжает учиться, готова рассматривать варианты релокации.","Активно не занималась планированием карьеры, текущей должностью и работой довольна. Видит себя на этом месте в ближайшее время. Сама не стала бы искать новую функцию. Если бы пришлось переходить, готова была бы рассматривать функцию Аудит. ","7 из 12","1 из 3","1 из 3","2 из 3","3 из 3",5.4,5.63,6.2,4.5999999999999996,4.38,5.0999999999999996,6.05,5.34,5.4,5.8,5,6.1,6.2,4.5999999999999996,5.7,2.6,4.5,4.7,5.0999999999999996,5,6.5,6.3,6.4,5.4,5,6,6.2,3.5,5,5.8,5.8,"АДМИНИСТРАТОР / РЕАЛИСТ / РУКОВОДИТЕЛЬ\nESTJ: экстраверт, сенсорик, логик, рационал ",15,12,13,10,17,4,20,6,"Ответственна, готова принимать обратную связь, нацелена на результат. ","Есть понимание, чего хочет от работы, готова вкладываться в развитие команды, если что-то делает, то качественно. ","Возможно, есть элемент выгорания. Это может со временем сказаться на качестве работы, на уровне мотивации и вовлечённости, а также к внутреннему саботажу задач. ",0,8,8,7,9,6,7,"Москва","АДМИНИСТРАТОР / РЕАЛИСТ / РУКОВОДИТЕЛЬ","ESTJ: экстраверт, сенсорик, логик, рационал ","Люди с данной ролью ответственные, пунктуальные, надежные и стойкие. Успешно организуя дела, они любят порядок. Знают свои обязанности и не стремятся увиливать. Следуют установленному порядку, точны, аккуратны. Во взаимоотношениях следуют сложившимся традициям. Практичны, реалистичны, основываются на фактах, их заботит ситуация «здесь и сейчас». Больший интерес у них вызывают новые вещи и предметы, а не новые идеи. При решении возникающих проблем они используют свой прошлый опыт. Люди этого типа любят работать в таких сферах деятельности, где они могут достичь непосредственных, видимых глазом, ощутимых результатов. ","2013-10-14","1957-05-31"]
["Светлана Алексеевич","Афины","General Electrics","Начальник управления многогласного творчества","ГД-3","Свободный","Работа с эмоциями, управление стрессом, личная эффективность, эмоциональная гибкость,работа с персоналом, работа с командой","Тренинги, индивидуальные консультации","Эксперт","Корпоративный центр","-","В ближайшие 2-3 года видит себя в текущей должности","Аудит","Тюмень","-","Дочь учится в школе в СПБ. Если после 9 класса уезжает учиться, готова рассматривать варианты релокации.","Активно не занималась планированием карьеры, текущей должностью и работой довольна. Видит себя на этом месте в ближайшее время. Сама не стала бы искать новую функцию. Если бы пришлось переходить, готова была бы рассматривать функцию Аудит. ","7 из 12","1 из 3","1 из 3","2 из 3","3 из 3",5.4,5.63,6.2,4.5999999999999996,4.38,5.0999999999999996,6.05,5.34,5.4,5.8,5,6.1,6.2,4.5999999999999996,5.7,2.6,4.5,4.7,5.0999999999999996,5,6.5,6.3,6.4,5.4,5,6,6.2,3.5,5,5.8,5.8,"АДМИНИСТРАТОР / РЕАЛИСТ / РУКОВОДИТЕЛЬ\nESTJ: экстраверт, сенсорик, логик, рационал ",15,12,13,10,17,4,20,6,"Ответственна, готова принимать обратную связь, нацелена на результат. ","Есть понимание, чего хочет от работы, готова вкладываться в развитие команды, если что-то делает, то качественно. ","Возможно, есть элемент выгорания. Это может со временем сказаться на качестве работы, на уровне мотивации и вовлечённости, а также к внутреннему саботажу задач. ",0,8,8,7,9,6,7,"Париж","АДМИНИСТРАТОР / РЕАЛИСТ / РУКОВОДИТЕЛЬ","ESTJ: экстраверт, сенсорик, логик, рационал ","Люди с данной ролью ответственные, пунктуальные, надежные и стойкие. Успешно организуя дела, они любят порядок. Знают свои обязанности и не стремятся увиливать. Следуют установленному порядку, точны, аккуратны. Во взаимоотношениях следуют сложившимся традициям. Практичны, реалистичны, основываются на фактах, их заботит ситуация «здесь и сейчас». Больший интерес у них вызывают новые вещи и предметы, а не новые идеи. При решении возникающих проблем они используют свой прошлый опыт. Люди этого типа любят работать в таких сферах деятельности, где они могут достичь непосредственных, видимых глазом, ощутимых результатов. ","2013-10-14","1957-05-31"]
["Эстер Дюфло","Вена","Johnson & Johnson","Начальник департамента борьбы с глобальной бедностью","ГД-2","Средний","Публичные выступления, навыки презентации, навыки переговоров с вышестоящим руководством, эмоциональный интеллект, работа с конфликтами","Тренинги, онлайн-курсы, чтение литературы","Эксперт","Дочернее общество","Аудит, юридическое направление","Возможно, ЗГД в ДО или в Тюмень, на проект, который объединяет направление закупок ","БРД, методология закупок,управление эффективностью, ЦЦИ","Тюмень","Должность, интересный проект, личность руководителя, финансовое вознаграждение","На текущий момент уходит в декрет, на данный момент из ограничений к переезду обозначила только географические факторы - на север и в Томск ехать не готова","ЗГД в ДО, БРД, интересен проект, который объединяет в себе управление закупок, управление организацией и управление эффективностью, изучила аудит. Готова рассматривать переход в методологию закупок","7 из 12","1 из 3","1 из 3","2 из 3","3 из 3",4.9000000000000004,5.0999999999999996,5.7,5.0999999999999996,4.4000000000000004,6,5.38,5.18,4.9000000000000004,4.5999999999999996,5.0999999999999996,5.6,5.7,5.0999999999999996,5,3.8,4.3,4.5,6,5.4,5.2,4.9000000000000004,6,5.6,6,6.2,5.5,1.8,5,5.6,5.7,"АДМИНИСТРАТОР / РЕАЛИСТ / РУКОВОДИТЕЛЬ\nESTJ: экстраверт, сенсорик, логик, рационал ",15,8,16,11,17,5,22,5,"\"Энерджайзер\", активна, мотивирована, амбициозна, готова работать на своё развитие в декрете. ","Развивает свои компетенции, чтобы быть компетентной в своей работе. Работает с командой, есть стремление быть эффективным лидером и руководителем.","Не всегда чувствует признание своих заслуг вышестоящим руководством. Есть ожидания на проект в Тюмени, который готова возглавить. Возможно, если этого не произойдёт, будет демотивирована. ",0,2,4,3,2,5,7,"Париж","АДМИНИСТРАТОР / РЕАЛИСТ / РУКОВОДИТЕЛЬ","ESTJ: экстраверт, сенсорик, логик, рационал ","Люди с данной ролью ответственные, пунктуальные, надежные и стойкие. Успешно организуя дела, они любят порядок. Знают свои обязанности и не стремятся увиливать. Следуют установленному порядку, точны, аккуратны. Во взаимоотношениях следуют сложившимся традициям. Практичны, реалистичны, основываются на фактах, их заботит ситуация «здесь и сейчас». Больший интерес у них вызывают новые вещи и предметы, а не новые идеи. При решении возникающих проблем они используют свой прошлый опыт. Люди этого типа любят работать в таких сферах деятельности, где они могут достичь непосредственных, видимых глазом, ощутимых результатов. ","2018-02-21","1973-01-09"]
["Эстер Дюфло","Вена","Johnson & Johnson","Начальник департамента борьбы с глобальной бедностью","ГД-2","Средний","Публичные выступления, навыки презентации, навыки переговоров с вышестоящим руководством, эмоциональный интеллект, работа с конфликтами","Тренинги, онлайн-курсы, чтение литературы","Эксперт","Дочернее общество","Аудит, юридическое направление","Возможно, ЗГД в ДО или в Тюмень, на проект, который объединяет направление закупок ","БРД, методология закупок,управление эффективностью, ЦЦИ","Тюмень","Должность, интересный проект, личность руководителя, финансовое вознаграждение","На текущий момент уходит в декрет, на данный момент из ограничений к переезду обозначила только географические факторы - на север и в Томск ехать не готова","ЗГД в ДО, БРД, интересен проект, который объединяет в себе управление закупок, управление организацией и управление эффективностью, изучила аудит. Готова рассматривать переход в методологию закупок","7 из 12","1 из 3","1 из 3","2 из 3","3 из 3",4.9000000000000004,5.0999999999999996,5.7,5.0999999999999996,4.4000000000000004,6,5.38,5.18,4.9000000000000004,4.5999999999999996,5.0999999999999996,5.6,5.7,5.0999999999999996,5,3.8,4.3,4.5,6,5.4,5.2,4.9000000000000004,6,5.6,6,6.2,5.5,1.8,5,5.6,5.7,"АДМИНИСТРАТОР / РЕАЛИСТ / РУКОВОДИТЕЛЬ\nESTJ: экстраверт, сенсорик, логик, рационал ",15,8,16,11,17,5,22,5,"\"Энерджайзер\", активна, мотивирована, амбициозна, готова работать на своё развитие в декрете. ","Развивает свои компетенции, чтобы быть компетентной в своей работе. Работает с командой, есть стремление быть эффективным лидером и руководителем.","Не всегда чувствует признание своих заслуг вышестоящим руководством. Есть ожидания на проект в Тюмени, который готова возглавить. Возможно, если этого не произойдёт, будет демотивирована. ",0,2,4,3,2,5,7,"Мадрид","АДМИНИСТРАТОР / РЕАЛИСТ / РУКОВОДИТЕЛЬ","ESTJ: экстраверт, сенсорик, логик, рационал ","Люди с данной ролью ответственные, пунктуальные, надежные и стойкие. Успешно организуя дела, они любят порядок. Знают свои обязанности и не стремятся увиливать. Следуют установленному порядку, точны, аккуратны. Во взаимоотношениях следуют сложившимся традициям. Практичны, реалистичны, основываются на фактах, их заботит ситуация «здесь и сейчас». Больший интерес у них вызывают новые вещи и предметы, а не новые идеи. При решении возникающих проблем они используют свой прошлый опыт. Люди этого типа любят работать в таких сферах деятельности, где они могут достичь непосредственных, видимых глазом, ощутимых результатов. ","2018-02-21","1973-01-09"]
["Эстер Дюфло","Вена","Johnson & Johnson","Начальник департамента борьбы с глобальной бедностью","ГД-2","Средний","Публичные выступления, навыки презентации, навыки переговоров с вышестоящим руководством, эмоциональный интеллект, работа с конфликтами","Тренинги, онлайн-курсы, чтение литературы","Эксперт","Дочернее общество","Аудит, юридическое направление","Возможно, ЗГД в ДО или в Тюмень, на проект, который объединяет направление закупок ","БРД, методология закупок,управление эффективностью, ЦЦИ","Тюмень","Должность, интересный проект, личность руководителя, финансовое вознаграждение","На текущий момент уходит в декрет, на данный момент из ограничений к переезду обозначила только географические факторы - на север и в Томск ехать не готова","ЗГД в ДО, БРД, интересен проект, который объединяет в себе управление закупок, управление организацией и управление эффективностью, изучила аудит. Готова рассматривать переход в методологию закупок","7 из 12","1 из 3","1 из 3","2 из 3","3 из 3",4.9000000000000004,5.0999999999999996,5.7,5.0999999999999996,4.4000000000000004,6,5.38,5.18,4.9000000000000004,4.5999999999999996,5.0999999999999996,5.6,5.7,5.0999999999999996,5,3.8,4.3,4.5,6,5.4,5.2,4.9000000000000004,6,5.6,6,6.2,5.5,1.8,5,5.6,5.7,"АДМИНИСТРАТОР / РЕАЛИСТ / РУКОВОДИТЕЛЬ\nESTJ: экстраверт, сенсорик, логик, рационал ",15,8,16,11,17,5,22,5,"\"Энерджайзер\", активна, мотивирована, амбициозна, готова работать на своё развитие в декрете. ","Развивает свои компетенции, чтобы быть компетентной в своей работе. Работает с командой, есть стремление быть эффективным лидером и руководителем.","Не всегда чувствует признание своих заслуг вышестоящим руководством. Есть ожидания на проект в Тюмени, который готова возглавить. Возможно, если этого не произойдёт, будет демотивирована. ",0,2,4,3,2,5,7,"Лондон","АДМИНИСТРАТОР / РЕАЛИСТ / РУКОВОДИТЕЛЬ","ESTJ: экстраверт, сенсорик, логик, рационал ","Люди с данной ролью ответственные, пунктуальные, надежные и стойкие. Успешно организуя дела, они любят порядок. Знают свои обязанности и не стремятся увиливать. Следуют установленному порядку, точны, аккуратны. Во взаимоотношениях следуют сложившимся традициям. Практичны, реалистичны, основываются на фактах, их заботит ситуация «здесь и сейчас». Больший интерес у них вызывают новые вещи и предметы, а не новые идеи. При решении возникающих проблем они используют свой прошлый опыт. Люди этого типа любят работать в таких сферах деятельности, где они могут достичь непосредственных, видимых глазом, ощутимых результатов. ","2018-02-21","1973-01-09"]

{"sheet":"Карточка участника","index":5,"n_rows":43,"n_cols":15,"rows_kept":43,"cut":false,"hidden":false,"merged":[[42,2,47,6],[40,8,47,9],[40,11,45,12],[40,14,45,15],[16,14,16,15],[26,2,29,6],[2,2,9,3],[2,5,2,6],[31,2,35,6],[13,12,13,13],[13,14,13,15],[20,8,20,9],[17,2,18,3],[21,2,24,6]]}
[]
[]
[null,null,null,null,null,"Кеннет Эрроу",null,null,"НАКОПЛЕННЫЙ РЕЙТИНГ С НАЧАЛА ГОДА"]
[null,null,null,null,null,null,null,null,"Интегральный рейтинг"]
[null,null,null,null,null,"Возраст:",{"$f":"INT(YEARFRAC(VLOOKUP(F3,'Данные для карточки'!A4:EG125,78,FALSE),TODAY()))","v":31}]
[]
[null,null,null,null,null,"Город проживания:",{"$f":"VLOOKUP(F3,'Данные для карточки'!A3:BU125,5,FALSE)","v":"Рим"}]
[null,null,null,null,null,"Семейное положение:",null,null,"Результативность",null,null,null,"Профессиональное и лидерское развитие"]
[null,null,null,null,null,"Дети:",null,null,{"$f":"VLOOKUP(F3,'Данные для карточки'!A4:BS125,68,FALSE)&\" место из 10\"","v":"5 место из 10"},null,null,null,{"$f":"VLOOKUP(F3,'Данные для карточки'!A4:BS125,70,FALSE)&\" место из 10\"","v":"6 место из 10"}]
[null,null,null,null,null,null,null,null,"Проактивность",null,null,null,"Межкомандное взаимодействие"]
[null,null,null,null,null,null,null,null,{"$f":"VLOOKUP(F3,'Данные для карточки'!A4:BS125,69,FALSE)&\" место из 10\"","v":"6 место из 10"},null,null,null,{"$f":"VLOOKUP(F3,'Данные для карточки'!A4:BS125,71,FALSE)&\" место из 10\"","v":"4 место из 10"}]
[]
[null,null,"ОБЩАЯ ИНФОРМАЦИЯ",null,null,null,null,null,"ОЦЕНКА ЛИДЕРСКИХ КОМПЕТЕНЦИЙ"]
[null,null,"Место работы",null,null,"Уровень знания английского языка",null,null,{"$f":"VLOOKUP(F3,'Данные для карточки'!A4:BS125,18,FALSE)","v":"8 из 12"},null,null,null,"Создание эффективной команды",null,"Стратегическое виденье"]
[null,null,{"$f":"VLOOKUP(F3,'Данные для карточки'!A4:BM125,3,FALSE)","v":"Pan American"},null,null,{"$f":"VLOOKUP(F3,'Данные для карточки'!A4:BM125,6,FALSE)","v":"Начальный"},null,null,null,null,null,null,{"$f":"VLOOKUP(F3,'Данные для карточки'!A4:BS125,19,FALSE)","v":"2 из 3"},null,{"$f":"VLOOKUP(F3,'Данные для карточки'!A4:BS125,20,FALSE)","v":"2 из 3"}]
[]
[null,null,"Должность:",null,null,"Образование:",null,null,null,null,null,null,"Руководящие навыки",null,"Способность действовать в условиях неопределенности"]
[null,null,{"$f":"VLOOKUP(F3,'Данные для карточки'!A4:BM125,4,FALSE)&\".\"&CHAR(10)&CHAR(10)&\"В должности \"&IF(INT(YEARFRAC(VLOOKUP(F3,'Данные для карточки'!A4:EG125,77,FALSE),TODAY()))=0,\"\",INT(YEARFRAC(VLOOKUP(F3,'Данные для карточки'!A4:EG125,77,FALSE),TODAY()))&IF(INT(YEARFRAC(VLOOKUP(F3,'Данные для карточки'!A4:EG125,77,FALSE),TODAY()))=1,\" год\",IF(INT(YEARFRAC(VLOOKUP(F3,'Данные для карточки'!A4:EG125,77,FALSE),TODAY()))=2,\" года\",IF(INT(YEARFRAC(VLOOKUP(F3,'Данные для карточки'!A4:EG125,77,FALSE),TODAY()))=3,\" года\",IF(INT(YEARFRAC(VLOOKUP(F3,'Данные для карточки'!A4:EG125,77,FALSE),TODAY()))=4,\" года\",IF(INT(YEARFRAC(VLOOKUP(F3,'Данные для карточки'!A4:EG125,77,FALSE),TODAY()))>4,\" лет\"))))))&\" \"&IF(DATEDIF(VLOOKUP(F3,'Данные для карточки'!A4:EG125,77,0),TODAY(),\"YM\")=0,\"\",(DATEDIF(VLOOKUP(F3,'Данные для карточки'!A4:EG125,77,0),TODAY(),\"YM\")&\" мес.\"))","v":"Начальник управления равновесия и благосостояния.\n\nВ должности 5 лет 8 мес."},null,null,null,null,null,null,null,null,null,{"$f":"VLOOKUP(F3,'Данные для карточки'!A4:BS125,21,FALSE)","v":"2 из 3"},null,{"$f":"VLOOKUP(F3,'Данные для карточки'!A4:BS125,22,FALSE)","v":"2 из 3"}]
[]
[null,null,"ОЦЕНКА КАРЬЕРНОГО КОНСУЛЬТАНТА",null,null,null,null,null,"САМООЦЕНКА УПРАВЛЕНЧЕСКИХ НАВЫКОВ"]
[null,null,"Краткая характеристика"]
[null,null,{"$f":"VLOOKUP(F3,'Данные для карточки'!A4:BS125,63,FALSE)","v":"Харизматичный лидер. Горит своей работой, вдохновляет и заряжает людей."}]
[]
[]
[]
[null,null,"Сильные стороны, возможности и перспективы участника"]
[null,null,{"$f":"VLOOKUP(F3,'Данные для карточки'!A4:BS125,64,FALSE)","v":"Развивает членов своей команды, успешно «растит» подчиненных, видит в этом много смысла и мотивации для себя. Высокая резистентность к неопределенности, эффективно решает задачи в условиях мгновенных изменений. Заинтересован в собственном развитии и обучении. Честный, искренний во взаимодействии.\n"}]
[]
[]
[]
[null,null,"Зоны развития"]
[null,null,{"$f":"VLOOKUP(F3,'Данные для карточки'!A4:BS125,65,FALSE)","v":"В обратной связи подчиненным больше концентрируется на ошибках, чем на признании заслуг. Также строго относится и к себе. Эмоционален, принимает многие вещи близко к сердцу. Из-за высокой неопределенности в сфере зоной развития считает стратегическое видение. "}]
[]
[]
[]
[]
[]
[]
[null,null,"ЛИЧНОСТНЫЙ ПРОФИЛЬ",null,null,null,null,null,"ГОТОВНОСТЬ К РЕЛОКАЦИИ"]
[null,null,{"$f":"VLOOKUP(F3,'Данные для карточки'!A3:EG125,74,FALSE)","v":"АДМИНИСТРАТОР / РЕАЛИСТ / РУКОВОДИТЕЛЬ"},null,null,null,null,null,"Возможные города",null,null,"Мотивация для переезда",null,null,"Возможные ограничения для переезда"]
[null,null,{"$f":"VLOOKUP(F3,'Данные для карточки'!A3:EG125,75,FALSE)","v":"ESTJ: экстраверт, сенсорик, логик, рационал "},null,null,null,null,null,{"$f":"VLOOKUP(F3,'Данные для карточки'!A3:BU125,73,FALSE)","v":"-Лондон\n-Афины\n-Лиссабон"},null,null,{"$f":"VLOOKUP(F3,'Данные для карточки'!A3:BU125,15,FALSE)","v":"-"},null,null,{"$f":"VLOOKUP(F3,'Данные для карточки'!A3:BU125,16,FALSE)","v":"Дети, жена и ее карьера. По сути, переезд возможен только \"по приказу\", как нежелательный на сегодняшний день вариант"}]
[null,null,"Описание роли:"]
[null,null,{"$f":"VLOOKUP(F3,'Данные для карточки'!A3:EG125,76,FALSE)","v":"Люди с данной ролью ответственные, пунктуальные, надежные и стойкие. Успешно организуя дела, они любят порядок. Знают свои обязанности и не стремятся увиливать. Следуют установленному порядку, точны, аккуратны. Во взаимоотношениях следуют сложившимся традициям. Практичны, реалистичны, основываются на фактах, их заботит ситуация «здесь и сейчас». Больший интерес у них вызывают новые вещи и предметы, а не новые идеи. При решении возникающих проблем они используют свой прошлый опыт. Люди этого типа любят работать в таких сферах деятельности, где они могут достичь непосредственных, видимых глазом, ощутимых результатов. "}]

{"sheet":"РЕЙТИНГ Тех","index":6,"n_rows":40,"n_cols":28,"rows_kept":40,"cut":false,"hidden":true,"merged":[[2,23,2,27],[2,8,2,12],[2,13,2,17],[2,18,2,22],[2,1,2,2],[2,3,2,7]]}
[null,"К СОДЕРЖАНИЮ"]
[null,1,2,3,4,5,6,7,8,9,10,11,12,13,14,15,16,17,18,19,20,21,22,23,24,25,26,27]
[null,"УЧАСТНИК",null,"ГОД (Коммулятивный итог)",null,null,null,null,"I КВАРТАЛ",null,null,null,null,"II КВАРТАЛ",null,null,null,null,"III КВАРТАЛ",null,null,null,null,"IV КВАРТАЛ"]
[null,"ФИО","ТИП","ИНТЕГРАЛЬНЫЙ","РЕЗУЛЬТАТИВНОСТЬ","ПРОАКТИВНОСТЬ","ПРОФЕССИОНАЛЬНОЕ РАЗВИТИЕ","ЭФФЕКТИВНОЕ ВЗАИМОДЕЙСТВИЕ","ИНТЕГРАЛЬНЫЙ","РЕЗУЛЬТАТИВНОСТЬ","ПРОАКТИВНОСТЬ","ПРОФЕССИОНАЛЬНОЕ РАЗВИТИЕ","ЭФФЕКТИВНОЕ ВЗАИМОДЕЙСТВИЕ","ИНТЕГРАЛЬНЫЙ","РЕЗУЛЬТАТИВНОСТЬ","ПРОАКТИВНОСТЬ","ПРОФЕССИОНАЛЬНОЕ РАЗВИТИЕ","ЭФФЕКТИВНОЕ ВЗАИМОДЕЙСТВИЕ","ИНТЕГРАЛЬНЫЙ","РЕЗУЛЬТАТИВНОСТЬ","ПРОАКТИВНОСТЬ","ПРОФЕССИОНАЛЬНОЕ РАЗВИТИЕ","ЭФФЕКТИВНОЕ ВЗАИМОДЕЙСТВИЕ","ИНТЕГРАЛЬНЫЙ","РЕЗУЛЬТАТИВНОСТЬ","ПРОАКТИВНОСТЬ","ПРОФЕССИОНАЛЬНОЕ РАЗВИТИЕ","ЭФФЕКТИВНОЕ ВЗАИМОДЕЙСТВИЕ"]
[null,"Андреева Анна","ОКР",{"$f":"VLOOKUP($B5,'Показатели за ГОД'!$A$120:$AS$155,4,FALSE)","v":{"$error":"#N/A"}},{"$f":"VLOOKUP($B5,'Показатели за ГОД'!$A$120:$AS$155,5,FALSE)","v":{"$error":"#N/A"}},{"$f":"VLOOKUP($B5,'Показатели за ГОД'!$A$120:$AS$155,8,FALSE)","v":{"$error":"#N/A"}},{"$f":"VLOOKUP($B5,'Показатели за ГОД'!$A$120:$AS$155,23,FALSE)","v":{"$error":"#N/A"}},{"$f":"VLOOKUP($B5,'Показатели за ГОД'!$A$120:$AS$155,38,FALSE)","v":{"$error":"#N/A"}},{"$f":"IF('Сбор показателей I кв'!G11=\"\",\"-\",VLOOKUP($B5,'Сбор показателей I кв'!$B$125:$AU$160,4,FALSE))","v":{"$error":"#N/A"}},{"$f":"IF('Сбор показателей I кв'!G11=\"\",\"-\",VLOOKUP($B5,'Сбор показателей I кв'!$B$125:$AU$160,5,FALSE))","v":{"$error":"#N/A"}},{"$f":"IF(AND('Сбор показателей I кв'!N11=\"\",'Сбор показателей I кв'!O11=\"\",'Сбор показателей I кв'!P11=\"\"),\"-\",VLOOKUP($B5,'Сбор показателей I кв'!$B$125:$AU$160,8,FALSE))","v":{"$error":"#N/A"}},{"$f":"IF('Сбор показателей I кв'!AJ11=\"\",\"-\",VLOOKUP($B5,'Сбор показателей I кв'!$B$125:$AU$160,23,FALSE))","v":{"$error":"#N/A"}},{"$f":"IF(AND('Сбор показателей I кв'!AT11=\"\",'Сбор показателей I кв'!AU11=\"\"),\"-\",VLOOKUP($B5,'Сбор показателей I кв'!$B$125:$AU$160,38,FALSE))","v":{"$error":"#N/A"}},{"$f":"IF('Сбор показателей II кв'!G11=\"\",\"-\",VLOOKUP($B5,'Сбор показателей II кв'!$B$125:$AT$160,4,FALSE))","v":{"$error":"#N/A"}},{"$f":"IF('Сбор показателей II кв'!G11=\"\",\"-\",VLOOKUP($B5,'Сбор показателей II кв'!$B$125:$AT$160,5,FALSE))","v":{"$error":"#N/A"}},{"$f":"IF(AND('Сбор показателей II кв'!N11=\"\",'Сбор показателей II кв'!O11=\"\",'Сбор показателей II кв'!P11=\"\"),\"-\",VLOOKUP($B5,'Сбор показателей II кв'!$B$125:$AT$160,8,FALSE))","v":{"$error":"#N/A"}},{"$f":"IF('Сбор показателей II кв'!AJ11=\"\",\"-\",VLOOKUP($B5,'Сбор показателей II кв'!$B$125:$AT$160,23,FALSE))","v":{"$error":"#N/A"}},{"$f":"IF(AND('Сбор показателей II кв'!AS11=\"\",'Сбор показателей II кв'!AT11=\"\"),\"-\",VLOOKUP($B5,'Сбор показателей II кв'!$B$125:$AT$160,38,FALSE))","v":{"$error":"#N/A"}},{"$f":"IF('Сбор показателей III кв'!G11=\"\",\"-\",VLOOKUP($B5,'Сбор показателей III кв'!$B$125:$AT$160,4,FALSE))","v":"-"},{"$f":"IF('Сбор показателей III кв'!G11=\"\",\"-\",VLOOKUP($B5,'Сбор показателей III кв'!$B$125:$AT$160,5,FALSE))","v":"-"},{"$f":"IF(AND('Сбор показателей III кв'!N11=\"\",'Сбор показателей III кв'!O11=\"\",'Сбор показателей III кв'!P11=\"\"),\"-\",VLOOKUP($B5,'Сбор показателей III кв'!$B$125:$AT$160,8,FALSE))","v":"-"},{"$f":"IF('Сбор показателей III кв'!AJ11=\"\",\"-\",VLOOKUP($B5,'Сбор показателей III кв'!$B$125:$AT$160,23,FALSE))","v":"-"},{"$f":"IF(AND('Сбор показателей III кв'!AS11=\"\",'Сбор показателей III кв'!AT11=\"\"),\"-\",VLOOKUP($B5,'Сбор показателей III кв'!$B$125:$AT$160,38,FALSE))","v":"-"},{"$f":"IF('Сбор показателей IV кв'!G11=\"\",\"-\",VLOOKUP(B5,'Сбор показателей IV кв'!$B$125:$AT$160,4,FALSE))","v":"-"},{"$f":"IF('Сбор показателей IV кв'!G11=\"\",\"-\",VLOOKUP(B5,'Сбор показателей IV кв'!$B$125:$AT$160,5,FALSE))","v":"-"},{"$f":"IF(AND('Сбор показателей IV кв'!N11=\"\",'Сбор показателей IV кв'!O11=\"\",'Сбор показателей IV кв'!P11=\"\"),\"-\",VLOOKUP(B5,'Сбор показателей IV кв'!$B$125:$AT$160,8,FALSE))","v":"-"},{"$f":"IF('Сбор показателей IV кв'!AJ11=\"\",\"-\",VLOOKUP(B5,'Сбор показателей IV кв'!$B$125:$AT$160,23,FALSE))","v":"-"},{"$f":"IF(AND('Сбор показателей IV кв'!AS11=\"\",'Сбор показателей IV кв'!AT11=\"\"),\"-\",VLOOKUP(B5,'Сбор показателей IV кв'!$B$125:$AT$160,38,FALSE))","v":"-"}]
[null,"Анисимова Марина","ОКР",{"$f":"VLOOKUP($B6,'Показатели за ГОД'!$A$120:$AS$155,4,FALSE)","v":{"$error":"#N/A"}},{"$f":"VLOOKUP($B6,'Показатели за ГОД'!$A$120:$AS$155,5,FALSE)","v":{"$error":"#N/A"}},{"$f":"VLOOKUP($B6,'Показатели за ГОД'!$A$120:$AS$155,8,FALSE)","v":{"$error":"#N/A"}},{"$f":"VLOOKUP($B6,'Показатели за ГОД'!$A$120:$AS$155,23,FALSE)","v":{"$error":"#N/A"}},{"$f":"VLOOKUP($B6,'Показатели за ГОД'!$A$120:$AS$155,38,FALSE)","v":{"$error":"#N/A"}},{"$f":"IF('Сбор показателей I кв'!G12=\"\",\"-\",VLOOKUP($B6,'Сбор показателей I кв'!$B$125:$AU$160,4,FALSE))","v":{"$error":"#N/A"}},{"$f":"IF('Сбор показателей I кв'!G12=\"\",\"-\",VLOOKUP($B6,'Сбор показателей I кв'!$B$125:$AU$160,5,FALSE))","v":{"$error":"#N/A"}},{"$f":"IF(AND('Сбор показателей I кв'!N12=\"\",'Сбор показателей I кв'!O12=\"\",'Сбор показателей I кв'!P12=\"\"),\"-\",VLOOKUP($B6,'Сбор показателей I кв'!$B$125:$AU$160,8,FALSE))","v":{"$error":"#N/A"}},{"$f":"IF('Сбор показателей I кв'!AJ12=\"\",\"-\",VLOOKUP($B6,'Сбор показателей I кв'!$B$125:$AU$160,23,FALSE))","v":{"$error":"#N/A"}},{"$f":"IF(AND('Сбор показателей I кв'!AT12=\"\",'Сбор показателей I кв'!AU12=\"\"),\"-\",VLOOKUP($B6,'Сбор показателей I кв'!$B$125:$AU$160,38,FALSE))","v":{"$error":"#N/A"}},{"$f":"IF('Сбор показателей II кв'!G12=\"\",\"-\",VLOOKUP($B6,'Сбор показателей II кв'!$B$125:$AT$160,4,FALSE))","v":{"$error":"#N/A"}},{"$f":"IF('Сбор показателей II кв'!G12=\"\",\"-\",VLOOKUP($B6,'Сбор показателей II кв'!$B$125:$AT$160,5,FALSE))","v":{"$error":"#N/A"}},{"$f":"IF(AND('Сбор показателей II кв'!N12=\"\",'Сбор показателей II кв'!O12=\"\",'Сбор показателей II кв'!P12=\"\"),\"-\",VLOOKUP($B6,'Сбор показателей II кв'!$B$125:$AT$160,8,FALSE))","v":{"$error":"#N/A"}},{"$f":"IF('Сбор показателей II кв'!AJ12=\"\",\"-\",VLOOKUP($B6,'Сбор показателей II кв'!$B$125:$AT$160,23,FALSE))","v":{"$error":"#N/A"}},{"$f":"IF(AND('Сбор показателей II кв'!AS12=\"\",'Сбор показателей II кв'!AT12=\"\"),\"-\",VLOOKUP($B6,'Сбор показателей II кв'!$B$125:$AT$160,38,FALSE))","v":{"$error":"#N/A"}},{"$f":"IF('Сбор показателей III кв'!G12=\"\",\"-\",VLOOKUP($B6,'Сбор показателей III кв'!$B$125:$AT$160,4,FALSE))","v":"-"},{"$f":"IF('Сбор показателей III кв'!G12=\"\",\"-\",VLOOKUP($B6,'Сбор показателей III кв'!$B$125:$AT$160,5,FALSE))","v":"-"},{"$f":"IF(AND('Сбор показателей III кв'!N12=\"\",'Сбор показателей III кв'!O12=\"\",'Сбор показателей III кв'!P12=\"\"),\"-\",VLOOKUP($B6,'Сбор показателей III кв'!$B$125:$AT$160,8,FALSE))","v":"-"},{"$f":"IF('Сбор показателей III кв'!AJ12=\"\",\"-\",VLOOKUP($B6,'Сбор показателей III кв'!$B$125:$AT$160,23,FALSE))","v":"-"},{"$f":"IF(AND('Сбор показателей III кв'!AS12=\"\",'Сбор показателей III кв'!AT12=\"\"),\"-\",VLOOKUP($B6,'Сбор показателей III кв'!$B$125:$AT$160,38,FALSE))","v":"-"},{"$f":"IF('Сбор показателей IV кв'!G12=\"\",\"-\",VLOOKUP(B6,'Сбор показателей IV кв'!$B$125:$AT$160,4,FALSE))","v":"-"},{"$f":"IF('Сбор показателей IV кв'!G12=\"\",\"-\",VLOOKUP(B6,'Сбор показателей IV кв'!$B$125:$AT$160,5,FALSE))","v":"-"},{"$f":"IF(AND('Сбор показателей IV кв'!N12=\"\",'Сбор показателей IV кв'!O12=\"\",'Сбор показателей IV кв'!P12=\"\"),\"-\",VLOOKUP(B6,'Сбор показателей IV кв'!$B$125:$AT$160,8,FALSE))","v":"-"},{"$f":"IF('Сбор показателей IV кв'!AJ12=\"\",\"-\",VLOOKUP(B6,'Сбор показателей IV кв'!$B$125:$AT$160,23,FALSE))","v":"-"},{"$f":"IF(AND('Сбор показателей IV кв'!AS12=\"\",'Сбор показателей IV кв'!AT12=\"\"),\"-\",VLOOKUP(B6,'Сбор показателей IV кв'!$B$125:$AT$160,38,FALSE))","v":"-"}]
[null,"Билый Александр","ОКР",{"$f":"VLOOKUP($B7,'Показатели за ГОД'!$A$120:$AS$155,4,FALSE)","v":{"$error":"#N/A"}},{"$f":"VLOOKUP($B7,'Показатели за ГОД'!$A$120:$AS$155,5,FALSE)","v":{"$error":"#N/A"}},{"$f":"VLOOKUP($B7,'Показатели за ГОД'!$A$120:$AS$155,8,FALSE)","v":{"$error":"#N/A"}},{"$f":"VLOOKUP($B7,'Показатели за ГОД'!$A$120:$AS$155,23,FALSE)","v":{"$error":"#N/A"}},{"$f":"VLOOKUP($B7,'Показатели за ГОД'!$A$120:$AS$155,38,FALSE)","v":{"$error":"#N/A"}},{"$f":"IF('Сбор показателей I кв'!G13=\"\",\"-\",VLOOKUP($B7,'Сбор показателей I кв'!$B$125:$AU$160,4,FALSE))","v":{"$error":"#N/A"}},{"$f":"IF('Сбор показателей I кв'!G13=\"\",\"-\",VLOOKUP($B7,'Сбор показателей I кв'!$B$125:$AU$160,5,FALSE))","v":{"$error":"#N/A"}},{"$f":"IF(AND('Сбор показателей I кв'!N13=\"\",'Сбор показателей I кв'!O13=\"\",'Сбор показателей I кв'!P13=\"\"),\"-\",VLOOKUP($B7,'Сбор показателей I кв'!$B$125:$AU$160,8,FALSE))","v":{"$error":"#N/A"}},{"$f":"IF('Сбор показателей I кв'!AJ13=\"\",\"-\",VLOOKUP($B7,'Сбор показателей I кв'!$B$125:$AU$160,23,FALSE))","v":{"$error":"#N/A"}},{"$f":"IF(AND('Сбор показателей I кв'!AT13=\"\",'Сбор показателей I кв'!AU13=\"\"),\"-\",VLOOKUP($B7,'Сбор показателей I кв'!$B$125:$AU$160,38,FALSE))","v":{"$error":"#N/A"}},{"$f":"IF('Сбор показателей II кв'!G13=\"\",\"-\",VLOOKUP($B7,'Сбор показателей II кв'!$B$125:$AT$160,4,FALSE))","v":{"$error":"#N/A"}},{"$f":"IF('Сбор показателей II кв'!G13=\"\",\"-\",VLOOKUP($B7,'Сбор показателей II кв'!$B$125:$AT$160,5,FALSE))","v":{"$error":"#N/A"}},{"$f":"IF(AND('Сбор показателей II кв'!N13=\"\",'Сбор показателей II кв'!O13=\"\",'Сбор показателей II кв'!P13=\"\"),\"-\",VLOOKUP($B7,'Сбор показателей II кв'!$B$125:$AT$160,8,FALSE))","v":{"$error":"#N/A"}},{"$f":"IF('Сбор показателей II кв'!AJ13=\"\",\"-\",VLOOKUP($B7,'Сбор показателей II кв'!$B$125:$AT$160,23,FALSE))","v":{"$error":"#N/A"}},{"$f":"IF(AND('Сбор показателей II кв'!AS13=\"\",'Сбор показателей II кв'!AT13=\"\"),\"-\",VLOOKUP($B7,'Сбор показателей II кв'!$B$125:$AT$160,38,FALSE))","v":{"$error":"#N/A"}},{"$f":"IF('Сбор показателей III кв'!G13=\"\",\"-\",VLOOKUP($B7,'Сбор показателей III кв'!$B$125:$AT$160,4,FALSE))","v":"-"},{"$f":"IF('Сбор показателей III кв'!G13=\"\",\"-\",VLOOKUP($B7,'Сбор показателей III кв'!$B$125:$AT$160,5,FALSE))","v":"-"},{"$f":"IF(AND('Сбор показателей III кв'!N13=\"\",'Сбор показателей III кв'!O13=\"\",'Сбор показателей III кв'!P13=\"\"),\"-\",VLOOKUP($B7,'Сбор показателей III кв'!$B$125:$AT$160,8,FALSE))","v":"-"},{"$f":"IF('Сбор показателей III кв'!AJ13=\"\",\"-\",VLOOKUP($B7,'Сбор показателей III кв'!$B$125:$AT$160,23,FALSE))","v":"-"},{"$f":"IF(AND('Сбор показателей III кв'!AS13=\"\",'Сбор показателей III кв'!AT13=\"\"),\"-\",VLOOKUP($B7,'Сбор показателей III кв'!$B$125:$AT$160,38,FALSE))","v":"-"},{"$f":"IF('Сбор показателей IV кв'!G13=\"\",\"-\",VLOOKUP(B7,'Сбор показателей IV кв'!$B$125:$AT$160,4,FALSE))","v":"-"},{"$f":"IF('Сбор показателей IV кв'!G13=\"\",\"-\",VLOOKUP(B7,'Сбор показателей IV кв'!$B$125:$AT$160,5,FALSE))","v":"-"},{"$f":"IF(AND('Сбор показателей IV кв'!N13=\"\",'Сбор показателей IV кв'!O13=\"\",'Сбор показателей IV кв'!P13=\"\"),\"-\",VLOOKUP(B7,'Сбор показателей IV кв'!$B$125:$AT$160,8,FALSE))","v":"-"},{"$f":"IF('Сбор показателей IV кв'!AJ13=\"\",\"-\",VLOOKUP(B7,'Сбор показателей IV кв'!$B$125:$AT$160,23,FALSE))","v":"-"},{"$f":"IF(AND('Сбор показателей IV кв'!AS13=\"\",'Сбор показателей IV кв'!AT13=\"\"),\"-\",VLOOKUP(B7,'Сбор показателей IV кв'!$B$125:$AT$160,38,FALSE))","v":"-"}]
[null,"Бильвина Валерия","ОКР",{"$f":"VLOOKUP($B8,'Показатели за ГОД'!$A$120:$AS$155,4,FALSE)","v":{"$error":"#N/A"}},{"$f":"VLOOKUP($B8,'Показатели за ГОД'!$A$120:$AS$155,5,FALSE)","v":{"$error":"#N/A"}},{"$f":"VLOOKUP($B8,'Показатели за ГОД'!$A$120:$AS$155,8,FALSE)","v":{"$error":"#N/A"}},{"$f":"VLOOKUP($B8,'Показатели за ГОД'!$A$120:$AS$155,23,FALSE)","v":{"$error":"#N/A"}},{"$f":"VLOOKUP($B8,'Показатели за ГОД'!$A$120:$AS$155,38,FALSE)","v":{"$error":"#N/A"}},{"$f":"IF('Сбор показателей I кв'!G14=\"\",\"-\",VLOOKUP($B8,'Сбор показателей I кв'!$B$125:$AU$160,4,FALSE))","v":{"$error":"#N/A"}},{"$f":"IF('Сбор показателей I кв'!G14=\"\",\"-\",VLOOKUP($B8,'Сбор показателей I кв'!$B$125:$AU$160,5,FALSE))","v":{"$error":"#N/A"}},{"$f":"IF(AND('Сбор показателей I кв'!N14=\"\",'Сбор показателей I кв'!O14=\"\",'Сбор показателей I кв'!P14=\"\"),\"-\",VLOOKUP($B8,'Сбор показателей I кв'!$B$125:$AU$160,8,FALSE))","v":{"$error":"#N/A"}},{"$f":"IF('Сбор показателей I кв'!AJ14=\"\",\"-\",VLOOKUP($B8,'Сбор показателей I кв'!$B$125:$AU$160,23,FALSE))","v":{"$error":"#N/A"}},{"$f":"IF(AND('Сбор показателей I кв'!AT14=\"\",'Сбор показателей I кв'!AU14=\"\"),\"-\",VLOOKUP($B8,'Сбор показателей I кв'!$B$125:$AU$160,38,FALSE))","v":{"$error":"#N/A"}},{"$f":"IF('Сбор показателей II кв'!G14=\"\",\"-\",VLOOKUP($B8,'Сбор показателей II кв'!$B$125:$AT$160,4,FALSE))","v":{"$error":"#N/A"}},{"$f":"IF('Сбор показателей II кв'!G14=\"\",\"-\",VLOOKUP($B8,'Сбор показателей II кв'!$B$125:$AT$160,5,FALSE))","v":{"$error":"#N/A"}},{"$f":"IF(AND('Сбор показателей II кв'!N14=\"\",'Сбор показателей II кв'!O14=\"\",'Сбор показателей II кв'!P14=\"\"),\"-\",VLOOKUP($B8,'Сбор показателей II кв'!$B$125:$AT$160,8,FALSE))","v":{"$error":"#N/A"}},{"$f":"IF('Сбор показателей II кв'!AJ14=\"\",\"-\",VLOOKUP($B8,'Сбор показателей II кв'!$B$125:$AT$160,23,FALSE))","v":{"$error":"#N/A"}},{"$f":"IF(AND('Сбор показателей II кв'!AS14=\"\",'Сбор показателей II кв'!AT14=\"\"),\"-\",VLOOKUP($B8,'Сбор показателей II кв'!$B$125:$AT$160,38,FALSE))","v":{"$error":"#N/A"}},{"$f":"IF('Сбор показателей III кв'!G14=\"\",\"-\",VLOOKUP($B8,'Сбор показателей III кв'!$B$125:$AT$160,4,FALSE))","v":"-"},{"$f":"IF('Сбор показателей III кв'!G14=\"\",\"-\",VLOOKUP($B8,'Сбор показателей III кв'!$B$125:$AT$160,5,FALSE))","v":"-"},{"$f":"IF(AND('Сбор показателей III кв'!N14=\"\",'Сбор показателей III кв'!O14=\"\",'Сбор показателей III кв'!P14=\"\"),\"-\",VLOOKUP($B8,'Сбор показателей III кв'!$B$125:$AT$160,8,FALSE))","v":"-"},{"$f":"IF('Сбор показателей III кв'!AJ14=\"\",\"-\",VLOOKUP($B8,'Сбор показателей III кв'!$B$125:$AT$160,23,FALSE))","v":"-"},{"$f":"IF(AND('Сбор показателей III кв'!AS14=\"\",'Сбор показателей III кв'!AT14=\"\"),\"-\",VLOOKUP($B8,'Сбор показателей III кв'!$B$125:$AT$160,38,FALSE))","v":"-"},{"$f":"IF('Сбор показателей IV кв'!G14=\"\",\"-\",VLOOKUP(B8,'Сбор показателей IV кв'!$B$125:$AT$160,4,FALSE))","v":"-"},{"$f":"IF('Сбор показателей IV кв'!G14=\"\",\"-\",VLOOKUP(B8,'Сбор показателей IV кв'!$B$125:$AT$160,5,FALSE))","v":"-"},{"$f":"IF(AND('Сбор показателей IV кв'!N14=\"\",'Сбор показателей IV кв'!O14=\"\",'Сбор показателей IV кв'!P14=\"\"),\"-\",VLOOKUP(B8,'Сбор показателей IV кв'!$B$125:$AT$160,8,FALSE))","v":"-"},{"$f":"IF('Сбор показателей IV кв'!AJ14=\"\",\"-\",VLOOKUP(B8,'Сбор показателей IV кв'!$B$125:$AT$160,23,FALSE))","v":"-"},{"$f":"IF(AND('Сбор показателей IV кв'!AS14=\"\",'Сбор показателей IV кв'!AT14=\"\"),\"-\",VLOOKUP(B8,'Сбор показателей IV кв'!$B$125:$AT$160,38,FALSE))","v":"-"}]
[null,"Борисов Сергей","ОКР",{"$f":"VLOOKUP($B9,'Показатели за ГОД'!$A$120:$AS$155,4,FALSE)","v":{"$error":"#N/A"}},{"$f":"VLOOKUP($B9,'Показатели за ГОД'!$A$120:$AS$155,5,FALSE)","v":{"$error":"#N/A"}},{"$f":"VLOOKUP($B9,'Показатели за ГОД'!$A$120:$AS$155,8,FALSE)","v":{"$error":"#N/A"}},{"$f":"VLOOKUP($B9,'Показатели за ГОД'!$A$120:$AS$155,23,FALSE)","v":{"$error":"#N/A"}},{"$f":"VLOOKUP($B9,'Показатели за ГОД'!$A$120:$AS$155,38,FALSE)","v":{"$error":"#N/A"}},{"$f":"IF('Сбор показателей I кв'!G15=\"\",\"-\",VLOOKUP($B9,'Сбор показателей I кв'!$B$125:$AU$160,4,FALSE))","v":{"$error":"#N/A"}},{"$f":"IF('Сбор показателей I кв'!G15=\"\",\"-\",VLOOKUP($B9,'Сбор показателей I кв'!$B$125:$AU$160,5,FALSE))","v":{"$error":"#N/A"}},{"$f":"IF(AND('Сбор показателей I кв'!N15=\"\",'Сбор показателей I кв'!O15=\"\",'Сбор показателей I кв'!P15=\"\"),\"-\",VLOOKUP($B9,'Сбор показателей I кв'!$B$125:$AU$160,8,FALSE))","v":{"$error":"#N/A"}},{"$f":"IF('Сбор показателей I кв'!AJ15=\"\",\"-\",VLOOKUP($B9,'Сбор показателей I кв'!$B$125:$AU$160,23,FALSE))","v":{"$error":"#N/A"}},{"$f":"IF(AND('Сбор показателей I кв'!AT15=\"\",'Сбор показателей I кв'!AU15=\"\"),\"-\",VLOOKUP($B9,'Сбор показателей I кв'!$B$125:$AU$160,38,FALSE))","v":{"$error":"#N/A"}},{"$f":"IF('Сбор показателей II кв'!G15=\"\",\"-\",VLOOKUP($B9,'Сбор показателей II кв'!$B$125:$AT$160,4,FALSE))","v":{"$error":"#N/A"}},{"$f":"IF('Сбор показателей II кв'!G15=\"\",\"-\",VLOOKUP($B9,'Сбор показателей II кв'!$B$125:$AT$160,5,FALSE))","v":{"$error":"#N/A"}},{"$f":"IF(AND('Сбор показателей II кв'!N15=\"\",'Сбор показателей II кв'!O15=\"\",'Сбор показателей II кв'!P15=\"\"),\"-\",VLOOKUP($B9,'Сбор показателей II кв'!$B$125:$AT$160,8,FALSE))","v":{"$error":"#N/A"}},{"$f":"IF('Сбор показателей II кв'!AJ15=\"\",\"-\",VLOOKUP($B9,'Сбор показателей II кв'!$B$125:$AT$160,23,FALSE))","v":{"$error":"#N/A"}},{"$f":"IF(AND('Сбор показателей II кв'!AS15=\"\",'Сбор показателей II кв'!AT15=\"\"),\"-\",VLOOKUP($B9,'Сбор показателей II кв'!$B$125:$AT$160,38,FALSE))","v":{"$error":"#N/A"}},{"$f":"IF('Сбор показателей III кв'!G15=\"\",\"-\",VLOOKUP($B9,'Сбор показателей III кв'!$B$125:$AT$160,4,FALSE))","v":"-"},{"$f":"IF('Сбор показателей III кв'!G15=\"\",\"-\",VLOOKUP($B9,'Сбор показателей III кв'!$B$125:$AT$160,5,FALSE))","v":"-"},{"$f":"IF(AND('Сбор показателей III кв'!N15=\"\",'Сбор показателей III кв'!O15=\"\",'Сбор показателей III кв'!P15=\"\"),\"-\",VLOOKUP($B9,'Сбор показателей III кв'!$B$125:$AT$160,8,FALSE))","v":"-"},{"$f":"IF('Сбор показателей III кв'!AJ15=\"\",\"-\",VLOOKUP($B9,'Сбор показателей III кв'!$B$125:$AT$160,23,FALSE))","v":"-"},{"$f":"IF(AND('Сбор показателей III кв'!AS15=\"\",'Сбор показателей III кв'!AT15=\"\"),\"-\",VLOOKUP($B9,'Сбор показателей III кв'!$B$125:$AT$160,38,FALSE))","v":"-"},{"$f":"IF('Сбор показателей IV кв'!G15=\"\",\"-\",VLOOKUP(B9,'Сбор показателей IV кв'!$B$125:$AT$160,4,FALSE))","v":"-"},{"$f":"IF('Сбор показателей IV кв'!G15=\"\",\"-\",VLOOKUP(B9,'Сбор показателей IV кв'!$B$125:$AT$160,5,FALSE))","v":"-"},{"$f":"IF(AND('Сбор показателей IV кв'!N15=\"\",'Сбор показателей IV кв'!O15=\"\",'Сбор показателей IV кв'!P15=\"\"),\"-\",VLOOKUP(B9,'Сбор показателей IV кв'!$B$125:$AT$160,8,FALSE))","v":"-"},{"$f":"IF('Сбор показателей IV кв'!AJ15=\"\",\"-\",VLOOKUP(B9,'Сбор показателей IV кв'!$B$125:$AT$160,23,FALSE))","v":"-"},{"$f":"IF(AND('Сбор показателей IV кв'!AS15=\"\",'Сбор показателей IV кв'!AT15=\"\"),\"-\",VLOOKUP(B9,'Сбор показателей IV кв'!$B$125:$AT$160,38,FALSE))","v":"-"}]
[null,"Булковский Сергей","ЗГД",{"$f":"VLOOKUP($B10,'Показатели за ГОД'!$A$120:$AS$155,4,FALSE)","v":{"$error":"#N/A"}},{"$f":"VLOOKUP($B10,'Показатели за ГОД'!$A$120:$AS$155,5,FALSE)","v":{"$error":"#N/A"}},{"$f":"VLOOKUP($B10,'Показатели за ГОД'!$A$120:$AS$155,8,FALSE)","v":{"$error":"#N/A"}},{"$f":"VLOOKUP($B10,'Показатели за ГОД'!$A$120:$AS$155,23,FALSE)","v":{"$error":"#N/A"}},{"$f":"VLOOKUP($B10,'Показатели за ГОД'!$A$120:$AS$155,38,FALSE)","v":{"$error":"#N/A"}},{"$f":"IF('Сбор показателей I кв'!G16=\"\",\"-\",VLOOKUP($B10,'Сбор показателей I кв'!$B$125:$AU$160,4,FALSE))","v":{"$error":"#N/A"}},{"$f":"IF('Сбор показателей I кв'!G16=\"\",\"-\",VLOOKUP($B10,'Сбор показателей I кв'!$B$125:$AU$160,5,FALSE))","v":{"$error":"#N/A"}},{"$f":"IF(AND('Сбор показателей I кв'!N16=\"\",'Сбор показателей I кв'!O16=\"\",'Сбор показателей I кв'!P16=\"\"),\"-\",VLOOKUP($B10,'Сбор показателей I кв'!$B$125:$AU$160,8,FALSE))","v":{"$error":"#N/A"}},{"$f":"IF('Сбор показателей I кв'!AJ16=\"\",\"-\",VLOOKUP($B10,'Сбор показателей I кв'!$B$125:$AU$160,23,FALSE))","v":{"$error":"#N/A"}},{"$f":"IF(AND('Сбор показателей I кв'!AT16=\"\",'Сбор показателей I кв'!AU16=\"\"),\"-\",VLOOKUP($B10,'Сбор показателей I кв'!$B$125:$AU$160,38,FALSE))","v":{"$error":"#N/A"}},{"$f":"IF('Сбор показателей II кв'!G16=\"\",\"-\",VLOOKUP($B10,'Сбор показателей II кв'!$B$125:$AT$160,4,FALSE))","v":{"$error":"#N/A"}},{"$f":"IF('Сбор показателей II кв'!G16=\"\",\"-\",VLOOKUP($B10,'Сбор показателей II кв'!$B$125:$AT$160,5,FALSE))","v":{"$error":"#N/A"}},{"$f":"IF(AND('Сбор показателей II кв'!N16=\"\",'Сбор показателей II кв'!O16=\"\",'Сбор показателей II кв'!P16=\"\"),\"-\",VLOOKUP($B10,'Сбор показателей II кв'!$B$125:$AT$160,8,FALSE))","v":{"$error":"#N/A"}},{"$f":"IF('Сбор показателей II кв'!AJ16=\"\",\"-\",VLOOKUP($B10,'Сбор показателей II кв'!$B$125:$AT$160,23,FALSE))","v":{"$error":"#N/A"}},{"$f":"IF(AND('Сбор показателей II кв'!AS16=\"\",'Сбор показателей II кв'!AT16=\"\"),\"-\",VLOOKUP($B10,'Сбор показателей II кв'!$B$125:$AT$160,38,FALSE))","v":{"$error":"#N/A"}},{"$f":"IF('Сбор показателей III кв'!G16=\"\",\"-\",VLOOKUP($B10,'Сбор показателей III кв'!$B$125:$AT$160,4,FALSE))","v":"-"},{"$f":"IF('Сбор показателей III кв'!G16=\"\",\"-\",VLOOKUP($B10,'Сбор показателей III кв'!$B$125:$AT$160,5,FALSE))","v":"-"},{"$f":"IF(AND('Сбор показателей III кв'!N16=\"\",'Сбор показателей III кв'!O16=\"\",'Сбор показателей III кв'!P16=\"\"),\"-\",VLOOKUP($B10,'Сбор показателей III кв'!$B$125:$AT$160,8,FALSE))","v":"-"},{"$f":"IF('Сбор показателей III кв'!AJ16=\"\",\"-\",VLOOKUP($B10,'Сбор показателей III кв'!$B$125:$AT$160,23,FALSE))","v":"-"},{"$f":"IF(AND('Сбор показателей III кв'!AS16=\"\",'Сбор показателей III кв'!AT16=\"\"),\"-\",VLOOKUP($B10,'Сбор показателей III кв'!$B$125:$AT$160,38,FALSE))","v":"-"},{"$f":"IF('Сбор показателей IV кв'!G16=\"\",\"-\",VLOOKUP(B10,'Сбор показателей IV кв'!$B$125:$AT$160,4,FALSE))","v":"-"},{"$f":"IF('Сбор показателей IV кв'!G16=\"\",\"-\",VLOOKUP(B10,'Сбор показателей IV кв'!$B$125:$AT$160,5,FALSE))","v":"-"},{"$f":"IF(AND('Сбор показателей IV кв'!N16=\"\",'Сбор показателей IV кв'!O16=\"\",'Сбор показателей IV кв'!P16=\"\"),\"-\",VLOOKUP(B10,'Сбор показателей IV кв'!$B$125:$AT$160,8,FALSE))","v":"-"},{"$f":"IF('Сбор показателей IV кв'!AJ16=\"\",\"-\",VLOOKUP(B10,'Сбор показателей IV кв'!$B$125:$AT$160,23,FALSE))","v":"-"},{"$f":"IF(AND('Сбор показателей IV кв'!AS16=\"\",'Сбор показателей IV кв'!AT16=\"\"),\"-\",VLOOKUP(B10,'Сбор показателей IV кв'!$B$125:$AT$160,38,FALSE))","v":"-"}]
[null,"Войтюк Юлия","ОКР",{"$f":"VLOOKUP($B11,'Показатели за ГОД'!$A$120:$AS$155,4,FALSE)","v":{"$error":"#N/A"}},{"$f":"VLOOKUP($B11,'Показатели за ГОД'!$A$120:$AS$155,5,FALSE)","v":{"$error":"#N/A"}},{"$f":"VLOOKUP($B11,'Показатели за ГОД'!$A$120:$AS$155,8,FALSE)","v":{"$error":"#N/A"}},{"$f":"VLOOKUP($B11,'Показатели за ГОД'!$A$120:$AS$155,23,FALSE)","v":{"$error":"#N/A"}},{"$f":"VLOOKUP($B11,'Показатели за ГОД'!$A$120:$AS$155,38,FALSE)","v":{"$error":"#N/A"}},{"$f":"IF('Сбор показателей I кв'!G17=\"\",\"-\",VLOOKUP($B11,'Сбор показателей I кв'!$B$125:$AU$160,4,FALSE))","v":{"$error":"#N/A"}},{"$f":"IF('Сбор показателей I кв'!G17=\"\",\"-\",VLOOKUP($B11,'Сбор показателей I кв'!$B$125:$AU$160,5,FALSE))","v":{"$error":"#N/A"}},{"$f":"IF(AND('Сбор показателей I кв'!N17=\"\",'Сбор показателей I кв'!O17=\"\",'Сбор показателей I кв'!P17=\"\"),\"-\",VLOOKUP($B11,'Сбор показателей I кв'!$B$125:$AU$160,8,FALSE))","v":{"$error":"#N/A"}},{"$f":"IF('Сбор показателей I кв'!AJ17=\"\",\"-\",VLOOKUP($B11,'Сбор показателей I кв'!$B$125:$AU$160,23,FALSE))","v":{"$error":"#N/A"}},{"$f":"IF(AND('Сбор показателей I кв'!AT17=\"\",'Сбор показателей I кв'!AU17=\"\"),\"-\",VLOOKUP($B11,'Сбор показателей I кв'!$B$125:$AU$160,38,FALSE))","v":{"$error":"#N/A"}},{"$f":"IF('Сбор показателей II кв'!G17=\"\",\"-\",VLOOKUP($B11,'Сбор показателей II кв'!$B$125:$AT$160,4,FALSE))","v":{"$error":"#N/A"}},{"$f":"IF('Сбор показателей II кв'!G17=\"\",\"-\",VLOOKUP($B11,'Сбор показателей II кв'!$B$125:$AT$160,5,FALSE))","v":{"$error":"#N/A"}},{"$f":"IF(AND('Сбор показателей II кв'!N17=\"\",'Сбор показателей II кв'!O17=\"\",'Сбор показателей II кв'!P17=\"\"),\"-\",VLOOKUP($B11,'Сбор показателей II кв'!$B$125:$AT$160,8,FALSE))","v":{"$error":"#N/A"}},{"$f":"IF('Сбор показателей II кв'!AJ17=\"\",\"-\",VLOOKUP($B11,'Сбор показателей II кв'!$B$125:$AT$160,23,FALSE))","v":{"$error":"#N/A"}},{"$f":"IF(AND('Сбор показателей II кв'!AS17=\"\",'Сбор показателей II кв'!AT17=\"\"),\"-\",VLOOKUP($B11,'Сбор показателей II кв'!$B$125:$AT$160,38,FALSE))","v":{"$error":"#N/A"}},{"$f":"IF('Сбор показателей III кв'!G17=\"\",\"-\",VLOOKUP($B11,'Сбор показателей III кв'!$B$125:$AT$160,4,FALSE))","v":"-"},{"$f":"IF('Сбор показателей III кв'!G17=\"\",\"-\",VLOOKUP($B11,'Сбор показателей III кв'!$B$125:$AT$160,5,FALSE))","v":"-"},{"$f":"IF(AND('Сбор показателей III кв'!N17=\"\",'Сбор показателей III кв'!O17=\"\",'Сбор показателей III кв'!P17=\"\"),\"-\",VLOOKUP($B11,'Сбор показателей III кв'!$B$125:$AT$160,8,FALSE))","v":"-"},{"$f":"IF('Сбор показателей III кв'!AJ17=\"\",\"-\",VLOOKUP($B11,'Сбор показателей III кв'!$B$125:$AT$160,23,FALSE))","v":"-"},{"$f":"IF(AND('Сбор показателей III кв'!AS17=\"\",'Сбор показателей III кв'!AT17=\"\"),\"-\",VLOOKUP($B11,'Сбор показателей III кв'!$B$125:$AT$160,38,FALSE))","v":"-"},{"$f":"IF('Сбор показателей IV кв'!G17=\"\",\"-\",VLOOKUP(B11,'Сбор показателей IV кв'!$B$125:$AT$160,4,FALSE))","v":"-"},{"$f":"IF('Сбор показателей IV кв'!G17=\"\",\"-\",VLOOKUP(B11,'Сбор показателей IV кв'!$B$125:$AT$160,5,FALSE))","v":"-"},{"$f":"IF(AND('Сбор показателей IV кв'!N17=\"\",'Сбор показателей IV кв'!O17=\"\",'Сбор показателей IV кв'!P17=\"\"),\"-\",VLOOKUP(B11,'Сбор показателей IV кв'!$B$125:$AT$160,8,FALSE))","v":"-"},{"$f":"IF('Сбор показателей IV кв'!AJ17=\"\",\"-\",VLOOKUP(B11,'Сбор показателей IV кв'!$B$125:$AT$160,23,FALSE))","v":"-"},{"$f":"IF(AND('Сбор показателей IV кв'!AS17=\"\",'Сбор показателей IV кв'!AT17=\"\"),\"-\",VLOOKUP(B11,'Сбор показателей IV кв'!$B$125:$AT$160,38,FALSE))","v":"-"}]
[null,"Гудкова Людмила","ОКР (КЦ)",{"$f":"VLOOKUP($B12,'Показатели за ГОД'!$A$120:$AS$155,4,FALSE)","v":{"$error":"#N/A"}},{"$f":"VLOOKUP($B12,'Показатели за ГОД'!$A$120:$AS$155,5,FALSE)","v":{"$error":"#N/A"}},{"$f":"VLOOKUP($B12,'Показатели за ГОД'!$A$120:$AS$155,8,FALSE)","v":{"$error":"#N/A"}},{"$f":"VLOOKUP($B12,'Показатели за ГОД'!$A$120:$AS$155,23,FALSE)","v":{"$error":"#N/A"}},{"$f":"VLOOKUP($B12,'Показатели за ГОД'!$A$120:$AS$155,38,FALSE)","v":{"$error":"#N/A"}},{"$f":"IF('Сбор показателей I кв'!G18=\"\",\"-\",VLOOKUP($B12,'Сбор показателей I кв'!$B$125:$AU$160,4,FALSE))","v":{"$error":"#N/A"}},{"$f":"IF('Сбор показателей I кв'!G18=\"\",\"-\",VLOOKUP($B12,'Сбор показателей I кв'!$B$125:$AU$160,5,FALSE))","v":{"$error":"#N/A"}},{"$f":"IF(AND('Сбор показателей I кв'!N18=\"\",'Сбор показателей I кв'!O18=\"\",'Сбор показателей I кв'!P18=\"\"),\"-\",VLOOKUP($B12,'Сбор показателей I кв'!$B$125:$AU$160,8,FALSE))","v":{"$error":"#N/A"}},{"$f":"IF('Сбор показателей I кв'!AJ18=\"\",\"-\",VLOOKUP($B12,'Сбор показателей I кв'!$B$125:$AU$160,23,FALSE))","v":{"$error":"#N/A"}},{"$f":"IF(AND('Сбор показателей I кв'!AT18=\"\",'Сбор показателей I кв'!AU18=\"\"),\"-\",VLOOKUP($B12,'Сбор показателей I кв'!$B$125:$AU$160,38,FALSE))","v":{"$error":"#N/A"}},{"$f":"IF('Сбор показателей II кв'!G18=\"\",\"-\",VLOOKUP($B12,'Сбор показателей II кв'!$B$125:$AT$160,4,FALSE))","v":{"$error":"#N/A"}},{"$f":"IF('Сбор показателей II кв'!G18=\"\",\"-\",VLOOKUP($B12,'Сбор показателей II кв'!$B$125:$AT$160,5,FALSE))","v":{"$error":"#N/A"}},{"$f":"IF(AND('Сбор показателей II кв'!N18=\"\",'Сбор показателей II кв'!O18=\"\",'Сбор показателей II кв'!P18=\"\"),\"-\",VLOOKUP($B12,'Сбор показателей II кв'!$B$125:$AT$160,8,FALSE))","v":{"$error":"#N/A"}},{"$f":"IF('Сбор показателей II кв'!AJ18=\"\",\"-\",VLOOKUP($B12,'Сбор показателей II кв'!$B$125:$AT$160,23,FALSE))","v":{"$error":"#N/A"}},{"$f":"IF(AND('Сбор показателей II кв'!AS18=\"\",'Сбор показателей II кв'!AT18=\"\"),\"-\",VLOOKUP($B12,'Сбор показателей II кв'!$B$125:$AT$160,38,FALSE))","v":{"$error":"#N/A"}},{"$f":"IF('Сбор показателей III кв'!G18=\"\",\"-\",VLOOKUP($B12,'Сбор показателей III кв'!$B$125:$AT$160,4,FALSE))","v":"-"},{"$f":"IF('Сбор показателей III кв'!G18=\"\",\"-\",VLOOKUP($B12,'Сбор показателей III кв'!$B$125:$AT$160,5,FALSE))","v":"-"},{"$f":"IF(AND('Сбор показателей III кв'!N18=\"\",'Сбор показателей III кв'!O18=\"\",'Сбор показателей III кв'!P18=\"\"),\"-\",VLOOKUP($B12,'Сбор показателей III кв'!$B$125:$AT$160,8,FALSE))","v":"-"},{"$f":"IF('Сбор показателей III кв'!AJ18=\"\",\"-\",VLOOKUP($B12,'Сбор показателей III кв'!$B$125:$AT$160,23,FALSE))","v":"-"},{"$f":"IF(AND('Сбор показателей III кв'!AS18=\"\",'Сбор показателей III кв'!AT18=\"\"),\"-\",VLOOKUP($B12,'Сбор показателей III кв'!$B$125:$AT$160,38,FALSE))","v":"-"},{"$f":"IF('Сбор показателей IV кв'!G18=\"\",\"-\",VLOOKUP(B12,'Сбор показателей IV кв'!$B$125:$AT$160,4,FALSE))","v":"-"},{"$f":"IF('Сбор показателей IV кв'!G18=\"\",\"-\",VLOOKUP(B12,'Сбор показателей IV кв'!$B$125:$AT$160,5,FALSE))","v":"-"},{"$f":"IF(AND('Сбор показателей IV кв'!N18=\"\",'Сбор показателей IV кв'!O18=\"\",'Сбор показателей IV кв'!P18=\"\"),\"-\",VLOOKUP(B12,'Сбор показателей IV кв'!$B$125:$AT$160,8,FALSE))","v":"-"},{"$f":"IF('Сбор показателей IV кв'!AJ18=\"\",\"-\",VLOOKUP(B12,'Сбор показателей IV кв'!$B$125:$AT$160,23,FALSE))","v":"-"},{"$f":"IF(AND('Сбор показателей IV кв'!AS18=\"\",'Сбор показателей IV кв'!AT18=\"\"),\"-\",VLOOKUP(B12,'Сбор показателей IV кв'!$B$125:$AT$160,38,FALSE))","v":"-"}]
[null,"Гулиев Рагим","ЗГД",{"$f":"VLOOKUP($B13,'Показатели за ГОД'!$A$120:$AS$155,4,FALSE)","v":{"$error":"#N/A"}},{"$f":"VLOOKUP($B13,'Показатели за ГОД'!$A$120:$AS$155,5,FALSE)","v":{"$error":"#N/A"}},{"$f":"VLOOKUP($B13,'Показатели за ГОД'!$A$120:$AS$155,8,FALSE)","v":{"$error":"#N/A"}},{"$f":"VLOOKUP($B13,'Показатели за ГОД'!$A$120:$AS$155,23,FALSE)","v":{"$error":"#N/A"}},{"$f":"VLOOKUP($B13,'Показатели за ГОД'!$A$120:$AS$155,38,FALSE)","v":{"$error":"#N/A"}},{"$f":"IF('Сбор показателей I кв'!G19=\"\",\"-\",VLOOKUP($B13,'Сбор показателей I кв'!$B$125:$AU$160,4,FALSE))","v":{"$error":"#N/A"}},{"$f":"IF('Сбор показателей I кв'!G19=\"\",\"-\",VLOOKUP($B13,'Сбор показателей I кв'!$B$125:$AU$160,5,FALSE))","v":{"$error":"#N/A"}},{"$f":"IF(AND('Сбор показателей I кв'!N19=\"\",'Сбор показателей I кв'!O19=\"\",'Сбор показателей I кв'!P19=\"\"),\"-\",VLOOKUP($B13,'Сбор показателей I кв'!$B$125:$AU$160,8,FALSE))","v":{"$error":"#N/A"}},{"$f":"IF('Сбор показателей I кв'!AJ19=\"\",\"-\",VLOOKUP($B13,'Сбор показателей I кв'!$B$125:$AU$160,23,FALSE))","v":{"$error":"#N/A"}},{"$f":"IF(AND('Сбор показателей I кв'!AT19=\"\",'Сбор показателей I кв'!AU19=\"\"),\"-\",VLOOKUP($B13,'Сбор показателей I кв'!$B$125:$AU$160,38,FALSE))","v":{"$error":"#N/A"}},{"$f":"IF('Сбор показателей II кв'!G19=\"\",\"-\",VLOOKUP($B13,'Сбор показателей II кв'!$B$125:$AT$160,4,FALSE))","v":{"$error":"#N/A"}},{"$f":"IF('Сбор показателей II кв'!G19=\"\",\"-\",VLOOKUP($B13,'Сбор показателей II кв'!$B$125:$AT$160,5,FALSE))","v":{"$error":"#N/A"}},{"$f":"IF(AND('Сбор показателей II кв'!N19=\"\",'Сбор показателей II кв'!O19=\"\",'Сбор показателей II кв'!P19=\"\"),\"-\",VLOOKUP($B13,'Сбор показателей II кв'!$B$125:$AT$160,8,FALSE))","v":{"$error":"#N/A"}},{"$f":"IF('Сбор показателей II кв'!AJ19=\"\",\"-\",VLOOKUP($B13,'Сбор показателей II кв'!$B$125:$AT$160,23,FALSE))","v":{"$error":"#N/A"}},{"$f":"IF(AND('Сбор показателей II кв'!AS19=\"\",'Сбор показателей II кв'!AT19=\"\"),\"-\",VLOOKUP($B13,'Сбор показателей II кв'!$B$125:$AT$160,38,FALSE))","v":{"$error":"#N/A"}},{"$f":"IF('Сбор показателей III кв'!G19=\"\",\"-\",VLOOKUP($B13,'Сбор показателей III кв'!$B$125:$AT$160,4,FALSE))","v":"-"},{"$f":"IF('Сбор показателей III кв'!G19=\"\",\"-\",VLOOKUP($B13,'Сбор показателей III кв'!$B$125:$AT$160,5,FALSE))","v":"-"},{"$f":"IF(AND('Сбор показателей III кв'!N19=\"\",'Сбор показателей III кв'!O19=\"\",'Сбор показателей III кв'!P19=\"\"),\"-\",VLOOKUP($B13,'Сбор показателей III кв'!$B$125:$AT$160,8,FALSE))","v":"-"},{"$f":"IF('Сбор показателей III кв'!AJ19=\"\",\"-\",VLOOKUP($B13,'Сбор показателей III кв'!$B$125:$AT$160,23,FALSE))","v":"-"},{"$f":"IF(AND('Сбор показателей III кв'!AS19=\"\",'Сбор показателей III кв'!AT19=\"\"),\"-\",VLOOKUP($B13,'Сбор показателей III кв'!$B$125:$AT$160,38,FALSE))","v":"-"},{"$f":"IF('Сбор показателей IV кв'!G19=\"\",\"-\",VLOOKUP(B13,'Сбор показателей IV кв'!$B$125:$AT$160,4,FALSE))","v":"-"},{"$f":"IF('Сбор показателей IV кв'!G19=\"\",\"-\",VLOOKUP(B13,'Сбор показателей IV кв'!$B$125:$AT$160,5,FALSE))","v":"-"},{"$f":"IF(AND('Сбор показателей IV кв'!N19=\"\",'Сбор показателей IV кв'!O19=\"\",'Сбор показателей IV кв'!P19=\"\"),\"-\",VLOOKUP(B13,'Сбор показателей IV кв'!$B$125:$AT$160,8,FALSE))","v":"-"},{"$f":"IF('Сбор показателей IV кв'!AJ19=\"\",\"-\",VLOOKUP(B13,'Сбор показателей IV кв'!$B$125:$AT$160,23,FALSE))","v":"-"},{"$f":"IF(AND('Сбор показателей IV кв'!AS19=\"\",'Сбор показателей IV кв'!AT19=\"\"),\"-\",VLOOKUP(B13,'Сбор показателей IV кв'!$B$125:$AT$160,38,FALSE))","v":"-"}]
[null,"Завьялов Василий","ЗГД",{"$f":"VLOOKUP($B14,'Показатели за ГОД'!$A$120:$AS$155,4,FALSE)","v":{"$error":"#N/A"}},{"$f":"VLOOKUP($B14,'Показатели за ГОД'!$A$120:$AS$155,5,FALSE)","v":{"$error":"#N/A"}},{"$f":"VLOOKUP($B14,'Показатели за ГОД'!$A$120:$AS$155,8,FALSE)","v":{"$error":"#N/A"}},{"$f":"VLOOKUP($B14,'Показатели за ГОД'!$A$120:$AS$155,23,FALSE)","v":{"$error":"#N/A"}},{"$f":"VLOOKUP($B14,'Показатели за ГОД'!$A$120:$AS$155,38,FALSE)","v":{"$error":"#N/A"}},{"$f":"IF('Сбор показателей I кв'!G20=\"\",\"-\",VLOOKUP($B14,'Сбор показателей I кв'!$B$125:$AU$160,4,FALSE))","v":{"$error":"#N/A"}},{"$f":"IF('Сбор показателей I кв'!G20=\"\",\"-\",VLOOKUP($B14,'Сбор показателей I кв'!$B$125:$AU$160,5,FALSE))","v":{"$error":"#N/A"}},{"$f":"IF(AND('Сбор показателей I кв'!N20=\"\",'Сбор показателей I кв'!O20=\"\",'Сбор показателей I кв'!P20=\"\"),\"-\",VLOOKUP($B14,'Сбор показателей I кв'!$B$125:$AU$160,8,FALSE))","v":{"$error":"#N/A"}},{"$f":"IF('Сбор показателей I кв'!AJ20=\"\",\"-\",VLOOKUP($B14,'Сбор показателей I кв'!$B$125:$AU$160,23,FALSE))","v":{"$error":"#N/A"}},{"$f":"IF(AND('Сбор показателей I кв'!AT20=\"\",'Сбор показателей I кв'!AU20=\"\"),\"-\",VLOOKUP($B14,'Сбор показателей I кв'!$B$125:$AU$160,38,FALSE))","v":{"$error":"#N/A"}},{"$f":"IF('Сбор показателей II кв'!G20=\"\",\"-\",VLOOKUP($B14,'Сбор показателей II кв'!$B$125:$AT$160,4,FALSE))","v":{"$error":"#N/A"}},{"$f":"IF('Сбор показателей II кв'!G20=\"\",\"-\",VLOOKUP($B14,'Сбор показателей II кв'!$B$125:$AT$160,5,FALSE))","v":{"$error":"#N/A"}},{"$f":"IF(AND('Сбор показателей II кв'!N20=\"\",'Сбор показателей II кв'!O20=\"\",'Сбор показателей II кв'!P20=\"\"),\"-\",VLOOKUP($B14,'Сбор показателей II кв'!$B$125:$AT$160,8,FALSE))","v":{"$error":"#N/A"}},{"$f":"IF('Сбор показателей II кв'!AJ20=\"\",\"-\",VLOOKUP($B14,'Сбор показателей II кв'!$B$125:$AT$160,23,FALSE))","v":{"$error":"#N/A"}},{"$f":"IF(AND('Сбор показателей II кв'!AS20=\"\",'Сбор показателей II кв'!AT20=\"\"),\"-\",VLOOKUP($B14,'Сбор показателей II кв'!$B$125:$AT$160,38,FALSE))","v":{"$error":"#N/A"}},{"$f":"IF('Сбор показателей III кв'!G20=\"\",\"-\",VLOOKUP($B14,'Сбор показателей III кв'!$B$125:$AT$160,4,FALSE))","v":"-"},{"$f":"IF('Сбор показателей III кв'!G20=\"\",\"-\",VLOOKUP($B14,'Сбор показателей III кв'!$B$125:$AT$160,5,FALSE))","v":"-"},{"$f":"IF(AND('Сбор показателей III кв'!N20=\"\",'Сбор показателей III кв'!O20=\"\",'Сбор показателей III кв'!P20=\"\"),\"-\",VLOOKUP($B14,'Сбор показателей III кв'!$B$125:$AT$160,8,FALSE))","v":"-"},{"$f":"IF('Сбор показателей III кв'!AJ20=\"\",\"-\",VLOOKUP($B14,'Сбор показателей III кв'!$B$125:$AT$160,23,FALSE))","v":"-"},{"$f":"IF(AND('Сбор показателей III кв'!AS20=\"\",'Сбор показателей III кв'!AT20=\"\"),\"-\",VLOOKUP($B14,'Сбор показателей III кв'!$B$125:$AT$160,38,FALSE))","v":"-"},{"$f":"IF('Сбор показателей IV кв'!G20=\"\",\"-\",VLOOKUP(B14,'Сбор показателей IV кв'!$B$125:$AT$160,4,FALSE))","v":"-"},{"$f":"IF('Сбор показателей IV кв'!G20=\"\",\"-\",VLOOKUP(B14,'Сбор показателей IV кв'!$B$125:$AT$160,5,FALSE))","v":"-"},{"$f":"IF(AND('Сбор показателей IV кв'!N20=\"\",'Сбор показателей IV кв'!O20=\"\",'Сбор показателей IV кв'!P20=\"\"),\"-\",VLOOKUP(B14,'Сбор показателей IV кв'!$B$125:$AT$160,8,FALSE))","v":"-"},{"$f":"IF('Сбор показателей IV кв'!AJ20=\"\",\"-\",VLOOKUP(B14,'Сбор показателей IV кв'!$B$125:$AT$160,23,FALSE))","v":"-"},{"$f":"IF(AND('Сбор показателей IV кв'!AS20=\"\",'Сбор показателей IV кв'!AT20=\"\"),\"-\",VLOOKUP(B14,'Сбор показателей IV кв'!$B$125:$AT$160,38,FALSE))","v":"-"}]
[null,"Коваленко Тамара","ОКР",{"$f":"VLOOKUP($B15,'Показатели за ГОД'!$A$120:$AS$155,4,FALSE)","v":21},{"$f":"VLOOKUP($B15,'Показатели за ГОД'!$A$120:$AS$155,5,FALSE)","v":21},{"$f":"VLOOKUP($B15,'Показатели за ГОД'!$A$120:$AS$155,8,FALSE)","v":21},{"$f":"VLOOKUP($B15,'Показатели за ГОД'!$A$120:$AS$155,23,FALSE)","v":21},{"$f":"VLOOKUP($B15,'Показатели за ГОД'!$A$120:$AS$155,38,FALSE)","v":21},{"$f":"IF('Сбор показателей I кв'!G21=\"\",\"-\",VLOOKUP($B15,'Сбор показателей I кв'!$B$125:$AU$160,4,FALSE))","v":"-"},{"$f":"IF('Сбор показателей I кв'!G21=\"\",\"-\",VLOOKUP($B15,'Сбор показателей I кв'!$B$125:$AU$160,5,FALSE))","v":"-"},{"$f":"IF(AND('Сбор показателей I кв'!N21=\"\",'Сбор показателей I кв'!O21=\"\",'Сбор показателей I кв'!P21=\"\"),\"-\",VLOOKUP($B15,'Сбор показателей I кв'!$B$125:$AU$160,8,FALSE))","v":"-"},{"$f":"IF('Сбор показателей I кв'!AJ21=\"\",\"-\",VLOOKUP($B15,'Сбор показателей I кв'!$B$125:$AU$160,23,FALSE))","v":"-"},{"$f":"IF(AND('Сбор показателей I кв'!AT21=\"\",'Сбор показателей I кв'!AU21=\"\"),\"-\",VLOOKUP($B15,'Сбор показателей I кв'!$B$125:$AU$160,38,FALSE))","v":"-"},{"$f":"IF('Сбор показателей II кв'!G21=\"\",\"-\",VLOOKUP($B15,'Сбор показателей II кв'!$B$125:$AT$160,4,FALSE))","v":"-"},{"$f":"IF('Сбор показателей II кв'!G21=\"\",\"-\",VLOOKUP($B15,'Сбор показателей II кв'!$B$125:$AT$160,5,FALSE))","v":"-"},{"$f":"IF(AND('Сбор показателей II кв'!N21=\"\",'Сбор показателей II кв'!O21=\"\",'Сбор показателей II кв'!P21=\"\"),\"-\",VLOOKUP($B15,'Сбор показателей II кв'!$B$125:$AT$160,8,FALSE))","v":"-"},{"$f":"IF('Сбор показателей II кв'!AJ21=\"\",\"-\",VLOOKUP($B15,'Сбор показателей II кв'!$B$125:$AT$160,23,FALSE))","v":"-"},{"$f":"IF(AND('Сбор показателей II кв'!AS21=\"\",'Сбор показателей II кв'!AT21=\"\"),\"-\",VLOOKUP($B15,'Сбор показателей II кв'!$B$125:$AT$160,38,FALSE))","v":"-"},{"$f":"IF('Сбор показателей III кв'!G21=\"\",\"-\",VLOOKUP($B15,'Сбор показателей III кв'!$B$125:$AT$160,4,FALSE))","v":"-"},{"$f":"IF('Сбор показателей III кв'!G21=\"\",\"-\",VLOOKUP($B15,'Сбор показателей III кв'!$B$125:$AT$160,5,FALSE))","v":"-"},{"$f":"IF(AND('Сбор показателей III кв'!N21=\"\",'Сбор показателей III кв'!O21=\"\",'Сбор показателей III кв'!P21=\"\"),\"-\",VLOOKUP($B15,'Сбор показателей III кв'!$B$125:$AT$160,8,FALSE))","v":"-"},{"$f":"IF('Сбор показателей III кв'!AJ21=\"\",\"-\",VLOOKUP($B15,'Сбор показателей III кв'!$B$125:$AT$160,23,FALSE))","v":"-"},{"$f":"IF(AND('Сбор показателей III кв'!AS21=\"\",'Сбор показателей III кв'!AT21=\"\"),\"-\",VLOOKUP($B15,'Сбор показателей III кв'!$B$125:$AT$160,38,FALSE))","v":"-"},{"$f":"IF('Сбор показателей IV кв'!G21=\"\",\"-\",VLOOKUP(B15,'Сбор показателей IV кв'!$B$125:$AT$160,4,FALSE))","v":"-"},{"$f":"IF('Сбор показателей IV кв'!G21=\"\",\"-\",VLOOKUP(B15,'Сбор показателей IV кв'!$B$125:$AT$160,5,FALSE))","v":"-"},{"$f":"IF(AND('Сбор показателей IV кв'!N21=\"\",'Сбор показателей IV кв'!O21=\"\",'Сбор показателей IV кв'!P21=\"\"),\"-\",VLOOKUP(B15,'Сбор показателей IV кв'!$B$125:$AT$160,8,FALSE))","v":"-"},{"$f":"IF('Сбор показателей IV кв'!AJ21=\"\",\"-\",VLOOKUP(B15,'Сбор показателей IV кв'!$B$125:$AT$160,23,FALSE))","v":"-"},{"$f":"IF(AND('Сбор показателей IV кв'!AS21=\"\",'Сбор показателей IV кв'!AT21=\"\"),\"-\",VLOOKUP(B15,'Сбор показателей IV кв'!$B$125:$AT$160,38,FALSE))","v":"-"}]
[null,"Колесников Сергей","ОКР",{"$f":"VLOOKUP($B16,'Показатели за ГОД'!$A$120:$AS$155,4,FALSE)","v":21},{"$f":"VLOOKUP($B16,'Показатели за ГОД'!$A$120:$AS$155,5,FALSE)","v":21},{"$f":"VLOOKUP($B16,'Показатели за ГОД'!$A$120:$AS$155,8,FALSE)","v":21},{"$f":"VLOOKUP($B16,'Показатели за ГОД'!$A$120:$AS$155,23,FALSE)","v":21},{"$f":"VLOOKUP($B16,'Показатели за ГОД'!$A$120:$AS$155,38,FALSE)","v":21},{"$f":"IF('Сбор показателей I кв'!G22=\"\",\"-\",VLOOKUP($B16,'Сбор показателей I кв'!$B$125:$AU$160,4,FALSE))","v":"-"},{"$f":"IF('Сбор показателей I кв'!G22=\"\",\"-\",VLOOKUP($B16,'Сбор показателей I кв'!$B$125:$AU$160,5,FALSE))","v":"-"},{"$f":"IF(AND('Сбор показателей I кв'!N22=\"\",'Сбор показателей I кв'!O22=\"\",'Сбор показателей I кв'!P22=\"\"),\"-\",VLOOKUP($B16,'Сбор показателей I кв'!$B$125:$AU$160,8,FALSE))","v":"-"},{"$f":"IF('Сбор показателей I кв'!AJ22=\"\",\"-\",VLOOKUP($B16,'Сбор показателей I кв'!$B$125:$AU$160,23,FALSE))","v":"-"},{"$f":"IF(AND('Сбор показателей I кв'!AT22=\"\",'Сбор показателей I кв'!AU22=\"\"),\"-\",VLOOKUP($B16,'Сбор показателей I кв'!$B$125:$AU$160,38,FALSE))","v":"-"},{"$f":"IF('Сбор показателей II кв'!G22=\"\",\"-\",VLOOKUP($B16,'Сбор показателей II кв'!$B$125:$AT$160,4,FALSE))","v":"-"},{"$f":"IF('Сбор показателей II кв'!G22=\"\",\"-\",VLOOKUP($B16,'Сбор показателей II кв'!$B$125:$AT$160,5,FALSE))","v":"-"},{"$f":"IF(AND('Сбор показателей II кв'!N22=\"\",'Сбор показателей II кв'!O22=\"\",'Сбор показателей II кв'!P22=\"\"),\"-\",VLOOKUP($B16,'Сбор показателей II кв'!$B$125:$AT$160,8,FALSE))","v":"-"},{"$f":"IF('Сбор показателей II кв'!AJ22=\"\",\"-\",VLOOKUP($B16,'Сбор показателей II кв'!$B$125:$AT$160,23,FALSE))","v":"-"},{"$f":"IF(AND('Сбор показателей II кв'!AS22=\"\",'Сбор показателей II кв'!AT22=\"\"),\"-\",VLOOKUP($B16,'Сбор показателей II кв'!$B$125:$AT$160,38,FALSE))","v":"-"},{"$f":"IF('Сбор показателей III кв'!G22=\"\",\"-\",VLOOKUP($B16,'Сбор показателей III кв'!$B$125:$AT$160,4,FALSE))","v":"-"},{"$f":"IF('Сбор показателей III кв'!G22=\"\",\"-\",VLOOKUP($B16,'Сбор показателей III кв'!$B$125:$AT$160,5,FALSE))","v":"-"},{"$f":"IF(AND('Сбор показателей III кв'!N22=\"\",'Сбор показателей III кв'!O22=\"\",'Сбор показателей III кв'!P22=\"\"),\"-\",VLOOKUP($B16,'Сбор показателей III кв'!$B$125:$AT$160,8,FALSE))","v":"-"},{"$f":"IF('Сбор показателей III кв'!AJ22=\"\",\"-\",VLOOKUP($B16,'Сбор показателей III кв'!$B$125:$AT$160,23,FALSE))","v":"-"},{"$f":"IF(AND('Сбор показателей III кв'!AS22=\"\",'Сбор показателей III кв'!AT22=\"\"),\"-\",VLOOKUP($B16,'Сбор показателей III кв'!$B$125:$AT$160,38,FALSE))","v":"-"},{"$f":"IF('Сбор показателей IV кв'!G22=\"\",\"-\",VLOOKUP(B16,'Сбор показателей IV кв'!$B$125:$AT$160,4,FALSE))","v":"-"},{"$f":"IF('Сбор показателей IV кв'!G22=\"\",\"-\",VLOOKUP(B16,'Сбор показателей IV кв'!$B$125:$AT$160,5,FALSE))","v":"-"},{"$f":"IF(AND('Сбор показателей IV кв'!N22=\"\",'Сбор показателей IV кв'!O22=\"\",'Сбор показателей IV кв'!P22=\"\"),\"-\",VLOOKUP(B16,'Сбор показателей IV кв'!$B$125:$AT$160,8,FALSE))","v":"-"},{"$f":"IF('Сбор показателей IV кв'!AJ22=\"\",\"-\",VLOOKUP(B16,'Сбор показателей IV кв'!$B$125:$AT$160,23,FALSE))","v":"-"},{"$f":"IF(AND('Сбор показателей IV кв'!AS22=\"\",'Сбор показателей IV кв'!AT22=\"\"),\"-\",VLOOKUP(B16,'Сбор показателей IV кв'!$B$125:$AT$160,38,FALSE))","v":"-"}]
[null,"Коробейников Павел","ЗГД",{"$f":"VLOOKUP($B17,'Показатели за ГОД'!$A$120:$AS$155,4,FALSE)","v":21},{"$f":"VLOOKUP($B17,'Показатели за ГОД'!$A$120:$AS$155,5,FALSE)","v":21},{"$f":"VLOOKUP($B17,'Показатели за ГОД'!$A$120:$AS$155,8,FALSE)","v":21},{"$f":"VLOOKUP($B17,'Показатели за ГОД'!$A$120:$AS$155,23,FALSE)","v":21},{"$f":"VLOOKUP($B17,'Показатели за ГОД'!$A$120:$AS$155,38,FALSE)","v":21},{"$f":"IF('Сбор показателей I кв'!G23=\"\",\"-\",VLOOKUP($B17,'Сбор показателей I кв'!$B$125:$AU$160,4,FALSE))","v":"-"},{"$f":"IF('Сбор показателей I кв'!G23=\"\",\"-\",VLOOKUP($B17,'Сбор показателей I кв'!$B$125:$AU$160,5,FALSE))","v":"-"},{"$f":"IF(AND('Сбор показателей I кв'!N23=\"\",'Сбор показателей I кв'!O23=\"\",'Сбор показателей I кв'!P23=\"\"),\"-\",VLOOKUP($B17,'Сбор показателей I кв'!$B$125:$AU$160,8,FALSE))","v":"-"},{"$f":"IF('Сбор показателей I кв'!AJ23=\"\",\"-\",VLOOKUP($B17,'Сбор показателей I кв'!$B$125:$AU$160,23,FALSE))","v":"-"},{"$f":"IF(AND('Сбор показателей I кв'!AT23=\"\",'Сбор показателей I кв'!AU23=\"\"),\"-\",VLOOKUP($B17,'Сбор показателей I кв'!$B$125:$AU$160,38,FALSE))","v":"-"},{"$f":"IF('Сбор показателей II кв'!G23=\"\",\"-\",VLOOKUP($B17,'Сбор показателей II кв'!$B$125:$AT$160,4,FALSE))","v":"-"},{"$f":"IF('Сбор показателей II кв'!G23=\"\",\"-\",VLOOKUP($B17,'Сбор показателей II кв'!$B$125:$AT$160,5,FALSE))","v":"-"},{"$f":"IF(AND('Сбор показателей II кв'!N23=\"\",'Сбор показателей II кв'!O23=\"\",'Сбор показателей II кв'!P23=\"\"),\"-\",VLOOKUP($B17,'Сбор показателей II кв'!$B$125:$AT$160,8,FALSE))","v":"-"},{"$f":"IF('Сбор показателей II кв'!AJ23=\"\",\"-\",VLOOKUP($B17,'Сбор показателей II кв'!$B$125:$AT$160,23,FALSE))","v":"-"},{"$f":"IF(AND('Сбор показателей II кв'!AS23=\"\",'Сбор показателей II кв'!AT23=\"\"),\"-\",VLOOKUP($B17,'Сбор показателей II кв'!$B$125:$AT$160,38,FALSE))","v":"-"},{"$f":"IF('Сбор показателей III кв'!G23=\"\",\"-\",VLOOKUP($B17,'Сбор показателей III кв'!$B$125:$AT$160,4,FALSE))","v":"-"},{"$f":"IF('Сбор показателей III кв'!G23=\"\",\"-\",VLOOKUP($B17,'Сбор показателей III кв'!$B$125:$AT$160,5,FALSE))","v":"-"},{"$f":"IF(AND('Сбор показателей III кв'!N23=\"\",'Сбор показателей III кв'!O23=\"\",'Сбор показателей III кв'!P23=\"\"),\"-\",VLOOKUP($B17,'Сбор показателей III кв'!$B$125:$AT$160,8,FALSE))","v":"-"},{"$f":"IF('Сбор показателей III кв'!AJ23=\"\",\"-\",VLOOKUP($B17,'Сбор показателей III кв'!$B$125:$AT$160,23,FALSE))","v":"-"},{"$f":"IF(AND('Сбор показателей III кв'!AS23=\"\",'Сбор показателей III кв'!AT23=\"\"),\"-\",VLOOKUP($B17,'Сбор показателей III кв'!$B$125:$AT$160,38,FALSE))","v":"-"},{"$f":"IF('Сбор показателей IV кв'!G23=\"\",\"-\",VLOOKUP(B17,'Сбор показателей IV кв'!$B$125:$AT$160,4,FALSE))","v":"-"},{"$f":"IF('Сбор показателей IV кв'!G23=\"\",\"-\",VLOOKUP(B17,'Сбор показателей IV кв'!$B$125:$AT$160,5,FALSE))","v":"-"},{"$f":"IF(AND('Сбор показателей IV кв'!N23=\"\",'Сбор показателей IV кв'!O23=\"\",'Сбор показателей IV кв'!P23=\"\"),\"-\",VLOOKUP(B17,'Сбор показателей IV кв'!$B$125:$AT$160,8,FALSE))","v":"-"},{"$f":"IF('Сбор показателей IV кв'!AJ23=\"\",\"-\",VLOOKUP(B17,'Сбор показателей IV кв'!$B$125:$AT$160,23,FALSE))","v":"-"},{"$f":"IF(AND('Сбор показателей IV кв'!AS23=\"\",'Сбор показателей IV кв'!AT23=\"\"),\"-\",VLOOKUP(B17,'Сбор показателей IV кв'!$B$125:$AT$160,38,FALSE))","v":"-"}]
[null,"Марченко Лариса","ОКР",{"$f":"VLOOKUP($B18,'Показатели за ГОД'!$A$120:$AS$155,4,FALSE)","v":21},{"$f":"VLOOKUP($B18,'Показатели за ГОД'!$A$120:$AS$155,5,FALSE)","v":21},{"$f":"VLOOKUP($B18,'Показатели за ГОД'!$A$120:$AS$155,8,FALSE)","v":21},{"$f":"VLOOKUP($B18,'Показатели за ГОД'!$A$120:$AS$155,23,FALSE)","v":21},{"$f":"VLOOKUP($B18,'Показатели за ГОД'!$A$120:$AS$155,38,FALSE)","v":21},{"$f":"IF('Сбор показателей I кв'!G24=\"\",\"-\",VLOOKUP($B18,'Сбор показателей I кв'!$B$125:$AU$160,4,FALSE))","v":"-"},{"$f":"IF('Сбор показателей I кв'!G24=\"\",\"-\",VLOOKUP($B18,'Сбор показателей I кв'!$B$125:$AU$160,5,FALSE))","v":"-"},{"$f":"IF(AND('Сбор показателей I кв'!N24=\"\",'Сбор показателей I кв'!O24=\"\",'Сбор показателей I кв'!P24=\"\"),\"-\",VLOOKUP($B18,'Сбор показателей I кв'!$B$125:$AU$160,8,FALSE))","v":"-"},{"$f":"IF('Сбор показателей I кв'!AJ24=\"\",\"-\",VLOOKUP($B18,'Сбор показателей I кв'!$B$125:$AU$160,23,FALSE))","v":"-"},{"$f":"IF(AND('Сбор показателей I кв'!AT24=\"\",'Сбор показателей I кв'!AU24=\"\"),\"-\",VLOOKUP($B18,'Сбор показателей I кв'!$B$125:$AU$160,38,FALSE))","v":"-"},{"$f":"IF('Сбор показателей II кв'!G24=\"\",\"-\",VLOOKUP($B18,'Сбор показателей II кв'!$B$125:$AT$160,4,FALSE))","v":"-"},{"$f":"IF('Сбор показателей II кв'!G24=\"\",\"-\",VLOOKUP($B18,'Сбор показателей II кв'!$B$125:$AT$160,5,FALSE))","v":"-"},{"$f":"IF(AND('Сбор показателей II кв'!N24=\"\",'Сбор показателей II кв'!O24=\"\",'Сбор показателей II кв'!P24=\"\"),\"-\",VLOOKUP($B18,'Сбор показателей II кв'!$B$125:$AT$160,8,FALSE))","v":"-"},{"$f":"IF('Сбор показателей II кв'!AJ24=\"\",\"-\",VLOOKUP($B18,'Сбор показателей II кв'!$B$125:$AT$160,23,FALSE))","v":"-"},{"$f":"IF(AND('Сбор показателей II кв'!AS24=\"\",'Сбор показателей II кв'!AT24=\"\"),\"-\",VLOOKUP($B18,'Сбор показателей II кв'!$B$125:$AT$160,38,FALSE))","v":"-"},{"$f":"IF('Сбор показателей III кв'!G24=\"\",\"-\",VLOOKUP($B18,'Сбор показателей III кв'!$B$125:$AT$160,4,FALSE))","v":"-"},{"$f":"IF('Сбор показателей III кв'!G24=\"\",\"-\",VLOOKUP($B18,'Сбор показателей III кв'!$B$125:$AT$160,5,FALSE))","v":"-"},{"$f":"IF(AND('Сбор показателей III кв'!N24=\"\",'Сбор показателей III кв'!O24=\"\",'Сбор показателей III кв'!P24=\"\"),\"-\",VLOOKUP($B18,'Сбор показателей III кв'!$B$125:$AT$160,8,FALSE))","v":"-"},{"$f":"IF('Сбор показателей III кв'!AJ24=\"\",\"-\",VLOOKUP($B18,'Сбор показателей III кв'!$B$125:$AT$160,23,FALSE))","v":"-"},{"$f":"IF(AND('Сбор показателей III кв'!AS24=\"\",'Сбор показателей III кв'!AT24=\"\"),\"-\",VLOOKUP($B18,'Сбор показателей III кв'!$B$125:$AT$160,38,FALSE))","v":"-"},{"$f":"IF('Сбор показателей IV кв'!G24=\"\",\"-\",VLOOKUP(B18,'Сбор показателей IV кв'!$B$125:$AT$160,4,FALSE))","v":"-"},{"$f":"IF('Сбор показателей IV кв'!G24=\"\",\"-\",VLOOKUP(B18,'Сбор показателей IV кв'!$B$125:$AT$160,5,FALSE))","v":"-"},{"$f":"IF(AND('Сбор показателей IV кв'!N24=\"\",'Сбор показателей IV кв'!O24=\"\",'Сбор показателей IV кв'!P24=\"\"),\"-\",VLOOKUP(B18,'Сбор показателей IV кв'!$B$125:$AT$160,8,FALSE))","v":"-"},{"$f":"IF('Сбор показателей IV кв'!AJ24=\"\",\"-\",VLOOKUP(B18,'Сбор показателей IV кв'!$B$125:$AT$160,23,FALSE))","v":"-"},{"$f":"IF(AND('Сбор показателей IV кв'!AS24=\"\",'Сбор показателей IV кв'!AT24=\"\"),\"-\",VLOOKUP(B18,'Сбор показателей IV кв'!$B$125:$AT$160,38,FALSE))","v":"-"}]
[null,"Мелёхин Денис","ОКР (КЦ)",{"$f":"VLOOKUP($B19,'Показатели за ГОД'!$A$120:$AS$155,4,FALSE)","v":21},{"$f":"VLOOKUP($B19,'Показатели за ГОД'!$A$120:$AS$155,5,FALSE)","v":21},{"$f":"VLOOKUP($B19,'Показатели за ГОД'!$A$120:$AS$155,8,FALSE)","v":21},{"$f":"VLOOKUP($B19,'Показатели за ГОД'!$A$120:$AS$155,23,FALSE)","v":21},{"$f":"VLOOKUP($B19,'Показатели за ГОД'!$A$120:$AS$155,38,FALSE)","v":21},{"$f":"IF('Сбор показателей I кв'!G25=\"\",\"-\",VLOOKUP($B19,'Сбор показателей I кв'!$B$125:$AU$160,4,FALSE))","v":"-"},{"$f":"IF('Сбор показателей I кв'!G25=\"\",\"-\",VLOOKUP($B19,'Сбор показателей I кв'!$B$125:$AU$160,5,FALSE))","v":"-"},{"$f":"IF(AND('Сбор показателей I кв'!N25=\"\",'Сбор показателей I кв'!O25=\"\",'Сбор показателей I кв'!P25=\"\"),\"-\",VLOOKUP($B19,'Сбор показателей I кв'!$B$125:$AU$160,8,FALSE))","v":"-"},{"$f":"IF('Сбор показателей I кв'!AJ25=\"\",\"-\",VLOOKUP($B19,'Сбор показателей I кв'!$B$125:$AU$160,23,FALSE))","v":"-"},{"$f":"IF(AND('Сбор показателей I кв'!AT25=\"\",'Сбор показателей I кв'!AU25=\"\"),\"-\",VLOOKUP($B19,'Сбор показателей I кв'!$B$125:$AU$160,38,FALSE))","v":"-"},{"$f":"IF('Сбор показателей II кв'!G25=\"\",\"-\",VLOOKUP($B19,'Сбор показателей II кв'!$B$125:$AT$160,4,FALSE))","v":"-"},{"$f":"IF('Сбор показателей II кв'!G25=\"\",\"-\",VLOOKUP($B19,'Сбор показателей II кв'!$B$125:$AT$160,5,FALSE))","v":"-"},{"$f":"IF(AND('Сбор показателей II кв'!N25=\"\",'Сбор показателей II кв'!O25=\"\",'Сбор показателей II кв'!P25=\"\"),\"-\",VLOOKUP($B19,'Сбор показателей II кв'!$B$125:$AT$160,8,FALSE))","v":"-"},{"$f":"IF('Сбор показателей II кв'!AJ25=\"\",\"-\",VLOOKUP($B19,'Сбор показателей II кв'!$B$125:$AT$160,23,FALSE))","v":"-"},{"$f":"IF(AND('Сбор показателей II кв'!AS25=\"\",'Сбор показателей II кв'!AT25=\"\"),\"-\",VLOOKUP($B19,'Сбор показателей II кв'!$B$125:$AT$160,38,FALSE))","v":"-"},{"$f":"IF('Сбор показателей III кв'!G25=\"\",\"-\",VLOOKUP($B19,'Сбор показателей III кв'!$B$125:$AT$160,4,FALSE))","v":"-"},{"$f":"IF('Сбор показателей III кв'!G25=\"\",\"-\",VLOOKUP($B19,'Сбор показателей III кв'!$B$125:$AT$160,5,FALSE))","v":"-"},{"$f":"IF(AND('Сбор показателей III кв'!N25=\"\",'Сбор показателей III кв'!O25=\"\",'Сбор показателей III кв'!P25=\"\"),\"-\",VLOOKUP($B19,'Сбор показателей III кв'!$B$125:$AT$160,8,FALSE))","v":"-"},{"$f":"IF('Сбор показателей III кв'!AJ25=\"\",\"-\",VLOOKUP($B19,'Сбор показателей III кв'!$B$125:$AT$160,23,FALSE))","v":"-"},{"$f":"IF(AND('Сбор показателей III кв'!AS25=\"\",'Сбор показателей III кв'!AT25=\"\"),\"-\",VLOOKUP($B19,'Сбор показателей III кв'!$B$125:$AT$160,38,FALSE))","v":"-"},{"$f":"IF('Сбор показателей IV кв'!G25=\"\",\"-\",VLOOKUP(B19,'Сбор показателей IV кв'!$B$125:$AT$160,4,FALSE))","v":"-"},{"$f":"IF('Сбор показателей IV кв'!G25=\"\",\"-\",VLOOKUP(B19,'Сбор показателей IV кв'!$B$125:$AT$160,5,FALSE))","v":"-"},{"$f":"IF(AND('Сбор показателей IV кв'!N25=\"\",'Сбор показателей IV кв'!O25=\"\",'Сбор показателей IV кв'!P25=\"\"),\"-\",VLOOKUP(B19,'Сбор показателей IV кв'!$B$125:$AT$160,8,FALSE))","v":"-"},{"$f":"IF('Сбор показателей IV кв'!AJ25=\"\",\"-\",VLOOKUP(B19,'Сбор показателей IV кв'!$B$125:$AT$160,23,FALSE))","v":"-"},{"$f":"IF(AND('Сбор показателей IV кв'!AS25=\"\",'Сбор показателей IV кв'!AT25=\"\"),\"-\",VLOOKUP(B19,'Сбор показателей IV кв'!$B$125:$AT$160,38,FALSE))","v":"-"}]
[null,"Миняева Ирина","ОКР (КЦ)",{"$f":"VLOOKUP($B20,'Показатели за ГОД'!$A$120:$AS$155,4,FALSE)","v":21},{"$f":"VLOOKUP($B20,'Показатели за ГОД'!$A$120:$AS$155,5,FALSE)","v":21},{"$f":"VLOOKUP($B20,'Показатели за ГОД'!$A$120:$AS$155,8,FALSE)","v":21},{"$f":"VLOOKUP($B20,'Показатели за ГОД'!$A$120:$AS$155,23,FALSE)","v":21},{"$f":"VLOOKUP($B20,'Показатели за ГОД'!$A$120:$AS$155,38,FALSE)","v":21},{"$f":"IF('Сбор показателей I кв'!G26=\"\",\"-\",VLOOKUP($B20,'Сбор показателей I кв'!$B$125:$AU$160,4,FALSE))","v":"-"},{"$f":"IF('Сбор показателей I кв'!G26=\"\",\"-\",VLOOKUP($B20,'Сбор показателей I кв'!$B$125:$AU$160,5,FALSE))","v":"-"},{"$f":"IF(AND('Сбор показателей I кв'!N26=\"\",'Сбор показателей I кв'!O26=\"\",'Сбор показателей I кв'!P26=\"\"),\"-\",VLOOKUP($B20,'Сбор показателей I кв'!$B$125:$AU$160,8,FALSE))","v":"-"},{"$f":"IF('Сбор показателей I кв'!AJ26=\"\",\"-\",VLOOKUP($B20,'Сбор показателей I кв'!$B$125:$AU$160,23,FALSE))","v":"-"},{"$f":"IF(AND('Сбор показателей I кв'!AT26=\"\",'Сбор показателей I кв'!AU26=\"\"),\"-\",VLOOKUP($B20,'Сбор показателей I кв'!$B$125:$AU$160,38,FALSE))","v":"-"},{"$f":"IF('Сбор показателей II кв'!G26=\"\",\"-\",VLOOKUP($B20,'Сбор показателей II кв'!$B$125:$AT$160,4,FALSE))","v":"-"},{"$f":"IF('Сбор показателей II кв'!G26=\"\",\"-\",VLOOKUP($B20,'Сбор показателей II кв'!$B$125:$AT$160,5,FALSE))","v":"-"},{"$f":"IF(AND('Сбор показателей II кв'!N26=\"\",'Сбор показателей II кв'!O26=\"\",'Сбор показателей II кв'!P26=\"\"),\"-\",VLOOKUP($B20,'Сбор показателей II кв'!$B$125:$AT$160,8,FALSE))","v":"-"},{"$f":"IF('Сбор показателей II кв'!AJ26=\"\",\"-\",VLOOKUP($B20,'Сбор показателей II кв'!$B$125:$AT$160,23,FALSE))","v":"-"},{"$f":"IF(AND('Сбор показателей II кв'!AS26=\"\",'Сбор показателей II кв'!AT26=\"\"),\"-\",VLOOKUP($B20,'Сбор показателей II кв'!$B$125:$AT$160,38,FALSE))","v":"-"},{"$f":"IF('Сбор показателей III кв'!G26=\"\",\"-\",VLOOKUP($B20,'Сбор показателей III кв'!$B$125:$AT$160,4,FALSE))","v":"-"},{"$f":"IF('Сбор показателей III кв'!G26=\"\",\"-\",VLOOKUP($B20,'Сбор показателей III кв'!$B$125:$AT$160,5,FALSE))","v":"-"},{"$f":"IF(AND('Сбор показателей III кв'!N26=\"\",'Сбор показателей III кв'!O26=\"\",'Сбор показателей III кв'!P26=\"\"),\"-\",VLOOKUP($B20,'Сбор показателей III кв'!$B$125:$AT$160,8,FALSE))","v":"-"},{"$f":"IF('Сбор показателей III кв'!AJ26=\"\",\"-\",VLOOKUP($B20,'Сбор показателей III кв'!$B$125:$AT$160,23,FALSE))","v":"-"},{"$f":"IF(AND('Сбор показателей III кв'!AS26=\"\",'Сбор показателей III кв'!AT26=\"\"),\"-\",VLOOKUP($B20,'Сбор показателей III кв'!$B$125:$AT$160,38,FALSE))","v":"-"},{"$f":"IF('Сбор показателей IV кв'!G26=\"\",\"-\",VLOOKUP(B20,'Сбор показателей IV кв'!$B$125:$AT$160,4,FALSE))","v":"-"},{"$f":"IF('Сбор показателей IV кв'!G26=\"\",\"-\",VLOOKUP(B20,'Сбор показателей IV кв'!$B$125:$AT$160,5,FALSE))","v":"-"},{"$f":"IF(AND('Сбор показателей IV кв'!N26=\"\",'Сбор показателей IV кв'!O26=\"\",'Сбор показателей IV кв'!P26=\"\"),\"-\",VLOOKUP(B20,'Сбор показателей IV кв'!$B$125:$AT$160,8,FALSE))","v":"-"},{"$f":"IF('Сбор показателей IV кв'!AJ26=\"\",\"-\",VLOOKUP(B20,'Сбор показателей IV кв'!$B$125:$AT$160,23,FALSE))","v":"-"},{"$f":"IF(AND('Сбор показателей IV кв'!AS26=\"\",'Сбор показателей IV кв'!AT26=\"\"),\"-\",VLOOKUP(B20,'Сбор показателей IV кв'!$B$125:$AT$160,38,FALSE))","v":"-"}]
[null,"Мирсаитов Дмитрий","ЗГД",{"$f":"VLOOKUP($B21,'Показатели за ГОД'!$A$120:$AS$155,4,FALSE)","v":21},{"$f":"VLOOKUP($B21,'Показатели за ГОД'!$A$120:$AS$155,5,FALSE)","v":21},{"$f":"VLOOKUP($B21,'Показатели за ГОД'!$A$120:$AS$155,8,FALSE)","v":21},{"$f":"VLOOKUP($B21,'Показатели за ГОД'!$A$120:$AS$155,23,FALSE)","v":21},{"$f":"VLOOKUP($B21,'Показатели за ГОД'!$A$120:$AS$155,38,FALSE)","v":21},{"$f":"IF('Сбор показателей I кв'!G27=\"\",\"-\",VLOOKUP($B21,'Сбор показателей I кв'!$B$125:$AU$160,4,FALSE))","v":"-"},{"$f":"IF('Сбор показателей I кв'!G27=\"\",\"-\",VLOOKUP($B21,'Сбор показателей I кв'!$B$125:$AU$160,5,FALSE))","v":"-"},{"$f":"IF(AND('Сбор показателей I кв'!N27=\"\",'Сбор показателей I кв'!O27=\"\",'Сбор показателей I кв'!P27=\"\"),\"-\",VLOOKUP($B21,'Сбор показателей I кв'!$B$125:$AU$160,8,FALSE))","v":"-"},{"$f":"IF('Сбор показателей I кв'!AJ27=\"\",\"-\",VLOOKUP($B21,'Сбор показателей I кв'!$B$125:$AU$160,23,FALSE))","v":"-"},{"$f":"IF(AND('Сбор показателей I кв'!AT27=\"\",'Сбор показателей I кв'!AU27=\"\"),\"-\",VLOOKUP($B21,'Сбор показателей I кв'!$B$125:$AU$160,38,FALSE))","v":"-"},{"$f":"IF('Сбор показателей II кв'!G27=\"\",\"-\",VLOOKUP($B21,'Сбор показателей II кв'!$B$125:$AT$160,4,FALSE))","v":"-"},{"$f":"IF('Сбор показателей II кв'!G27=\"\",\"-\",VLOOKUP($B21,'Сбор показателей II кв'!$B$125:$AT$160,5,FALSE))","v":"-"},{"$f":"IF(AND('Сбор показателей II кв'!N27=\"\",'Сбор показателей II кв'!O27=\"\",'Сбор показателей II кв'!P27=\"\"),\"-\",VLOOKUP($B21,'Сбор показателей II кв'!$B$125:$AT$160,8,FALSE))","v":"-"},{"$f":"IF('Сбор показателей II кв'!AJ27=\"\",\"-\",VLOOKUP($B21,'Сбор показателей II кв'!$B$125:$AT$160,23,FALSE))","v":"-"},{"$f":"IF(AND('Сбор показателей II кв'!AS27=\"\",'Сбор показателей II кв'!AT27=\"\"),\"-\",VLOOKUP($B21,'Сбор показателей II кв'!$B$125:$AT$160,38,FALSE))","v":"-"},{"$f":"IF('Сбор показателей III кв'!G27=\"\",\"-\",VLOOKUP($B21,'Сбор показателей III кв'!$B$125:$AT$160,4,FALSE))","v":"-"},{"$f":"IF('Сбор показателей III кв'!G27=\"\",\"-\",VLOOKUP($B21,'Сбор показателей III кв'!$B$125:$AT$160,5,FALSE))","v":"-"},{"$f":"IF(AND('Сбор показателей III кв'!N27=\"\",'Сбор показателей III кв'!O27=\"\",'Сбор показателей III кв'!P27=\"\"),\"-\",VLOOKUP($B21,'Сбор показателей III кв'!$B$125:$AT$160,8,FALSE))","v":"-"},{"$f":"IF('Сбор показателей III кв'!AJ27=\"\",\"-\",VLOOKUP($B21,'Сбор показателей III кв'!$B$125:$AT$160,23,FALSE))","v":"-"},{"$f":"IF(AND('Сбор показателей III кв'!AS27=\"\",'Сбор показателей III кв'!AT27=\"\"),\"-\",VLOOKUP($B21,'Сбор показателей III кв'!$B$125:$AT$160,38,FALSE))","v":"-"},{"$f":"IF('Сбор показателей IV кв'!G27=\"\",\"-\",VLOOKUP(B21,'Сбор показателей IV кв'!$B$125:$AT$160,4,FALSE))","v":"-"},{"$f":"IF('Сбор показателей IV кв'!G27=\"\",\"-\",VLOOKUP(B21,'Сбор показателей IV кв'!$B$125:$AT$160,5,FALSE))","v":"-"},{"$f":"IF(AND('Сбор показателей IV кв'!N27=\"\",'Сбор показателей IV кв'!O27=\"\",'Сбор показателей IV кв'!P27=\"\"),\"-\",VLOOKUP(B21,'Сбор показателей IV кв'!$B$125:$AT$160,8,FALSE))","v":"-"},{"$f":"IF('Сбор показателей IV кв'!AJ27=\"\",\"-\",VLOOKUP(B21,'Сбор показателей IV кв'!$B$125:$AT$160,23,FALSE))","v":"-"},{"$f":"IF(AND('Сбор показателей IV кв'!AS27=\"\",'Сбор показателей IV кв'!AT27=\"\"),\"-\",VLOOKUP(B21,'Сбор показателей IV кв'!$B$125:$AT$160,38,FALSE))","v":"-"}]
[null,"Навальнева Евгения","ЗГД",{"$f":"VLOOKUP($B22,'Показатели за ГОД'!$A$120:$AS$155,4,FALSE)","v":21},{"$f":"VLOOKUP($B22,'Показатели за ГОД'!$A$120:$AS$155,5,FALSE)","v":21},{"$f":"VLOOKUP($B22,'Показатели за ГОД'!$A$120:$AS$155,8,FALSE)","v":21},{"$f":"VLOOKUP($B22,'Показатели за ГОД'!$A$120:$AS$155,23,FALSE)","v":21},{"$f":"VLOOKUP($B22,'Показатели за ГОД'!$A$120:$AS$155,38,FALSE)","v":21},{"$f":"IF('Сбор показателей I кв'!G28=\"\",\"-\",VLOOKUP($B22,'Сбор показателей I кв'!$B$125:$AU$160,4,FALSE))","v":"-"},{"$f":"IF('Сбор показателей I кв'!G28=\"\",\"-\",VLOOKUP($B22,'Сбор показателей I кв'!$B$125:$AU$160,5,FALSE))","v":"-"},{"$f":"IF(AND('Сбор показателей I кв'!N28=\"\",'Сбор показателей I кв'!O28=\"\",'Сбор показателей I кв'!P28=\"\"),\"-\",VLOOKUP($B22,'Сбор показателей I кв'!$B$125:$AU$160,8,FALSE))","v":"-"},{"$f":"IF('Сбор показателей I кв'!AJ28=\"\",\"-\",VLOOKUP($B22,'Сбор показателей I кв'!$B$125:$AU$160,23,FALSE))","v":"-"},{"$f":"IF(AND('Сбор показателей I кв'!AT28=\"\",'Сбор показателей I кв'!AU28=\"\"),\"-\",VLOOKUP($B22,'Сбор показателей I кв'!$B$125:$AU$160,38,FALSE))","v":"-"},{"$f":"IF('Сбор показателей II кв'!G28=\"\",\"-\",VLOOKUP($B22,'Сбор показателей II кв'!$B$125:$AT$160,4,FALSE))","v":"-"},{"$f":"IF('Сбор показателей II кв'!G28=\"\",\"-\",VLOOKUP($B22,'Сбор показателей II кв'!$B$125:$AT$160,5,FALSE))","v":"-"},{"$f":"IF(AND('Сбор показателей II кв'!N28=\"\",'Сбор показателей II кв'!O28=\"\",'Сбор показателей II кв'!P28=\"\"),\"-\",VLOOKUP($B22,'Сбор показателей II кв'!$B$125:$AT$160,8,FALSE))","v":"-"},{"$f":"IF('Сбор показателей II кв'!AJ28=\"\",\"-\",VLOOKUP($B22,'Сбор показателей II кв'!$B$125:$AT$160,23,FALSE))","v":"-"},{"$f":"IF(AND('Сбор показателей II кв'!AS28=\"\",'Сбор показателей II кв'!AT28=\"\"),\"-\",VLOOKUP($B22,'Сбор показателей II кв'!$B$125:$AT$160,38,FALSE))","v":"-"},{"$f":"IF('Сбор показателей III кв'!G28=\"\",\"-\",VLOOKUP($B22,'Сбор показателей III кв'!$B$125:$AT$160,4,FALSE))","v":"-"},{"$f":"IF('Сбор показателей III кв'!G28=\"\",\"-\",VLOOKUP($B22,'Сбор показателей III кв'!$B$125:$AT$160,5,FALSE))","v":"-"},{"$f":"IF(AND('Сбор показателей III кв'!N28=\"\",'Сбор показателей III кв'!O28=\"\",'Сбор показателей III кв'!P28=\"\"),\"-\",VLOOKUP($B22,'Сбор показателей III кв'!$B$125:$AT$160,8,FALSE))","v":"-"},{"$f":"IF('Сбор показателей III кв'!AJ28=\"\",\"-\",VLOOKUP($B22,'Сбор показателей III кв'!$B$125:$AT$160,23,FALSE))","v":"-"},{"$f":"IF(AND('Сбор показателей III кв'!AS28=\"\",'Сбор показателей III кв'!AT28=\"\"),\"-\",VLOOKUP($B22,'Сбор показателей III кв'!$B$125:$AT$160,38,FALSE))","v":"-"},{"$f":"IF('Сбор показателей IV кв'!G28=\"\",\"-\",VLOOKUP(B22,'Сбор показателей IV кв'!$B$125:$AT$160,4,FALSE))","v":"-"},{"$f":"IF('Сбор показателей IV кв'!G28=\"\",\"-\",VLOOKUP(B22,'Сбор показателей IV кв'!$B$125:$AT$160,5,FALSE))","v":"-"},{"$f":"IF(AND('Сбор показателей IV кв'!N28=\"\",'Сбор показателей IV кв'!O28=\"\",'Сбор показателей IV кв'!P28=\"\"),\"-\",VLOOKUP(B22,'Сбор показателей IV кв'!$B$125:$AT$160,8,FALSE))","v":"-"},{"$f":"IF('Сбор показателей IV кв'!AJ28=\"\",\"-\",VLOOKUP(B22,'Сбор показателей IV кв'!$B$125:$AT$160,23,FALSE))","v":"-"},{"$f":"IF(AND('Сбор показателей IV кв'!AS28=\"\",'Сбор показателей IV кв'!AT28=\"\"),\"-\",VLOOKUP(B22,'Сбор показателей IV кв'!$B$125:$AT$160,38,FALSE))","v":"-"}]
[null,"Османов Руслан","ЗГД",{"$f":"VLOOKUP($B23,'Показатели за ГОД'!$A$120:$AS$155,4,FALSE)","v":21},{"$f":"VLOOKUP($B23,'Показатели за ГОД'!$A$120:$AS$155,5,FALSE)","v":21},{"$f":"VLOOKUP($B23,'Показатели за ГОД'!$A$120:$AS$155,8,FALSE)","v":21},{"$f":"VLOOKUP($B23,'Показатели за ГОД'!$A$120:$AS$155,23,FALSE)","v":21},{"$f":"VLOOKUP($B23,'Показатели за ГОД'!$A$120:$AS$155,38,FALSE)","v":21},{"$f":"IF('Сбор показателей I кв'!G29=\"\",\"-\",VLOOKUP($B23,'Сбор показателей I кв'!$B$125:$AU$160,4,FALSE))","v":"-"},{"$f":"IF('Сбор показателей I кв'!G29=\"\",\"-\",VLOOKUP($B23,'Сбор показателей I кв'!$B$125:$AU$160,5,FALSE))","v":"-"},{"$f":"IF(AND('Сбор показателей I кв'!N29=\"\",'Сбор показателей I кв'!O29=\"\",'Сбор показателей I кв'!P29=\"\"),\"-\",VLOOKUP($B23,'Сбор показателей I кв'!$B$125:$AU$160,8,FALSE))","v":"-"},{"$f":"IF('Сбор показателей I кв'!AJ29=\"\",\"-\",VLOOKUP($B23,'Сбор показателей I кв'!$B$125:$AU$160,23,FALSE))","v":"-"},{"$f":"IF(AND('Сбор показателей I кв'!AT29=\"\",'Сбор показателей I кв'!AU29=\"\"),\"-\",VLOOKUP($B23,'Сбор показателей I кв'!$B$125:$AU$160,38,FALSE))","v":"-"},{"$f":"IF('Сбор показателей II кв'!G29=\"\",\"-\",VLOOKUP($B23,'Сбор показателей II кв'!$B$125:$AT$160,4,FALSE))","v":"-"},{"$f":"IF('Сбор показателей II кв'!G29=\"\",\"-\",VLOOKUP($B23,'Сбор показателей II кв'!$B$125:$AT$160,5,FALSE))","v":"-"},{"$f":"IF(AND('Сбор показателей II кв'!N29=\"\",'Сбор показателей II кв'!O29=\"\",'Сбор показателей II кв'!P29=\"\"),\"-\",VLOOKUP($B23,'Сбор показателей II кв'!$B$125:$AT$160,8,FALSE))","v":"-"},{"$f":"IF('Сбор показателей II кв'!AJ29=\"\",\"-\",VLOOKUP($B23,'Сбор показателей II кв'!$B$125:$AT$160,23,FALSE))","v":"-"},{"$f":"IF(AND('Сбор показателей II кв'!AS29=\"\",'Сбор показателей II кв'!AT29=\"\"),\"-\",VLOOKUP($B23,'Сбор показателей II кв'!$B$125:$AT$160,38,FALSE))","v":"-"},{"$f":"IF('Сбор показателей III кв'!G29=\"\",\"-\",VLOOKUP($B23,'Сбор показателей III кв'!$B$125:$AT$160,4,FALSE))","v":"-"},{"$f":"IF('Сбор показателей III кв'!G29=\"\",\"-\",VLOOKUP($B23,'Сбор показателей III кв'!$B$125:$AT$160,5,FALSE))","v":"-"},{"$f":"IF(AND('Сбор показателей III кв'!N29=\"\",'Сбор показателей III кв'!O29=\"\",'Сбор показателей III кв'!P29=\"\"),\"-\",VLOOKUP($B23,'Сбор показателей III кв'!$B$125:$AT$160,8,FALSE))","v":"-"},{"$f":"IF('Сбор показателей III кв'!AJ29=\"\",\"-\",VLOOKUP($B23,'Сбор показателей III кв'!$B$125:$AT$160,23,FALSE))","v":"-"},{"$f":"IF(AND('Сбор показателей III кв'!AS29=\"\",'Сбор показателей III кв'!AT29=\"\"),\"-\",VLOOKUP($B23,'Сбор показателей III кв'!$B$125:$AT$160,38,FALSE))","v":"-"},{"$f":"IF('Сбор показателей IV кв'!G29=\"\",\"-\",VLOOKUP(B23,'Сбор показателей IV кв'!$B$125:$AT$160,4,FALSE))","v":"-"},{"$f":"IF('Сбор показателей IV кв'!G29=\"\",\"-\",VLOOKUP(B23,'Сбор показателей IV кв'!$B$125:$AT$160,5,FALSE))","v":"-"},{"$f":"IF(AND('Сбор показателей IV кв'!N29=\"\",'Сбор показателей IV кв'!O29=\"\",'Сбор показателей IV кв'!P29=\"\"),\"-\",VLOOKUP(B23,'Сбор показателей IV кв'!$B$125:$AT$160,8,FALSE))","v":"-"},{"$f":"IF('Сбор показателей IV кв'!AJ29=\"\",\"-\",VLOOKUP(B23,'Сбор показателей IV кв'!$B$125:$AT$160,23,FALSE))","v":"-"},{"$f":"IF(AND('Сбор показателей IV кв'!AS29=\"\",'Сбор показателей IV кв'!AT29=\"\"),\"-\",VLOOKUP(B23,'Сбор показателей IV кв'!$B$125:$AT$160,38,FALSE))","v":"-"}]
[null,"Приймак Андрей","ЗГД",{"$f":"VLOOKUP($B24,'Показатели за ГОД'!$A$120:$AS$155,4,FALSE)","v":21},{"$f":"VLOOKUP($B24,'Показатели за ГОД'!$A$120:$AS$155,5,FALSE)","v":21},{"$f":"VLOOKUP($B24,'Показатели за ГОД'!$A$120:$AS$155,8,FALSE)","v":21},{"$f":"VLOOKUP($B24,'Показатели за ГОД'!$A$120:$AS$155,23,FALSE)","v":21},{"$f":"VLOOKUP($B24,'Показатели за ГОД'!$A$120:$AS$155,38,FALSE)","v":21},{"$f":"IF('Сбор показателей I кв'!G30=\"\",\"-\",VLOOKUP($B24,'Сбор показателей I кв'!$B$125:$AU$160,4,FALSE))","v":"-"},{"$f":"IF('Сбор показателей I кв'!G30=\"\",\"-\",VLOOKUP($B24,'Сбор показателей I кв'!$B$125:$AU$160,5,FALSE))","v":"-"},{"$f":"IF(AND('Сбор показателей I кв'!N30=\"\",'Сбор показателей I кв'!O30=\"\",'Сбор показателей I кв'!P30=\"\"),\"-\",VLOOKUP($B24,'Сбор показателей I кв'!$B$125:$AU$160,8,FALSE))","v":"-"},{"$f":"IF('Сбор показателей I кв'!AJ30=\"\",\"-\",VLOOKUP($B24,'Сбор показателей I кв'!$B$125:$AU$160,23,FALSE))","v":"-"},{"$f":"IF(AND('Сбор показателей I кв'!AT30=\"\",'Сбор показателей I кв'!AU30=\"\"),\"-\",VLOOKUP($B24,'Сбор показателей I кв'!$B$125:$AU$160,38,FALSE))","v":"-"},{"$f":"IF('Сбор показателей II кв'!G30=\"\",\"-\",VLOOKUP($B24,'Сбор показателей II кв'!$B$125:$AT$160,4,FALSE))","v":"-"},{"$f":"IF('Сбор показателей II кв'!G30=\"\",\"-\",VLOOKUP($B24,'Сбор показателей II кв'!$B$125:$AT$160,5,FALSE))","v":"-"},{"$f":"IF(AND('Сбор показателей II кв'!N30=\"\",'Сбор показателей II кв'!O30=\"\",'Сбор показателей II кв'!P30=\"\"),\"-\",VLOOKUP($B24,'Сбор показателей II кв'!$B$125:$AT$160,8,FALSE))","v":"-"},{"$f":"IF('Сбор показателей II кв'!AJ30=\"\",\"-\",VLOOKUP($B24,'Сбор показателей II кв'!$B$125:$AT$160,23,FALSE))","v":"-"},{"$f":"IF(AND('Сбор показателей II кв'!AS30=\"\",'Сбор показателей II кв'!AT30=\"\"),\"-\",VLOOKUP($B24,'Сбор показателей II кв'!$B$125:$AT$160,38,FALSE))","v":"-"},{"$f":"IF('Сбор показателей III кв'!G30=\"\",\"-\",VLOOKUP($B24,'Сбор показателей III кв'!$B$125:$AT$160,4,FALSE))","v":"-"},{"$f":"IF('Сбор показателей III кв'!G30=\"\",\"-\",VLOOKUP($B24,'Сбор показателей III кв'!$B$125:$AT$160,5,FALSE))","v":"-"},{"$f":"IF(AND('Сбор показателей III кв'!N30=\"\",'Сбор показателей III кв'!O30=\"\",'Сбор показателей III кв'!P30=\"\"),\"-\",VLOOKUP($B24,'Сбор показателей III кв'!$B$125:$AT$160,8,FALSE))","v":"-"},{"$f":"IF('Сбор показателей III кв'!AJ30=\"\",\"-\",VLOOKUP($B24,'Сбор показателей III кв'!$B$125:$AT$160,23,FALSE))","v":"-"},{"$f":"IF(AND('Сбор показателей III кв'!AS30=\"\",'Сбор показателей III кв'!AT30=\"\"),\"-\",VLOOKUP($B24,'Сбор показателей III кв'!$B$125:$AT$160,38,FALSE))","v":"-"},{"$f":"IF('Сбор показателей IV кв'!G30=\"\",\"-\",VLOOKUP(B24,'Сбор показателей IV кв'!$B$125:$AT$160,4,FALSE))","v":"-"},{"$f":"IF('Сбор показателей IV кв'!G30=\"\",\"-\",VLOOKUP(B24,'Сбор показателей IV кв'!$B$125:$AT$160,5,FALSE))","v":"-"},{"$f":"IF(AND('Сбор показателей IV кв'!N30=\"\",'Сбор показателей IV кв'!O30=\"\",'Сбор показателей IV кв'!P30=\"\"),\"-\",VLOOKUP(B24,'Сбор показателей IV кв'!$B$125:$AT$160,8,FALSE))","v":"-"},{"$f":"IF('Сбор показателей IV кв'!AJ30=\"\",\"-\",VLOOKUP(B24,'Сбор показателей IV кв'!$B$125:$AT$160,23,FALSE))","v":"-"},{"$f":"IF(AND('Сбор показателей IV кв'!AS30=\"\",'Сбор показателей IV кв'!AT30=\"\"),\"-\",VLOOKUP(B24,'Сбор показателей IV кв'!$B$125:$AT$160,38,FALSE))","v":"-"}]
[null,"Проскуряков Алексей","ОКР",{"$f":"VLOOKUP($B25,'Показатели за ГОД'!$A$120:$AS$155,4,FALSE)","v":21},{"$f":"VLOOKUP($B25,'Показатели за ГОД'!$A$120:$AS$155,5,FALSE)","v":21},{"$f":"VLOOKUP($B25,'Показатели за ГОД'!$A$120:$AS$155,8,FALSE)","v":21},{"$f":"VLOOKUP($B25,'Показатели за ГОД'!$A$120:$AS$155,23,FALSE)","v":21},{"$f":"VLOOKUP($B25,'Показатели за ГОД'!$A$120:$AS$155,38,FALSE)","v":21},{"$f":"IF('Сбор показателей I кв'!G31=\"\",\"-\",VLOOKUP($B25,'Сбор показателей I кв'!$B$125:$AU$160,4,FALSE))","v":"-"},{"$f":"IF('Сбор показателей I кв'!G31=\"\",\"-\",VLOOKUP($B25,'Сбор показателей I кв'!$B$125:$AU$160,5,FALSE))","v":"-"},{"$f":"IF(AND('Сбор показателей I кв'!N31=\"\",'Сбор показателей I кв'!O31=\"\",'Сбор показателей I кв'!P31=\"\"),\"-\",VLOOKUP($B25,'Сбор показателей I кв'!$B$125:$AU$160,8,FALSE))","v":"-"},{"$f":"IF('Сбор показателей I кв'!AJ31=\"\",\"-\",VLOOKUP($B25,'Сбор показателей I кв'!$B$125:$AU$160,23,FALSE))","v":"-"},{"$f":"IF(AND('Сбор показателей I кв'!AT31=\"\",'Сбор показателей I кв'!AU31=\"\"),\"-\",VLOOKUP($B25,'Сбор показателей I кв'!$B$125:$AU$160,38,FALSE))","v":"-"},{"$f":"IF('Сбор показателей II кв'!G31=\"\",\"-\",VLOOKUP($B25,'Сбор показателей II кв'!$B$125:$AT$160,4,FALSE))","v":"-"},{"$f":"IF('Сбор показателей II кв'!G31=\"\",\"-\",VLOOKUP($B25,'Сбор показателей II кв'!$B$125:$AT$160,5,FALSE))","v":"-"},{"$f":"IF(AND('Сбор показателей II кв'!N31=\"\",'Сбор показателей II кв'!O31=\"\",'Сбор показателей II кв'!P31=\"\"),\"-\",VLOOKUP($B25,'Сбор показателей II кв'!$B$125:$AT$160,8,FALSE))","v":"-"},{"$f":"IF('Сбор показателей II кв'!AJ31=\"\",\"-\",VLOOKUP($B25,'Сбор показателей II кв'!$B$125:$AT$160,23,FALSE))","v":"-"},{"$f":"IF(AND('Сбор показателей II кв'!AS31=\"\",'Сбор показателей II кв'!AT31=\"\"),\"-\",VLOOKUP($B25,'Сбор показателей II кв'!$B$125:$AT$160,38,FALSE))","v":"-"},{"$f":"IF('Сбор показателей III кв'!G31=\"\",\"-\",VLOOKUP($B25,'Сбор показателей III кв'!$B$125:$AT$160,4,FALSE))","v":"-"},{"$f":"IF('Сбор показателей III кв'!G31=\"\",\"-\",VLOOKUP($B25,'Сбор показателей III кв'!$B$125:$AT$160,5,FALSE))","v":"-"},{"$f":"IF(AND('Сбор показателей III кв'!N31=\"\",'Сбор показателей III кв'!O31=\"\",'Сбор показателей III кв'!P31=\"\"),\"-\",VLOOKUP($B25,'Сбор показателей III кв'!$B$125:$AT$160,8,FALSE))","v":"-"},{"$f":"IF('Сбор показателей III кв'!AJ31=\"\",\"-\",VLOOKUP($B25,'Сбор показателей III кв'!$B$125:$AT$160,23,FALSE))","v":"-"},{"$f":"IF(AND('Сбор показателей III кв'!AS31=\"\",'Сбор показателей III кв'!AT31=\"\"),\"-\",VLOOKUP($B25,'Сбор показателей III кв'!$B$125:$AT$160,38,FALSE))","v":"-"},{"$f":"IF('Сбор показателей IV кв'!G31=\"\",\"-\",VLOOKUP(B25,'Сбор показателей IV кв'!$B$125:$AT$160,4,FALSE))","v":"-"},{"$f":"IF('Сбор показателей IV кв'!G31=\"\",\"-\",VLOOKUP(B25,'Сбор показателей IV кв'!$B$125:$AT$160,5,FALSE))","v":"-"},{"$f":"IF(AND('Сбор показателей IV кв'!N31=\"\",'Сбор показателей IV кв'!O31=\"\",'Сбор показателей IV кв'!P31=\"\"),\"-\",VLOOKUP(B25,'Сбор показателей IV кв'!$B$125:$AT$160,8,FALSE))","v":"-"},{"$f":"IF('Сбор показателей IV кв'!AJ31=\"\",\"-\",VLOOKUP(B25,'Сбор показателей IV кв'!$B$125:$AT$160,23,FALSE))","v":"-"},{"$f":"IF(AND('Сбор показателей IV кв'!AS31=\"\",'Сбор показателей IV кв'!AT31=\"\"),\"-\",VLOOKUP(B25,'Сбор показателей IV кв'!$B$125:$AT$160,38,FALSE))","v":"-"}]
[null,"Савченко Яна","ОКР (КЦ)",{"$f":"VLOOKUP($B26,'Показатели за ГОД'!$A$120:$AS$155,4,FALSE)","v":21},{"$f":"VLOOKUP($B26,'Показатели за ГОД'!$A$120:$AS$155,5,FALSE)","v":21},{"$f":"VLOOKUP($B26,'Показатели за ГОД'!$A$120:$AS$155,8,FALSE)","v":21},{"$f":"VLOOKUP($B26,'Показатели за ГОД'!$A$120:$AS$155,23,FALSE)","v":21},{"$f":"VLOOKUP($B26,'Показатели за ГОД'!$A$120:$AS$155,38,FALSE)","v":21},{"$f":"IF('Сбор показателей I кв'!G32=\"\",\"-\",VLOOKUP($B26,'Сбор показателей I кв'!$B$125:$AU$160,4,FALSE))","v":"-"},{"$f":"IF('Сбор показателей I кв'!G32=\"\",\"-\",VLOOKUP($B26,'Сбор показателей I кв'!$B$125:$AU$160,5,FALSE))","v":"-"},{"$f":"IF(AND('Сбор показателей I кв'!N32=\"\",'Сбор показателей I кв'!O32=\"\",'Сбор показателей I кв'!P32=\"\"),\"-\",VLOOKUP($B26,'Сбор показателей I кв'!$B$125:$AU$160,8,FALSE))","v":"-"},{"$f":"IF('Сбор показателей I кв'!AJ32=\"\",\"-\",VLOOKUP($B26,'Сбор показателей I кв'!$B$125:$AU$160,23,FALSE))","v":"-"},{"$f":"IF(AND('Сбор показателей I кв'!AT32=\"\",'Сбор показателей I кв'!AU32=\"\"),\"-\",VLOOKUP($B26,'Сбор показателей I кв'!$B$125:$AU$160,38,FALSE))","v":"-"},{"$f":"IF('Сбор показателей II кв'!G32=\"\",\"-\",VLOOKUP($B26,'Сбор показателей II кв'!$B$125:$AT$160,4,FALSE))","v":"-"},{"$f":"IF('Сбор показателей II кв'!G32=\"\",\"-\",VLOOKUP($B26,'Сбор показателей II кв'!$B$125:$AT$160,5,FALSE))","v":"-"},{"$f":"IF(AND('Сбор показателей II кв'!N32=\"\",'Сбор показателей II кв'!O32=\"\",'Сбор показателей II кв'!P32=\"\"),\"-\",VLOOKUP($B26,'Сбор показателей II кв'!$B$125:$AT$160,8,FALSE))","v":"-"},{"$f":"IF('Сбор показателей II кв'!AJ32=\"\",\"-\",VLOOKUP($B26,'Сбор показателей II кв'!$B$125:$AT$160,23,FALSE))","v":"-"},{"$f":"IF(AND('Сбор показателей II кв'!AS32=\"\",'Сбор показателей II кв'!AT32=\"\"),\"-\",VLOOKUP($B26,'Сбор показателей II кв'!$B$125:$AT$160,38,FALSE))","v":"-"},{"$f":"IF('Сбор показателей III кв'!G32=\"\",\"-\",VLOOKUP($B26,'Сбор показателей III кв'!$B$125:$AT$160,4,FALSE))","v":"-"},{"$f":"IF('Сбор показателей III кв'!G32=\"\",\"-\",VLOOKUP($B26,'Сбор показателей III кв'!$B$125:$AT$160,5,FALSE))","v":"-"},{"$f":"IF(AND('Сбор показателей III кв'!N32=\"\",'Сбор показателей III кв'!O32=\"\",'Сбор показателей III кв'!P32=\"\"),\"-\",VLOOKUP($B26,'Сбор показателей III кв'!$B$125:$AT$160,8,FALSE))","v":"-"},{"$f":"IF('Сбор показателей III кв'!AJ32=\"\",\"-\",VLOOKUP($B26,'Сбор показателей III кв'!$B$125:$AT$160,23,FALSE))","v":"-"},{"$f":"IF(AND('Сбор показателей III кв'!AS32=\"\",'Сбор показателей III кв'!AT32=\"\"),\"-\",VLOOKUP($B26,'Сбор показателей III кв'!$B$125:$AT$160,38,FALSE))","v":"-"},{"$f":"IF('Сбор показателей IV кв'!G32=\"\",\"-\",VLOOKUP(B26,'Сбор показателей IV кв'!$B$125:$AT$160,4,FALSE))","v":"-"},{"$f":"IF('Сбор показателей IV кв'!G32=\"\",\"-\",VLOOKUP(B26,'Сбор показателей IV кв'!$B$125:$AT$160,5,FALSE))","v":"-"},{"$f":"IF(AND('Сбор показателей IV кв'!N32=\"\",'Сбор показателей IV кв'!O32=\"\",'Сбор показателей IV кв'!P32=\"\"),\"-\",VLOOKUP(B26,'Сбор показателей IV кв'!$B$125:$AT$160,8,FALSE))","v":"-"},{"$f":"IF('Сбор показателей IV кв'!AJ32=\"\",\"-\",VLOOKUP(B26,'Сбор показателей IV кв'!$B$125:$AT$160,23,FALSE))","v":"-"},{"$f":"IF(AND('Сбор показателей IV кв'!AS32=\"\",'Сбор показателей IV кв'!AT32=\"\"),\"-\",VLOOKUP(B26,'Сбор показателей IV кв'!$B$125:$AT$160,38,FALSE))","v":"-"}]
[null,"Сафиуллин Наиль","ОКР (КЦ)",{"$f":"VLOOKUP($B27,'Показатели за ГОД'!$A$120:$AS$155,4,FALSE)","v":21},{"$f":"VLOOKUP($B27,'Показатели за ГОД'!$A$120:$AS$155,5,FALSE)","v":21},{"$f":"VLOOKUP($B27,'Показатели за ГОД'!$A$120:$AS$155,8,FALSE)","v":21},{"$f":"VLOOKUP($B27,'Показатели за ГОД'!$A$120:$AS$155,23,FALSE)","v":21},{"$f":"VLOOKUP($B27,'Показатели за ГОД'!$A$120:$AS$155,38,FALSE)","v":21},{"$f":"IF('Сбор показателей I кв'!G33=\"\",\"-\",VLOOKUP($B27,'Сбор показателей I кв'!$B$125:$AU$160,4,FALSE))","v":"-"},{"$f":"IF('Сбор показателей I кв'!G33=\"\",\"-\",VLOOKUP($B27,'Сбор показателей I кв'!$B$125:$AU$160,5,FALSE))","v":"-"},{"$f":"IF(AND('Сбор показателей I кв'!N33=\"\",'Сбор показателей I кв'!O33=\"\",'Сбор показателей I кв'!P33=\"\"),\"-\",VLOOKUP($B27,'Сбор показателей I кв'!$B$125:$AU$160,8,FALSE))","v":"-"},{"$f":"IF('Сбор показателей I кв'!AJ33=\"\",\"-\",VLOOKUP($B27,'Сбор показателей I кв'!$B$125:$AU$160,23,FALSE))","v":"-"},{"$f":"IF(AND('Сбор показателей I кв'!AT33=\"\",'Сбор показателей I кв'!AU33=\"\"),\"-\",VLOOKUP($B27,'Сбор показателей I кв'!$B$125:$AU$160,38,FALSE))","v":"-"},{"$f":"IF('Сбор показателей II кв'!G33=\"\",\"-\",VLOOKUP($B27,'Сбор показателей II кв'!$B$125:$AT$160,4,FALSE))","v":"-"},{"$f":"IF('Сбор показателей II кв'!G33=\"\",\"-\",VLOOKUP($B27,'Сбор показателей II кв'!$B$125:$AT$160,5,FALSE))","v":"-"},{"$f":"IF(AND('Сбор показателей II кв'!N33=\"\",'Сбор показателей II кв'!O33=\"\",'Сбор показателей II кв'!P33=\"\"),\"-\",VLOOKUP($B27,'Сбор показателей II кв'!$B$125:$AT$160,8,FALSE))","v":"-"},{"$f":"IF('Сбор показателей II кв'!AJ33=\"\",\"-\",VLOOKUP($B27,'Сбор показателей II кв'!$B$125:$AT$160,23,FALSE))","v":"-"},{"$f":"IF(AND('Сбор показателей II кв'!AS33=\"\",'Сбор показателей II кв'!AT33=\"\"),\"-\",VLOOKUP($B27,'Сбор показателей II кв'!$B$125:$AT$160,38,FALSE))","v":"-"},{"$f":"IF('Сбор показателей III кв'!G33=\"\",\"-\",VLOOKUP($B27,'Сбор показателей III кв'!$B$125:$AT$160,4,FALSE))","v":"-"},{"$f":"IF('Сбор показателей III кв'!G33=\"\",\"-\",VLOOKUP($B27,'Сбор показателей III кв'!$B$125:$AT$160,5,FALSE))","v":"-"},{"$f":"IF(AND('Сбор показателей III кв'!N33=\"\",'Сбор показателей III кв'!O33=\"\",'Сбор показателей III кв'!P33=\"\"),\"-\",VLOOKUP($B27,'Сбор показателей III кв'!$B$125:$AT$160,8,FALSE))","v":"-"},{"$f":"IF('Сбор показателей III кв'!AJ33=\"\",\"-\",VLOOKUP($B27,'Сбор показателей III кв'!$B$125:$AT$160,23,FALSE))","v":"-"},{"$f":"IF(AND('Сбор показателей III кв'!AS33=\"\",'Сбор показателей III кв'!AT33=\"\"),\"-\",VLOOKUP($B27,'Сбор показателей III кв'!$B$125:$AT$160,38,FALSE))","v":"-"},{"$f":"IF('Сбор показателей IV кв'!G33=\"\",\"-\",VLOOKUP(B27,'Сбор показателей IV кв'!$B$125:$AT$160,4,FALSE))","v":"-"},{"$f":"IF('Сбор показателей IV кв'!G33=\"\",\"-\",VLOOKUP(B27,'Сбор показателей IV кв'!$B$125:$AT$160,5,FALSE))","v":"-"},{"$f":"IF(AND('Сбор показателей IV кв'!N33=\"\",'Сбор показателей IV кв'!O33=\"\",'Сбор показателей IV кв'!P33=\"\"),\"-\",VLOOKUP(B27,'Сбор показателей IV кв'!$B$125:$AT$160,8,FALSE))","v":"-"},{"$f":"IF('Сбор показателей IV кв'!AJ33=\"\",\"-\",VLOOKUP(B27,'Сбор показателей IV кв'!$B$125:$AT$160,23,FALSE))","v":"-"},{"$f":"IF(AND('Сбор показателей IV кв'!AS33=\"\",'Сбор показателей IV кв'!AT33=\"\"),\"-\",VLOOKUP(B27,'Сбор показателей IV кв'!$B$125:$AT$160,38,FALSE))","v":"-"}]
[null,"Сметанин Павел","ОКР",{"$f":"VLOOKUP($B28,'Показатели за ГОД'!$A$120:$AS$155,4,FALSE)","v":21},{"$f":"VLOOKUP($B28,'Показатели за ГОД'!$A$120:$AS$155,5,FALSE)","v":21},{"$f":"VLOOKUP($B28,'Показатели за ГОД'!$A$120:$AS$155,8,FALSE)","v":21},{"$f":"VLOOKUP($B28,'Показатели за ГОД'!$A$120:$AS$155,23,FALSE)","v":21},{"$f":"VLOOKUP($B28,'Показатели за ГОД'!$A$120:$AS$155,38,FALSE)","v":21},{"$f":"IF('Сбор показателей I кв'!G34=\"\",\"-\",VLOOKUP($B28,'Сбор показателей I кв'!$B$125:$AU$160,4,FALSE))","v":"-"},{"$f":"IF('Сбор показателей I кв'!G34=\"\",\"-\",VLOOKUP($B28,'Сбор показателей I кв'!$B$125:$AU$160,5,FALSE))","v":"-"},{"$f":"IF(AND('Сбор показателей I кв'!N34=\"\",'Сбор показателей I кв'!O34=\"\",'Сбор показателей I кв'!P34=\"\"),\"-\",VLOOKUP($B28,'Сбор показателей I кв'!$B$125:$AU$160,8,FALSE))","v":"-"},{"$f":"IF('Сбор показателей I кв'!AJ34=\"\",\"-\",VLOOKUP($B28,'Сбор показателей I кв'!$B$125:$AU$160,23,FALSE))","v":"-"},{"$f":"IF(AND('Сбор показателей I кв'!AT34=\"\",'Сбор показателей I кв'!AU34=\"\"),\"-\",VLOOKUP($B28,'Сбор показателей I кв'!$B$125:$AU$160,38,FALSE))","v":"-"},{"$f":"IF('Сбор показателей II кв'!G34=\"\",\"-\",VLOOKUP($B28,'Сбор показателей II кв'!$B$125:$AT$160,4,FALSE))","v":"-"},{"$f":"IF('Сбор показателей II кв'!G34=\"\",\"-\",VLOOKUP($B28,'Сбор показателей II кв'!$B$125:$AT$160,5,FALSE))","v":"-"},{"$f":"IF(AND('Сбор показателей II кв'!N34=\"\",'Сбор показателей II кв'!O34=\"\",'Сбор показателей II кв'!P34=\"\"),\"-\",VLOOKUP($B28,'Сбор показателей II кв'!$B$125:$AT$160,8,FALSE))","v":"-"},{"$f":"IF('Сбор показателей II кв'!AJ34=\"\",\"-\",VLOOKUP($B28,'Сбор показателей II кв'!$B$125:$AT$160,23,FALSE))","v":"-"},{"$f":"IF(AND('Сбор показателей II кв'!AS34=\"\",'Сбор показателей II кв'!AT34=\"\"),\"-\",VLOOKUP($B28,'Сбор показателей II кв'!$B$125:$AT$160,38,FALSE))","v":"-"},{"$f":"IF('Сбор показателей III кв'!G34=\"\",\"-\",VLOOKUP($B28,'Сбор показателей III кв'!$B$125:$AT$160,4,FALSE))","v":"-"},{"$f":"IF('Сбор показателей III кв'!G34=\"\",\"-\",VLOOKUP($B28,'Сбор показателей III кв'!$B$125:$AT$160,5,FALSE))","v":"-"},{"$f":"IF(AND('Сбор показателей III кв'!N34=\"\",'Сбор показателей III кв'!O34=\"\",'Сбор показателей III кв'!P34=\"\"),\"-\",VLOOKUP($B28,'Сбор показателей III кв'!$B$125:$AT$160,8,FALSE))","v":"-"},{"$f":"IF('Сбор показателей III кв'!AJ34=\"\",\"-\",VLOOKUP($B28,'Сбор показателей III кв'!$B$125:$AT$160,23,FALSE))","v":"-"},{"$f":"IF(AND('Сбор показателей III кв'!AS34=\"\",'Сбор показателей III кв'!AT34=\"\"),\"-\",VLOOKUP($B28,'Сбор показателей III кв'!$B$125:$AT$160,38,FALSE))","v":"-"},{"$f":"IF('Сбор показателей IV кв'!G34=\"\",\"-\",VLOOKUP(B28,'Сбор показателей IV кв'!$B$125:$AT$160,4,FALSE))","v":"-"},{"$f":"IF('Сбор показателей IV кв'!G34=\"\",\"-\",VLOOKUP(B28,'Сбор показателей IV кв'!$B$125:$AT$160,5,FALSE))","v":"-"},{"$f":"IF(AND('Сбор показателей IV кв'!N34=\"\",'Сбор показателей IV кв'!O34=\"\",'Сбор показателей IV кв'!P34=\"\"),\"-\",VLOOKUP(B28,'Сбор показателей IV кв'!$B$125:$AT$160,8,FALSE))","v":"-"},{"$f":"IF('Сбор показателей IV кв'!AJ34=\"\",\"-\",VLOOKUP(B28,'Сбор показателей IV кв'!$B$125:$AT$160,23,FALSE))","v":"-"},{"$f":"IF(AND('Сбор показателей IV кв'!AS34=\"\",'Сбор показателей IV кв'!AT34=\"\"),\"-\",VLOOKUP(B28,'Сбор показателей IV кв'!$B$125:$AT$160,38,FALSE))","v":"-"}]
[null,"Степин Константин","ОКР (КЦ)",{"$f":"VLOOKUP($B29,'Показатели за ГОД'!$A$120:$AS$155,4,FALSE)","v":21},{"$f":"VLOOKUP($B29,'Показатели за ГОД'!$A$120:$AS$155,5,FALSE)","v":21},{"$f":"VLOOKUP($B29,'Показатели за ГОД'!$A$120:$AS$155,8,FALSE)","v":21},{"$f":"VLOOKUP($B29,'Показатели за ГОД'!$A$120:$AS$155,23,FALSE)","v":21},{"$f":"VLOOKUP($B29,'Показатели за ГОД'!$A$120:$AS$155,38,FALSE)","v":21},{"$f":"IF('Сбор показателей I кв'!G35=\"\",\"-\",VLOOKUP($B29,'Сбор показателей I кв'!$B$125:$AU$160,4,FALSE))","v":"-"},{"$f":"IF('Сбор показателей I кв'!G35=\"\",\"-\",VLOOKUP($B29,'Сбор показателей I кв'!$B$125:$AU$160,5,FALSE))","v":"-"},{"$f":"IF(AND('Сбор показателей I кв'!N35=\"\",'Сбор показателей I кв'!O35=\"\",'Сбор показателей I кв'!P35=\"\"),\"-\",VLOOKUP($B29,'Сбор показателей I кв'!$B$125:$AU$160,8,FALSE))","v":"-"},{"$f":"IF('Сбор показателей I кв'!AJ35=\"\",\"-\",VLOOKUP($B29,'Сбор показателей I кв'!$B$125:$AU$160,23,FALSE))","v":"-"},{"$f":"IF(AND('Сбор показателей I кв'!AT35=\"\",'Сбор показателей I кв'!AU35=\"\"),\"-\",VLOOKUP($B29,'Сбор показателей I кв'!$B$125:$AU$160,38,FALSE))","v":"-"},{"$f":"IF('Сбор показателей II кв'!G35=\"\",\"-\",VLOOKUP($B29,'Сбор показателей II кв'!$B$125:$AT$160,4,FALSE))","v":"-"},{"$f":"IF('Сбор показателей II кв'!G35=\"\",\"-\",VLOOKUP($B29,'Сбор показателей II кв'!$B$125:$AT$160,5,FALSE))","v":"-"},{"$f":"IF(AND('Сбор показателей II кв'!N35=\"\",'Сбор показателей II кв'!O35=\"\",'Сбор показателей II кв'!P35=\"\"),\"-\",VLOOKUP($B29,'Сбор показателей II кв'!$B$125:$AT$160,8,FALSE))","v":"-"},{"$f":"IF('Сбор показателей II кв'!AJ35=\"\",\"-\",VLOOKUP($B29,'Сбор показателей II кв'!$B$125:$AT$160,23,FALSE))","v":"-"},{"$f":"IF(AND('Сбор показателей II кв'!AS35=\"\",'Сбор показателей II кв'!AT35=\"\"),\"-\",VLOOKUP($B29,'Сбор показателей II кв'!$B$125:$AT$160,38,FALSE))","v":"-"},{"$f":"IF('Сбор показателей III кв'!G35=\"\",\"-\",VLOOKUP($B29,'Сбор показателей III кв'!$B$125:$AT$160,4,FALSE))","v":"-"},{"$f":"IF('Сбор показателей III кв'!G35=\"\",\"-\",VLOOKUP($B29,'Сбор показателей III кв'!$B$125:$AT$160,5,FALSE))","v":"-"},{"$f":"IF(AND('Сбор показателей III кв'!N35=\"\",'Сбор показателей III кв'!O35=\"\",'Сбор показателей III кв'!P35=\"\"),\"-\",VLOOKUP($B29,'Сбор показателей III кв'!$B$125:$AT$160,8,FALSE))","v":"-"},{"$f":"IF('Сбор показателей III кв'!AJ35=\"\",\"-\",VLOOKUP($B29,'Сбор показателей III кв'!$B$125:$AT$160,23,FALSE))","v":"-"},{"$f":"IF(AND('Сбор показателей III кв'!AS35=\"\",'Сбор показателей III кв'!AT35=\"\"),\"-\",VLOOKUP($B29,'Сбор показателей III кв'!$B$125:$AT$160,38,FALSE))","v":"-"},{"$f":"IF('Сбор показателей IV кв'!G35=\"\",\"-\",VLOOKUP(B29,'Сбор показателей IV кв'!$B$125:$AT$160,4,FALSE))","v":"-"},{"$f":"IF('Сбор показателей IV кв'!G35=\"\",\"-\",VLOOKUP(B29,'Сбор показателей IV кв'!$B$125:$AT$160,5,FALSE))","v":"-"},{"$f":"IF(AND('Сбор показателей IV кв'!N35=\"\",'Сбор показателей IV кв'!O35=\"\",'Сбор показателей IV кв'!P35=\"\"),\"-\",VLOOKUP(B29,'Сбор показателей IV кв'!$B$125:$AT$160,8,FALSE))","v":"-"},{"$f":"IF('Сбор показателей IV кв'!AJ35=\"\",\"-\",VLOOKUP(B29,'Сбор показателей IV кв'!$B$125:$AT$160,23,FALSE))","v":"-"},{"$f":"IF(AND('Сбор показателей IV кв'!AS35=\"\",'Сбор показателей IV кв'!AT35=\"\"),\"-\",VLOOKUP(B29,'Сбор показателей IV кв'!$B$125:$AT$160,38,FALSE))","v":"-"}]
[null,"Титов Александр","ЗГД",{"$f":"VLOOKUP($B30,'Показатели за ГОД'!$A$120:$AS$155,4,FALSE)","v":21},{"$f":"VLOOKUP($B30,'Показатели за ГОД'!$A$120:$AS$155,5,FALSE)","v":21},{"$f":"VLOOKUP($B30,'Показатели за ГОД'!$A$120:$AS$155,8,FALSE)","v":21},{"$f":"VLOOKUP($B30,'Показатели за ГОД'!$A$120:$AS$155,23,FALSE)","v":21},{"$f":"VLOOKUP($B30,'Показатели за ГОД'!$A$120:$AS$155,38,FALSE)","v":21},{"$f":"IF('Сбор показателей I кв'!G36=\"\",\"-\",VLOOKUP($B30,'Сбор показателей I кв'!$B$125:$AU$160,4,FALSE))","v":"-"},{"$f":"IF('Сбор показателей I кв'!G36=\"\",\"-\",VLOOKUP($B30,'Сбор показателей I кв'!$B$125:$AU$160,5,FALSE))","v":"-"},{"$f":"IF(AND('Сбор показателей I кв'!N36=\"\",'Сбор показателей I кв'!O36=\"\",'Сбор показателей I кв'!P36=\"\"),\"-\",VLOOKUP($B30,'Сбор показателей I кв'!$B$125:$AU$160,8,FALSE))","v":"-"},{"$f":"IF('Сбор показателей I кв'!AJ36=\"\",\"-\",VLOOKUP($B30,'Сбор показателей I кв'!$B$125:$AU$160,23,FALSE))","v":"-"},{"$f":"IF(AND('Сбор показателей I кв'!AT36=\"\",'Сбор показателей I кв'!AU36=\"\"),\"-\",VLOOKUP($B30,'Сбор показателей I кв'!$B$125:$AU$160,38,FALSE))","v":"-"},{"$f":"IF('Сбор показателей II кв'!G36=\"\",\"-\",VLOOKUP($B30,'Сбор показателей II кв'!$B$125:$AT$160,4,FALSE))","v":"-"},{"$f":"IF('Сбор показателей II кв'!G36=\"\",\"-\",VLOOKUP($B30,'Сбор показателей II кв'!$B$125:$AT$160,5,FALSE))","v":"-"},{"$f":"IF(AND('Сбор показателей II кв'!N36=\"\",'Сбор показателей II кв'!O36=\"\",'Сбор показателей II кв'!P36=\"\"),\"-\",VLOOKUP($B30,'Сбор показателей II кв'!$B$125:$AT$160,8,FALSE))","v":"-"},{"$f":"IF('Сбор показателей II кв'!AJ36=\"\",\"-\",VLOOKUP($B30,'Сбор показателей II кв'!$B$125:$AT$160,23,FALSE))","v":"-"},{"$f":"IF(AND('Сбор показателей II кв'!AS36=\"\",'Сбор показателей II кв'!AT36=\"\"),\"-\",VLOOKUP($B30,'Сбор показателей II кв'!$B$125:$AT$160,38,FALSE))","v":"-"},{"$f":"IF('Сбор показателей III кв'!G36=\"\",\"-\",VLOOKUP($B30,'Сбор показателей III кв'!$B$125:$AT$160,4,FALSE))","v":"-"},{"$f":"IF('Сбор показателей III кв'!G36=\"\",\"-\",VLOOKUP($B30,'Сбор показателей III кв'!$B$125:$AT$160,5,FALSE))","v":"-"},{"$f":"IF(AND('Сбор показателей III кв'!N36=\"\",'Сбор показателей III кв'!O36=\"\",'Сбор показателей III кв'!P36=\"\"),\"-\",VLOOKUP($B30,'Сбор показателей III кв'!$B$125:$AT$160,8,FALSE))","v":"-"},{"$f":"IF('Сбор показателей III кв'!AJ36=\"\",\"-\",VLOOKUP($B30,'Сбор показателей III кв'!$B$125:$AT$160,23,FALSE))","v":"-"},{"$f":"IF(AND('Сбор показателей III кв'!AS36=\"\",'Сбор показателей III кв'!AT36=\"\"),\"-\",VLOOKUP($B30,'Сбор показателей III кв'!$B$125:$AT$160,38,FALSE))","v":"-"},{"$f":"IF('Сбор показателей IV кв'!G36=\"\",\"-\",VLOOKUP(B30,'Сбор показателей IV кв'!$B$125:$AT$160,4,FALSE))","v":"-"},{"$f":"IF('Сбор показателей IV кв'!G36=\"\",\"-\",VLOOKUP(B30,'Сбор показателей IV кв'!$B$125:$AT$160,5,FALSE))","v":"-"},{"$f":"IF(AND('Сбор показателей IV кв'!N36=\"\",'Сбор показателей IV кв'!O36=\"\",'Сбор показателей IV кв'!P36=\"\"),\"-\",VLOOKUP(B30,'Сбор показателей IV кв'!$B$125:$AT$160,8,FALSE))","v":"-"},{"$f":"IF('Сбор показателей IV кв'!AJ36=\"\",\"-\",VLOOKUP(B30,'Сбор показателей IV кв'!$B$125:$AT$160,23,FALSE))","v":"-"},{"$f":"IF(AND('Сбор показателей IV кв'!AS36=\"\",'Сбор показателей IV кв'!AT36=\"\"),\"-\",VLOOKUP(B30,'Сбор показателей IV кв'!$B$125:$AT$160,38,FALSE))","v":"-"}]
[null,"Фирсов Владимир","ОКР",{"$f":"VLOOKUP($B31,'Показатели за ГОД'!$A$120:$AS$155,4,FALSE)","v":21},{"$f":"VLOOKUP($B31,'Показатели за ГОД'!$A$120:$AS$155,5,FALSE)","v":21},{"$f":"VLOOKUP($B31,'Показатели за ГОД'!$A$120:$AS$155,8,FALSE)","v":21},{"$f":"VLOOKUP($B31,'Показатели за ГОД'!$A$120:$AS$155,23,FALSE)","v":21},{"$f":"VLOOKUP($B31,'Показатели за ГОД'!$A$120:$AS$155,38,FALSE)","v":21},{"$f":"IF('Сбор показателей I кв'!G37=\"\",\"-\",VLOOKUP($B31,'Сбор показателей I кв'!$B$125:$AU$160,4,FALSE))","v":"-"},{"$f":"IF('Сбор показателей I кв'!G37=\"\",\"-\",VLOOKUP($B31,'Сбор показателей I кв'!$B$125:$AU$160,5,FALSE))","v":"-"},{"$f":"IF(AND('Сбор показателей I кв'!N37=\"\",'Сбор показателей I кв'!O37=\"\",'Сбор показателей I кв'!P37=\"\"),\"-\",VLOOKUP($B31,'Сбор показателей I кв'!$B$125:$AU$160,8,FALSE))","v":"-"},{"$f":"IF('Сбор показателей I кв'!AJ37=\"\",\"-\",VLOOKUP($B31,'Сбор показателей I кв'!$B$125:$AU$160,23,FALSE))","v":"-"},{"$f":"IF(AND('Сбор показателей I кв'!AT37=\"\",'Сбор показателей I кв'!AU37=\"\"),\"-\",VLOOKUP($B31,'Сбор показателей I кв'!$B$125:$AU$160,38,FALSE))","v":"-"},{"$f":"IF('Сбор показателей II кв'!G37=\"\",\"-\",VLOOKUP($B31,'Сбор показателей II кв'!$B$125:$AT$160,4,FALSE))","v":"-"},{"$f":"IF('Сбор показателей II кв'!G37=\"\",\"-\",VLOOKUP($B31,'Сбор показателей II кв'!$B$125:$AT$160,5,FALSE))","v":"-"},{"$f":"IF(AND('Сбор показателей II кв'!N37=\"\",'Сбор показателей II кв'!O37=\"\",'Сбор показателей II кв'!P37=\"\"),\"-\",VLOOKUP($B31,'Сбор показателей II кв'!$B$125:$AT$160,8,FALSE))","v":"-"},{"$f":"IF('Сбор показателей II кв'!AJ37=\"\",\"-\",VLOOKUP($B31,'Сбор показателей II кв'!$B$125:$AT$160,23,FALSE))","v":"-"},{"$f":"IF(AND('Сбор показателей II кв'!AS37=\"\",'Сбор показателей II кв'!AT37=\"\"),\"-\",VLOOKUP($B31,'Сбор показателей II кв'!$B$125:$AT$160,38,FALSE))","v":"-"},{"$f":"IF('Сбор показателей III кв'!G37=\"\",\"-\",VLOOKUP($B31,'Сбор показателей III кв'!$B$125:$AT$160,4,FALSE))","v":"-"},{"$f":"IF('Сбор показателей III кв'!G37=\"\",\"-\",VLOOKUP($B31,'Сбор показателей III кв'!$B$125:$AT$160,5,FALSE))","v":"-"},{"$f":"IF(AND('Сбор показателей III кв'!N37=\"\",'Сбор показателей III кв'!O37=\"\",'Сбор показателей III кв'!P37=\"\"),\"-\",VLOOKUP($B31,'Сбор показателей III кв'!$B$125:$AT$160,8,FALSE))","v":"-"},{"$f":"IF('Сбор показателей III кв'!AJ37=\"\",\"-\",VLOOKUP($B31,'Сбор показателей III кв'!$B$125:$AT$160,23,FALSE))","v":"-"},{"$f":"IF(AND('Сбор показателей III кв'!AS37=\"\",'Сбор показателей III кв'!AT37=\"\"),\"-\",VLOOKUP($B31,'Сбор показателей III кв'!$B$125:$AT$160,38,FALSE))","v":"-"},{"$f":"IF('Сбор показателей IV кв'!G37=\"\",\"-\",VLOOKUP(B31,'Сбор показателей IV кв'!$B$125:$AT$160,4,FALSE))","v":"-"},{"$f":"IF('Сбор показателей IV кв'!G37=\"\",\"-\",VLOOKUP(B31,'Сбор показателей IV кв'!$B$125:$AT$160,5,FALSE))","v":"-"},{"$f":"IF(AND('Сбор показателей IV кв'!N37=\"\",'Сбор показателей IV кв'!O37=\"\",'Сбор показателей IV кв'!P37=\"\"),\"-\",VLOOKUP(B31,'Сбор показателей IV кв'!$B$125:$AT$160,8,FALSE))","v":"-"},{"$f":"IF('Сбор показателей IV кв'!AJ37=\"\",\"-\",VLOOKUP(B31,'Сбор показателей IV кв'!$B$125:$AT$160,23,FALSE))","v":"-"},{"$f":"IF(AND('Сбор показателей IV кв'!AS37=\"\",'Сбор показателей IV кв'!AT37=\"\"),\"-\",VLOOKUP(B31,'Сбор показателей IV кв'!$B$125:$AT$160,38,FALSE))","v":"-"}]
[null,"Чунц Илья","ЗГД",{"$f":"VLOOKUP($B32,'Показатели за ГОД'!$A$120:$AS$155,4,FALSE)","v":21},{"$f":"VLOOKUP($B32,'Показатели за ГОД'!$A$120:$AS$155,5,FALSE)","v":21},{"$f":"VLOOKUP($B32,'Показатели за ГОД'!$A$120:$AS$155,8,FALSE)","v":21},{"$f":"VLOOKUP($B32,'Показатели за ГОД'!$A$120:$AS$155,23,FALSE)","v":21},{"$f":"VLOOKUP($B32,'Показатели за ГОД'!$A$120:$AS$155,38,FALSE)","v":21},{"$f":"IF('Сбор показателей I кв'!G38=\"\",\"-\",VLOOKUP($B32,'Сбор показателей I кв'!$B$125:$AU$160,4,FALSE))","v":"-"},{"$f":"IF('Сбор показателей I кв'!G38=\"\",\"-\",VLOOKUP($B32,'Сбор показателей I кв'!$B$125:$AU$160,5,FALSE))","v":"-"},{"$f":"IF(AND('Сбор показателей I кв'!N38=\"\",'Сбор показателей I кв'!O38=\"\",'Сбор показателей I кв'!P38=\"\"),\"-\",VLOOKUP($B32,'Сбор показателей I кв'!$B$125:$AU$160,8,FALSE))","v":"-"},{"$f":"IF('Сбор показателей I кв'!AJ38=\"\",\"-\",VLOOKUP($B32,'Сбор показателей I кв'!$B$125:$AU$160,23,FALSE))","v":"-"},{"$f":"IF(AND('Сбор показателей I кв'!AT38=\"\",'Сбор показателей I кв'!AU38=\"\"),\"-\",VLOOKUP($B32,'Сбор показателей I кв'!$B$125:$AU$160,38,FALSE))","v":"-"},{"$f":"IF('Сбор показателей II кв'!G38=\"\",\"-\",VLOOKUP($B32,'Сбор показателей II кв'!$B$125:$AT$160,4,FALSE))","v":"-"},{"$f":"IF('Сбор показателей II кв'!G38=\"\",\"-\",VLOOKUP($B32,'Сбор показателей II кв'!$B$125:$AT$160,5,FALSE))","v":"-"},{"$f":"IF(AND('Сбор показателей II кв'!N38=\"\",'Сбор показателей II кв'!O38=\"\",'Сбор показателей II кв'!P38=\"\"),\"-\",VLOOKUP($B32,'Сбор показателей II кв'!$B$125:$AT$160,8,FALSE))","v":"-"},{"$f":"IF('Сбор показателей II кв'!AJ38=\"\",\"-\",VLOOKUP($B32,'Сбор показателей II кв'!$B$125:$AT$160,23,FALSE))","v":"-"},{"$f":"IF(AND('Сбор показателей II кв'!AS38=\"\",'Сбор показателей II кв'!AT38=\"\"),\"-\",VLOOKUP($B32,'Сбор показателей II кв'!$B$125:$AT$160,38,FALSE))","v":"-"},{"$f":"IF('Сбор показателей III кв'!G38=\"\",\"-\",VLOOKUP($B32,'Сбор показателей III кв'!$B$125:$AT$160,4,FALSE))","v":"-"},{"$f":"IF('Сбор показателей III кв'!G38=\"\",\"-\",VLOOKUP($B32,'Сбор показателей III кв'!$B$125:$AT$160,5,FALSE))","v":"-"},{"$f":"IF(AND('Сбор показателей III кв'!N38=\"\",'Сбор показателей III кв'!O38=\"\",'Сбор показателей III кв'!P38=\"\"),\"-\",VLOOKUP($B32,'Сбор показателей III кв'!$B$125:$AT$160,8,FALSE))","v":"-"},{"$f":"IF('Сбор показателей III кв'!AJ38=\"\",\"-\",VLOOKUP($B32,'Сбор показателей III кв'!$B$125:$AT$160,23,FALSE))","v":"-"},{"$f":"IF(AND('Сбор показателей III кв'!AS38=\"\",'Сбор показателей III кв'!AT38=\"\"),\"-\",VLOOKUP($B32,'Сбор показателей III кв'!$B$125:$AT$160,38,FALSE))","v":"-"},{"$f":"IF('Сбор показателей IV кв'!G38=\"\",\"-\",VLOOKUP(B32,'Сбор показателей IV кв'!$B$125:$AT$160,4,FALSE))","v":"-"},{"$f":"IF('Сбор показателей IV кв'!G38=\"\",\"-\",VLOOKUP(B32,'Сбор показателей IV кв'!$B$125:$AT$160,5,FALSE))","v":"-"},{"$f":"IF(AND('Сбор показателей IV кв'!N38=\"\",'Сбор показателей IV кв'!O38=\"\",'Сбор показателей IV кв'!P38=\"\"),\"-\",VLOOKUP(B32,'Сбор показателей IV кв'!$B$125:$AT$160,8,FALSE))","v":"-"},{"$f":"IF('Сбор показателей IV кв'!AJ38=\"\",\"-\",VLOOKUP(B32,'Сбор показателей IV кв'!$B$125:$AT$160,23,FALSE))","v":"-"},{"$f":"IF(AND('Сбор показателей IV кв'!AS38=\"\",'Сбор показателей IV кв'!AT38=\"\"),\"-\",VLOOKUP(B32,'Сбор показателей IV кв'!$B$125:$AT$160,38,FALSE))","v":"-"}]
[null,"Шепляков Алексей","ЗГД",{"$f":"VLOOKUP($B33,'Показатели за ГОД'!$A$120:$AS$155,4,FALSE)","v":21},{"$f":"VLOOKUP($B33,'Показатели за ГОД'!$A$120:$AS$155,5,FALSE)","v":21},{"$f":"VLOOKUP($B33,'Показатели за ГОД'!$A$120:$AS$155,8,FALSE)","v":21},{"$f":"VLOOKUP($B33,'Показатели за ГОД'!$A$120:$AS$155,23,FALSE)","v":21},{"$f":"VLOOKUP($B33,'Показатели за ГОД'!$A$120:$AS$155,38,FALSE)","v":21},{"$f":"IF('Сбор показателей I кв'!G39=\"\",\"-\",VLOOKUP($B33,'Сбор показателей I кв'!$B$125:$AU$160,4,FALSE))","v":"-"},{"$f":"IF('Сбор показателей I кв'!G39=\"\",\"-\",VLOOKUP($B33,'Сбор показателей I кв'!$B$125:$AU$160,5,FALSE))","v":"-"},{"$f":"IF(AND('Сбор показателей I кв'!N39=\"\",'Сбор показателей I кв'!O39=\"\",'Сбор показателей I кв'!P39=\"\"),\"-\",VLOOKUP($B33,'Сбор показателей I кв'!$B$125:$AU$160,8,FALSE))","v":"-"},{"$f":"IF('Сбор показателей I кв'!AJ39=\"\",\"-\",VLOOKUP($B33,'Сбор показателей I кв'!$B$125:$AU$160,23,FALSE))","v":"-"},{"$f":"IF(AND('Сбор показателей I кв'!AT39=\"\",'Сбор показателей I кв'!AU39=\"\"),\"-\",VLOOKUP($B33,'Сбор показателей I кв'!$B$125:$AU$160,38,FALSE))","v":"-"},{"$f":"IF('Сбор показателей II кв'!G39=\"\",\"-\",VLOOKUP($B33,'Сбор показателей II кв'!$B$125:$AT$160,4,FALSE))","v":"-"},{"$f":"IF('Сбор показателей II кв'!G39=\"\",\"-\",VLOOKUP($B33,'Сбор показателей II кв'!$B$125:$AT$160,5,FALSE))","v":"-"},{"$f":"IF(AND('Сбор показателей II кв'!N39=\"\",'Сбор показателей II кв'!O39=\"\",'Сбор показателей II кв'!P39=\"\"),\"-\",VLOOKUP($B33,'Сбор показателей II кв'!$B$125:$AT$160,8,FALSE))","v":"-"},{"$f":"IF('Сбор показателей II кв'!AJ39=\"\",\"-\",VLOOKUP($B33,'Сбор показателей II кв'!$B$125:$AT$160,23,FALSE))","v":"-"},{"$f":"IF(AND('Сбор показателей II кв'!AS39=\"\",'Сбор показателей II кв'!AT39=\"\"),\"-\",VLOOKUP($B33,'Сбор показателей II кв'!$B$125:$AT$160,38,FALSE))","v":"-"},{"$f":"IF('Сбор показателей III кв'!G39=\"\",\"-\",VLOOKUP($B33,'Сбор показателей III кв'!$B$125:$AT$160,4,FALSE))","v":"-"},{"$f":"IF('Сбор показателей III кв'!G39=\"\",\"-\",VLOOKUP($B33,'Сбор показателей III кв'!$B$125:$AT$160,5,FALSE))","v":"-"},{"$f":"IF(AND('Сбор показателей III кв'!N39=\"\",'Сбор показателей III кв'!O39=\"\",'Сбор показателей III кв'!P39=\"\"),\"-\",VLOOKUP($B33,'Сбор показателей III кв'!$B$125:$AT$160,8,FALSE))","v":"-"},{"$f":"IF('Сбор показателей III кв'!AJ39=\"\",\"-\",VLOOKUP($B33,'Сбор показателей III кв'!$B$125:$AT$160,23,FALSE))","v":"-"},{"$f":"IF(AND('Сбор показателей III кв'!AS39=\"\",'Сбор показателей III кв'!AT39=\"\"),\"-\",VLOOKUP($B33,'Сбор показателей III кв'!$B$125:$AT$160,38,FALSE))","v":"-"},{"$f":"IF('Сбор показателей IV кв'!G39=\"\",\"-\",VLOOKUP(B33,'Сбор показателей IV кв'!$B$125:$AT$160,4,FALSE))","v":"-"},{"$f":"IF('Сбор показателей IV кв'!G39=\"\",\"-\",VLOOKUP(B33,'Сбор показателей IV кв'!$B$125:$AT$160,5,FALSE))","v":"-"},{"$f":"IF(AND('Сбор показателей IV кв'!N39=\"\",'Сбор показателей IV кв'!O39=\"\",'Сбор показателей IV кв'!P39=\"\"),\"-\",VLOOKUP(B33,'Сбор показателей IV кв'!$B$125:$AT$160,8,FALSE))","v":"-"},{"$f":"IF('Сбор показателей IV кв'!AJ39=\"\",\"-\",VLOOKUP(B33,'Сбор показателей IV кв'!$B$125:$AT$160,23,FALSE))","v":"-"},{"$f":"IF(AND('Сбор показателей IV кв'!AS39=\"\",'Сбор показателей IV кв'!AT39=\"\"),\"-\",VLOOKUP(B33,'Сбор показателей IV кв'!$B$125:$AT$160,38,FALSE))","v":"-"}]
[null,"Шестаков Антон","ЗГД",{"$f":"VLOOKUP($B34,'Показатели за ГОД'!$A$120:$AS$155,4,FALSE)","v":21},{"$f":"VLOOKUP($B34,'Показатели за ГОД'!$A$120:$AS$155,5,FALSE)","v":21},{"$f":"VLOOKUP($B34,'Показатели за ГОД'!$A$120:$AS$155,8,FALSE)","v":21},{"$f":"VLOOKUP($B34,'Показатели за ГОД'!$A$120:$AS$155,23,FALSE)","v":21},{"$f":"VLOOKUP($B34,'Показатели за ГОД'!$A$120:$AS$155,38,FALSE)","v":21},{"$f":"IF('Сбор показателей I кв'!G40=\"\",\"-\",VLOOKUP($B34,'Сбор показателей I кв'!$B$125:$AU$160,4,FALSE))","v":"-"},{"$f":"IF('Сбор показателей I кв'!G40=\"\",\"-\",VLOOKUP($B34,'Сбор показателей I кв'!$B$125:$AU$160,5,FALSE))","v":"-"},{"$f":"IF(AND('Сбор показателей I кв'!N40=\"\",'Сбор показателей I кв'!O40=\"\",'Сбор показателей I кв'!P40=\"\"),\"-\",VLOOKUP($B34,'Сбор показателей I кв'!$B$125:$AU$160,8,FALSE))","v":"-"},{"$f":"IF('Сбор показателей I кв'!AJ40=\"\",\"-\",VLOOKUP($B34,'Сбор показателей I кв'!$B$125:$AU$160,23,FALSE))","v":"-"},{"$f":"IF(AND('Сбор показателей I кв'!AT40=\"\",'Сбор показателей I кв'!AU40=\"\"),\"-\",VLOOKUP($B34,'Сбор показателей I кв'!$B$125:$AU$160,38,FALSE))","v":"-"},{"$f":"IF('Сбор показателей II кв'!G40=\"\",\"-\",VLOOKUP($B34,'Сбор показателей II кв'!$B$125:$AT$160,4,FALSE))","v":"-"},{"$f":"IF('Сбор показателей II кв'!G40=\"\",\"-\",VLOOKUP($B34,'Сбор показателей II кв'!$B$125:$AT$160,5,FALSE))","v":"-"},{"$f":"IF(AND('Сбор показателей II кв'!N40=\"\",'Сбор показателей II кв'!O40=\"\",'Сбор показателей II кв'!P40=\"\"),\"-\",VLOOKUP($B34,'Сбор показателей II кв'!$B$125:$AT$160,8,FALSE))","v":"-"},{"$f":"IF('Сбор показателей II кв'!AJ40=\"\",\"-\",VLOOKUP($B34,'Сбор показателей II кв'!$B$125:$AT$160,23,FALSE))","v":"-"},{"$f":"IF(AND('Сбор показателей II кв'!AS40=\"\",'Сбор показателей II кв'!AT40=\"\"),\"-\",VLOOKUP($B34,'Сбор показателей II кв'!$B$125:$AT$160,38,FALSE))","v":"-"},{"$f":"IF('Сбор показателей III кв'!G40=\"\",\"-\",VLOOKUP($B34,'Сбор показателей III кв'!$B$125:$AT$160,4,FALSE))","v":"-"},{"$f":"IF('Сбор показателей III кв'!G40=\"\",\"-\",VLOOKUP($B34,'Сбор показателей III кв'!$B$125:$AT$160,5,FALSE))","v":"-"},{"$f":"IF(AND('Сбор показателей III кв'!N40=\"\",'Сбор показателей III кв'!O40=\"\",'Сбор показателей III кв'!P40=\"\"),\"-\",VLOOKUP($B34,'Сбор показателей III кв'!$B$125:$AT$160,8,FALSE))","v":"-"},{"$f":"IF('Сбор показателей III кв'!AJ40=\"\",\"-\",VLOOKUP($B34,'Сбор показателей III кв'!$B$125:$AT$160,23,FALSE))","v":"-"},{"$f":"IF(AND('Сбор показателей III кв'!AS40=\"\",'Сбор показателей III кв'!AT40=\"\"),\"-\",VLOOKUP($B34,'Сбор показателей III кв'!$B$125:$AT$160,38,FALSE))","v":"-"},{"$f":"IF('Сбор показателей IV кв'!G40=\"\",\"-\",VLOOKUP(B34,'Сбор показателей IV кв'!$B$125:$AT$160,4,FALSE))","v":"-"},{"$f":"IF('Сбор показателей IV кв'!G40=\"\",\"-\",VLOOKUP(B34,'Сбор показателей IV кв'!$B$125:$AT$160,5,FALSE))","v":"-"},{"$f":"IF(AND('Сбор показателей IV кв'!N40=\"\",'Сбор показателей IV кв'!O40=\"\",'Сбор показателей IV кв'!P40=\"\"),\"-\",VLOOKUP(B34,'Сбор показателей IV кв'!$B$125:$AT$160,8,FALSE))","v":"-"},{"$f":"IF('Сбор показателей IV кв'!AJ40=\"\",\"-\",VLOOKUP(B34,'Сбор показателей IV кв'!$B$125:$AT$160,23,FALSE))","v":"-"},{"$f":"IF(AND('Сбор показателей IV кв'!AS40=\"\",'Сбор показателей IV кв'!AT40=\"\"),\"-\",VLOOKUP(B34,'Сбор показателей IV кв'!$B$125:$AT$160,38,FALSE))","v":"-"}]
[null,"Ялымов Денис","ОКР",{"$f":"VLOOKUP($B35,'Показатели за ГОД'!$A$120:$AS$155,4,FALSE)","v":21},{"$f":"VLOOKUP($B35,'Показатели за ГОД'!$A$120:$AS$155,5,FALSE)","v":21},{"$f":"VLOOKUP($B35,'Показатели за ГОД'!$A$120:$AS$155,8,FALSE)","v":21},{"$f":"VLOOKUP($B35,'Показатели за ГОД'!$A$120:$AS$155,23,FALSE)","v":21},{"$f":"VLOOKUP($B35,'Показатели за ГОД'!$A$120:$AS$155,38,FALSE)","v":21},{"$f":"IF('Сбор показателей I кв'!G41=\"\",\"-\",VLOOKUP($B35,'Сбор показателей I кв'!$B$125:$AU$160,4,FALSE))","v":"-"},{"$f":"IF('Сбор показателей I кв'!G41=\"\",\"-\",VLOOKUP($B35,'Сбор показателей I кв'!$B$125:$AU$160,5,FALSE))","v":"-"},{"$f":"IF(AND('Сбор показателей I кв'!N41=\"\",'Сбор показателей I кв'!O41=\"\",'Сбор показателей I кв'!P41=\"\"),\"-\",VLOOKUP($B35,'Сбор показателей I кв'!$B$125:$AU$160,8,FALSE))","v":"-"},{"$f":"IF('Сбор показателей I кв'!AJ41=\"\",\"-\",VLOOKUP($B35,'Сбор показателей I кв'!$B$125:$AU$160,23,FALSE))","v":"-"},{"$f":"IF(AND('Сбор показателей I кв'!AT41=\"\",'Сбор показателей I кв'!AU41=\"\"),\"-\",VLOOKUP($B35,'Сбор показателей I кв'!$B$125:$AU$160,38,FALSE))","v":"-"},{"$f":"IF('Сбор показателей II кв'!G41=\"\",\"-\",VLOOKUP($B35,'Сбор показателей II кв'!$B$125:$AT$160,4,FALSE))","v":"-"},{"$f":"IF('Сбор показателей II кв'!G41=\"\",\"-\",VLOOKUP($B35,'Сбор показателей II кв'!$B$125:$AT$160,5,FALSE))","v":"-"},{"$f":"IF(AND('Сбор показателей II кв'!N41=\"\",'Сбор показателей II кв'!O41=\"\",'Сбор показателей II кв'!P41=\"\"),\"-\",VLOOKUP($B35,'Сбор показателей II кв'!$B$125:$AT$160,8,FALSE))","v":"-"},{"$f":"IF('Сбор показателей II кв'!AJ41=\"\",\"-\",VLOOKUP($B35,'Сбор показателей II кв'!$B$125:$AT$160,23,FALSE))","v":"-"},{"$f":"IF(AND('Сбор показателей II кв'!AS41=\"\",'Сбор показателей II кв'!AT41=\"\"),\"-\",VLOOKUP($B35,'Сбор показателей II кв'!$B$125:$AT$160,38,FALSE))","v":"-"},{"$f":"IF('Сбор показателей III кв'!G41=\"\",\"-\",VLOOKUP($B35,'Сбор показателей III кв'!$B$125:$AT$160,4,FALSE))","v":"-"},{"$f":"IF('Сбор показателей III кв'!G41=\"\",\"-\",VLOOKUP($B35,'Сбор показателей III кв'!$B$125:$AT$160,5,FALSE))","v":"-"},{"$f":"IF(AND('Сбор показателей III кв'!N41=\"\",'Сбор показателей III кв'!O41=\"\",'Сбор показателей III кв'!P41=\"\"),\"-\",VLOOKUP($B35,'Сбор показателей III кв'!$B$125:$AT$160,8,FALSE))","v":"-"},{"$f":"IF('Сбор показателей III кв'!AJ41=\"\",\"-\",VLOOKUP($B35,'Сбор показателей III кв'!$B$125:$AT$160,23,FALSE))","v":"-"},{"$f":"IF(AND('Сбор показателей III кв'!AS41=\"\",'Сбор показателей III кв'!AT41=\"\"),\"-\",VLOOKUP($B35,'Сбор показателей III кв'!$B$125:$AT$160,38,FALSE))","v":"-"},{"$f":"IF('Сбор показателей IV кв'!G41=\"\",\"-\",VLOOKUP(B35,'Сбор показателей IV кв'!$B$125:$AT$160,4,FALSE))","v":"-"},{"$f":"IF('Сбор показателей IV кв'!G41=\"\",\"-\",VLOOKUP(B35,'Сбор показателей IV кв'!$B$125:$AT$160,5,FALSE))","v":"-"},{"$f":"IF(AND('Сбор показателей IV кв'!N41=\"\",'Сбор показателей IV кв'!O41=\"\",'Сбор показателей IV кв'!P41=\"\"),\"-\",VLOOKUP(B35,'Сбор показателей IV кв'!$B$125:$AT$160,8,FALSE))","v":"-"},{"$f":"IF('Сбор показателей IV кв'!AJ41=\"\",\"-\",VLOOKUP(B35,'Сбор показателей IV кв'!$B$125:$AT$160,23,FALSE))","v":"-"},{"$f":"IF(AND('Сбор показателей IV кв'!AS41=\"\",'Сбор показателей IV кв'!AT41=\"\"),\"-\",VLOOKUP(B35,'Сбор показателей IV кв'!$B$125:$AT$160,38,FALSE))","v":"-"}]
[null,"Винокурова Елена","КЦ",{"$f":"VLOOKUP($B36,'Показатели за ГОД'!$A$120:$AS$155,4,FALSE)","v":3},{"$f":"VLOOKUP($B36,'Показатели за ГОД'!$A$120:$AS$155,5,FALSE)","v":3},{"$f":"VLOOKUP($B36,'Показатели за ГОД'!$A$120:$AS$155,8,FALSE)","v":3},{"$f":"VLOOKUP($B36,'Показатели за ГОД'!$A$120:$AS$155,23,FALSE)","v":3},{"$f":"VLOOKUP($B36,'Показатели за ГОД'!$A$120:$AS$155,38,FALSE)","v":3},{"$f":"IF('Сбор показателей I кв'!G42=\"\",\"-\",VLOOKUP($B36,'Сбор показателей I кв'!$B$125:$AU$160,4,FALSE))","v":"-"},{"$f":"IF('Сбор показателей I кв'!G42=\"\",\"-\",VLOOKUP($B36,'Сбор показателей I кв'!$B$125:$AU$160,5,FALSE))","v":"-"},{"$f":"IF(AND('Сбор показателей I кв'!N42=\"\",'Сбор показателей I кв'!O42=\"\",'Сбор показателей I кв'!P42=\"\"),\"-\",VLOOKUP($B36,'Сбор показателей I кв'!$B$125:$AU$160,8,FALSE))","v":"-"},{"$f":"IF('Сбор показателей I кв'!AJ42=\"\",\"-\",VLOOKUP($B36,'Сбор показателей I кв'!$B$125:$AU$160,23,FALSE))","v":"-"},{"$f":"IF(AND('Сбор показателей I кв'!AT42=\"\",'Сбор показателей I кв'!AU42=\"\"),\"-\",VLOOKUP($B36,'Сбор показателей I кв'!$B$125:$AU$160,38,FALSE))","v":"-"},{"$f":"IF('Сбор показателей II кв'!G42=\"\",\"-\",VLOOKUP($B36,'Сбор показателей II кв'!$B$125:$AT$160,4,FALSE))","v":"-"},{"$f":"IF('Сбор показателей II кв'!G42=\"\",\"-\",VLOOKUP($B36,'Сбор показателей II кв'!$B$125:$AT$160,5,FALSE))","v":"-"},{"$f":"IF(AND('Сбор показателей II кв'!N42=\"\",'Сбор показателей II кв'!O42=\"\",'Сбор показателей II кв'!P42=\"\"),\"-\",VLOOKUP($B36,'Сбор показателей II кв'!$B$125:$AT$160,8,FALSE))","v":"-"},{"$f":"IF('Сбор показателей II кв'!AJ42=\"\",\"-\",VLOOKUP($B36,'Сбор показателей II кв'!$B$125:$AT$160,23,FALSE))","v":"-"},{"$f":"IF(AND('Сбор показателей II кв'!AS42=\"\",'Сбор показателей II кв'!AT42=\"\"),\"-\",VLOOKUP($B36,'Сбор показателей II кв'!$B$125:$AT$160,38,FALSE))","v":"-"},{"$f":"IF('Сбор показателей III кв'!G42=\"\",\"-\",VLOOKUP($B36,'Сбор показателей III кв'!$B$125:$AT$160,4,FALSE))","v":"-"},{"$f":"IF('Сбор показателей III кв'!G42=\"\",\"-\",VLOOKUP($B36,'Сбор показателей III кв'!$B$125:$AT$160,5,FALSE))","v":"-"},{"$f":"IF(AND('Сбор показателей III кв'!N42=\"\",'Сбор показателей III кв'!O42=\"\",'Сбор показателей III кв'!P42=\"\"),\"-\",VLOOKUP($B36,'Сбор показателей III кв'!$B$125:$AT$160,8,FALSE))","v":"-"},{"$f":"IF('Сбор показателей III кв'!AJ42=\"\",\"-\",VLOOKUP($B36,'Сбор показателей III кв'!$B$125:$AT$160,23,FALSE))","v":"-"},{"$f":"IF(AND('Сбор показателей III кв'!AS42=\"\",'Сбор показателей III кв'!AT42=\"\"),\"-\",VLOOKUP($B36,'Сбор показателей III кв'!$B$125:$AT$160,38,FALSE))","v":"-"},{"$f":"IF('Сбор показателей IV кв'!G42=\"\",\"-\",VLOOKUP(B36,'Сбор показателей IV кв'!$B$125:$AT$160,4,FALSE))","v":"-"},{"$f":"IF('Сбор показателей IV кв'!G42=\"\",\"-\",VLOOKUP(B36,'Сбор показателей IV кв'!$B$125:$AT$160,5,FALSE))","v":"-"},{"$f":"IF(AND('Сбор показателей IV кв'!N42=\"\",'Сбор показателей IV кв'!O42=\"\",'Сбор показателей IV кв'!P42=\"\"),\"-\",VLOOKUP(B36,'Сбор показателей IV кв'!$B$125:$AT$160,8,FALSE))","v":"-"},{"$f":"IF('Сбор показателей IV кв'!AJ42=\"\",\"-\",VLOOKUP(B36,'Сбор показателей IV кв'!$B$125:$AT$160,23,FALSE))","v":"-"},{"$f":"IF(AND('Сбор показателей IV кв'!AS42=\"\",'Сбор показателей IV кв'!AT42=\"\"),\"-\",VLOOKUP(B36,'Сбор показателей IV кв'!$B$125:$AT$160,38,FALSE))","v":"-"}]
[null,"Горбунова Татьяна","КЦ",{"$f":"VLOOKUP($B37,'Показатели за ГОД'!$A$120:$AS$155,4,FALSE)","v":3},{"$f":"VLOOKUP($B37,'Показатели за ГОД'!$A$120:$AS$155,5,FALSE)","v":3},{"$f":"VLOOKUP($B37,'Показатели за ГОД'!$A$120:$AS$155,8,FALSE)","v":3},{"$f":"VLOOKUP($B37,'Показатели за ГОД'!$A$120:$AS$155,23,FALSE)","v":3},{"$f":"VLOOKUP($B37,'Показатели за ГОД'!$A$120:$AS$155,38,FALSE)","v":3},{"$f":"IF('Сбор показателей I кв'!G43=\"\",\"-\",VLOOKUP($B37,'Сбор показателей I кв'!$B$125:$AU$160,4,FALSE))","v":"-"},{"$f":"IF('Сбор показателей I кв'!G43=\"\",\"-\",VLOOKUP($B37,'Сбор показателей I кв'!$B$125:$AU$160,5,FALSE))","v":"-"},{"$f":"IF(AND('Сбор показателей I кв'!N43=\"\",'Сбор показателей I кв'!O43=\"\",'Сбор показателей I кв'!P43=\"\"),\"-\",VLOOKUP($B37,'Сбор показателей I кв'!$B$125:$AU$160,8,FALSE))","v":"-"},{"$f":"IF('Сбор показателей I кв'!AJ43=\"\",\"-\",VLOOKUP($B37,'Сбор показателей I кв'!$B$125:$AU$160,23,FALSE))","v":"-"},{"$f":"IF(AND('Сбор показателей I кв'!AT43=\"\",'Сбор показателей I кв'!AU43=\"\"),\"-\",VLOOKUP($B37,'Сбор показателей I кв'!$B$125:$AU$160,38,FALSE))","v":"-"},{"$f":"IF('Сбор показателей II кв'!G43=\"\",\"-\",VLOOKUP($B37,'Сбор показателей II кв'!$B$125:$AT$160,4,FALSE))","v":"-"},{"$f":"IF('Сбор показателей II кв'!G43=\"\",\"-\",VLOOKUP($B37,'Сбор показателей II кв'!$B$125:$AT$160,5,FALSE))","v":"-"},{"$f":"IF(AND('Сбор показателей II кв'!N43=\"\",'Сбор показателей II кв'!O43=\"\",'Сбор показателей II кв'!P43=\"\"),\"-\",VLOOKUP($B37,'Сбор показателей II кв'!$B$125:$AT$160,8,FALSE))","v":"-"},{"$f":"IF('Сбор показателей II кв'!AJ43=\"\",\"-\",VLOOKUP($B37,'Сбор показателей II кв'!$B$125:$AT$160,23,FALSE))","v":"-"},{"$f":"IF(AND('Сбор показателей II кв'!AS43=\"\",'Сбор показателей II кв'!AT43=\"\"),\"-\",VLOOKUP($B37,'Сбор показателей II кв'!$B$125:$AT$160,38,FALSE))","v":"-"},{"$f":"IF('Сбор показателей III кв'!G43=\"\",\"-\",VLOOKUP($B37,'Сбор показателей III кв'!$B$125:$AT$160,4,FALSE))","v":"-"},{"$f":"IF('Сбор показателей III кв'!G43=\"\",\"-\",VLOOKUP($B37,'Сбор показателей III кв'!$B$125:$AT$160,5,FALSE))","v":"-"},{"$f":"IF(AND('Сбор показателей III кв'!N43=\"\",'Сбор показателей III кв'!O43=\"\",'Сбор показателей III кв'!P43=\"\"),\"-\",VLOOKUP($B37,'Сбор показателей III кв'!$B$125:$AT$160,8,FALSE))","v":"-"},{"$f":"IF('Сбор показателей III кв'!AJ43=\"\",\"-\",VLOOKUP($B37,'Сбор показателей III кв'!$B$125:$AT$160,23,FALSE))","v":"-"},{"$f":"IF(AND('Сбор показателей III кв'!AS43=\"\",'Сбор показателей III кв'!AT43=\"\"),\"-\",VLOOKUP($B37,'Сбор показателей III кв'!$B$125:$AT$160,38,FALSE))","v":"-"},{"$f":"IF('Сбор показателей IV кв'!G43=\"\",\"-\",VLOOKUP(B37,'Сбор показателей IV кв'!$B$125:$AT$160,4,FALSE))","v":"-"},{"$f":"IF('Сбор показателей IV кв'!G43=\"\",\"-\",VLOOKUP(B37,'Сбор показателей IV кв'!$B$125:$AT$160,5,FALSE))","v":"-"},{"$f":"IF(AND('Сбор показателей IV кв'!N43=\"\",'Сбор показателей IV кв'!O43=\"\",'Сбор показателей IV кв'!P43=\"\"),\"-\",VLOOKUP(B37,'Сбор показателей IV кв'!$B$125:$AT$160,8,FALSE))","v":"-"},{"$f":"IF('Сбор показателей IV кв'!AJ43=\"\",\"-\",VLOOKUP(B37,'Сбор показателей IV кв'!$B$125:$AT$160,23,FALSE))","v":"-"},{"$f":"IF(AND('Сбор показателей IV кв'!AS43=\"\",'Сбор показателей IV кв'!AT43=\"\"),\"-\",VLOOKUP(B37,'Сбор показателей IV кв'!$B$125:$AT$160,38,FALSE))","v":"-"}]
[null,"Давыденков Евгений","КЦ",{"$f":"VLOOKUP($B38,'Показатели за ГОД'!$A$120:$AS$155,4,FALSE)","v":3},{"$f":"VLOOKUP($B38,'Показатели за ГОД'!$A$120:$AS$155,5,FALSE)","v":3},{"$f":"VLOOKUP($B38,'Показатели за ГОД'!$A$120:$AS$155,8,FALSE)","v":3},{"$f":"VLOOKUP($B38,'Показатели за ГОД'!$A$120:$AS$155,23,FALSE)","v":3},{"$f":"VLOOKUP($B38,'Показатели за ГОД'!$A$120:$AS$155,38,FALSE)","v":3},{"$f":"IF('Сбор показателей I кв'!G44=\"\",\"-\",VLOOKUP($B38,'Сбор показателей I кв'!$B$125:$AU$160,4,FALSE))","v":"-"},{"$f":"IF('Сбор показателей I кв'!G44=\"\",\"-\",VLOOKUP($B38,'Сбор показателей I кв'!$B$125:$AU$160,5,FALSE))","v":"-"},{"$f":"IF(AND('Сбор показателей I кв'!N44=\"\",'Сбор показателей I кв'!O44=\"\",'Сбор показателей I кв'!P44=\"\"),\"-\",VLOOKUP($B38,'Сбор показателей I кв'!$B$125:$AU$160,8,FALSE))","v":"-"},{"$f":"IF('Сбор показателей I кв'!AJ44=\"\",\"-\",VLOOKUP($B38,'Сбор показателей I кв'!$B$125:$AU$160,23,FALSE))","v":"-"},{"$f":"IF(AND('Сбор показателей I кв'!AT44=\"\",'Сбор показателей I кв'!AU44=\"\"),\"-\",VLOOKUP($B38,'Сбор показателей I кв'!$B$125:$AU$160,38,FALSE))","v":"-"},{"$f":"IF('Сбор показателей II кв'!G44=\"\",\"-\",VLOOKUP($B38,'Сбор показателей II кв'!$B$125:$AT$160,4,FALSE))","v":"-"},{"$f":"IF('Сбор показателей II кв'!G44=\"\",\"-\",VLOOKUP($B38,'Сбор показателей II кв'!$B$125:$AT$160,5,FALSE))","v":"-"},{"$f":"IF(AND('Сбор показателей II кв'!N44=\"\",'Сбор показателей II кв'!O44=\"\",'Сбор показателей II кв'!P44=\"\"),\"-\",VLOOKUP($B38,'Сбор показателей II кв'!$B$125:$AT$160,8,FALSE))","v":"-"},{"$f":"IF('Сбор показателей II кв'!AJ44=\"\",\"-\",VLOOKUP($B38,'Сбор показателей II кв'!$B$125:$AT$160,23,FALSE))","v":"-"},{"$f":"IF(AND('Сбор показателей II кв'!AS44=\"\",'Сбор показателей II кв'!AT44=\"\"),\"-\",VLOOKUP($B38,'Сбор показателей II кв'!$B$125:$AT$160,38,FALSE))","v":"-"},{"$f":"IF('Сбор показателей III кв'!G44=\"\",\"-\",VLOOKUP($B38,'Сбор показателей III кв'!$B$125:$AT$160,4,FALSE))","v":"-"},{"$f":"IF('Сбор показателей III кв'!G44=\"\",\"-\",VLOOKUP($B38,'Сбор показателей III кв'!$B$125:$AT$160,5,FALSE))","v":"-"},{"$f":"IF(AND('Сбор показателей III кв'!N44=\"\",'Сбор показателей III кв'!O44=\"\",'Сбор показателей III кв'!P44=\"\"),\"-\",VLOOKUP($B38,'Сбор показателей III кв'!$B$125:$AT$160,8,FALSE))","v":"-"},{"$f":"IF('Сбор показателей III кв'!AJ44=\"\",\"-\",VLOOKUP($B38,'Сбор показателей III кв'!$B$125:$AT$160,23,FALSE))","v":"-"},{"$f":"IF(AND('Сбор показателей III кв'!AS44=\"\",'Сбор показателей III кв'!AT44=\"\"),\"-\",VLOOKUP($B38,'Сбор показателей III кв'!$B$125:$AT$160,38,FALSE))","v":"-"},{"$f":"IF('Сбор показателей IV кв'!G44=\"\",\"-\",VLOOKUP(B38,'Сбор показателей IV кв'!$B$125:$AT$160,4,FALSE))","v":"-"},{"$f":"IF('Сбор показателей IV кв'!G44=\"\",\"-\",VLOOKUP(B38,'Сбор показателей IV кв'!$B$125:$AT$160,5,FALSE))","v":"-"},{"$f":"IF(AND('Сбор показателей IV кв'!N44=\"\",'Сбор показателей IV кв'!O44=\"\",'Сбор показателей IV кв'!P44=\"\"),\"-\",VLOOKUP(B38,'Сбор показателей IV кв'!$B$125:$AT$160,8,FALSE))","v":"-"},{"$f":"IF('Сбор показателей IV кв'!AJ44=\"\",\"-\",VLOOKUP(B38,'Сбор показателей IV кв'!$B$125:$AT$160,23,FALSE))","v":"-"},{"$f":"IF(AND('Сбор показателей IV кв'!AS44=\"\",'Сбор показателей IV кв'!AT44=\"\"),\"-\",VLOOKUP(B38,'Сбор показателей IV кв'!$B$125:$AT$160,38,FALSE))","v":"-"}]
[null,"Журавлев Сергей","КЦ",{"$f":"VLOOKUP($B39,'Показатели за ГОД'!$A$120:$AS$155,4,FALSE)","v":3},{"$f":"VLOOKUP($B39,'Показатели за ГОД'!$A$120:$AS$155,5,FALSE)","v":3},{"$f":"VLOOKUP($B39,'Показатели за ГОД'!$A$120:$AS$155,8,FALSE)","v":3},{"$f":"VLOOKUP($B39,'Показатели за ГОД'!$A$120:$AS$155,23,FALSE)","v":3},{"$f":"VLOOKUP($B39,'Показатели за ГОД'!$A$120:$AS$155,38,FALSE)","v":3},{"$f":"IF('Сбор показателей I кв'!G45=\"\",\"-\",VLOOKUP($B39,'Сбор показателей I кв'!$B$125:$AU$160,4,FALSE))","v":"-"},{"$f":"IF('Сбор показателей I кв'!G45=\"\",\"-\",VLOOKUP($B39,'Сбор показателей I кв'!$B$125:$AU$160,5,FALSE))","v":"-"},{"$f":"IF(AND('Сбор показателей I кв'!N45=\"\",'Сбор показателей I кв'!O45=\"\",'Сбор показателей I кв'!P45=\"\"),\"-\",VLOOKUP($B39,'Сбор показателей I кв'!$B$125:$AU$160,8,FALSE))","v":"-"},{"$f":"IF('Сбор показателей I кв'!AJ45=\"\",\"-\",VLOOKUP($B39,'Сбор показателей I кв'!$B$125:$AU$160,23,FALSE))","v":"-"},{"$f":"IF(AND('Сбор показателей I кв'!AT45=\"\",'Сбор показателей I кв'!AU45=\"\"),\"-\",VLOOKUP($B39,'Сбор показателей I кв'!$B$125:$AU$160,38,FALSE))","v":"-"},{"$f":"IF('Сбор показателей II кв'!G45=\"\",\"-\",VLOOKUP($B39,'Сбор показателей II кв'!$B$125:$AT$160,4,FALSE))","v":"-"},{"$f":"IF('Сбор показателей II кв'!G45=\"\",\"-\",VLOOKUP($B39,'Сбор показателей II кв'!$B$125:$AT$160,5,FALSE))","v":"-"},{"$f":"IF(AND('Сбор показателей II кв'!N45=\"\",'Сбор показателей II кв'!O45=\"\",'Сбор показателей II кв'!P45=\"\"),\"-\",VLOOKUP($B39,'Сбор показателей II кв'!$B$125:$AT$160,8,FALSE))","v":"-"},{"$f":"IF('Сбор показателей II кв'!AJ45=\"\",\"-\",VLOOKUP($B39,'Сбор показателей II кв'!$B$125:$AT$160,23,FALSE))","v":"-"},{"$f":"IF(AND('Сбор показателей II кв'!AS45=\"\",'Сбор показателей II кв'!AT45=\"\"),\"-\",VLOOKUP($B39,'Сбор показателей II кв'!$B$125:$AT$160,38,FALSE))","v":"-"},{"$f":"IF('Сбор показателей III кв'!G45=\"\",\"-\",VLOOKUP($B39,'Сбор показателей III кв'!$B$125:$AT$160,4,FALSE))","v":"-"},{"$f":"IF('Сбор показателей III кв'!G45=\"\",\"-\",VLOOKUP($B39,'Сбор показателей III кв'!$B$125:$AT$160,5,FALSE))","v":"-"},{"$f":"IF(AND('Сбор показателей III кв'!N45=\"\",'Сбор показателей III кв'!O45=\"\",'Сбор показателей III кв'!P45=\"\"),\"-\",VLOOKUP($B39,'Сбор показателей III кв'!$B$125:$AT$160,8,FALSE))","v":"-"},{"$f":"IF('Сбор показателей III кв'!AJ45=\"\",\"-\",VLOOKUP($B39,'Сбор показателей III кв'!$B$125:$AT$160,23,FALSE))","v":"-"},{"$f":"IF(AND('Сбор показателей III кв'!AS45=\"\",'Сбор показателей III кв'!AT45=\"\"),\"-\",VLOOKUP($B39,'Сбор показателей III кв'!$B$125:$AT$160,38,FALSE))","v":"-"},{"$f":"IF('Сбор показателей IV кв'!G45=\"\",\"-\",VLOOKUP(B39,'Сбор показателей IV кв'!$B$125:$AT$160,4,FALSE))","v":"-"},{"$f":"IF('Сбор показателей IV кв'!G45=\"\",\"-\",VLOOKUP(B39,'Сбор показателей IV кв'!$B$125:$AT$160,5,FALSE))","v":"-"},{"$f":"IF(AND('Сбор показателей IV кв'!N45=\"\",'Сбор показателей IV кв'!O45=\"\",'Сбор показателей IV кв'!P45=\"\"),\"-\",VLOOKUP(B39,'Сбор показателей IV кв'!$B$125:$AT$160,8,FALSE))","v":"-"},{"$f":"IF('Сбор показателей IV кв'!AJ45=\"\",\"-\",VLOOKUP(B39,'Сбор показателей IV кв'!$B$125:$AT$160,23,FALSE))","v":"-"},{"$f":"IF(AND('Сбор показателей IV кв'!AS45=\"\",'Сбор показателей IV кв'!AT45=\"\"),\"-\",VLOOKUP(B39,'Сбор показателей IV кв'!$B$125:$AT$160,38,FALSE))","v":"-"}]
[null,"Ульданов Динар","КЦ",{"$f":"VLOOKUP($B40,'Показатели за ГОД'!$A$120:$AS$155,4,FALSE)","v":3},{"$f":"VLOOKUP($B40,'Показатели за ГОД'!$A$120:$AS$155,5,FALSE)","v":3},{"$f":"VLOOKUP($B40,'Показатели за ГОД'!$A$120:$AS$155,8,FALSE)","v":3},{"$f":"VLOOKUP($B40,'Показатели за ГОД'!$A$120:$AS$155,23,FALSE)","v":3},{"$f":"VLOOKUP($B40,'Показатели за ГОД'!$A$120:$AS$155,38,FALSE)","v":3},{"$f":"IF('Сбор показателей I кв'!G46=\"\",\"-\",VLOOKUP($B40,'Сбор показателей I кв'!$B$125:$AU$160,4,FALSE))","v":"-"},{"$f":"IF('Сбор показателей I кв'!G46=\"\",\"-\",VLOOKUP($B40,'Сбор показателей I кв'!$B$125:$AU$160,5,FALSE))","v":"-"},{"$f":"IF(AND('Сбор показателей I кв'!N46=\"\",'Сбор показателей I кв'!O46=\"\",'Сбор показателей I кв'!P46=\"\"),\"-\",VLOOKUP($B40,'Сбор показателей I кв'!$B$125:$AU$160,8,FALSE))","v":"-"},{"$f":"IF('Сбор показателей I кв'!AJ46=\"\",\"-\",VLOOKUP($B40,'Сбор показателей I кв'!$B$125:$AU$160,23,FALSE))","v":"-"},{"$f":"IF(AND('Сбор показателей I кв'!AT46=\"\",'Сбор показателей I кв'!AU46=\"\"),\"-\",VLOOKUP($B40,'Сбор показателей I кв'!$B$125:$AU$160,38,FALSE))","v":"-"},{"$f":"IF('Сбор показателей II кв'!G46=\"\",\"-\",VLOOKUP($B40,'Сбор показателей II кв'!$B$125:$AT$160,4,FALSE))","v":"-"},{"$f":"IF('Сбор показателей II кв'!G46=\"\",\"-\",VLOOKUP($B40,'Сбор показателей II кв'!$B$125:$AT$160,5,FALSE))","v":"-"},{"$f":"IF(AND('Сбор показателей II кв'!N46=\"\",'Сбор показателей II кв'!O46=\"\",'Сбор показателей II кв'!P46=\"\"),\"-\",VLOOKUP($B40,'Сбор показателей II кв'!$B$125:$AT$160,8,FALSE))","v":"-"},{"$f":"IF('Сбор показателей II кв'!AJ46=\"\",\"-\",VLOOKUP($B40,'Сбор показателей II кв'!$B$125:$AT$160,23,FALSE))","v":"-"},{"$f":"IF(AND('Сбор показателей II кв'!AS46=\"\",'Сбор показателей II кв'!AT46=\"\"),\"-\",VLOOKUP($B40,'Сбор показателей II кв'!$B$125:$AT$160,38,FALSE))","v":"-"},{"$f":"IF('Сбор показателей III кв'!G46=\"\",\"-\",VLOOKUP($B40,'Сбор показателей III кв'!$B$125:$AT$160,4,FALSE))","v":"-"},{"$f":"IF('Сбор показателей III кв'!G46=\"\",\"-\",VLOOKUP($B40,'Сбор показателей III кв'!$B$125:$AT$160,5,FALSE))","v":"-"},{"$f":"IF(AND('Сбор показателей III кв'!N46=\"\",'Сбор показателей III кв'!O46=\"\",'Сбор показателей III кв'!P46=\"\"),\"-\",VLOOKUP($B40,'Сбор показателей III кв'!$B$125:$AT$160,8,FALSE))","v":"-"},{"$f":"IF('Сбор показателей III кв'!AJ46=\"\",\"-\",VLOOKUP($B40,'Сбор показателей III кв'!$B$125:$AT$160,23,FALSE))","v":"-"},{"$f":"IF(AND('Сбор показателей III кв'!AS46=\"\",'Сбор показателей III кв'!AT46=\"\"),\"-\",VLOOKUP($B40,'Сбор показателей III кв'!$B$125:$AT$160,38,FALSE))","v":"-"},{"$f":"IF('Сбор показателей IV кв'!G46=\"\",\"-\",VLOOKUP(B40,'Сбор показателей IV кв'!$B$125:$AT$160,4,FALSE))","v":"-"},{"$f":"IF('Сбор показателей IV кв'!G46=\"\",\"-\",VLOOKUP(B40,'Сбор показателей IV кв'!$B$125:$AT$160,5,FALSE))","v":"-"},{"$f":"IF(AND('Сбор показателей IV кв'!N46=\"\",'Сбор показателей IV кв'!O46=\"\",'Сбор показателей IV кв'!P46=\"\"),\"-\",VLOOKUP(B40,'Сбор показателей IV кв'!$B$125:$AT$160,8,FALSE))","v":"-"},{"$f":"IF('Сбор показателей IV кв'!AJ46=\"\",\"-\",VLOOKUP(B40,'Сбор показателей IV кв'!$B$125:$AT$160,23,FALSE))","v":"-"},{"$f":"IF(AND('Сбор показателей IV кв'!AS46=\"\",'Сбор показателей IV кв'!AT46=\"\"),\"-\",VLOOKUP(B40,'Сбор показателей IV кв'!$B$125:$AT$160,38,FALSE))","v":"-"}]

{"sheet":"Фото","index":7,"n_rows":29,"n_cols":8,"rows_kept":29,"cut":false,"hidden":true,"merged":[]}
[]
[null,"Василий Леонтьев"]
[null,"Гуннар Мюрдаль"]
[null,"Джон Ричард Хикс"]
[null,"Кеннет Эрроу"]
[null,"Кэрол Грейдер"]
[null,"Линда Бак"]
[null,"Мэй-Брит Мозер"]
[null,"Саймон Кузнец"]
[null,"Светлана Алексеевич"]
[null,"Эстер Дюфло"]
[]
[]
[]
[]
[]
[]
[]
[]
["Лондон",1,"Василий Леонтьев",null,{"$f":"RANDBETWEEN(1,10)","v":10},{"$f":"RANDBETWEEN(1,10)","v":3},{"$f":"RANDBETWEEN(1,10)","v":5},"-Париж\n-Варшава\n-Мадрид"]
["Париж",2,"Гуннар Мюрдаль",null,{"$f":"RANDBETWEEN(1,10)","v":4},2,6,"-Мадрид\n-Афины\n-Варшава"]
["Мюнхен",3,"Джон Ричард Хикс",null,5,6,9,"-Афины\n-Мадрид\n-Рим"]
["Рим",4,"Кеннет Эрроу",null,1,1,2,"-Лондон\n-Афины\n-Лиссабон"]
["Москва",5,"Кэрол Грейдер",null,6,7,7,"-Рим\n-Мадрид\n-Лондон"]
["Мадрид",6,"Линда Бак",null,1,10,5,"-Афины\n-Варшава\n-Мюнхен"]
["Лиссабон",7,"Мэй-Брит Мозер",null,3,3,2,"-Лондон\n-Лиссабон\n-Мадрид"]
["Варшава",8,"Саймон Кузнец",null,8,7,3,"-Лиссабон\n-Рим\n-Париж"]
["Афины",9,"Светлана Алексеевич",null,3,3,10,"-Варшава\n-Москва\n-Париж"]
["Вена",10,"Эстер Дюфло",null,7,7,10,"-Париж\n-Мадрид\n-Лондон"]

{"sheet":"Данные для карточки","index":8,"n_rows":13,"n_cols":146,"rows_kept":13,"cut":false,"hidden":true,"merged":[[1,66,1,70],[1,62,1,64],[1,1,1,5],[1,6,1,16],[1,17,1,21],[1,22,1,29],[1,30,1,52],[1,53,1,61]]}
[null,2,3,4,5,6,7,8,9,10,11,12,13,14,15,16,17,18,19,20,21,22,23,24,25,26,27,28,29,30,31,32,33,34,35,36,37,38,39,40,41,42,43,44,45,46,47,48,49,50,51,52,53,54,55,56,57,58,59,60,61,62,63,64,65,66,67,68,69,70,71,72,73,74,75,76,77,78,79,80,81,82,83,84,85,86,87,88,89,90,91,92,93,94,95,96,97,98,99,100,101,102,103,104,105,106,107,108,109,110,111,112,113,114,115,116,117,118,119,120,121,122,123,124,125,126,127,128,129,130,131,132,133,134,135,136,137,138,139,140,141,142,143,144,145,146]
[null,"Данные",null,null,null,null,"Диалоги о развитии",null,null,null,null,null,null,null,null,null,null,"Профиль компетенций ЗГД по закупкам (Lominger)\nmin - 0 баллов\nmax - 3 балла",null,null,null,null,"Индивидуальный профиль руководителя\nОЦЕНКИ ПО БЛОКАМ НАВЫКОВ\nmin - 1\nmax -7 ",null,null,null,null,null,null,null,"Индивидуальный профиль руководителя\nОЦЕНКИ ПО ОТДЕЛЬНЫМ ШКАЛАМ\nmin - 1\nmax -7 ",null,null,null,null,null,null,null,null,null,null,null,null,null,null,null,null,null,null,null,null,null,null,"Личностный опросник",null,null,null,null,null,null,null,null,"Впечатления карьерного консультанта",null,null,null,"Рейтингование"]
[null,"Город","ДО","Должность",null,"Уровень владения Английским языком","Ближайшие зоны развития","Способы развития","Предпочитаемая позиция","Перейти в КЦ или продолжить в ДО?","Возможная зона экспертизы","Желаемый уровень должности","Возможная Функция (Если не Закупки)","География возможного переезда","Мотивация для переезда","Семейные обстоятельства, возможные ограничения","Альтернативный сценарий развития","Общая оценка по профилю компетенций","Создание эффективной команды","Стратегическое видение","Руководящие навыки","Способность действовать в условиях неопределенности","Блок I. Постановка целей и задач","Блок II. Планирование и решение проблем","Блок III. Создание необходимых условий для выполнения работы","Блок IV. Обеспечение обратной связи","Блок V. Позитивный контроль","Блок VI. Признание заслуг","Блок VII. Эффективное взаимодействие с подчиненными","Блок VIII. Создание мотивирующей рабочей среды","A. Разъяснение целей и задач","B. Коммуникация с подчиненными","C. Тщательное планирование рабочего процесса","D. Знание особенностей конкретной компании","E. Обеспечение подчиненных ресурсами и информацией","F. Предоставление обратной связи","G. Контроль времени (своевременное достижение поставленных задач)","H. Контроль деталей","I. Мотивация подчиненных на достижение целей","J. Делегирование полномочий","K. Поощрение за хорошо выполненную работу","L. Ориентация на людей (открытость и дружелюбие)","M. Координация работы подчиненных","N. Создание условий для профессионального роста подчиненных","O. Наличие доверия подчиненных и руководства","P. Умение сделать работу интересной для подчиненных","Q. Профессиональная компетентность подчиненных","R. Создание сплоченной команды","S. Создание условий для должностного роста подчиненных","T. Уровень напряженности в коллективе","U. Забота о подчиненных","V. Нематериальная мотивация","W. Мотивация подчиненных на качественное выполнение работы","Роль","E (Экстраверсия)\nчеловек получает энергию из внешнего мира через общение с людьми или совместную деятельность","I (Интроверсия)\nчеловек получает энергию из своего внутреннего мира: размышлений и визуализации","S (Ощущение)\nчеловек склонен обращать внимание на факты, детали окружающую действительность","N (Интуиция)\nчеловек склонен обращать внимание на взаимосвязи, теории и будущие возможности","T (Мышление) \nчеловек принимает решения, исходя из логического, объективного анализа","F (Чувство)\nчеловек склонен принимать решения, ориентируясь на личностные ценности, чтобы достичь гармонии","J (Суждение)\nчеловек склонен к организованности, порядку и быстрому принятию решений","P (Восприятие)\nчеловек склонен к гибкости, адаптируется к изменениям и оттягивает принятие окончательного решения","Самая яркая черта участника","Сильные стороны участника, его возможности и перспективы","Зоны риска\n(короткими бизнесовыми предложениями. Если есть лишь предположение/гипотеза об участнике, используйте слова \"возможно\" и т.п.)","Зоны развития \n(то, что попало в ИПР, описать буллитами)","ИНТЕГРАЛЬНЫЙ","РЕЗУЛЬТАТИВНОСТЬ","ПРОАКТИВНОСТЬ","ПРОФЕССИОНАЛЬНОЕ РАЗВИТИЕ","ЭФФЕКТИВНОЕ ВЗАИМОДЕЙСТВИЕ","Общее значение компетенции","Список городов","Роль","Состав","Описание","Дата вступления в должность","Дата рождения"]
["Василий Леонтьев","Лондон","Johnson & Johnson","Начальник управления межотраслевого анализа","Лондон","Средний","коммуникации, эмоциональная устойчивость, самомотивация, \"освежить\" лидерство и мотивацию людей. А также разбираться лучше в логистике и складском учете. ","тренинги, коучинг, обмен опытом, книги","Лидер","Дочернее общество","-","руководитель","кросс- функции, бизнес-девеломпент, HR, консалтинг, проектное управление, HSE","Санкт-Петербург, НЕ регионы","-","нет","может продолжить в своей функции, так и рассматривает другие варианты.  Интересно- кросс-функции, консалтинг, проектное управление , бизнес-девеломпент, HR, HSE","6 из 12","1 из 3","0 из 3","2 из 3","3 из 3",4.3,4.63,5.7,4.8,3.85,5.6,5.75,4.6399999999999997,4.3,5.3,3.6,5,5.7,4.8,4.3,2.6,3.2,5.3,5.6,6.2,6,5.3,5.5,4.8,5.5,6.2,3.3,3.5,3.6,5.2,5,"МАСТЕР / УМЕЛЕЦ / ВИРТУОЗ\nISTP: интроверт, сенсорик, логик, иррационал",10,19,13,12,11,7,11,18,"Консервативный лидер. Очень опытный, сбалансированный, спокойный.","Ответственный. Способен выстраивать хорошие отношения с командой. Четкий, структурированный, устойчивый и в хорошем смысле предсказуемый. «Нет предела совершенству» - всегда готов учиться и развиваться. \n","Иногда излишне контролирует подчиненных, чтобы не приходилось их наказывать за ошибки.  Эмоционален. Вероятно, иногда отстаивает свое мнение слишком настойчиво. Считает своей зоной развития - гибкость. ",0,10,3,9,7,10,6,"-Париж\n-Варшава\n-Мадрид","МАСТЕР / УМЕЛЕЦ / ВИРТУОЗ","ISTP: интроверт, сенсорик, логик, иррационал","Люди с данной ролью, более расположены выжидать, анализировать ситуацию, нежели сразу предлагать свое решение и бросаться в бой.  Сосредоточенные на себе, склонные к объективности в принятии решений.  Проявляют эмпатию, тонко чувствуют других людей, отвергают искусственность и фальшь. Отличаются техническим складом ума, любят работать руками, при этом всегда укладываясь в нужные сроки. Обычно бывают терпеливы, аккуратны. Свято верят в принцип экономии усилий; большим достоинством является умение тщательно рассчитать, сколько усилий необходимо затратить, и поступить в соответствии с ситуацией.","2013-04-19","1986-07-23"]
["Гуннар Мюрдаль","Париж","Chrysler","Начальник департамента взаимозависимости явлений","Париж","Средний","Отчетливого запроса нет. Любит нестандартные неповторяющиеся задачи и развивается по ходу выполнения","Интересно учиться в диалоге, во взаимодействии. Много читает для саморазвития","Менеджер","Не имеет значения","-","Ориентирована на повышение до следующего уровня. В данной должности видит смысл максимум на год","Продажи. Управление услугами. Цифровизация. Использование РИД","\"Не где, а с кем и насколько интересно\". (Работала в Москве, в англоязычных странах).","Интересный кейс, возможность проявить себя","Ребенок 4 года. Климат локации важен. Лондон и аналогичные локации не привлекают","Мыслит трехлетними периодами. В целом лояльна, но готова к смене карьеры в случае, если здесь станет недостаточно интересных новых задач","8 из 12","2 из 3","1 из 3","2 из 3","3 из 3",5.7,5.2,6.3,5.6,4.78,5.9,6.05,5.13,5.7,5.5,5,5.0999999999999996,6.3,5.6,5.2,3.6,4.5,5.8,5.9,5.8,6.5,5.8,6.1,5.8,5,6,5.2,3.5,4.8,5.2,5.5,"МАРШАЛ / ДЕЛЕЦ  / НЕПОСЕДА\nESTP: экстраверт, сенсорик, логик, иррационал",20,9,17,8,20,4,9,21,"Уравновешен, умеет слышать другого, но в ситуациях стресса и неопределенности может теряться, с его слов, ему необходимо взять паузу, чтобы разобраться с фактами","Взвешенность, конструктивность, готовность слышать и учитывать точки зрения других","Навыки влияния в коммуникации, особенно с вышестоящими, Стрессоустойчивость в ситуации публичных выступлений. Умение быстро действовать в условиях неопределенности. Возможно - поддержание эмоционального климата в коллективе.",0,9,2,8,8,9,8,"-Мадрид\n-Афины\n-Варшава","МАРШАЛ / ДЕЛЕЦ  / НЕПОСЕДА","ESTP: экстраверт, сенсорик, логик, иррационал","Люди с данной ролью изобретательны. Дружелюбны, привлекательны, с заметным элементом театральности. Социально искусны, прекрасно манипулируют людьми и ситуациями. Все действия рассчитаны на аудиторию. Остроумны, умеют пошутить. Увлекаются рискованными затеями. Безудержные прагматисты – цель оправдывает средства. Незаменимы в организации деятельности многих людей, требующей согласования, переговоров. Отношения с другими непредсказуемы и очень зависят от того, что от них можно получить. Плохо переносят беспокойство и стремятся избегать ситуаций напряженных отношений.","2019-11-06","1963-07-24"]
["Джон Ричард Хикс","Мюнхен","Chevron Corporation","Руководитель направления равновесия и благосостояния","Мюнхен","Средний",0,"Тренинги. Самообразование. Участие в конференциях (не корпоративных, а с более широким участием, лучше международным). «Посмотреть на инструменты, попробовать»","Лидер","Не имеет значения","-","Через год закрепиться операционным директором. Через 3 года ГД","Едва ли закупки. Интереснее бизнес, управление проектами","В целом готов к переездам, делал это многократно ","Интересные задачи. Демотивация — отсутствие возможности принятия решений","Жена привыкла к переездам и готова, многократно переезжали, но сейчас ребенку 4 года. Локация «совсем без цивилизации» не подойдет, потому что важно развитие ребенка","Создание эффективной системы в большой компании. Интересна роль тренера, спикера для большой аудитории. Работал в разных отраслях, дальше тоже не исключает смены отрасли, если там будет интересно.","6 из 12","2 из 3","0 из 3","2 из 3","2 из 3",5.7,5.43,5.2,5.3,4.95,6.7,6.23,4.75,5.7,5.6,5.4,5.3,5.2,5.3,5.8,4.2,4.8,5,6.7,6,6.2,6.3,6.4,5.4,3.7,5.5,5.2,3.8,5.2,5,4.2,"АДМИНИСТРАТОР / РЕАЛИСТ / РУКОВОДИТЕЛЬ\nESTJ: экстраверт, сенсорик, логик, рационал ",16,10,18,5,27,0,21,7,"Молодой, проактивный, временами резкий с командой. Готов меняться и развиваться. Больше индивидуалист, чем командный игрок","Умеет принимать смелые и быстрые решения. Стремится контролировать все ключевые аспекты ситуации. Активно работает над собой и своей эффективностью как лидера. Наиболее продуктивен тогда, когда может принимать решения самостоятельно","Чувствует себя некомфортно в ситуациях, которые ему неподконтрольны. Может быть резок с подчиненными и демотивировать их своей обратной связью (обозначили как первоочередную зону роста). Недостаточны навыки предоставления позитивной обратной связи и мотивации команды. Также целесообразно усиливать навыки делегирования. Испытывает демотивацию в случае отсутствия интересных задач, при невозможности принимать самостоятельные решения и однообразных задачах",0,5,10,1,10,7,6,"-Афины\n-Мадрид\n-Рим","ЭНТУЗИАСТ / ВОСПИТАТЕЛЬ / УЧИТЕЛЬ","ESFJ: экстраверт, сенсорик, этик, рационал.",{"$error":"#N/A"},"2011-12-03","1983-04-12"]
["Кеннет Эрроу","Рим","Pan American","Начальник управления равновесия и благосостояния","Рим","Начальный","Внутренняя уверенность в ходе публичных выступлений","Более эффективно - очное обучение и индивидуальная работа","Менеджер","Дочернее общество","-","ЗГД, начальник управления","Планирование, ценообразование","По возможности хотелось бы сохранить текущую локацию","-","Дети, жена и ее карьера. По сути, переезд возможен только \"по приказу\", как нежелательный на сегодняшний день вариант","Как вариант - возвращение в производство, ","8 из 12","2 из 3","2 из 3","2 из 3","2 из 3",6.4,5.63,6.2,6.8,5.23,6.9,6.6,5.99,6.4,5.9,5.3,5.7,6.2,6.8,6.3,5.4,5.2,4,6.9,6.4,6.8,6.6,6.6,6.4,6.2,7,6,3.8,6.2,6,6.3,"ЭНТУЗИАСТ / ВОСПИТАТЕЛЬ / УЧИТЕЛЬ\nESFJ: экстраверт, сенсорик, этик, рационал.",15,7,14,6,10,11,21,10,"Харизматичный лидер. Горит своей работой, вдохновляет и заряжает людей.","Развивает членов своей команды, успешно «растит» подчиненных, видит в этом много смысла и мотивации для себя. Высокая резистентность к неопределенности, эффективно решает задачи в условиях мгновенных изменений. Заинтересован в собственном развитии и обучении. Честный, искренний во взаимодействии.\n","В обратной связи подчиненным больше концентрируется на ошибках, чем на признании заслуг. Также строго относится и к себе. Эмоционален, принимает многие вещи близко к сердцу. Из-за высокой неопределенности в сфере зоной развития считает стратегическое видение. ",{"$error":"#N/A"},6,5,6,6,4,8,"-Лондон\n-Афины\n-Лиссабон","АДМИНИСТРАТОР / РЕАЛИСТ / РУКОВОДИТЕЛЬ","ESTJ: экстраверт, сенсорик, логик, рационал ","Люди с данной ролью ответственные, пунктуальные, надежные и стойкие. Успешно организуя дела, они любят порядок. Знают свои обязанности и не стремятся увиливать. Следуют установленному порядку, точны, аккуратны. Во взаимоотношениях следуют сложившимся традициям. Практичны, реалистичны, основываются на фактах, их заботит ситуация «здесь и сейчас». Больший интерес у них вызывают новые вещи и предметы, а не новые идеи. При решении возникающих проблем они используют свой прошлый опыт. Люди этого типа любят работать в таких сферах деятельности, где они могут достичь непосредственных, видимых глазом, ощутимых результатов. ","2015-01-12","1989-07-17"]
["Кэрол Грейдер","Москва","Boing","Начальник департамента защиты хромосом теломерами","Москва","Средний","развивать умение убеждать, донести свою точку зрения, эффективные коммуникации, развивать гибкость, умение идти на компромисы ","делиться опытом с коллегами, литература, обучение в компании ","Лидер","Дочернее общество","-","ЗГД, исполнительный директор","нет","без ограничений","-","нет","не рассматривает","5 из 12","0 из 3","1 из 3","2 из 3","2 из 3",5.7,5.67,6,5.3,4.5,5.7,5.9,5.45,5.7,5,5.9,6.1,6,5.3,5.5,4,4.5,4,5.7,6,6.5,5.0999999999999996,6,5.8,6,6.2,5.8,2,5.8,6,6,"ИНСПЕКТОР / ОРГАНИЗАТОР / ОПЕКУН\nISTJ: интроверт, сенсорик, логик, рационал",11,17,23,5,22,2,24,3," Душа компании - направляет, вдохновляет сотрудников, «видит» их.","Мягкий, гибкий стиль управления. Мастер коммуникации. Выстраивает доброжелательные отношения с подчиненными. Создает комфортные условия для работы, мотивирует без давления. Открыта к развитию. \n","Скорее всего, не всегда проявляет ассертивную позицию, когда это требуется. Вероятно, чувствует усталость от высокой неопределенности.",0,7,9,5,1,8,5,"-Рим\n-Мадрид\n-Лондон","ИНСПЕКТОР / ОРГАНИЗАТОР / ОПЕКУН","ISTJ: интроверт, сенсорик, логик, рационал","Люди с данной ролью надежные, спокойные и серьезные. Любят порядок и строгость, глубоко вникают в работу, анализируя информацию с разных сторон. Отличаются некой педантичностью. Реально смотрят на вещи, берутся за дело только если точно знают, что смогут его завершить. Во взаимоотношения предпочитают короткие деловые контакты с другими людьми. Слово «долг» для них значимо. Их поведение ориентировано на конечный результат. Их склонность ко всему, что находится «здесь и сейчас», не позволяет им ничего принимать на веру что-либо.","2017-06-29","1954-03-12"]
["Линда Бак","Мадрид","General Electrics","Начальник управления организации органов обоняния","Мадрид","Нулевой","Стеснительность, сложности в отстаивании своих интересов перед руководством","Индивидуальные сессии, тренинги","Менеджер","Дочернее общество","-","ЗГД, ГД","добыча","не готов к переезду","-","Мама, которая нуждается в поддержке","Вернуться в функцию добычи, восстановить технические знания и быть руководителем там, хотя этот сцеарий кажется не очень вероятным, в силу того, что технологии ушли вперед","6 из 12","1 из 3","2 из 3","2 из 3","1 из 3",5.6,5.17,5.3,5,4.03,6,5.8,5.48,5.6,5.0999999999999996,5.3,5.0999999999999996,5.3,5,5,2.8,3,5.3,6,5.8,5.8,5.6,6,6,6,6,6,2,5.8,6,6,"ИНСПЕКТОР / ОРГАНИЗАТОР / ОПЕКУН\nISTJ: интроверт, сенсорик, логик, рационал",5,25,31,2,27,2,24,2,"Энергична, позитивна, конструктивно азартна. Любит нестандартные сложные задачи","Готова браться за нестандартные и сложные задачи, рисковать, находить наилучшие решения. Заинтересована в ситуациях, где можно проявить себя. Ориентирована на максимальный результат, пресекает возможности совершить ошибку. Активно занимается самообразованием ","Может быть резка с собеседниками и не учитывать их особенности. Испытывает раздражение и демотивацию в случае детальной регламентации своих действий и решений и внешних жестких правил (любого ограничения свободы)",0,3,1,10,4,2,6,"-Афины\n-Варшава\n-Мюнхен","ИНСПЕКТОР / ОРГАНИЗАТОР / ОПЕКУН","ISTJ: интроверт, сенсорик, логик, рационал","Люди с данной ролью надежные, спокойные и серьезные. Любят порядок и строгость, глубоко вникают в работу, анализируя информацию с разных сторон. Отличаются некой педантичностью. Реально смотрят на вещи, берутся за дело только если точно знают, что смогут его завершить. Во взаимоотношения предпочитают короткие деловые контакты с другими людьми. Слово «долг» для них значимо. Их поведение ориентировано на конечный результат. Их склонность ко всему, что находится «здесь и сейчас», не позволяет им ничего принимать на веру что-либо.","2018-11-17","1964-01-14"]
["Мэй-Брит Мозер","Лиссабон","Pan American","Начальник департамента систем позиционирования","Лиссабон","Начальный","Принятие высокоуровневых решений с меньшей глубиной погружения в детали. Внутренняя уверенность, расширение границ, личный бренд, готовность к изменениям","Проходит обучение по MBA в SSE. Предпочитает традиционные групповые методы обучения, онлайн не так привлекателен","Лидер","Корпоративный центр","-","Хотела бы двигаться по вертикали, но по результатам переговоров знает, что руководство предпочитает ее ротацию по горизонтали","Выбирает не с точки зрения функции, а по возможностям проектной работы в ней, интересных, новых, нетиповых проектов","Москва, Петербург","Вертикальная карьера. (либо) Более гибкий график, больше возможностей для work‐life balance","Сын подросток с хорошими перспективами в математике и спорте, через 3 года нужно будет обеспечивать ему возможность дальнейшей реализации, а это только крупные города ","Пока не очень понятно. При принятии решений интересы и ценности семьи будут в приоритете","6 из 12","2 из 3","0 из 3","2 из 3","2 из 3",6,5.9,6,5.5,4.7,6,6.2,5.23,6,5.8,6,5.9,6,5.5,5,3.6,4.7,5.5,6,5.4,6.8,6,6.6,6,6,6,5.3,1.8,5.6,5.8,5.3,"ИНСПЕКТОР / ОРГАНИЗАТОР / ОПЕКУН\nISTJ: интроверт, сенсорик, логик, рационал",11,14,19,5,18,6,24,3,"Спокойна, рассудительна, склонна к системным решениям. Четкое понимание своих интересов при внешней мягкости","Умеет принимать системные взвешенные решения с оптимальным балансом внимания к деталям и общей картине. Лояльна к компании. Понимает, как находить баланс интересов различных сторон. Обучается по программе MBA","Одна из обозначенных ключевых зон роста — усиление способности генерировать идеи. В условиях «стеклянного потолка» дополнительное внимание стоит уделить усилению стрессоустойчивости и навыков личного профессионального самопродвижения",0,4,7,4,5,3,6,"-Лондон\n-Лиссабон\n-Мадрид","ИНСПЕКТОР / ОРГАНИЗАТОР / ОПЕКУН","ISTJ: интроверт, сенсорик, логик, рационал","Люди с данной ролью надежные, спокойные и серьезные. Любят порядок и строгость, глубоко вникают в работу, анализируя информацию с разных сторон. Отличаются некой педантичностью. Реально смотрят на вещи, берутся за дело только если точно знают, что смогут его завершить. Во взаимоотношения предпочитают короткие деловые контакты с другими людьми. Слово «долг» для них значимо. Их поведение ориентировано на конечный результат. Их склонность ко всему, что находится «здесь и сейчас», не позволяет им ничего принимать на веру что-либо.","2015-07-02","1979-05-23"]
["Саймон Кузнец","Варшава","Chrysler","Руководитель направления социальной структуры","Варшава","Свободный","Знание капитального строительства, цепочки поставок в части стратегии закупок, категорийный менеджмент. Умение выстраивать работу команды в части делегирования, повышение мотивации и самостоятельности, активности и инициативности сотрудников. Выстраивание своей авторитетной позиции. Умение эффективно действовать в ситуации конфликта интересов.","У сотрудника уже составлен ИПР, который она заинтересована дополнить. Обучение очно и онлайн, стажировки, участие в проектах, обратная связь от наставника/карьерного консультанта.","Лидер","КЦ либо ДО. Сотрудник планирует стажировку в КЦ ориентировочно в марте, после этого будет решение","-","ЗГД либо руководитель департамента закупок либо team leader в КЦ (название последней должности еще не формализовано)","промышленная безопасность, повышение операционной эффективности,  непрерывное улучшение, выстравание бизнес-процессов с заказчиками, продажи","Москва, Санкт-Петербург","Рост по карьерной лестнице, новые проекты, жена в настоящее время работает в Москве.","Ребенок 5,5 лет, переезд потребует адаптации ребенка на новом месте, поиск детского сада","В целом сотрудник очень широко смотрит на перспективы своего развития, готова развиваться как верикально, так и в смежных функциях, интересует опыт работы в совместных компаниях, с международным опытом. Сама так же обучает сотрудников, проводит внутренее обучение.","8 из 12","2 из 3","1 из 3","3 из 3","2 из 3",5.9,5.43,5.8,6.1,3.88,7,6.2,5.35,5.9,5.8,5.0999999999999996,5.4,5.8,6.1,5.2,1.6,4.2,4.5,7,6.6,6.5,5.8,5.9,6,6,6.7,5.5,2.5,5.4,5.4,5.3,"АДМИНИСТРАТОР / РЕАЛИСТ / РУКОВОДИТЕЛЬ\nESTJ: экстраверт, сенсорик, логик, рационал ",24,3,13,10,17,4,19,9,"В работе с командой проявляет себя и как лидер, и как менеджер. Энергичен, стремится к объективному и разностороннему взгляду на ситуацию","Внимателен к команде, прикладывает усилия к развитию подчиненных и формированию конструктивной атмосферы в коллективе. Уверенный в себе переговорщик, готовый использовать различные методы для отстаивания интересов компании. Стрессоустойчив. Имеет сильную соревновательную мотивацию. При выстраивании работы заинтересован в анализе и учете лучших практик","Испытывает затруднения при необходимости выступать на публике (большая незнакомая аудитория). Испытывает демотивацию в случае невозможности самостоятельно выстраивать стратегию своей работу и в случае отсутствия новых интересных проектов (расценивает такую ситуацию как стагнацию, в случае продолжительной стагнации не исключает смену карьеры)",0,1,6,2,3,1,8,"-Лиссабон\n-Рим\n-Париж","АДМИНИСТРАТОР / РЕАЛИСТ / РУКОВОДИТЕЛЬ","ESTJ: экстраверт, сенсорик, логик, рационал ","Люди с данной ролью ответственные, пунктуальные, надежные и стойкие. Успешно организуя дела, они любят порядок. Знают свои обязанности и не стремятся увиливать. Следуют установленному порядку, точны, аккуратны. Во взаимоотношениях следуют сложившимся традициям. Практичны, реалистичны, основываются на фактах, их заботит ситуация «здесь и сейчас». Больший интерес у них вызывают новые вещи и предметы, а не новые идеи. При решении возникающих проблем они используют свой прошлый опыт. Люди этого типа любят работать в таких сферах деятельности, где они могут достичь непосредственных, видимых глазом, ощутимых результатов. ","2013-04-09","1982-06-04"]
["Светлана Алексеевич","Афины","General Electrics","Начальник управления многогласного творчества","Афины",0,"Работа с эмоциями, управление стрессом, личная эффективность, эмоциональная гибкость,работа с персоналом, работа с командой","Тренинги, индивидуальные консультации","Эксперт","Корпоративный центр","-","В ближайшие 2-3 года видит себя в текущей должности","Аудит","Тюмень","-","Дочь учится в школе в СПБ. Если после 9 класса уезжает учиться, готова рассматривать варианты релокации.","Активно не занималась планированием карьеры, текущей должностью и работой довольна. Видит себя на этом месте в ближайшее время. Сама не стала бы искать новую функцию. Если бы пришлось переходить, готова была бы рассматривать функцию Аудит. ","7 из 12","1 из 3","1 из 3","2 из 3","3 из 3",5.4,5.63,6.2,4.5999999999999996,4.38,5.0999999999999996,6.05,5.34,5.4,5.8,5,6.1,6.2,4.5999999999999996,5.7,2.6,4.5,4.7,5.0999999999999996,5,6.5,6.3,6.4,5.4,5,6,6.2,3.5,5,5.8,5.8,"АДМИНИСТРАТОР / РЕАЛИСТ / РУКОВОДИТЕЛЬ\nESTJ: экстраверт, сенсорик, логик, рационал ",15,12,13,10,17,4,20,6,"Ответственна, готова принимать обратную связь, нацелена на результат. ","Есть понимание, чего хочет от работы, готова вкладываться в развитие команды, если что-то делает, то качественно. ","Возможно, есть элемент выгорания. Это может со временем сказаться на качестве работы, на уровне мотивации и вовлечённости, а также к внутреннему саботажу задач. ",0,8,8,7,9,6,7,"-Варшава\n-Москва\n-Париж","АДМИНИСТРАТОР / РЕАЛИСТ / РУКОВОДИТЕЛЬ","ESTJ: экстраверт, сенсорик, логик, рационал ","Люди с данной ролью ответственные, пунктуальные, надежные и стойкие. Успешно организуя дела, они любят порядок. Знают свои обязанности и не стремятся увиливать. Следуют установленному порядку, точны, аккуратны. Во взаимоотношениях следуют сложившимся традициям. Практичны, реалистичны, основываются на фактах, их заботит ситуация «здесь и сейчас». Больший интерес у них вызывают новые вещи и предметы, а не новые идеи. При решении возникающих проблем они используют свой прошлый опыт. Люди этого типа любят работать в таких сферах деятельности, где они могут достичь непосредственных, видимых глазом, ощутимых результатов. ","2013-10-14","1957-05-31"]
["Эстер Дюфло","Вена","Johnson & Johnson","Начальник департамента борьбы с глобальной бедностью","Вена","Средний","Публичные выступления, навыки презентации, навыки переговоров с вышестоящим руководством, эмоциональный интеллект, работа с конфликтами","Тренинги, онлайн-курсы, чтение литературы","Эксперт","Дочернее общество","Аудит, юридическое направление","Возможно, ЗГД в ДО или в Тюмень, на проект, который объединяет направление закупок ","БРД, методология закупок,управление эффективностью, ЦЦИ","Тюмень","Должность, интересный проект, личность руководителя, финансовое вознаграждение","На текущий момент уходит в декрет, на данный момент из ограничений к переезду обозначила только географические факторы - на север и в Томск ехать не готова","ЗГД в ДО, БРД, интересен проект, который объединяет в себе управление закупок, управление организацией и управление эффективностью, изучила аудит. Готова рассматривать переход в методологию закупок","7 из 12","1 из 3","1 из 3","2 из 3","3 из 3",4.9000000000000004,5.0999999999999996,5.7,5.0999999999999996,4.4000000000000004,6,5.38,5.18,4.9000000000000004,4.5999999999999996,5.0999999999999996,5.6,5.7,5.0999999999999996,5,3.8,4.3,4.5,6,5.4,5.2,4.9000000000000004,6,5.6,6,6.2,5.5,1.8,5,5.6,5.7,"АДМИНИСТРАТОР / РЕАЛИСТ / РУКОВОДИТЕЛЬ\nESTJ: экстраверт, сенсорик, логик, рационал ",15,8,16,11,17,5,22,5,"\"Энерджайзер\", активна, мотивирована, амбициозна, готова работать на своё развитие в декрете. ","Развивает свои компетенции, чтобы быть компетентной в своей работе. Работает с командой, есть стремление быть эффективным лидером и руководителем.","Не всегда чувствует признание своих заслуг вышестоящим руководством. Есть ожидания на проект в Тюмени, который готова возглавить. Возможно, если этого не произойдёт, будет демотивирована. ",0,2,4,3,2,5,7,"-Париж\n-Мадрид\n-Лондон","АДМИНИСТРАТОР / РЕАЛИСТ / РУКОВОДИТЕЛЬ","ESTJ: экстраверт, сенсорик, логик, рационал ","Люди с данной ролью ответственные, пунктуальные, надежные и стойкие. Успешно организуя дела, они любят порядок. Знают свои обязанности и не стремятся увиливать. Следуют установленному порядку, точны, аккуратны. Во взаимоотношениях следуют сложившимся традициям. Практичны, реалистичны, основываются на фактах, их заботит ситуация «здесь и сейчас». Больший интерес у них вызывают новые вещи и предметы, а не новые идеи. При решении возникающих проблем они используют свой прошлый опыт. Люди этого типа любят работать в таких сферах деятельности, где они могут достичь непосредственных, видимых глазом, ощутимых результатов. ","2018-02-21","1973-01-09"]

{"sheet":"Паспорт показателей","index":9,"n_rows":24,"n_cols":11,"rows_kept":24,"cut":false,"hidden":true,"merged":[[21,3,23,3],[21,4,23,4],[21,5,23,5],[21,6,23,6],[17,8,18,8],[17,9,18,9],[17,10,18,10],[17,2,18,2],[15,3,18,3],[15,4,18,4],[15,5,18,5],[15,6,18,6],[4,1,9,1],[10,1,18,1],[19,1,23,1],[4,6,6,6],[4,2,6,2],[7,2,9,2],[4,3,6,3],[4,4,6,4],[4,5,6,5],[7,3,9,3],[7,4,9,4],[7,5,9,5],[12,3,14,3],[12,4,14,4],[12,5,14,5],[12,6,14,6]]}
[null,"К СОДЕРЖАНИЮ"]
[]
[null,"БЛОК","ПОКАЗАТЕЛЬ","ПЕРИОДИЧНОСТЬ СБОРА","ВЕС В ИНТЕГРАЛЬНОМ РЕЙТИНГЕ","ВЕС В РЕЙТИНГЕ                ПО БЛОКУ","Пересчет для годовых результатов","МЕТОД  РАСЧЕТА ПОКАЗАТЕЛЯ","ИСТОЧНИК ДАННЫХ","ФОРМАТ ПРЕДОСТАВЛЕНИЯ ДАННЫХ","СРОК ПРЕДОСТАВЛЕНИЯ ДАННЫХ"]
[null,"РЕЗУЛЬТАТИВНОСТЬ","Выполнение УПЦ","Раз в квартал",0.1,1,"Среднее выполнение по году","Процент выполнения УПЦ * Коэфициент оценки вклада","Карта УПЦ участника","Карта УПЦ","2ая неделя после начала квартал"]
[null,"ПРОАКТИВНОСТЬ","Поданные инициативы","Раз в квартал",0.1,0.5,"Среднее число по году по всем 3 каналам вместе","(Число инициатив, поданных сотрудниками подразделения участника в ЛИНиЯ + Число инициатив, поданных сотрудниками подразделения в И.Д.Е.Я.) / число сотрудников в подразделении участника","Аналитика И.Д.Е.Я, ЛИНиЯ","Выгрузка отчета по подразделению в формате Excel","1ая неделя после начала квартала"]
[null,null,null,null,null,null,null,"или"]
[null,null,null,null,null,null,null,"Число инициатив, поданных сотрудниками подразделения (при отсутствии программ ЛИНиЯ и/или И.Д.Е.Я.) / Число сотрудников в подразделении участника","Отчет участника в свободной форме","Отчет участника в свободной форме","1ая неделя после начала квартала"]
[null,null,"Одобренные инициативы","Раз в квартал",0.1,0.5,"Сумма по году","(Число инициатив, поданных сотрудниками подразделения участника в ЛИНиЯ, получивших одобрение к реализации + Число инициатив, поданных сотрудниками подразделения в И.Д.Е.Я. И получивших одобрение к реализации) / число сотрудников в подразделении участника","Аналитика И.Д.Е.Я, ЛИНиЯ","Выгрузка отчета по подразделению в формате Excel","1ая неделя после начала квартала"]
[null,null,null,null,null,null,null,"или"]
[null,null,null,null,null,null,"Сумма по году","Число инициатив, поданных сотрудниками подразделения (при отсутствии программ ЛИНиЯ и/или И.Д.Е.Я.) и получивших одобрение к реализации / Число сотрудников в подразделении участника","Отчет участника в свободной форме","Отчет участника в свободной форме","1ая неделя после начала квартала"]
[null,"ПРОФЕССИОНАЛЬНОЕ И ЛИДЕРСКОЕ РАЗВИТИЕ","Выполнение ИПР участником","Раз в пол года",0.1,0.25,"Среднее выполнение по году","Процент выполнения ИПР","Отчет участника, подтвержденный HR ДО","Отчет участника в свободной форме","1ая неделя после начала полугодия"]
[null,null,"Выполнение ИПР подчиненными","Раз в пол года",0.1,0.25,"Среднее выполнение по году","Медиана по процентному выполнению ИПР по непосредственным подчиненным участника","Отчет участника, подтвержденный HR ДО","Отчет участника в свободной форме","1ая неделя после начала полугодия"]
[null,null,"Наполнение Кадрового резерва функции","Раз в год",0.1,0.25,"-"]
[null,null,"- Оперативный кадровый резерв",null,null,null,null,"Число сотрудников в ОКР * 5 / Число сотрудников в подразделении участника","Решение Кадрового комитета / Отчет участника, подтвержденный HR ДО","Протокол решения кадрового комитета","2ая неделя со дня проведения кадрового комитета"]
[null,null,"- Перспективный кадровый резерв",null,null,null,null,"Число сотрудников в ПКР * 2 / Число сотрудников в подразделении участника","Решение Кадрового комитета / Отчет участника, подтвержденный HR ДО","Протокол решения кадрового комитета","2ая неделя со дня проведения кадрового комитета"]
[null,null,"Управление знаниями функции","Раз в квартал",0.1,0.25,"Среднее число по году"]
[null,null,"- Внутренние тренеры",null,null,null,null,"Число внутренних тренеров в подразделении участника / Число сотрудников в подразделении участника","Отчет участника, подтвержденный HR ДО","Отчет участника","1ая неделя после начала квартала"]
[null,null,"- Курсы внутренних тренеров",null,null,null,null,"Число курсов внутреннего обучения, проведенных сотрудниками подразделения участника, исключая Институт Закупки / Число внутренних тренеров","Отчет участника, подтвержденный HR ДО","Отчет участника в свободной форме","1ая неделя после начала квартала"]
[null,null,null,null,null,null,null,"Число курсов внутреннего обучения, проведенных сотрудниками подразделения участника в рамках Института Закупки * 2 / Число внутренних тренеров"]
[null,"ЭФФЕКТИВНОЕ ВЗАИМОДЕЙСТВИЕ","Обратная связь от подрядчиков","Раз в пол года",0.1,0.33,"Среднее значение по году","Средний процент положительной ОС","Короткий опрос на DA (?)","Выгрузка отчета с портала DA","До конца полугодия"]
[null,null,"Обратная связь от прямых подчиненных","Раз в пол года",0.1,0.33,"Среднее значение по году","Средний процент положительной ОС","Короткий опрос на DA (?)","Выгрузка отчета с портала DA","До конца полугодия"]
[null,null,"Работа кросс-функциональных команд","Раз в квартал",0.1,0.33,"Сумма по году"]
[null,null,"Инициация кросс-функциональных команд",null,null,null,null,"Число кросс-функциональных команд, инициированных участником / Число сотрудников в подразделении участника","Отчет участника, подтвержденный HR ДО","Отчет участника в свободной форме","1ая неделя после начала квартала"]
[null,null,"Участие в кросс-функциональных командах",null,null,null,null,"Число сотрудников подразделения, переданных в кросс-функциональную команду решением участника / Число сотрудников в подразделении участника","Отчет участника, подтвержденный HR ДО","Отчет участника в свободной форме","1ая неделя после начала квартала"]

{"sheet":"РЕЙТИНГ","index":10,"n_rows":60,"n_cols":27,"rows_kept":60,"cut":false,"hidden":true,"merged":[[6,22,6,26],[6,2,6,6],[6,7,6,11],[6,12,6,16],[6,17,6,21]]}
[]
[]
[null,"К СОДЕРЖАНИЮ"]
[]
[null,"ОБЩИЙ РЕЙТИНГ УЧАСТНИКОВ"]
[]
[null,"УЧАСТНИК",{"$f":"IF(AA9=\"-\",\"ГОД (Кумулятивный итог)\",\"ГОД\")","v":"ГОД (Кумулятивный итог)"},null,null,null,null,"I КВАРТАЛ",null,null,null,null,"II КВАРТАЛ",null,null,null,null,"III КВАРТАЛ",null,null,null,null,"IV КВАРТАЛ"]
[null,"ФИО","ИНТЕГРАЛЬНЫЙ","РЕЗУЛЬТАТИВНОСТЬ","ПРОАКТИВНОСТЬ","ЛИДЕРСКОЕ РАЗВИТИЕ","МЕЖКОМАНДНОЕ ВЗАИМОДЕЙСТВИЕ","ИНТЕГРАЛЬНЫЙ","РЕЗУЛЬТАТИВНОСТЬ","ПРОАКТИВНОСТЬ","ЛИДЕРСКОЕ РАЗВИТИЕ","МЕЖКОМАНДНОЕ ВЗАИМОДЕЙСТВИЕ","ИНТЕГРАЛЬНЫЙ","РЕЗУЛЬТАТИВНОСТЬ","ПРОАКТИВНОСТЬ","ЛИДЕРСКОЕ РАЗВИТИЕ","МЕЖКОМАНДНОЕ ВЗАИМОДЕЙСТВИЕ","ИНТЕГРАЛЬНЫЙ","РЕЗУЛЬТАТИВНОСТЬ","ПРОАКТИВНОСТЬ","ЛИДЕРСКОЕ РАЗВИТИЕ","МЕЖКОМАНДНОЕ ВЗАИМОДЕЙСТВИЕ","ИНТЕГРАЛЬНЫЙ","РЕЗУЛЬТАТИВНОСТЬ","ПРОАКТИВНОСТЬ","ПРОФЕССИОНАЛЬНОЕ РАЗВИТИЕ","ЭФФЕКТИВНОЕ ВЗАИМОДЕЙСТВИЕ"]
[null,"Василий Леонтьев",{"$f":"VLOOKUP($B9,'Показатели за ГОД'!$A$120:$AS$155,4,FALSE)","v":10},{"$f":"VLOOKUP($B9,'Показатели за ГОД'!$A$120:$AS$155,5,FALSE)","v":3},{"$f":"VLOOKUP($B9,'Показатели за ГОД'!$A$120:$AS$155,8,FALSE)","v":9},{"$f":"VLOOKUP($B9,'Показатели за ГОД'!$A$120:$AS$155,23,FALSE)","v":7},{"$f":"VLOOKUP($B9,'Показатели за ГОД'!$A$120:$AS$155,38,FALSE)","v":10},{"$f":"IF('Сбор показателей I кв'!G11=\"\",\"-\",VLOOKUP($B9,'Сбор показателей I кв'!$B$125:$AU$160,4,FALSE))","v":8},{"$f":"IF('Сбор показателей I кв'!G11=\"\",\"-\",VLOOKUP($B9,'Сбор показателей I кв'!$B$125:$AU$160,5,FALSE))","v":4},{"$f":"IF('Сбор показателей I кв'!G11=\"\",\"-\",VLOOKUP($B9,'Сбор показателей I кв'!$B$125:$AU$160,8,FALSE))","v":7},{"$f":"IF('Сбор показателей I кв'!G11=\"\",\"-\",VLOOKUP($B9,'Сбор показателей I кв'!$B$125:$AU$160,23,FALSE))","v":5},{"$f":"IF('Сбор показателей I кв'!G11=\"\",\"-\",VLOOKUP($B9,'Сбор показателей I кв'!$B$125:$AU$160,38,FALSE))","v":8},{"$f":"IF('Сбор показателей II кв'!G11=\"\",\"-\",VLOOKUP($B9,'Сбор показателей II кв'!$B$125:$AT$160,4,FALSE))","v":10},{"$f":"IF('Сбор показателей II кв'!G11=\"\",\"-\",VLOOKUP($B9,'Сбор показателей II кв'!$B$125:$AT$160,5,FALSE))","v":3},{"$f":"IF('Сбор показателей II кв'!G11=\"\",\"-\",VLOOKUP($B9,'Сбор показателей II кв'!$B$125:$AT$160,8,FALSE))","v":9},{"$f":"IF('Сбор показателей II кв'!G11=\"\",\"-\",VLOOKUP($B9,'Сбор показателей II кв'!$B$125:$AT$160,23,FALSE))","v":7},{"$f":"IF('Сбор показателей II кв'!G11=\"\",\"-\",VLOOKUP($B9,'Сбор показателей II кв'!$B$125:$AT$160,38,FALSE))","v":10},{"$f":"IF('Сбор показателей III кв'!G11=\"\",\"-\",VLOOKUP($B9,'Сбор показателей III кв'!$B$125:$AT$160,4,FALSE))","v":"-"},{"$f":"IF('Сбор показателей III кв'!G11=\"\",\"-\",VLOOKUP($B9,'Сбор показателей III кв'!$B$125:$AT$160,5,FALSE))","v":"-"},{"$f":"IF('Сбор показателей III кв'!G11=\"\",\"-\",VLOOKUP($B9,'Сбор показателей III кв'!$B$125:$AT$160,8,FALSE))","v":"-"},{"$f":"IF('Сбор показателей III кв'!G11=\"\",\"-\",VLOOKUP($B9,'Сбор показателей III кв'!$B$125:$AT$160,23,FALSE))","v":"-"},{"$f":"IF('Сбор показателей III кв'!G11=\"\",\"-\",VLOOKUP($B9,'Сбор показателей III кв'!$B$125:$AT$160,38,FALSE))","v":"-"},{"$f":"IF('Сбор показателей IV кв'!G11=\"\",\"-\",VLOOKUP(B9,'Сбор показателей IV кв'!$B$125:$AT$160,4,FALSE))","v":"-"},{"$f":"IF('Сбор показателей IV кв'!G11=\"\",\"-\",VLOOKUP(B9,'Сбор показателей IV кв'!$B$125:$AT$160,5,FALSE))","v":"-"},{"$f":"IF('Сбор показателей IV кв'!G11=\"\",\"-\",VLOOKUP(B9,'Сбор показателей IV кв'!$B$125:$AT$160,8,FALSE))","v":"-"},{"$f":"IF('Сбор показателей IV кв'!G11=\"\",\"-\",VLOOKUP(B9,'Сбор показателей IV кв'!$B$125:$AT$160,23,FALSE))","v":"-"},{"$f":"IF('Сбор показателей IV кв'!G11=\"\",\"-\",VLOOKUP(B9,'Сбор показателей IV кв'!$B$125:$AT$160,38,FALSE))","v":"-"}]
[null,"Гуннар Мюрдаль",{"$f":"VLOOKUP($B10,'Показатели за ГОД'!$A$120:$AS$155,4,FALSE)","v":9},{"$f":"VLOOKUP($B10,'Показатели за ГОД'!$A$120:$AS$155,5,FALSE)","v":2},{"$f":"VLOOKUP($B10,'Показатели за ГОД'!$A$120:$AS$155,8,FALSE)","v":8},{"$f":"VLOOKUP($B10,'Показатели за ГОД'!$A$120:$AS$155,23,FALSE)","v":8},{"$f":"VLOOKUP($B10,'Показатели за ГОД'!$A$120:$AS$155,38,FALSE)","v":9},{"$f":"IF('Сбор показателей I кв'!G12=\"\",\"-\",VLOOKUP($B10,'Сбор показателей I кв'!$B$125:$AU$160,4,FALSE))","v":9},{"$f":"IF('Сбор показателей I кв'!G12=\"\",\"-\",VLOOKUP($B10,'Сбор показателей I кв'!$B$125:$AU$160,5,FALSE))","v":3},{"$f":"IF('Сбор показателей I кв'!G12=\"\",\"-\",VLOOKUP($B10,'Сбор показателей I кв'!$B$125:$AU$160,8,FALSE))","v":6},{"$f":"IF('Сбор показателей I кв'!G12=\"\",\"-\",VLOOKUP($B10,'Сбор показателей I кв'!$B$125:$AU$160,23,FALSE))","v":7},{"$f":"IF('Сбор показателей I кв'!G12=\"\",\"-\",VLOOKUP($B10,'Сбор показателей I кв'!$B$125:$AU$160,38,FALSE))","v":10},{"$f":"IF('Сбор показателей II кв'!G12=\"\",\"-\",VLOOKUP($B10,'Сбор показателей II кв'!$B$125:$AT$160,4,FALSE))","v":9},{"$f":"IF('Сбор показателей II кв'!G12=\"\",\"-\",VLOOKUP($B10,'Сбор показателей II кв'!$B$125:$AT$160,5,FALSE))","v":2},{"$f":"IF('Сбор показателей II кв'!G12=\"\",\"-\",VLOOKUP($B10,'Сбор показателей II кв'!$B$125:$AT$160,8,FALSE))","v":8},{"$f":"IF('Сбор показателей II кв'!G12=\"\",\"-\",VLOOKUP($B10,'Сбор показателей II кв'!$B$125:$AT$160,23,FALSE))","v":8},{"$f":"IF('Сбор показателей II кв'!G12=\"\",\"-\",VLOOKUP($B10,'Сбор показателей II кв'!$B$125:$AT$160,38,FALSE))","v":8},{"$f":"IF('Сбор показателей III кв'!G12=\"\",\"-\",VLOOKUP($B10,'Сбор показателей III кв'!$B$125:$AT$160,4,FALSE))","v":"-"},{"$f":"IF('Сбор показателей III кв'!G12=\"\",\"-\",VLOOKUP($B10,'Сбор показателей III кв'!$B$125:$AT$160,5,FALSE))","v":"-"},{"$f":"IF('Сбор показателей III кв'!G12=\"\",\"-\",VLOOKUP($B10,'Сбор показателей III кв'!$B$125:$AT$160,8,FALSE))","v":"-"},{"$f":"IF('Сбор показателей III кв'!G12=\"\",\"-\",VLOOKUP($B10,'Сбор показателей III кв'!$B$125:$AT$160,23,FALSE))","v":"-"},{"$f":"IF('Сбор показателей III кв'!G12=\"\",\"-\",VLOOKUP($B10,'Сбор показателей III кв'!$B$125:$AT$160,38,FALSE))","v":"-"},{"$f":"IF('Сбор показателей IV кв'!G12=\"\",\"-\",VLOOKUP(B10,'Сбор показателей IV кв'!$B$125:$AT$160,4,FALSE))","v":"-"},{"$f":"IF('Сбор показателей IV кв'!G12=\"\",\"-\",VLOOKUP(B10,'Сбор показателей IV кв'!$B$125:$AT$160,5,FALSE))","v":"-"},{"$f":"IF('Сбор показателей IV кв'!G12=\"\",\"-\",VLOOKUP(B10,'Сбор показателей IV кв'!$B$125:$AT$160,8,FALSE))","v":"-"},{"$f":"IF('Сбор показателей IV кв'!G12=\"\",\"-\",VLOOKUP(B10,'Сбор показателей IV кв'!$B$125:$AT$160,23,FALSE))","v":"-"},{"$f":"IF('Сбор показателей IV кв'!G12=\"\",\"-\",VLOOKUP(B10,'Сбор показателей IV кв'!$B$125:$AT$160,38,FALSE))","v":"-"}]
[null,"Джон Ричард Хикс",{"$f":"VLOOKUP($B11,'Показатели за ГОД'!$A$120:$AS$155,4,FALSE)","v":5},{"$f":"VLOOKUP($B11,'Показатели за ГОД'!$A$120:$AS$155,5,FALSE)","v":10},{"$f":"VLOOKUP($B11,'Показатели за ГОД'!$A$120:$AS$155,8,FALSE)","v":1},{"$f":"VLOOKUP($B11,'Показатели за ГОД'!$A$120:$AS$155,23,FALSE)","v":10},{"$f":"VLOOKUP($B11,'Показатели за ГОД'!$A$120:$AS$155,38,FALSE)","v":7},{"$f":"IF('Сбор показателей I кв'!G13=\"\",\"-\",VLOOKUP($B11,'Сбор показателей I кв'!$B$125:$AU$160,4,FALSE))","v":3},{"$f":"IF('Сбор показателей I кв'!G13=\"\",\"-\",VLOOKUP($B11,'Сбор показателей I кв'!$B$125:$AU$160,5,FALSE))","v":9},{"$f":"IF('Сбор показателей I кв'!G13=\"\",\"-\",VLOOKUP($B11,'Сбор показателей I кв'!$B$125:$AU$160,8,FALSE))","v":1},10,{"$f":"IF('Сбор показателей I кв'!G13=\"\",\"-\",VLOOKUP($B11,'Сбор показателей I кв'!$B$125:$AU$160,38,FALSE))","v":7},{"$f":"IF('Сбор показателей II кв'!G13=\"\",\"-\",VLOOKUP($B11,'Сбор показателей II кв'!$B$125:$AT$160,4,FALSE))","v":4},{"$f":"IF('Сбор показателей II кв'!G13=\"\",\"-\",VLOOKUP($B11,'Сбор показателей II кв'!$B$125:$AT$160,5,FALSE))","v":10},{"$f":"IF('Сбор показателей II кв'!G13=\"\",\"-\",VLOOKUP($B11,'Сбор показателей II кв'!$B$125:$AT$160,8,FALSE))","v":1},{"$f":"IF('Сбор показателей II кв'!G13=\"\",\"-\",VLOOKUP($B11,'Сбор показателей II кв'!$B$125:$AT$160,23,FALSE))","v":10},{"$f":"IF('Сбор показателей II кв'!G13=\"\",\"-\",VLOOKUP($B11,'Сбор показателей II кв'!$B$125:$AT$160,38,FALSE))","v":7},{"$f":"IF('Сбор показателей III кв'!G13=\"\",\"-\",VLOOKUP($B11,'Сбор показателей III кв'!$B$125:$AT$160,4,FALSE))","v":"-"},{"$f":"IF('Сбор показателей III кв'!G13=\"\",\"-\",VLOOKUP($B11,'Сбор показателей III кв'!$B$125:$AT$160,5,FALSE))","v":"-"},{"$f":"IF('Сбор показателей III кв'!G13=\"\",\"-\",VLOOKUP($B11,'Сбор показателей III кв'!$B$125:$AT$160,8,FALSE))","v":"-"},{"$f":"IF('Сбор показателей III кв'!G13=\"\",\"-\",VLOOKUP($B11,'Сбор показателей III кв'!$B$125:$AT$160,23,FALSE))","v":"-"},{"$f":"IF('Сбор показателей III кв'!G13=\"\",\"-\",VLOOKUP($B11,'Сбор показателей III кв'!$B$125:$AT$160,38,FALSE))","v":"-"},{"$f":"IF('Сбор показателей IV кв'!G13=\"\",\"-\",VLOOKUP(B11,'Сбор показателей IV кв'!$B$125:$AT$160,4,FALSE))","v":"-"},{"$f":"IF('Сбор показателей IV кв'!G13=\"\",\"-\",VLOOKUP(B11,'Сбор показателей IV кв'!$B$125:$AT$160,5,FALSE))","v":"-"},{"$f":"IF('Сбор показателей IV кв'!G13=\"\",\"-\",VLOOKUP(B11,'Сбор показателей IV кв'!$B$125:$AT$160,8,FALSE))","v":"-"},{"$f":"IF('Сбор показателей IV кв'!G13=\"\",\"-\",VLOOKUP(B11,'Сбор показателей IV кв'!$B$125:$AT$160,23,FALSE))","v":"-"},{"$f":"IF('Сбор показателей IV кв'!G13=\"\",\"-\",VLOOKUP(B11,'Сбор показателей IV кв'!$B$125:$AT$160,38,FALSE))","v":"-"}]
[null,"Кеннет Эрроу",{"$f":"VLOOKUP($B12,'Показатели за ГОД'!$A$120:$AS$155,4,FALSE)","v":6},{"$f":"VLOOKUP($B12,'Показатели за ГОД'!$A$120:$AS$155,5,FALSE)","v":5},{"$f":"VLOOKUP($B12,'Показатели за ГОД'!$A$120:$AS$155,8,FALSE)","v":6},{"$f":"VLOOKUP($B12,'Показатели за ГОД'!$A$120:$AS$155,23,FALSE)","v":6},{"$f":"VLOOKUP($B12,'Показатели за ГОД'!$A$120:$AS$155,38,FALSE)","v":4},{"$f":"IF('Сбор показателей I кв'!G14=\"\",\"-\",VLOOKUP($B12,'Сбор показателей I кв'!$B$125:$AU$160,4,FALSE))","v":4},{"$f":"IF('Сбор показателей I кв'!G14=\"\",\"-\",VLOOKUP($B12,'Сбор показателей I кв'!$B$125:$AU$160,5,FALSE))","v":5},{"$f":"IF('Сбор показателей I кв'!G14=\"\",\"-\",VLOOKUP($B12,'Сбор показателей I кв'!$B$125:$AU$160,8,FALSE))","v":5},{"$f":"IF('Сбор показателей I кв'!G14=\"\",\"-\",VLOOKUP($B12,'Сбор показателей I кв'!$B$125:$AU$160,23,FALSE))","v":4},{"$f":"IF('Сбор показателей I кв'!G14=\"\",\"-\",VLOOKUP($B12,'Сбор показателей I кв'!$B$125:$AU$160,38,FALSE))","v":3},{"$f":"IF('Сбор показателей II кв'!G14=\"\",\"-\",VLOOKUP($B12,'Сбор показателей II кв'!$B$125:$AT$160,4,FALSE))","v":6},{"$f":"IF('Сбор показателей II кв'!G14=\"\",\"-\",VLOOKUP($B12,'Сбор показателей II кв'!$B$125:$AT$160,5,FALSE))","v":4},{"$f":"IF('Сбор показателей II кв'!G14=\"\",\"-\",VLOOKUP($B12,'Сбор показателей II кв'!$B$125:$AT$160,8,FALSE))","v":7},{"$f":"IF('Сбор показателей II кв'!G14=\"\",\"-\",VLOOKUP($B12,'Сбор показателей II кв'!$B$125:$AT$160,23,FALSE))","v":6},{"$f":"IF('Сбор показателей II кв'!G14=\"\",\"-\",VLOOKUP($B12,'Сбор показателей II кв'!$B$125:$AT$160,38,FALSE))","v":6},{"$f":"IF('Сбор показателей III кв'!G14=\"\",\"-\",VLOOKUP($B12,'Сбор показателей III кв'!$B$125:$AT$160,4,FALSE))","v":"-"},{"$f":"IF('Сбор показателей III кв'!G14=\"\",\"-\",VLOOKUP($B12,'Сбор показателей III кв'!$B$125:$AT$160,5,FALSE))","v":"-"},{"$f":"IF('Сбор показателей III кв'!G14=\"\",\"-\",VLOOKUP($B12,'Сбор показателей III кв'!$B$125:$AT$160,8,FALSE))","v":"-"},{"$f":"IF('Сбор показателей III кв'!G14=\"\",\"-\",VLOOKUP($B12,'Сбор показателей III кв'!$B$125:$AT$160,23,FALSE))","v":"-"},{"$f":"IF('Сбор показателей III кв'!G14=\"\",\"-\",VLOOKUP($B12,'Сбор показателей III кв'!$B$125:$AT$160,38,FALSE))","v":"-"},{"$f":"IF('Сбор показателей IV кв'!G14=\"\",\"-\",VLOOKUP(B12,'Сбор показателей IV кв'!$B$125:$AT$160,4,FALSE))","v":"-"},{"$f":"IF('Сбор показателей IV кв'!G14=\"\",\"-\",VLOOKUP(B12,'Сбор показателей IV кв'!$B$125:$AT$160,5,FALSE))","v":"-"},{"$f":"IF('Сбор показателей IV кв'!G14=\"\",\"-\",VLOOKUP(B12,'Сбор показателей IV кв'!$B$125:$AT$160,8,FALSE))","v":"-"},{"$f":"IF('Сбор показателей IV кв'!G14=\"\",\"-\",VLOOKUP(B12,'Сбор показателей IV кв'!$B$125:$AT$160,23,FALSE))","v":"-"},{"$f":"IF('Сбор показателей IV кв'!G14=\"\",\"-\",VLOOKUP(B12,'Сбор показателей IV кв'!$B$125:$AT$160,38,FALSE))","v":"-"}]
[null,"Кэрол Грейдер",{"$f":"VLOOKUP($B13,'Показатели за ГОД'!$A$120:$AS$155,4,FALSE)","v":7},{"$f":"VLOOKUP($B13,'Показатели за ГОД'!$A$120:$AS$155,5,FALSE)","v":9},{"$f":"VLOOKUP($B13,'Показатели за ГОД'!$A$120:$AS$155,8,FALSE)","v":5},{"$f":"VLOOKUP($B13,'Показатели за ГОД'!$A$120:$AS$155,23,FALSE)","v":1},{"$f":"VLOOKUP($B13,'Показатели за ГОД'!$A$120:$AS$155,38,FALSE)","v":8},{"$f":"IF('Сбор показателей I кв'!G15=\"\",\"-\",VLOOKUP($B13,'Сбор показателей I кв'!$B$125:$AU$160,4,FALSE))","v":7},{"$f":"IF('Сбор показателей I кв'!G15=\"\",\"-\",VLOOKUP($B13,'Сбор показателей I кв'!$B$125:$AU$160,5,FALSE))","v":8},{"$f":"IF('Сбор показателей I кв'!G15=\"\",\"-\",VLOOKUP($B13,'Сбор показателей I кв'!$B$125:$AU$160,8,FALSE))","v":4},{"$f":"IF('Сбор показателей I кв'!G15=\"\",\"-\",VLOOKUP($B13,'Сбор показателей I кв'!$B$125:$AU$160,23,FALSE))","v":1},{"$f":"IF('Сбор показателей I кв'!G15=\"\",\"-\",VLOOKUP($B13,'Сбор показателей I кв'!$B$125:$AU$160,38,FALSE))","v":9},{"$f":"IF('Сбор показателей II кв'!G15=\"\",\"-\",VLOOKUP($B13,'Сбор показателей II кв'!$B$125:$AT$160,4,FALSE))","v":8},{"$f":"IF('Сбор показателей II кв'!G15=\"\",\"-\",VLOOKUP($B13,'Сбор показателей II кв'!$B$125:$AT$160,5,FALSE))","v":9},{"$f":"IF('Сбор показателей II кв'!G15=\"\",\"-\",VLOOKUP($B13,'Сбор показателей II кв'!$B$125:$AT$160,8,FALSE))","v":5},{"$f":"IF('Сбор показателей II кв'!G15=\"\",\"-\",VLOOKUP($B13,'Сбор показателей II кв'!$B$125:$AT$160,23,FALSE))","v":1},{"$f":"IF('Сбор показателей II кв'!G15=\"\",\"-\",VLOOKUP($B13,'Сбор показателей II кв'!$B$125:$AT$160,38,FALSE))","v":9},{"$f":"IF('Сбор показателей III кв'!G15=\"\",\"-\",VLOOKUP($B13,'Сбор показателей III кв'!$B$125:$AT$160,4,FALSE))","v":"-"},{"$f":"IF('Сбор показателей III кв'!G15=\"\",\"-\",VLOOKUP($B13,'Сбор показателей III кв'!$B$125:$AT$160,5,FALSE))","v":"-"},{"$f":"IF('Сбор показателей III кв'!G15=\"\",\"-\",VLOOKUP($B13,'Сбор показателей III кв'!$B$125:$AT$160,8,FALSE))","v":"-"},{"$f":"IF('Сбор показателей III кв'!G15=\"\",\"-\",VLOOKUP($B13,'Сбор показателей III кв'!$B$125:$AT$160,23,FALSE))","v":"-"},{"$f":"IF('Сбор показателей III кв'!G15=\"\",\"-\",VLOOKUP($B13,'Сбор показателей III кв'!$B$125:$AT$160,38,FALSE))","v":"-"},{"$f":"IF('Сбор показателей IV кв'!G15=\"\",\"-\",VLOOKUP(B13,'Сбор показателей IV кв'!$B$125:$AT$160,4,FALSE))","v":"-"},{"$f":"IF('Сбор показателей IV кв'!G15=\"\",\"-\",VLOOKUP(B13,'Сбор показателей IV кв'!$B$125:$AT$160,5,FALSE))","v":"-"},{"$f":"IF('Сбор показателей IV кв'!G15=\"\",\"-\",VLOOKUP(B13,'Сбор показателей IV кв'!$B$125:$AT$160,8,FALSE))","v":"-"},{"$f":"IF('Сбор показателей IV кв'!G15=\"\",\"-\",VLOOKUP(B13,'Сбор показателей IV кв'!$B$125:$AT$160,23,FALSE))","v":"-"},{"$f":"IF('Сбор показателей IV кв'!G15=\"\",\"-\",VLOOKUP(B13,'Сбор показателей IV кв'!$B$125:$AT$160,38,FALSE))","v":"-"}]
[null,"Линда Бак",{"$f":"VLOOKUP($B14,'Показатели за ГОД'!$A$120:$AS$155,4,FALSE)","v":3},{"$f":"VLOOKUP($B14,'Показатели за ГОД'!$A$120:$AS$155,5,FALSE)","v":1},{"$f":"VLOOKUP($B14,'Показатели за ГОД'!$A$120:$AS$155,8,FALSE)","v":10},{"$f":"VLOOKUP($B14,'Показатели за ГОД'!$A$120:$AS$155,23,FALSE)","v":4},{"$f":"VLOOKUP($B14,'Показатели за ГОД'!$A$120:$AS$155,38,FALSE)","v":2},{"$f":"IF('Сбор показателей I кв'!G16=\"\",\"-\",VLOOKUP($B14,'Сбор показателей I кв'!$B$125:$AU$160,4,FALSE))","v":5},{"$f":"IF('Сбор показателей I кв'!G16=\"\",\"-\",VLOOKUP($B14,'Сбор показателей I кв'!$B$125:$AU$160,5,FALSE))","v":1},{"$f":"IF('Сбор показателей I кв'!G16=\"\",\"-\",VLOOKUP($B14,'Сбор показателей I кв'!$B$125:$AU$160,8,FALSE))","v":8},{"$f":"IF('Сбор показателей I кв'!G16=\"\",\"-\",VLOOKUP($B14,'Сбор показателей I кв'!$B$125:$AU$160,23,FALSE))","v":8},{"$f":"IF('Сбор показателей I кв'!G16=\"\",\"-\",VLOOKUP($B14,'Сбор показателей I кв'!$B$125:$AU$160,38,FALSE))","v":2},{"$f":"IF('Сбор показателей II кв'!G16=\"\",\"-\",VLOOKUP($B14,'Сбор показателей II кв'!$B$125:$AT$160,4,FALSE))","v":3},{"$f":"IF('Сбор показателей II кв'!G16=\"\",\"-\",VLOOKUP($B14,'Сбор показателей II кв'!$B$125:$AT$160,5,FALSE))","v":1},{"$f":"IF('Сбор показателей II кв'!G16=\"\",\"-\",VLOOKUP($B14,'Сбор показателей II кв'!$B$125:$AT$160,8,FALSE))","v":10},{"$f":"IF('Сбор показателей II кв'!G16=\"\",\"-\",VLOOKUP($B14,'Сбор показателей II кв'!$B$125:$AT$160,23,FALSE))","v":4},{"$f":"IF('Сбор показателей II кв'!G16=\"\",\"-\",VLOOKUP($B14,'Сбор показателей II кв'!$B$125:$AT$160,38,FALSE))","v":2},{"$f":"IF('Сбор показателей III кв'!G16=\"\",\"-\",VLOOKUP($B14,'Сбор показателей III кв'!$B$125:$AT$160,4,FALSE))","v":"-"},{"$f":"IF('Сбор показателей III кв'!G16=\"\",\"-\",VLOOKUP($B14,'Сбор показателей III кв'!$B$125:$AT$160,5,FALSE))","v":"-"},{"$f":"IF('Сбор показателей III кв'!G16=\"\",\"-\",VLOOKUP($B14,'Сбор показателей III кв'!$B$125:$AT$160,8,FALSE))","v":"-"},{"$f":"IF('Сбор показателей III кв'!G16=\"\",\"-\",VLOOKUP($B14,'Сбор показателей III кв'!$B$125:$AT$160,23,FALSE))","v":"-"},{"$f":"IF('Сбор показателей III кв'!G16=\"\",\"-\",VLOOKUP($B14,'Сбор показателей III кв'!$B$125:$AT$160,38,FALSE))","v":"-"},{"$f":"IF('Сбор показателей IV кв'!G16=\"\",\"-\",VLOOKUP(B14,'Сбор показателей IV кв'!$B$125:$AT$160,4,FALSE))","v":"-"},{"$f":"IF('Сбор показателей IV кв'!G16=\"\",\"-\",VLOOKUP(B14,'Сбор показателей IV кв'!$B$125:$AT$160,5,FALSE))","v":"-"},{"$f":"IF('Сбор показателей IV кв'!G16=\"\",\"-\",VLOOKUP(B14,'Сбор показателей IV кв'!$B$125:$AT$160,8,FALSE))","v":"-"},{"$f":"IF('Сбор показателей IV кв'!G16=\"\",\"-\",VLOOKUP(B14,'Сбор показателей IV кв'!$B$125:$AT$160,23,FALSE))","v":"-"},{"$f":"IF('Сбор показателей IV кв'!G16=\"\",\"-\",VLOOKUP(B14,'Сбор показателей IV кв'!$B$125:$AT$160,38,FALSE))","v":"-"}]
[null,"Мэй-Брит Мозер",{"$f":"VLOOKUP($B15,'Показатели за ГОД'!$A$120:$AS$155,4,FALSE)","v":4},{"$f":"VLOOKUP($B15,'Показатели за ГОД'!$A$120:$AS$155,5,FALSE)","v":7},{"$f":"VLOOKUP($B15,'Показатели за ГОД'!$A$120:$AS$155,8,FALSE)","v":4},{"$f":"VLOOKUP($B15,'Показатели за ГОД'!$A$120:$AS$155,23,FALSE)","v":5},{"$f":"VLOOKUP($B15,'Показатели за ГОД'!$A$120:$AS$155,38,FALSE)","v":3},{"$f":"IF('Сбор показателей I кв'!G17=\"\",\"-\",VLOOKUP($B15,'Сбор показателей I кв'!$B$125:$AU$160,4,FALSE))","v":2},{"$f":"IF('Сбор показателей I кв'!G17=\"\",\"-\",VLOOKUP($B15,'Сбор показателей I кв'!$B$125:$AU$160,5,FALSE))","v":6},{"$f":"IF('Сбор показателей I кв'!G17=\"\",\"-\",VLOOKUP($B15,'Сбор показателей I кв'!$B$125:$AU$160,8,FALSE))","v":3},{"$f":"IF('Сбор показателей I кв'!G17=\"\",\"-\",VLOOKUP($B15,'Сбор показателей I кв'!$B$125:$AU$160,23,FALSE))","v":3},{"$f":"IF('Сбор показателей I кв'!G17=\"\",\"-\",VLOOKUP($B15,'Сбор показателей I кв'!$B$125:$AU$160,38,FALSE))","v":5},{"$f":"IF('Сбор показателей II кв'!G17=\"\",\"-\",VLOOKUP($B15,'Сбор показателей II кв'!$B$125:$AT$160,4,FALSE))","v":7},{"$f":"IF('Сбор показателей II кв'!G17=\"\",\"-\",VLOOKUP($B15,'Сбор показателей II кв'!$B$125:$AT$160,5,FALSE))","v":8},{"$f":"IF('Сбор показателей II кв'!G17=\"\",\"-\",VLOOKUP($B15,'Сбор показателей II кв'!$B$125:$AT$160,8,FALSE))","v":6},{"$f":"IF('Сбор показателей II кв'!G17=\"\",\"-\",VLOOKUP($B15,'Сбор показателей II кв'!$B$125:$AT$160,23,FALSE))","v":5},{"$f":"IF('Сбор показателей II кв'!G17=\"\",\"-\",VLOOKUP($B15,'Сбор показателей II кв'!$B$125:$AT$160,38,FALSE))","v":4},{"$f":"IF('Сбор показателей III кв'!G17=\"\",\"-\",VLOOKUP($B15,'Сбор показателей III кв'!$B$125:$AT$160,4,FALSE))","v":"-"},{"$f":"IF('Сбор показателей III кв'!G17=\"\",\"-\",VLOOKUP($B15,'Сбор показателей III кв'!$B$125:$AT$160,5,FALSE))","v":"-"},{"$f":"IF('Сбор показателей III кв'!G17=\"\",\"-\",VLOOKUP($B15,'Сбор показателей III кв'!$B$125:$AT$160,8,FALSE))","v":"-"},{"$f":"IF('Сбор показателей III кв'!G17=\"\",\"-\",VLOOKUP($B15,'Сбор показателей III кв'!$B$125:$AT$160,23,FALSE))","v":"-"},{"$f":"IF('Сбор показателей III кв'!G17=\"\",\"-\",VLOOKUP($B15,'Сбор показателей III кв'!$B$125:$AT$160,38,FALSE))","v":"-"},{"$f":"IF('Сбор показателей IV кв'!G17=\"\",\"-\",VLOOKUP(B15,'Сбор показателей IV кв'!$B$125:$AT$160,4,FALSE))","v":"-"},{"$f":"IF('Сбор показателей IV кв'!G17=\"\",\"-\",VLOOKUP(B15,'Сбор показателей IV кв'!$B$125:$AT$160,5,FALSE))","v":"-"},{"$f":"IF('Сбор показателей IV кв'!G17=\"\",\"-\",VLOOKUP(B15,'Сбор показателей IV кв'!$B$125:$AT$160,8,FALSE))","v":"-"},{"$f":"IF('Сбор показателей IV кв'!G17=\"\",\"-\",VLOOKUP(B15,'Сбор показателей IV кв'!$B$125:$AT$160,23,FALSE))","v":"-"},{"$f":"IF('Сбор показателей IV кв'!G17=\"\",\"-\",VLOOKUP(B15,'Сбор показателей IV кв'!$B$125:$AT$160,38,FALSE))","v":"-"}]
[null,"Саймон Кузнец",{"$f":"VLOOKUP($B16,'Показатели за ГОД'!$A$120:$AS$155,4,FALSE)","v":1},{"$f":"VLOOKUP($B16,'Показатели за ГОД'!$A$120:$AS$155,5,FALSE)","v":6},{"$f":"VLOOKUP($B16,'Показатели за ГОД'!$A$120:$AS$155,8,FALSE)","v":2},{"$f":"VLOOKUP($B16,'Показатели за ГОД'!$A$120:$AS$155,23,FALSE)","v":3},{"$f":"VLOOKUP($B16,'Показатели за ГОД'!$A$120:$AS$155,38,FALSE)","v":1},{"$f":"IF('Сбор показателей I кв'!G18=\"\",\"-\",VLOOKUP($B16,'Сбор показателей I кв'!$B$125:$AU$160,4,FALSE))","v":1},{"$f":"IF('Сбор показателей I кв'!G18=\"\",\"-\",VLOOKUP($B16,'Сбор показателей I кв'!$B$125:$AU$160,5,FALSE))","v":7},{"$f":"IF('Сбор показателей I кв'!G18=\"\",\"-\",VLOOKUP($B16,'Сбор показателей I кв'!$B$125:$AU$160,8,FALSE))","v":2},{"$f":"IF('Сбор показателей I кв'!G18=\"\",\"-\",VLOOKUP($B16,'Сбор показателей I кв'!$B$125:$AU$160,23,FALSE))","v":2},{"$f":"IF('Сбор показателей I кв'!G18=\"\",\"-\",VLOOKUP($B16,'Сбор показателей I кв'!$B$125:$AU$160,38,FALSE))","v":1},{"$f":"IF('Сбор показателей II кв'!G18=\"\",\"-\",VLOOKUP($B16,'Сбор показателей II кв'!$B$125:$AT$160,4,FALSE))","v":2},{"$f":"IF('Сбор показателей II кв'!G18=\"\",\"-\",VLOOKUP($B16,'Сбор показателей II кв'!$B$125:$AT$160,5,FALSE))","v":6},{"$f":"IF('Сбор показателей II кв'!G18=\"\",\"-\",VLOOKUP($B16,'Сбор показателей II кв'!$B$125:$AT$160,8,FALSE))","v":3},{"$f":"IF('Сбор показателей II кв'!G18=\"\",\"-\",VLOOKUP($B16,'Сбор показателей II кв'!$B$125:$AT$160,23,FALSE))","v":3},{"$f":"IF('Сбор показателей II кв'!G18=\"\",\"-\",VLOOKUP($B16,'Сбор показателей II кв'!$B$125:$AT$160,38,FALSE))","v":5},{"$f":"IF('Сбор показателей III кв'!G18=\"\",\"-\",VLOOKUP($B16,'Сбор показателей III кв'!$B$125:$AT$160,4,FALSE))","v":"-"},{"$f":"IF('Сбор показателей III кв'!G18=\"\",\"-\",VLOOKUP($B16,'Сбор показателей III кв'!$B$125:$AT$160,5,FALSE))","v":"-"},{"$f":"IF('Сбор показателей III кв'!G18=\"\",\"-\",VLOOKUP($B16,'Сбор показателей III кв'!$B$125:$AT$160,8,FALSE))","v":"-"},{"$f":"IF('Сбор показателей III кв'!G18=\"\",\"-\",VLOOKUP($B16,'Сбор показателей III кв'!$B$125:$AT$160,23,FALSE))","v":"-"},{"$f":"IF('Сбор показателей III кв'!G18=\"\",\"-\",VLOOKUP($B16,'Сбор показателей III кв'!$B$125:$AT$160,38,FALSE))","v":"-"},{"$f":"IF('Сбор показателей IV кв'!G18=\"\",\"-\",VLOOKUP(B16,'Сбор показателей IV кв'!$B$125:$AT$160,4,FALSE))","v":"-"},{"$f":"IF('Сбор показателей IV кв'!G18=\"\",\"-\",VLOOKUP(B16,'Сбор показателей IV кв'!$B$125:$AT$160,5,FALSE))","v":"-"},{"$f":"IF('Сбор показателей IV кв'!G18=\"\",\"-\",VLOOKUP(B16,'Сбор показателей IV кв'!$B$125:$AT$160,8,FALSE))","v":"-"},{"$f":"IF('Сбор показателей IV кв'!G18=\"\",\"-\",VLOOKUP(B16,'Сбор показателей IV кв'!$B$125:$AT$160,23,FALSE))","v":"-"},{"$f":"IF('Сбор показателей IV кв'!G18=\"\",\"-\",VLOOKUP(B16,'Сбор показателей IV кв'!$B$125:$AT$160,38,FALSE))","v":"-"}]
[null,"Светлана Алексеевич",{"$f":"VLOOKUP($B17,'Показатели за ГОД'!$A$120:$AS$155,4,FALSE)","v":8},{"$f":"VLOOKUP($B17,'Показатели за ГОД'!$A$120:$AS$155,5,FALSE)","v":8},{"$f":"VLOOKUP($B17,'Показатели за ГОД'!$A$120:$AS$155,8,FALSE)","v":7},{"$f":"VLOOKUP($B17,'Показатели за ГОД'!$A$120:$AS$155,23,FALSE)","v":9},{"$f":"VLOOKUP($B17,'Показатели за ГОД'!$A$120:$AS$155,38,FALSE)","v":6},{"$f":"IF('Сбор показателей I кв'!G19=\"\",\"-\",VLOOKUP($B17,'Сбор показателей I кв'!$B$125:$AU$160,4,FALSE))","v":10},{"$f":"IF('Сбор показателей I кв'!G19=\"\",\"-\",VLOOKUP($B17,'Сбор показателей I кв'!$B$125:$AU$160,5,FALSE))","v":10},{"$f":"IF('Сбор показателей I кв'!G19=\"\",\"-\",VLOOKUP($B17,'Сбор показателей I кв'!$B$125:$AU$160,8,FALSE))","v":10},{"$f":"IF('Сбор показателей I кв'!G19=\"\",\"-\",VLOOKUP($B17,'Сбор показателей I кв'!$B$125:$AU$160,23,FALSE))","v":9},{"$f":"IF('Сбор показателей I кв'!G19=\"\",\"-\",VLOOKUP($B17,'Сбор показателей I кв'!$B$125:$AU$160,38,FALSE))","v":6},{"$f":"IF('Сбор показателей II кв'!G19=\"\",\"-\",VLOOKUP($B17,'Сбор показателей II кв'!$B$125:$AT$160,4,FALSE))","v":5},{"$f":"IF('Сбор показателей II кв'!G19=\"\",\"-\",VLOOKUP($B17,'Сбор показателей II кв'!$B$125:$AT$160,5,FALSE))","v":7},{"$f":"IF('Сбор показателей II кв'!G19=\"\",\"-\",VLOOKUP($B17,'Сбор показателей II кв'!$B$125:$AT$160,8,FALSE))","v":4},{"$f":"IF('Сбор показателей II кв'!G19=\"\",\"-\",VLOOKUP($B17,'Сбор показателей II кв'!$B$125:$AT$160,23,FALSE))","v":9},{"$f":"IF('Сбор показателей II кв'!G19=\"\",\"-\",VLOOKUP($B17,'Сбор показателей II кв'!$B$125:$AT$160,38,FALSE))","v":1},{"$f":"IF('Сбор показателей III кв'!G19=\"\",\"-\",VLOOKUP($B17,'Сбор показателей III кв'!$B$125:$AT$160,4,FALSE))","v":"-"},{"$f":"IF('Сбор показателей III кв'!G19=\"\",\"-\",VLOOKUP($B17,'Сбор показателей III кв'!$B$125:$AT$160,5,FALSE))","v":"-"},{"$f":"IF('Сбор показателей III кв'!G19=\"\",\"-\",VLOOKUP($B17,'Сбор показателей III кв'!$B$125:$AT$160,8,FALSE))","v":"-"},{"$f":"IF('Сбор показателей III кв'!G19=\"\",\"-\",VLOOKUP($B17,'Сбор показателей III кв'!$B$125:$AT$160,23,FALSE))","v":"-"},{"$f":"IF('Сбор показателей III кв'!G19=\"\",\"-\",VLOOKUP($B17,'Сбор показателей III кв'!$B$125:$AT$160,38,FALSE))","v":"-"},{"$f":"IF('Сбор показателей IV кв'!G19=\"\",\"-\",VLOOKUP(B17,'Сбор показателей IV кв'!$B$125:$AT$160,4,FALSE))","v":"-"},{"$f":"IF('Сбор показателей IV кв'!G19=\"\",\"-\",VLOOKUP(B17,'Сбор показателей IV кв'!$B$125:$AT$160,5,FALSE))","v":"-"},{"$f":"IF('Сбор показателей IV кв'!G19=\"\",\"-\",VLOOKUP(B17,'Сбор показателей IV кв'!$B$125:$AT$160,8,FALSE))","v":"-"},{"$f":"IF('Сбор показателей IV кв'!G19=\"\",\"-\",VLOOKUP(B17,'Сбор показателей IV кв'!$B$125:$AT$160,23,FALSE))","v":"-"},{"$f":"IF('Сбор показателей IV кв'!G19=\"\",\"-\",VLOOKUP(B17,'Сбор показателей IV кв'!$B$125:$AT$160,38,FALSE))","v":"-"}]
[null,"Эстер Дюфло",{"$f":"VLOOKUP($B18,'Показатели за ГОД'!$A$120:$AS$155,4,FALSE)","v":2},{"$f":"VLOOKUP($B18,'Показатели за ГОД'!$A$120:$AS$155,5,FALSE)","v":4},{"$f":"VLOOKUP($B18,'Показатели за ГОД'!$A$120:$AS$155,8,FALSE)","v":3},{"$f":"VLOOKUP($B18,'Показатели за ГОД'!$A$120:$AS$155,23,FALSE)","v":2},{"$f":"VLOOKUP($B18,'Показатели за ГОД'!$A$120:$AS$155,38,FALSE)","v":5},{"$f":"IF('Сбор показателей I кв'!G20=\"\",\"-\",VLOOKUP($B18,'Сбор показателей I кв'!$B$125:$AU$160,4,FALSE))","v":6},{"$f":"IF('Сбор показателей I кв'!G20=\"\",\"-\",VLOOKUP($B18,'Сбор показателей I кв'!$B$125:$AU$160,5,FALSE))","v":2},{"$f":"IF('Сбор показателей I кв'!G20=\"\",\"-\",VLOOKUP($B18,'Сбор показателей I кв'!$B$125:$AU$160,8,FALSE))","v":9},{"$f":"IF('Сбор показателей I кв'!G20=\"\",\"-\",VLOOKUP($B18,'Сбор показателей I кв'!$B$125:$AU$160,23,FALSE))","v":6},{"$f":"IF('Сбор показателей I кв'!G20=\"\",\"-\",VLOOKUP($B18,'Сбор показателей I кв'!$B$125:$AU$160,38,FALSE))","v":4},{"$f":"IF('Сбор показателей II кв'!G20=\"\",\"-\",VLOOKUP($B18,'Сбор показателей II кв'!$B$125:$AT$160,4,FALSE))","v":1},{"$f":"IF('Сбор показателей II кв'!G20=\"\",\"-\",VLOOKUP($B18,'Сбор показателей II кв'!$B$125:$AT$160,5,FALSE))","v":5},{"$f":"IF('Сбор показателей II кв'!G20=\"\",\"-\",VLOOKUP($B18,'Сбор показателей II кв'!$B$125:$AT$160,8,FALSE))","v":2},{"$f":"IF('Сбор показателей II кв'!G20=\"\",\"-\",VLOOKUP($B18,'Сбор показателей II кв'!$B$125:$AT$160,23,FALSE))","v":2},{"$f":"IF('Сбор показателей II кв'!G20=\"\",\"-\",VLOOKUP($B18,'Сбор показателей II кв'!$B$125:$AT$160,38,FALSE))","v":3},{"$f":"IF('Сбор показателей III кв'!G20=\"\",\"-\",VLOOKUP($B18,'Сбор показателей III кв'!$B$125:$AT$160,4,FALSE))","v":"-"},{"$f":"IF('Сбор показателей III кв'!G20=\"\",\"-\",VLOOKUP($B18,'Сбор показателей III кв'!$B$125:$AT$160,5,FALSE))","v":"-"},{"$f":"IF('Сбор показателей III кв'!G20=\"\",\"-\",VLOOKUP($B18,'Сбор показателей III кв'!$B$125:$AT$160,8,FALSE))","v":"-"},{"$f":"IF('Сбор показателей III кв'!G20=\"\",\"-\",VLOOKUP($B18,'Сбор показателей III кв'!$B$125:$AT$160,23,FALSE))","v":"-"},{"$f":"IF('Сбор показателей III кв'!G20=\"\",\"-\",VLOOKUP($B18,'Сбор показателей III кв'!$B$125:$AT$160,38,FALSE))","v":"-"},{"$f":"IF('Сбор показателей IV кв'!G20=\"\",\"-\",VLOOKUP(B18,'Сбор показателей IV кв'!$B$125:$AT$160,4,FALSE))","v":"-"},{"$f":"IF('Сбор показателей IV кв'!G20=\"\",\"-\",VLOOKUP(B18,'Сбор показателей IV кв'!$B$125:$AT$160,5,FALSE))","v":"-"},{"$f":"IF('Сбор показателей IV кв'!G20=\"\",\"-\",VLOOKUP(B18,'Сбор показателей IV кв'!$B$125:$AT$160,8,FALSE))","v":"-"},{"$f":"IF('Сбор показателей IV кв'!G20=\"\",\"-\",VLOOKUP(B18,'Сбор показателей IV кв'!$B$125:$AT$160,23,FALSE))","v":"-"},{"$f":"IF('Сбор показателей IV кв'!G20=\"\",\"-\",VLOOKUP(B18,'Сбор показателей IV кв'!$B$125:$AT$160,38,FALSE))","v":"-"}]
[null,"Коваленко Тамара",{"$f":"VLOOKUP($B19,'Показатели за ГОД'!$A$120:$AS$155,4,FALSE)","v":21},{"$f":"VLOOKUP($B19,'Показатели за ГОД'!$A$120:$AS$155,5,FALSE)","v":21},{"$f":"VLOOKUP($B19,'Показатели за ГОД'!$A$120:$AS$155,8,FALSE)","v":21},{"$f":"VLOOKUP($B19,'Показатели за ГОД'!$A$120:$AS$155,23,FALSE)","v":21},{"$f":"VLOOKUP($B19,'Показатели за ГОД'!$A$120:$AS$155,38,FALSE)","v":21},{"$f":"IF('Сбор показателей I кв'!G21=\"\",\"-\",VLOOKUP($B19,'Сбор показателей I кв'!$B$125:$AU$160,4,FALSE))","v":"-"},{"$f":"IF('Сбор показателей I кв'!G21=\"\",\"-\",VLOOKUP($B19,'Сбор показателей I кв'!$B$125:$AU$160,5,FALSE))","v":"-"},{"$f":"IF('Сбор показателей I кв'!G21=\"\",\"-\",VLOOKUP($B19,'Сбор показателей I кв'!$B$125:$AU$160,8,FALSE))","v":"-"},{"$f":"IF('Сбор показателей I кв'!G21=\"\",\"-\",VLOOKUP($B19,'Сбор показателей I кв'!$B$125:$AU$160,23,FALSE))","v":"-"},{"$f":"IF('Сбор показателей I кв'!G21=\"\",\"-\",VLOOKUP($B19,'Сбор показателей I кв'!$B$125:$AU$160,38,FALSE))","v":"-"},{"$f":"IF('Сбор показателей II кв'!G21=\"\",\"-\",VLOOKUP($B19,'Сбор показателей II кв'!$B$125:$AT$160,4,FALSE))","v":"-"},{"$f":"IF('Сбор показателей II кв'!G21=\"\",\"-\",VLOOKUP($B19,'Сбор показателей II кв'!$B$125:$AT$160,5,FALSE))","v":"-"},{"$f":"IF('Сбор показателей II кв'!G21=\"\",\"-\",VLOOKUP($B19,'Сбор показателей II кв'!$B$125:$AT$160,8,FALSE))","v":"-"},{"$f":"IF('Сбор показателей II кв'!G21=\"\",\"-\",VLOOKUP($B19,'Сбор показателей II кв'!$B$125:$AT$160,23,FALSE))","v":"-"},{"$f":"IF('Сбор показателей II кв'!G21=\"\",\"-\",VLOOKUP($B19,'Сбор показателей II кв'!$B$125:$AT$160,38,FALSE))","v":"-"},{"$f":"IF('Сбор показателей III кв'!G21=\"\",\"-\",VLOOKUP($B19,'Сбор показателей III кв'!$B$125:$AT$160,4,FALSE))","v":"-"},{"$f":"IF('Сбор показателей III кв'!G21=\"\",\"-\",VLOOKUP($B19,'Сбор показателей III кв'!$B$125:$AT$160,5,FALSE))","v":"-"},{"$f":"IF('Сбор показателей III кв'!G21=\"\",\"-\",VLOOKUP($B19,'Сбор показателей III кв'!$B$125:$AT$160,8,FALSE))","v":"-"},{"$f":"IF('Сбор показателей III кв'!G21=\"\",\"-\",VLOOKUP($B19,'Сбор показателей III кв'!$B$125:$AT$160,23,FALSE))","v":"-"},{"$f":"IF('Сбор показателей III кв'!G21=\"\",\"-\",VLOOKUP($B19,'Сбор показателей III кв'!$B$125:$AT$160,38,FALSE))","v":"-"},{"$f":"IF('Сбор показателей IV кв'!G21=\"\",\"-\",VLOOKUP(B19,'Сбор показателей IV кв'!$B$125:$AT$160,4,FALSE))","v":"-"},{"$f":"IF('Сбор показателей IV кв'!G21=\"\",\"-\",VLOOKUP(B19,'Сбор показателей IV кв'!$B$125:$AT$160,5,FALSE))","v":"-"},{"$f":"IF('Сбор показателей IV кв'!G21=\"\",\"-\",VLOOKUP(B19,'Сбор показателей IV кв'!$B$125:$AT$160,8,FALSE))","v":"-"},{"$f":"IF('Сбор показателей IV кв'!G21=\"\",\"-\",VLOOKUP(B19,'Сбор показателей IV кв'!$B$125:$AT$160,23,FALSE))","v":"-"},{"$f":"IF('Сбор показателей IV кв'!G21=\"\",\"-\",VLOOKUP(B19,'Сбор показателей IV кв'!$B$125:$AT$160,38,FALSE))","v":"-"}]
[null,"Колесников Сергей",{"$f":"VLOOKUP($B20,'Показатели за ГОД'!$A$120:$AS$155,4,FALSE)","v":21},{"$f":"VLOOKUP($B20,'Показатели за ГОД'!$A$120:$AS$155,5,FALSE)","v":21},{"$f":"VLOOKUP($B20,'Показатели за ГОД'!$A$120:$AS$155,8,FALSE)","v":21},{"$f":"VLOOKUP($B20,'Показатели за ГОД'!$A$120:$AS$155,23,FALSE)","v":21},{"$f":"VLOOKUP($B20,'Показатели за ГОД'!$A$120:$AS$155,38,FALSE)","v":21},{"$f":"IF('Сбор показателей I кв'!G22=\"\",\"-\",VLOOKUP($B20,'Сбор показателей I кв'!$B$125:$AU$160,4,FALSE))","v":"-"},{"$f":"IF('Сбор показателей I кв'!G22=\"\",\"-\",VLOOKUP($B20,'Сбор показателей I кв'!$B$125:$AU$160,5,FALSE))","v":"-"},{"$f":"IF('Сбор показателей I кв'!G22=\"\",\"-\",VLOOKUP($B20,'Сбор показателей I кв'!$B$125:$AU$160,8,FALSE))","v":"-"},{"$f":"IF('Сбор показателей I кв'!G22=\"\",\"-\",VLOOKUP($B20,'Сбор показателей I кв'!$B$125:$AU$160,23,FALSE))","v":"-"},{"$f":"IF('Сбор показателей I кв'!G22=\"\",\"-\",VLOOKUP($B20,'Сбор показателей I кв'!$B$125:$AU$160,38,FALSE))","v":"-"},{"$f":"IF('Сбор показателей II кв'!G22=\"\",\"-\",VLOOKUP($B20,'Сбор показателей II кв'!$B$125:$AT$160,4,FALSE))","v":"-"},{"$f":"IF('Сбор показателей II кв'!G22=\"\",\"-\",VLOOKUP($B20,'Сбор показателей II кв'!$B$125:$AT$160,5,FALSE))","v":"-"},{"$f":"IF('Сбор показателей II кв'!G22=\"\",\"-\",VLOOKUP($B20,'Сбор показателей II кв'!$B$125:$AT$160,8,FALSE))","v":"-"},{"$f":"IF('Сбор показателей II кв'!G22=\"\",\"-\",VLOOKUP($B20,'Сбор показателей II кв'!$B$125:$AT$160,23,FALSE))","v":"-"},{"$f":"IF('Сбор показателей II кв'!G22=\"\",\"-\",VLOOKUP($B20,'Сбор показателей II кв'!$B$125:$AT$160,38,FALSE))","v":"-"},{"$f":"IF('Сбор показателей III кв'!G22=\"\",\"-\",VLOOKUP($B20,'Сбор показателей III кв'!$B$125:$AT$160,4,FALSE))","v":"-"},{"$f":"IF('Сбор показателей III кв'!G22=\"\",\"-\",VLOOKUP($B20,'Сбор показателей III кв'!$B$125:$AT$160,5,FALSE))","v":"-"},{"$f":"IF('Сбор показателей III кв'!G22=\"\",\"-\",VLOOKUP($B20,'Сбор показателей III кв'!$B$125:$AT$160,8,FALSE))","v":"-"},{"$f":"IF('Сбор показателей III кв'!G22=\"\",\"-\",VLOOKUP($B20,'Сбор показателей III кв'!$B$125:$AT$160,23,FALSE))","v":"-"},{"$f":"IF('Сбор показателей III кв'!G22=\"\",\"-\",VLOOKUP($B20,'Сбор показателей III кв'!$B$125:$AT$160,38,FALSE))","v":"-"},{"$f":"IF('Сбор показателей IV кв'!G22=\"\",\"-\",VLOOKUP(B20,'Сбор показателей IV кв'!$B$125:$AT$160,4,FALSE))","v":"-"},{"$f":"IF('Сбор показателей IV кв'!G22=\"\",\"-\",VLOOKUP(B20,'Сбор показателей IV кв'!$B$125:$AT$160,5,FALSE))","v":"-"},{"$f":"IF('Сбор показателей IV кв'!G22=\"\",\"-\",VLOOKUP(B20,'Сбор показателей IV кв'!$B$125:$AT$160,8,FALSE))","v":"-"},{"$f":"IF('Сбор показателей IV кв'!G22=\"\",\"-\",VLOOKUP(B20,'Сбор показателей IV кв'!$B$125:$AT$160,23,FALSE))","v":"-"},{"$f":"IF('Сбор показателей IV кв'!G22=\"\",\"-\",VLOOKUP(B20,'Сбор показателей IV кв'!$B$125:$AT$160,38,FALSE))","v":"-"}]
[null,"Коробейников Павел",{"$f":"VLOOKUP($B21,'Показатели за ГОД'!$A$120:$AS$155,4,FALSE)","v":21},{"$f":"VLOOKUP($B21,'Показатели за ГОД'!$A$120:$AS$155,5,FALSE)","v":21},{"$f":"VLOOKUP($B21,'Показатели за ГОД'!$A$120:$AS$155,8,FALSE)","v":21},{"$f":"VLOOKUP($B21,'Показатели за ГОД'!$A$120:$AS$155,23,FALSE)","v":21},{"$f":"VLOOKUP($B21,'Показатели за ГОД'!$A$120:$AS$155,38,FALSE)","v":21},{"$f":"IF('Сбор показателей I кв'!G23=\"\",\"-\",VLOOKUP($B21,'Сбор показателей I кв'!$B$125:$AU$160,4,FALSE))","v":"-"},{"$f":"IF('Сбор показателей I кв'!G23=\"\",\"-\",VLOOKUP($B21,'Сбор показателей I кв'!$B$125:$AU$160,5,FALSE))","v":"-"},{"$f":"IF('Сбор показателей I кв'!G23=\"\",\"-\",VLOOKUP($B21,'Сбор показателей I кв'!$B$125:$AU$160,8,FALSE))","v":"-"},{"$f":"IF('Сбор показателей I кв'!G23=\"\",\"-\",VLOOKUP($B21,'Сбор показателей I кв'!$B$125:$AU$160,23,FALSE))","v":"-"},{"$f":"IF('Сбор показателей I кв'!G23=\"\",\"-\",VLOOKUP($B21,'Сбор показателей I кв'!$B$125:$AU$160,38,FALSE))","v":"-"},{"$f":"IF('Сбор показателей II кв'!G23=\"\",\"-\",VLOOKUP($B21,'Сбор показателей II кв'!$B$125:$AT$160,4,FALSE))","v":"-"},{"$f":"IF('Сбор показателей II кв'!G23=\"\",\"-\",VLOOKUP($B21,'Сбор показателей II кв'!$B$125:$AT$160,5,FALSE))","v":"-"},{"$f":"IF('Сбор показателей II кв'!G23=\"\",\"-\",VLOOKUP($B21,'Сбор показателей II кв'!$B$125:$AT$160,8,FALSE))","v":"-"},{"$f":"IF('Сбор показателей II кв'!G23=\"\",\"-\",VLOOKUP($B21,'Сбор показателей II кв'!$B$125:$AT$160,23,FALSE))","v":"-"},{"$f":"IF('Сбор показателей II кв'!G23=\"\",\"-\",VLOOKUP($B21,'Сбор показателей II кв'!$B$125:$AT$160,38,FALSE))","v":"-"},{"$f":"IF('Сбор показателей III кв'!G23=\"\",\"-\",VLOOKUP($B21,'Сбор показателей III кв'!$B$125:$AT$160,4,FALSE))","v":"-"},{"$f":"IF('Сбор показателей III кв'!G23=\"\",\"-\",VLOOKUP($B21,'Сбор показателей III кв'!$B$125:$AT$160,5,FALSE))","v":"-"},{"$f":"IF('Сбор показателей III кв'!G23=\"\",\"-\",VLOOKUP($B21,'Сбор показателей III кв'!$B$125:$AT$160,8,FALSE))","v":"-"},{"$f":"IF('Сбор показателей III кв'!G23=\"\",\"-\",VLOOKUP($B21,'Сбор показателей III кв'!$B$125:$AT$160,23,FALSE))","v":"-"},{"$f":"IF('Сбор показателей III кв'!G23=\"\",\"-\",VLOOKUP($B21,'Сбор показателей III кв'!$B$125:$AT$160,38,FALSE))","v":"-"},{"$f":"IF('Сбор показателей IV кв'!G23=\"\",\"-\",VLOOKUP(B21,'Сбор показателей IV кв'!$B$125:$AT$160,4,FALSE))","v":"-"},{"$f":"IF('Сбор показателей IV кв'!G23=\"\",\"-\",VLOOKUP(B21,'Сбор показателей IV кв'!$B$125:$AT$160,5,FALSE))","v":"-"},{"$f":"IF('Сбор показателей IV кв'!G23=\"\",\"-\",VLOOKUP(B21,'Сбор показателей IV кв'!$B$125:$AT$160,8,FALSE))","v":"-"},{"$f":"IF('Сбор показателей IV кв'!G23=\"\",\"-\",VLOOKUP(B21,'Сбор показателей IV кв'!$B$125:$AT$160,23,FALSE))","v":"-"},{"$f":"IF('Сбор показателей IV кв'!G23=\"\",\"-\",VLOOKUP(B21,'Сбор показателей IV кв'!$B$125:$AT$160,38,FALSE))","v":"-"}]
[null,"Марченко Лариса",{"$f":"VLOOKUP($B22,'Показатели за ГОД'!$A$120:$AS$155,4,FALSE)","v":21},{"$f":"VLOOKUP($B22,'Показатели за ГОД'!$A$120:$AS$155,5,FALSE)","v":21},{"$f":"VLOOKUP($B22,'Показатели за ГОД'!$A$120:$AS$155,8,FALSE)","v":21},{"$f":"VLOOKUP($B22,'Показатели за ГОД'!$A$120:$AS$155,23,FALSE)","v":21},{"$f":"VLOOKUP($B22,'Показатели за ГОД'!$A$120:$AS$155,38,FALSE)","v":21},{"$f":"IF('Сбор показателей I кв'!G24=\"\",\"-\",VLOOKUP($B22,'Сбор показателей I кв'!$B$125:$AU$160,4,FALSE))","v":"-"},{"$f":"IF('Сбор показателей I кв'!G24=\"\",\"-\",VLOOKUP($B22,'Сбор показателей I кв'!$B$125:$AU$160,5,FALSE))","v":"-"},{"$f":"IF('Сбор показателей I кв'!G24=\"\",\"-\",VLOOKUP($B22,'Сбор показателей I кв'!$B$125:$AU$160,8,FALSE))","v":"-"},{"$f":"IF('Сбор показателей I кв'!G24=\"\",\"-\",VLOOKUP($B22,'Сбор показателей I кв'!$B$125:$AU$160,23,FALSE))","v":"-"},{"$f":"IF('Сбор показателей I кв'!G24=\"\",\"-\",VLOOKUP($B22,'Сбор показателей I кв'!$B$125:$AU$160,38,FALSE))","v":"-"},{"$f":"IF('Сбор показателей II кв'!G24=\"\",\"-\",VLOOKUP($B22,'Сбор показателей II кв'!$B$125:$AT$160,4,FALSE))","v":"-"},{"$f":"IF('Сбор показателей II кв'!G24=\"\",\"-\",VLOOKUP($B22,'Сбор показателей II кв'!$B$125:$AT$160,5,FALSE))","v":"-"},{"$f":"IF('Сбор показателей II кв'!G24=\"\",\"-\",VLOOKUP($B22,'Сбор показателей II кв'!$B$125:$AT$160,8,FALSE))","v":"-"},{"$f":"IF('Сбор показателей II кв'!G24=\"\",\"-\",VLOOKUP($B22,'Сбор показателей II кв'!$B$125:$AT$160,23,FALSE))","v":"-"},{"$f":"IF('Сбор показателей II кв'!G24=\"\",\"-\",VLOOKUP($B22,'Сбор показателей II кв'!$B$125:$AT$160,38,FALSE))","v":"-"},{"$f":"IF('Сбор показателей III кв'!G24=\"\",\"-\",VLOOKUP($B22,'Сбор показателей III кв'!$B$125:$AT$160,4,FALSE))","v":"-"},{"$f":"IF('Сбор показателей III кв'!G24=\"\",\"-\",VLOOKUP($B22,'Сбор показателей III кв'!$B$125:$AT$160,5,FALSE))","v":"-"},{"$f":"IF('Сбор показателей III кв'!G24=\"\",\"-\",VLOOKUP($B22,'Сбор показателей III кв'!$B$125:$AT$160,8,FALSE))","v":"-"},{"$f":"IF('Сбор показателей III кв'!G24=\"\",\"-\",VLOOKUP($B22,'Сбор показателей III кв'!$B$125:$AT$160,23,FALSE))","v":"-"},{"$f":"IF('Сбор показателей III кв'!G24=\"\",\"-\",VLOOKUP($B22,'Сбор показателей III кв'!$B$125:$AT$160,38,FALSE))","v":"-"},{"$f":"IF('Сбор показателей IV кв'!G24=\"\",\"-\",VLOOKUP(B22,'Сбор показателей IV кв'!$B$125:$AT$160,4,FALSE))","v":"-"},{"$f":"IF('Сбор показателей IV кв'!G24=\"\",\"-\",VLOOKUP(B22,'Сбор показателей IV кв'!$B$125:$AT$160,5,FALSE))","v":"-"},{"$f":"IF('Сбор показателей IV кв'!G24=\"\",\"-\",VLOOKUP(B22,'Сбор показателей IV кв'!$B$125:$AT$160,8,FALSE))","v":"-"},{"$f":"IF('Сбор показателей IV кв'!G24=\"\",\"-\",VLOOKUP(B22,'Сбор показателей IV кв'!$B$125:$AT$160,23,FALSE))","v":"-"},{"$f":"IF('Сбор показателей IV кв'!G24=\"\",\"-\",VLOOKUP(B22,'Сбор показателей IV кв'!$B$125:$AT$160,38,FALSE))","v":"-"}]
[null,"Мелёхин Денис",{"$f":"VLOOKUP($B23,'Показатели за ГОД'!$A$120:$AS$155,4,FALSE)","v":21},{"$f":"VLOOKUP($B23,'Показатели за ГОД'!$A$120:$AS$155,5,FALSE)","v":21},{"$f":"VLOOKUP($B23,'Показатели за ГОД'!$A$120:$AS$155,8,FALSE)","v":21},{"$f":"VLOOKUP($B23,'Показатели за ГОД'!$A$120:$AS$155,23,FALSE)","v":21},{"$f":"VLOOKUP($B23,'Показатели за ГОД'!$A$120:$AS$155,38,FALSE)","v":21},{"$f":"IF('Сбор показателей I кв'!G25=\"\",\"-\",VLOOKUP($B23,'Сбор показателей I кв'!$B$125:$AU$160,4,FALSE))","v":"-"},{"$f":"IF('Сбор показателей I кв'!G25=\"\",\"-\",VLOOKUP($B23,'Сбор показателей I кв'!$B$125:$AU$160,5,FALSE))","v":"-"},{"$f":"IF('Сбор показателей I кв'!G25=\"\",\"-\",VLOOKUP($B23,'Сбор показателей I кв'!$B$125:$AU$160,8,FALSE))","v":"-"},{"$f":"IF('Сбор показателей I кв'!G25=\"\",\"-\",VLOOKUP($B23,'Сбор показателей I кв'!$B$125:$AU$160,23,FALSE))","v":"-"},{"$f":"IF('Сбор показателей I кв'!G25=\"\",\"-\",VLOOKUP($B23,'Сбор показателей I кв'!$B$125:$AU$160,38,FALSE))","v":"-"},{"$f":"IF('Сбор показателей II кв'!G25=\"\",\"-\",VLOOKUP($B23,'Сбор показателей II кв'!$B$125:$AT$160,4,FALSE))","v":"-"},{"$f":"IF('Сбор показателей II кв'!G25=\"\",\"-\",VLOOKUP($B23,'Сбор показателей II кв'!$B$125:$AT$160,5,FALSE))","v":"-"},{"$f":"IF('Сбор показателей II кв'!G25=\"\",\"-\",VLOOKUP($B23,'Сбор показателей II кв'!$B$125:$AT$160,8,FALSE))","v":"-"},{"$f":"IF('Сбор показателей II кв'!G25=\"\",\"-\",VLOOKUP($B23,'Сбор показателей II кв'!$B$125:$AT$160,23,FALSE))","v":"-"},{"$f":"IF('Сбор показателей II кв'!G25=\"\",\"-\",VLOOKUP($B23,'Сбор показателей II кв'!$B$125:$AT$160,38,FALSE))","v":"-"},{"$f":"IF('Сбор показателей III кв'!G25=\"\",\"-\",VLOOKUP($B23,'Сбор показателей III кв'!$B$125:$AT$160,4,FALSE))","v":"-"},{"$f":"IF('Сбор показателей III кв'!G25=\"\",\"-\",VLOOKUP($B23,'Сбор показателей III кв'!$B$125:$AT$160,5,FALSE))","v":"-"},{"$f":"IF('Сбор показателей III кв'!G25=\"\",\"-\",VLOOKUP($B23,'Сбор показателей III кв'!$B$125:$AT$160,8,FALSE))","v":"-"},{"$f":"IF('Сбор показателей III кв'!G25=\"\",\"-\",VLOOKUP($B23,'Сбор показателей III кв'!$B$125:$AT$160,23,FALSE))","v":"-"},{"$f":"IF('Сбор показателей III кв'!G25=\"\",\"-\",VLOOKUP($B23,'Сбор показателей III кв'!$B$125:$AT$160,38,FALSE))","v":"-"},{"$f":"IF('Сбор показателей IV кв'!G25=\"\",\"-\",VLOOKUP(B23,'Сбор показателей IV кв'!$B$125:$AT$160,4,FALSE))","v":"-"},{"$f":"IF('Сбор показателей IV кв'!G25=\"\",\"-\",VLOOKUP(B23,'Сбор показателей IV кв'!$B$125:$AT$160,5,FALSE))","v":"-"},{"$f":"IF('Сбор показателей IV кв'!G25=\"\",\"-\",VLOOKUP(B23,'Сбор показателей IV кв'!$B$125:$AT$160,8,FALSE))","v":"-"},{"$f":"IF('Сбор показателей IV кв'!G25=\"\",\"-\",VLOOKUP(B23,'Сбор показателей IV кв'!$B$125:$AT$160,23,FALSE))","v":"-"},{"$f":"IF('Сбор показателей IV кв'!G25=\"\",\"-\",VLOOKUP(B23,'Сбор показателей IV кв'!$B$125:$AT$160,38,FALSE))","v":"-"}]
[null,"Миняева Ирина",{"$f":"VLOOKUP($B24,'Показатели за ГОД'!$A$120:$AS$155,4,FALSE)","v":21},{"$f":"VLOOKUP($B24,'Показатели за ГОД'!$A$120:$AS$155,5,FALSE)","v":21},{"$f":"VLOOKUP($B24,'Показатели за ГОД'!$A$120:$AS$155,8,FALSE)","v":21},{"$f":"VLOOKUP($B24,'Показатели за ГОД'!$A$120:$AS$155,23,FALSE)","v":21},{"$f":"VLOOKUP($B24,'Показатели за ГОД'!$A$120:$AS$155,38,FALSE)","v":21},{"$f":"IF('Сбор показателей I кв'!G26=\"\",\"-\",VLOOKUP($B24,'Сбор показателей I кв'!$B$125:$AU$160,4,FALSE))","v":"-"},{"$f":"IF('Сбор показателей I кв'!G26=\"\",\"-\",VLOOKUP($B24,'Сбор показателей I кв'!$B$125:$AU$160,5,FALSE))","v":"-"},{"$f":"IF('Сбор показателей I кв'!G26=\"\",\"-\",VLOOKUP($B24,'Сбор показателей I кв'!$B$125:$AU$160,8,FALSE))","v":"-"},{"$f":"IF('Сбор показателей I кв'!G26=\"\",\"-\",VLOOKUP($B24,'Сбор показателей I кв'!$B$125:$AU$160,23,FALSE))","v":"-"},{"$f":"IF('Сбор показателей I кв'!G26=\"\",\"-\",VLOOKUP($B24,'Сбор показателей I кв'!$B$125:$AU$160,38,FALSE))","v":"-"},{"$f":"IF('Сбор показателей II кв'!G26=\"\",\"-\",VLOOKUP($B24,'Сбор показателей II кв'!$B$125:$AT$160,4,FALSE))","v":"-"},{"$f":"IF('Сбор показателей II кв'!G26=\"\",\"-\",VLOOKUP($B24,'Сбор показателей II кв'!$B$125:$AT$160,5,FALSE))","v":"-"},{"$f":"IF('Сбор показателей II кв'!G26=\"\",\"-\",VLOOKUP($B24,'Сбор показателей II кв'!$B$125:$AT$160,8,FALSE))","v":"-"},{"$f":"IF('Сбор показателей II кв'!G26=\"\",\"-\",VLOOKUP($B24,'Сбор показателей II кв'!$B$125:$AT$160,23,FALSE))","v":"-"},{"$f":"IF('Сбор показателей II кв'!G26=\"\",\"-\",VLOOKUP($B24,'Сбор показателей II кв'!$B$125:$AT$160,38,FALSE))","v":"-"},{"$f":"IF('Сбор показателей III кв'!G26=\"\",\"-\",VLOOKUP($B24,'Сбор показателей III кв'!$B$125:$AT$160,4,FALSE))","v":"-"},{"$f":"IF('Сбор показателей III кв'!G26=\"\",\"-\",VLOOKUP($B24,'Сбор показателей III кв'!$B$125:$AT$160,5,FALSE))","v":"-"},{"$f":"IF('Сбор показателей III кв'!G26=\"\",\"-\",VLOOKUP($B24,'Сбор показателей III кв'!$B$125:$AT$160,8,FALSE))","v":"-"},{"$f":"IF('Сбор показателей III кв'!G26=\"\",\"-\",VLOOKUP($B24,'Сбор показателей III кв'!$B$125:$AT$160,23,FALSE))","v":"-"},{"$f":"IF('Сбор показателей III кв'!G26=\"\",\"-\",VLOOKUP($B24,'Сбор показателей III кв'!$B$125:$AT$160,38,FALSE))","v":"-"},{"$f":"IF('Сбор показателей IV кв'!G26=\"\",\"-\",VLOOKUP(B24,'Сбор показателей IV кв'!$B$125:$AT$160,4,FALSE))","v":"-"},{"$f":"IF('Сбор показателей IV кв'!G26=\"\",\"-\",VLOOKUP(B24,'Сбор показателей IV кв'!$B$125:$AT$160,5,FALSE))","v":"-"},{"$f":"IF('Сбор показателей IV кв'!G26=\"\",\"-\",VLOOKUP(B24,'Сбор показателей IV кв'!$B$125:$AT$160,8,FALSE))","v":"-"},{"$f":"IF('Сбор показателей IV кв'!G26=\"\",\"-\",VLOOKUP(B24,'Сбор показателей IV кв'!$B$125:$AT$160,23,FALSE))","v":"-"},{"$f":"IF('Сбор показателей IV кв'!G26=\"\",\"-\",VLOOKUP(B24,'Сбор показателей IV кв'!$B$125:$AT$160,38,FALSE))","v":"-"}]
[null,"Мирсаитов Дмитрий",{"$f":"VLOOKUP($B25,'Показатели за ГОД'!$A$120:$AS$155,4,FALSE)","v":21},{"$f":"VLOOKUP($B25,'Показатели за ГОД'!$A$120:$AS$155,5,FALSE)","v":21},{"$f":"VLOOKUP($B25,'Показатели за ГОД'!$A$120:$AS$155,8,FALSE)","v":21},{"$f":"VLOOKUP($B25,'Показатели за ГОД'!$A$120:$AS$155,23,FALSE)","v":21},{"$f":"VLOOKUP($B25,'Показатели за ГОД'!$A$120:$AS$155,38,FALSE)","v":21},{"$f":"IF('Сбор показателей I кв'!G27=\"\",\"-\",VLOOKUP($B25,'Сбор показателей I кв'!$B$125:$AU$160,4,FALSE))","v":"-"},{"$f":"IF('Сбор показателей I кв'!G27=\"\",\"-\",VLOOKUP($B25,'Сбор показателей I кв'!$B$125:$AU$160,5,FALSE))","v":"-"},{"$f":"IF('Сбор показателей I кв'!G27=\"\",\"-\",VLOOKUP($B25,'Сбор показателей I кв'!$B$125:$AU$160,8,FALSE))","v":"-"},{"$f":"IF('Сбор показателей I кв'!G27=\"\",\"-\",VLOOKUP($B25,'Сбор показателей I кв'!$B$125:$AU$160,23,FALSE))","v":"-"},{"$f":"IF('Сбор показателей I кв'!G27=\"\",\"-\",VLOOKUP($B25,'Сбор показателей I кв'!$B$125:$AU$160,38,FALSE))","v":"-"},{"$f":"IF('Сбор показателей II кв'!G27=\"\",\"-\",VLOOKUP($B25,'Сбор показателей II кв'!$B$125:$AT$160,4,FALSE))","v":"-"},{"$f":"IF('Сбор показателей II кв'!G27=\"\",\"-\",VLOOKUP($B25,'Сбор показателей II кв'!$B$125:$AT$160,5,FALSE))","v":"-"},{"$f":"IF('Сбор показателей II кв'!G27=\"\",\"-\",VLOOKUP($B25,'Сбор показателей II кв'!$B$125:$AT$160,8,FALSE))","v":"-"},{"$f":"IF('Сбор показателей II кв'!G27=\"\",\"-\",VLOOKUP($B25,'Сбор показателей II кв'!$B$125:$AT$160,23,FALSE))","v":"-"},{"$f":"IF('Сбор показателей II кв'!G27=\"\",\"-\",VLOOKUP($B25,'Сбор показателей II кв'!$B$125:$AT$160,38,FALSE))","v":"-"},{"$f":"IF('Сбор показателей III кв'!G27=\"\",\"-\",VLOOKUP($B25,'Сбор показателей III кв'!$B$125:$AT$160,4,FALSE))","v":"-"},{"$f":"IF('Сбор показателей III кв'!G27=\"\",\"-\",VLOOKUP($B25,'Сбор показателей III кв'!$B$125:$AT$160,5,FALSE))","v":"-"},{"$f":"IF('Сбор показателей III кв'!G27=\"\",\"-\",VLOOKUP($B25,'Сбор показателей III кв'!$B$125:$AT$160,8,FALSE))","v":"-"},{"$f":"IF('Сбор показателей III кв'!G27=\"\",\"-\",VLOOKUP($B25,'Сбор показателей III кв'!$B$125:$AT$160,23,FALSE))","v":"-"},{"$f":"IF('Сбор показателей III кв'!G27=\"\",\"-\",VLOOKUP($B25,'Сбор показателей III кв'!$B$125:$AT$160,38,FALSE))","v":"-"},{"$f":"IF('Сбор показателей IV кв'!G27=\"\",\"-\",VLOOKUP(B25,'Сбор показателей IV кв'!$B$125:$AT$160,4,FALSE))","v":"-"},{"$f":"IF('Сбор показателей IV кв'!G27=\"\",\"-\",VLOOKUP(B25,'Сбор показателей IV кв'!$B$125:$AT$160,5,FALSE))","v":"-"},{"$f":"IF('Сбор показателей IV кв'!G27=\"\",\"-\",VLOOKUP(B25,'Сбор показателей IV кв'!$B$125:$AT$160,8,FALSE))","v":"-"},{"$f":"IF('Сбор показателей IV кв'!G27=\"\",\"-\",VLOOKUP(B25,'Сбор показателей IV кв'!$B$125:$AT$160,23,FALSE))","v":"-"},{"$f":"IF('Сбор показателей IV кв'!G27=\"\",\"-\",VLOOKUP(B25,'Сбор показателей IV кв'!$B$125:$AT$160,38,FALSE))","v":"-"}]
[null,"Навальнева Евгения",{"$f":"VLOOKUP($B26,'Показатели за ГОД'!$A$120:$AS$155,4,FALSE)","v":21},{"$f":"VLOOKUP($B26,'Показатели за ГОД'!$A$120:$AS$155,5,FALSE)","v":21},{"$f":"VLOOKUP($B26,'Показатели за ГОД'!$A$120:$AS$155,8,FALSE)","v":21},{"$f":"VLOOKUP($B26,'Показатели за ГОД'!$A$120:$AS$155,23,FALSE)","v":21},{"$f":"VLOOKUP($B26,'Показатели за ГОД'!$A$120:$AS$155,38,FALSE)","v":21},{"$f":"IF('Сбор показателей I кв'!G28=\"\",\"-\",VLOOKUP($B26,'Сбор показателей I кв'!$B$125:$AU$160,4,FALSE))","v":"-"},{"$f":"IF('Сбор показателей I кв'!G28=\"\",\"-\",VLOOKUP($B26,'Сбор показателей I кв'!$B$125:$AU$160,5,FALSE))","v":"-"},{"$f":"IF('Сбор показателей I кв'!G28=\"\",\"-\",VLOOKUP($B26,'Сбор показателей I кв'!$B$125:$AU$160,8,FALSE))","v":"-"},{"$f":"IF('Сбор показателей I кв'!G28=\"\",\"-\",VLOOKUP($B26,'Сбор показателей I кв'!$B$125:$AU$160,23,FALSE))","v":"-"},{"$f":"IF('Сбор показателей I кв'!G28=\"\",\"-\",VLOOKUP($B26,'Сбор показателей I кв'!$B$125:$AU$160,38,FALSE))","v":"-"},{"$f":"IF('Сбор показателей II кв'!G28=\"\",\"-\",VLOOKUP($B26,'Сбор показателей II кв'!$B$125:$AT$160,4,FALSE))","v":"-"},{"$f":"IF('Сбор показателей II кв'!G28=\"\",\"-\",VLOOKUP($B26,'Сбор показателей II кв'!$B$125:$AT$160,5,FALSE))","v":"-"},{"$f":"IF('Сбор показателей II кв'!G28=\"\",\"-\",VLOOKUP($B26,'Сбор показателей II кв'!$B$125:$AT$160,8,FALSE))","v":"-"},{"$f":"IF('Сбор показателей II кв'!G28=\"\",\"-\",VLOOKUP($B26,'Сбор показателей II кв'!$B$125:$AT$160,23,FALSE))","v":"-"},{"$f":"IF('Сбор показателей II кв'!G28=\"\",\"-\",VLOOKUP($B26,'Сбор показателей II кв'!$B$125:$AT$160,38,FALSE))","v":"-"},{"$f":"IF('Сбор показателей III кв'!G28=\"\",\"-\",VLOOKUP($B26,'Сбор показателей III кв'!$B$125:$AT$160,4,FALSE))","v":"-"},{"$f":"IF('Сбор показателей III кв'!G28=\"\",\"-\",VLOOKUP($B26,'Сбор показателей III кв'!$B$125:$AT$160,5,FALSE))","v":"-"},{"$f":"IF('Сбор показателей III кв'!G28=\"\",\"-\",VLOOKUP($B26,'Сбор показателей III кв'!$B$125:$AT$160,8,FALSE))","v":"-"},{"$f":"IF('Сбор показателей III кв'!G28=\"\",\"-\",VLOOKUP($B26,'Сбор показателей III кв'!$B$125:$AT$160,23,FALSE))","v":"-"},{"$f":"IF('Сбор показателей III кв'!G28=\"\",\"-\",VLOOKUP($B26,'Сбор показателей III кв'!$B$125:$AT$160,38,FALSE))","v":"-"},{"$f":"IF('Сбор показателей IV кв'!G28=\"\",\"-\",VLOOKUP(B26,'Сбор показателей IV кв'!$B$125:$AT$160,4,FALSE))","v":"-"},{"$f":"IF('Сбор показателей IV кв'!G28=\"\",\"-\",VLOOKUP(B26,'Сбор показателей IV кв'!$B$125:$AT$160,5,FALSE))","v":"-"},{"$f":"IF('Сбор показателей IV кв'!G28=\"\",\"-\",VLOOKUP(B26,'Сбор показателей IV кв'!$B$125:$AT$160,8,FALSE))","v":"-"},{"$f":"IF('Сбор показателей IV кв'!G28=\"\",\"-\",VLOOKUP(B26,'Сбор показателей IV кв'!$B$125:$AT$160,23,FALSE))","v":"-"},{"$f":"IF('Сбор показателей IV кв'!G28=\"\",\"-\",VLOOKUP(B26,'Сбор показателей IV кв'!$B$125:$AT$160,38,FALSE))","v":"-"}]
[null,"Османов Руслан",{"$f":"VLOOKUP($B27,'Показатели за ГОД'!$A$120:$AS$155,4,FALSE)","v":21},{"$f":"VLOOKUP($B27,'Показатели за ГОД'!$A$120:$AS$155,5,FALSE)","v":21},{"$f":"VLOOKUP($B27,'Показатели за ГОД'!$A$120:$AS$155,8,FALSE)","v":21},{"$f":"VLOOKUP($B27,'Показатели за ГОД'!$A$120:$AS$155,23,FALSE)","v":21},{"$f":"VLOOKUP($B27,'Показатели за ГОД'!$A$120:$AS$155,38,FALSE)","v":21},{"$f":"IF('Сбор показателей I кв'!G29=\"\",\"-\",VLOOKUP($B27,'Сбор показателей I кв'!$B$125:$AU$160,4,FALSE))","v":"-"},{"$f":"IF('Сбор показателей I кв'!G29=\"\",\"-\",VLOOKUP($B27,'Сбор показателей I кв'!$B$125:$AU$160,5,FALSE))","v":"-"},{"$f":"IF('Сбор показателей I кв'!G29=\"\",\"-\",VLOOKUP($B27,'Сбор показателей I кв'!$B$125:$AU$160,8,FALSE))","v":"-"},{"$f":"IF('Сбор показателей I кв'!G29=\"\",\"-\",VLOOKUP($B27,'Сбор показателей I кв'!$B$125:$AU$160,23,FALSE))","v":"-"},{"$f":"IF('Сбор показателей I кв'!G29=\"\",\"-\",VLOOKUP($B27,'Сбор показателей I кв'!$B$125:$AU$160,38,FALSE))","v":"-"},{"$f":"IF('Сбор показателей II кв'!G29=\"\",\"-\",VLOOKUP($B27,'Сбор показателей II кв'!$B$125:$AT$160,4,FALSE))","v":"-"},{"$f":"IF('Сбор показателей II кв'!G29=\"\",\"-\",VLOOKUP($B27,'Сбор показателей II кв'!$B$125:$AT$160,5,FALSE))","v":"-"},{"$f":"IF('Сбор показателей II кв'!G29=\"\",\"-\",VLOOKUP($B27,'Сбор показателей II кв'!$B$125:$AT$160,8,FALSE))","v":"-"},{"$f":"IF('Сбор показателей II кв'!G29=\"\",\"-\",VLOOKUP($B27,'Сбор показателей II кв'!$B$125:$AT$160,23,FALSE))","v":"-"},{"$f":"IF('Сбор показателей II кв'!G29=\"\",\"-\",VLOOKUP($B27,'Сбор показателей II кв'!$B$125:$AT$160,38,FALSE))","v":"-"},{"$f":"IF('Сбор показателей III кв'!G29=\"\",\"-\",VLOOKUP($B27,'Сбор показателей III кв'!$B$125:$AT$160,4,FALSE))","v":"-"},{"$f":"IF('Сбор показателей III кв'!G29=\"\",\"-\",VLOOKUP($B27,'Сбор показателей III кв'!$B$125:$AT$160,5,FALSE))","v":"-"},{"$f":"IF('Сбор показателей III кв'!G29=\"\",\"-\",VLOOKUP($B27,'Сбор показателей III кв'!$B$125:$AT$160,8,FALSE))","v":"-"},{"$f":"IF('Сбор показателей III кв'!G29=\"\",\"-\",VLOOKUP($B27,'Сбор показателей III кв'!$B$125:$AT$160,23,FALSE))","v":"-"},{"$f":"IF('Сбор показателей III кв'!G29=\"\",\"-\",VLOOKUP($B27,'Сбор показателей III кв'!$B$125:$AT$160,38,FALSE))","v":"-"},{"$f":"IF('Сбор показателей IV кв'!G29=\"\",\"-\",VLOOKUP(B27,'Сбор показателей IV кв'!$B$125:$AT$160,4,FALSE))","v":"-"},{"$f":"IF('Сбор показателей IV кв'!G29=\"\",\"-\",VLOOKUP(B27,'Сбор показателей IV кв'!$B$125:$AT$160,5,FALSE))","v":"-"},{"$f":"IF('Сбор показателей IV кв'!G29=\"\",\"-\",VLOOKUP(B27,'Сбор показателей IV кв'!$B$125:$AT$160,8,FALSE))","v":"-"},{"$f":"IF('Сбор показателей IV кв'!G29=\"\",\"-\",VLOOKUP(B27,'Сбор показателей IV кв'!$B$125:$AT$160,23,FALSE))","v":"-"},{"$f":"IF('Сбор показателей IV кв'!G29=\"\",\"-\",VLOOKUP(B27,'Сбор показателей IV кв'!$B$125:$AT$160,38,FALSE))","v":"-"}]
[null,"Приймак Андрей",{"$f":"VLOOKUP($B28,'Показатели за ГОД'!$A$120:$AS$155,4,FALSE)","v":21},{"$f":"VLOOKUP($B28,'Показатели за ГОД'!$A$120:$AS$155,5,FALSE)","v":21},{"$f":"VLOOKUP($B28,'Показатели за ГОД'!$A$120:$AS$155,8,FALSE)","v":21},{"$f":"VLOOKUP($B28,'Показатели за ГОД'!$A$120:$AS$155,23,FALSE)","v":21},{"$f":"VLOOKUP($B28,'Показатели за ГОД'!$A$120:$AS$155,38,FALSE)","v":21},{"$f":"IF('Сбор показателей I кв'!G30=\"\",\"-\",VLOOKUP($B28,'Сбор показателей I кв'!$B$125:$AU$160,4,FALSE))","v":"-"},{"$f":"IF('Сбор показателей I кв'!G30=\"\",\"-\",VLOOKUP($B28,'Сбор показателей I кв'!$B$125:$AU$160,5,FALSE))","v":"-"},{"$f":"IF('Сбор показателей I кв'!G30=\"\",\"-\",VLOOKUP($B28,'Сбор показателей I кв'!$B$125:$AU$160,8,FALSE))","v":"-"},{"$f":"IF('Сбор показателей I кв'!G30=\"\",\"-\",VLOOKUP($B28,'Сбор показателей I кв'!$B$125:$AU$160,23,FALSE))","v":"-"},{"$f":"IF('Сбор показателей I кв'!G30=\"\",\"-\",VLOOKUP($B28,'Сбор показателей I кв'!$B$125:$AU$160,38,FALSE))","v":"-"},{"$f":"IF('Сбор показателей II кв'!G30=\"\",\"-\",VLOOKUP($B28,'Сбор показателей II кв'!$B$125:$AT$160,4,FALSE))","v":"-"},{"$f":"IF('Сбор показателей II кв'!G30=\"\",\"-\",VLOOKUP($B28,'Сбор показателей II кв'!$B$125:$AT$160,5,FALSE))","v":"-"},{"$f":"IF('Сбор показателей II кв'!G30=\"\",\"-\",VLOOKUP($B28,'Сбор показателей II кв'!$B$125:$AT$160,8,FALSE))","v":"-"},{"$f":"IF('Сбор показателей II кв'!G30=\"\",\"-\",VLOOKUP($B28,'Сбор показателей II кв'!$B$125:$AT$160,23,FALSE))","v":"-"},{"$f":"IF('Сбор показателей II кв'!G30=\"\",\"-\",VLOOKUP($B28,'Сбор показателей II кв'!$B$125:$AT$160,38,FALSE))","v":"-"},{"$f":"IF('Сбор показателей III кв'!G30=\"\",\"-\",VLOOKUP($B28,'Сбор показателей III кв'!$B$125:$AT$160,4,FALSE))","v":"-"},{"$f":"IF('Сбор показателей III кв'!G30=\"\",\"-\",VLOOKUP($B28,'Сбор показателей III кв'!$B$125:$AT$160,5,FALSE))","v":"-"},{"$f":"IF('Сбор показателей III кв'!G30=\"\",\"-\",VLOOKUP($B28,'Сбор показателей III кв'!$B$125:$AT$160,8,FALSE))","v":"-"},{"$f":"IF('Сбор показателей III кв'!G30=\"\",\"-\",VLOOKUP($B28,'Сбор показателей III кв'!$B$125:$AT$160,23,FALSE))","v":"-"},{"$f":"IF('Сбор показателей III кв'!G30=\"\",\"-\",VLOOKUP($B28,'Сбор показателей III кв'!$B$125:$AT$160,38,FALSE))","v":"-"},{"$f":"IF('Сбор показателей IV кв'!G30=\"\",\"-\",VLOOKUP(B28,'Сбор показателей IV кв'!$B$125:$AT$160,4,FALSE))","v":"-"},{"$f":"IF('Сбор показателей IV кв'!G30=\"\",\"-\",VLOOKUP(B28,'Сбор показателей IV кв'!$B$125:$AT$160,5,FALSE))","v":"-"},{"$f":"IF('Сбор показателей IV кв'!G30=\"\",\"-\",VLOOKUP(B28,'Сбор показателей IV кв'!$B$125:$AT$160,8,FALSE))","v":"-"},{"$f":"IF('Сбор показателей IV кв'!G30=\"\",\"-\",VLOOKUP(B28,'Сбор показателей IV кв'!$B$125:$AT$160,23,FALSE))","v":"-"},{"$f":"IF('Сбор показателей IV кв'!G30=\"\",\"-\",VLOOKUP(B28,'Сбор показателей IV кв'!$B$125:$AT$160,38,FALSE))","v":"-"}]
[null,"Проскуряков Алексей",{"$f":"VLOOKUP($B29,'Показатели за ГОД'!$A$120:$AS$155,4,FALSE)","v":21},{"$f":"VLOOKUP($B29,'Показатели за ГОД'!$A$120:$AS$155,5,FALSE)","v":21},{"$f":"VLOOKUP($B29,'Показатели за ГОД'!$A$120:$AS$155,8,FALSE)","v":21},{"$f":"VLOOKUP($B29,'Показатели за ГОД'!$A$120:$AS$155,23,FALSE)","v":21},{"$f":"VLOOKUP($B29,'Показатели за ГОД'!$A$120:$AS$155,38,FALSE)","v":21},{"$f":"IF('Сбор показателей I кв'!G31=\"\",\"-\",VLOOKUP($B29,'Сбор показателей I кв'!$B$125:$AU$160,4,FALSE))","v":"-"},{"$f":"IF('Сбор показателей I кв'!G31=\"\",\"-\",VLOOKUP($B29,'Сбор показателей I кв'!$B$125:$AU$160,5,FALSE))","v":"-"},{"$f":"IF('Сбор показателей I кв'!G31=\"\",\"-\",VLOOKUP($B29,'Сбор показателей I кв'!$B$125:$AU$160,8,FALSE))","v":"-"},{"$f":"IF('Сбор показателей I кв'!G31=\"\",\"-\",VLOOKUP($B29,'Сбор показателей I кв'!$B$125:$AU$160,23,FALSE))","v":"-"},{"$f":"IF('Сбор показателей I кв'!G31=\"\",\"-\",VLOOKUP($B29,'Сбор показателей I кв'!$B$125:$AU$160,38,FALSE))","v":"-"},{"$f":"IF('Сбор показателей II кв'!G31=\"\",\"-\",VLOOKUP($B29,'Сбор показателей II кв'!$B$125:$AT$160,4,FALSE))","v":"-"},{"$f":"IF('Сбор показателей II кв'!G31=\"\",\"-\",VLOOKUP($B29,'Сбор показателей II кв'!$B$125:$AT$160,5,FALSE))","v":"-"},{"$f":"IF('Сбор показателей II кв'!G31=\"\",\"-\",VLOOKUP($B29,'Сбор показателей II кв'!$B$125:$AT$160,8,FALSE))","v":"-"},{"$f":"IF('Сбор показателей II кв'!G31=\"\",\"-\",VLOOKUP($B29,'Сбор показателей II кв'!$B$125:$AT$160,23,FALSE))","v":"-"},{"$f":"IF('Сбор показателей II кв'!G31=\"\",\"-\",VLOOKUP($B29,'Сбор показателей II кв'!$B$125:$AT$160,38,FALSE))","v":"-"},{"$f":"IF('Сбор показателей III кв'!G31=\"\",\"-\",VLOOKUP($B29,'Сбор показателей III кв'!$B$125:$AT$160,4,FALSE))","v":"-"},{"$f":"IF('Сбор показателей III кв'!G31=\"\",\"-\",VLOOKUP($B29,'Сбор показателей III кв'!$B$125:$AT$160,5,FALSE))","v":"-"},{"$f":"IF('Сбор показателей III кв'!G31=\"\",\"-\",VLOOKUP($B29,'Сбор показателей III кв'!$B$125:$AT$160,8,FALSE))","v":"-"},{"$f":"IF('Сбор показателей III кв'!G31=\"\",\"-\",VLOOKUP($B29,'Сбор показателей III кв'!$B$125:$AT$160,23,FALSE))","v":"-"},{"$f":"IF('Сбор показателей III кв'!G31=\"\",\"-\",VLOOKUP($B29,'Сбор показателей III кв'!$B$125:$AT$160,38,FALSE))","v":"-"},{"$f":"IF('Сбор показателей IV кв'!G31=\"\",\"-\",VLOOKUP(B29,'Сбор показателей IV кв'!$B$125:$AT$160,4,FALSE))","v":"-"},{"$f":"IF('Сбор показателей IV кв'!G31=\"\",\"-\",VLOOKUP(B29,'Сбор показателей IV кв'!$B$125:$AT$160,5,FALSE))","v":"-"},{"$f":"IF('Сбор показателей IV кв'!G31=\"\",\"-\",VLOOKUP(B29,'Сбор показателей IV кв'!$B$125:$AT$160,8,FALSE))","v":"-"},{"$f":"IF('Сбор показателей IV кв'!G31=\"\",\"-\",VLOOKUP(B29,'Сбор показателей IV кв'!$B$125:$AT$160,23,FALSE))","v":"-"},{"$f":"IF('Сбор показателей IV кв'!G31=\"\",\"-\",VLOOKUP(B29,'Сбор показателей IV кв'!$B$125:$AT$160,38,FALSE))","v":"-"}]
[null,"Савченко Яна",{"$f":"VLOOKUP($B30,'Показатели за ГОД'!$A$120:$AS$155,4,FALSE)","v":21},{"$f":"VLOOKUP($B30,'Показатели за ГОД'!$A$120:$AS$155,5,FALSE)","v":21},{"$f":"VLOOKUP($B30,'Показатели за ГОД'!$A$120:$AS$155,8,FALSE)","v":21},{"$f":"VLOOKUP($B30,'Показатели за ГОД'!$A$120:$AS$155,23,FALSE)","v":21},{"$f":"VLOOKUP($B30,'Показатели за ГОД'!$A$120:$AS$155,38,FALSE)","v":21},{"$f":"IF('Сбор показателей I кв'!G32=\"\",\"-\",VLOOKUP($B30,'Сбор показателей I кв'!$B$125:$AU$160,4,FALSE))","v":"-"},{"$f":"IF('Сбор показателей I кв'!G32=\"\",\"-\",VLOOKUP($B30,'Сбор показателей I кв'!$B$125:$AU$160,5,FALSE))","v":"-"},{"$f":"IF('Сбор показателей I кв'!G32=\"\",\"-\",VLOOKUP($B30,'Сбор показателей I кв'!$B$125:$AU$160,8,FALSE))","v":"-"},{"$f":"IF('Сбор показателей I кв'!G32=\"\",\"-\",VLOOKUP($B30,'Сбор показателей I кв'!$B$125:$AU$160,23,FALSE))","v":"-"},{"$f":"IF('Сбор показателей I кв'!G32=\"\",\"-\",VLOOKUP($B30,'Сбор показателей I кв'!$B$125:$AU$160,38,FALSE))","v":"-"},{"$f":"IF('Сбор показателей II кв'!G32=\"\",\"-\",VLOOKUP($B30,'Сбор показателей II кв'!$B$125:$AT$160,4,FALSE))","v":"-"},{"$f":"IF('Сбор показателей II кв'!G32=\"\",\"-\",VLOOKUP($B30,'Сбор показателей II кв'!$B$125:$AT$160,5,FALSE))","v":"-"},{"$f":"IF('Сбор показателей II кв'!G32=\"\",\"-\",VLOOKUP($B30,'Сбор показателей II кв'!$B$125:$AT$160,8,FALSE))","v":"-"},{"$f":"IF('Сбор показателей II кв'!G32=\"\",\"-\",VLOOKUP($B30,'Сбор показателей II кв'!$B$125:$AT$160,23,FALSE))","v":"-"},{"$f":"IF('Сбор показателей II кв'!G32=\"\",\"-\",VLOOKUP($B30,'Сбор показателей II кв'!$B$125:$AT$160,38,FALSE))","v":"-"},{"$f":"IF('Сбор показателей III кв'!G32=\"\",\"-\",VLOOKUP($B30,'Сбор показателей III кв'!$B$125:$AT$160,4,FALSE))","v":"-"},{"$f":"IF('Сбор показателей III кв'!G32=\"\",\"-\",VLOOKUP($B30,'Сбор показателей III кв'!$B$125:$AT$160,5,FALSE))","v":"-"},{"$f":"IF('Сбор показателей III кв'!G32=\"\",\"-\",VLOOKUP($B30,'Сбор показателей III кв'!$B$125:$AT$160,8,FALSE))","v":"-"},{"$f":"IF('Сбор показателей III кв'!G32=\"\",\"-\",VLOOKUP($B30,'Сбор показателей III кв'!$B$125:$AT$160,23,FALSE))","v":"-"},{"$f":"IF('Сбор показателей III кв'!G32=\"\",\"-\",VLOOKUP($B30,'Сбор показателей III кв'!$B$125:$AT$160,38,FALSE))","v":"-"},{"$f":"IF('Сбор показателей IV кв'!G32=\"\",\"-\",VLOOKUP(B30,'Сбор показателей IV кв'!$B$125:$AT$160,4,FALSE))","v":"-"},{"$f":"IF('Сбор показателей IV кв'!G32=\"\",\"-\",VLOOKUP(B30,'Сбор показателей IV кв'!$B$125:$AT$160,5,FALSE))","v":"-"},{"$f":"IF('Сбор показателей IV кв'!G32=\"\",\"-\",VLOOKUP(B30,'Сбор показателей IV кв'!$B$125:$AT$160,8,FALSE))","v":"-"},{"$f":"IF('Сбор показателей IV кв'!G32=\"\",\"-\",VLOOKUP(B30,'Сбор показателей IV кв'!$B$125:$AT$160,23,FALSE))","v":"-"},{"$f":"IF('Сбор показателей IV кв'!G32=\"\",\"-\",VLOOKUP(B30,'Сбор показателей IV кв'!$B$125:$AT$160,38,FALSE))","v":"-"}]
[null,"Сафиуллин Наиль",{"$f":"VLOOKUP($B31,'Показатели за ГОД'!$A$120:$AS$155,4,FALSE)","v":21},{"$f":"VLOOKUP($B31,'Показатели за ГОД'!$A$120:$AS$155,5,FALSE)","v":21},{"$f":"VLOOKUP($B31,'Показатели за ГОД'!$A$120:$AS$155,8,FALSE)","v":21},{"$f":"VLOOKUP($B31,'Показатели за ГОД'!$A$120:$AS$155,23,FALSE)","v":21},{"$f":"VLOOKUP($B31,'Показатели за ГОД'!$A$120:$AS$155,38,FALSE)","v":21},{"$f":"IF('Сбор показателей I кв'!G33=\"\",\"-\",VLOOKUP($B31,'Сбор показателей I кв'!$B$125:$AU$160,4,FALSE))","v":"-"},{"$f":"IF('Сбор показателей I кв'!G33=\"\",\"-\",VLOOKUP($B31,'Сбор показателей I кв'!$B$125:$AU$160,5,FALSE))","v":"-"},{"$f":"IF('Сбор показателей I кв'!G33=\"\",\"-\",VLOOKUP($B31,'Сбор показателей I кв'!$B$125:$AU$160,8,FALSE))","v":"-"},{"$f":"IF('Сбор показателей I кв'!G33=\"\",\"-\",VLOOKUP($B31,'Сбор показателей I кв'!$B$125:$AU$160,23,FALSE))","v":"-"},{"$f":"IF('Сбор показателей I кв'!G33=\"\",\"-\",VLOOKUP($B31,'Сбор показателей I кв'!$B$125:$AU$160,38,FALSE))","v":"-"},{"$f":"IF('Сбор показателей II кв'!G33=\"\",\"-\",VLOOKUP($B31,'Сбор показателей II кв'!$B$125:$AT$160,4,FALSE))","v":"-"},{"$f":"IF('Сбор показателей II кв'!G33=\"\",\"-\",VLOOKUP($B31,'Сбор показателей II кв'!$B$125:$AT$160,5,FALSE))","v":"-"},{"$f":"IF('Сбор показателей II кв'!G33=\"\",\"-\",VLOOKUP($B31,'Сбор показателей II кв'!$B$125:$AT$160,8,FALSE))","v":"-"},{"$f":"IF('Сбор показателей II кв'!G33=\"\",\"-\",VLOOKUP($B31,'Сбор показателей II кв'!$B$125:$AT$160,23,FALSE))","v":"-"},{"$f":"IF('Сбор показателей II кв'!G33=\"\",\"-\",VLOOKUP($B31,'Сбор показателей II кв'!$B$125:$AT$160,38,FALSE))","v":"-"},{"$f":"IF('Сбор показателей III кв'!G33=\"\",\"-\",VLOOKUP($B31,'Сбор показателей III кв'!$B$125:$AT$160,4,FALSE))","v":"-"},{"$f":"IF('Сбор показателей III кв'!G33=\"\",\"-\",VLOOKUP($B31,'Сбор показателей III кв'!$B$125:$AT$160,5,FALSE))","v":"-"},{"$f":"IF('Сбор показателей III кв'!G33=\"\",\"-\",VLOOKUP($B31,'Сбор показателей III кв'!$B$125:$AT$160,8,FALSE))","v":"-"},{"$f":"IF('Сбор показателей III кв'!G33=\"\",\"-\",VLOOKUP($B31,'Сбор показателей III кв'!$B$125:$AT$160,23,FALSE))","v":"-"},{"$f":"IF('Сбор показателей III кв'!G33=\"\",\"-\",VLOOKUP($B31,'Сбор показателей III кв'!$B$125:$AT$160,38,FALSE))","v":"-"},{"$f":"IF('Сбор показателей IV кв'!G33=\"\",\"-\",VLOOKUP(B31,'Сбор показателей IV кв'!$B$125:$AT$160,4,FALSE))","v":"-"},{"$f":"IF('Сбор показателей IV кв'!G33=\"\",\"-\",VLOOKUP(B31,'Сбор показателей IV кв'!$B$125:$AT$160,5,FALSE))","v":"-"},{"$f":"IF('Сбор показателей IV кв'!G33=\"\",\"-\",VLOOKUP(B31,'Сбор показателей IV кв'!$B$125:$AT$160,8,FALSE))","v":"-"},{"$f":"IF('Сбор показателей IV кв'!G33=\"\",\"-\",VLOOKUP(B31,'Сбор показателей IV кв'!$B$125:$AT$160,23,FALSE))","v":"-"},{"$f":"IF('Сбор показателей IV кв'!G33=\"\",\"-\",VLOOKUP(B31,'Сбор показателей IV кв'!$B$125:$AT$160,38,FALSE))","v":"-"}]
[null,"Сметанин Павел",{"$f":"VLOOKUP($B32,'Показатели за ГОД'!$A$120:$AS$155,4,FALSE)","v":21},{"$f":"VLOOKUP($B32,'Показатели за ГОД'!$A$120:$AS$155,5,FALSE)","v":21},{"$f":"VLOOKUP($B32,'Показатели за ГОД'!$A$120:$AS$155,8,FALSE)","v":21},{"$f":"VLOOKUP($B32,'Показатели за ГОД'!$A$120:$AS$155,23,FALSE)","v":21},{"$f":"VLOOKUP($B32,'Показатели за ГОД'!$A$120:$AS$155,38,FALSE)","v":21},{"$f":"IF('Сбор показателей I кв'!G34=\"\",\"-\",VLOOKUP($B32,'Сбор показателей I кв'!$B$125:$AU$160,4,FALSE))","v":"-"},{"$f":"IF('Сбор показателей I кв'!G34=\"\",\"-\",VLOOKUP($B32,'Сбор показателей I кв'!$B$125:$AU$160,5,FALSE))","v":"-"},{"$f":"IF('Сбор показателей I кв'!G34=\"\",\"-\",VLOOKUP($B32,'Сбор показателей I кв'!$B$125:$AU$160,8,FALSE))","v":"-"},{"$f":"IF('Сбор показателей I кв'!G34=\"\",\"-\",VLOOKUP($B32,'Сбор показателей I кв'!$B$125:$AU$160,23,FALSE))","v":"-"},{"$f":"IF('Сбор показателей I кв'!G34=\"\",\"-\",VLOOKUP($B32,'Сбор показателей I кв'!$B$125:$AU$160,38,FALSE))","v":"-"},{"$f":"IF('Сбор показателей II кв'!G34=\"\",\"-\",VLOOKUP($B32,'Сбор показателей II кв'!$B$125:$AT$160,4,FALSE))","v":"-"},{"$f":"IF('Сбор показателей II кв'!G34=\"\",\"-\",VLOOKUP($B32,'Сбор показателей II кв'!$B$125:$AT$160,5,FALSE))","v":"-"},{"$f":"IF('Сбор показателей II кв'!G34=\"\",\"-\",VLOOKUP($B32,'Сбор показателей II кв'!$B$125:$AT$160,8,FALSE))","v":"-"},{"$f":"IF('Сбор показателей II кв'!G34=\"\",\"-\",VLOOKUP($B32,'Сбор показателей II кв'!$B$125:$AT$160,23,FALSE))","v":"-"},{"$f":"IF('Сбор показателей II кв'!G34=\"\",\"-\",VLOOKUP($B32,'Сбор показателей II кв'!$B$125:$AT$160,38,FALSE))","v":"-"},{"$f":"IF('Сбор показателей III кв'!G34=\"\",\"-\",VLOOKUP($B32,'Сбор показателей III кв'!$B$125:$AT$160,4,FALSE))","v":"-"},{"$f":"IF('Сбор показателей III кв'!G34=\"\",\"-\",VLOOKUP($B32,'Сбор показателей III кв'!$B$125:$AT$160,5,FALSE))","v":"-"},{"$f":"IF('Сбор показателей III кв'!G34=\"\",\"-\",VLOOKUP($B32,'Сбор показателей III кв'!$B$125:$AT$160,8,FALSE))","v":"-"},{"$f":"IF('Сбор показателей III кв'!G34=\"\",\"-\",VLOOKUP($B32,'Сбор показателей III кв'!$B$125:$AT$160,23,FALSE))","v":"-"},{"$f":"IF('Сбор показателей III кв'!G34=\"\",\"-\",VLOOKUP($B32,'Сбор показателей III кв'!$B$125:$AT$160,38,FALSE))","v":"-"},{"$f":"IF('Сбор показателей IV кв'!G34=\"\",\"-\",VLOOKUP(B32,'Сбор показателей IV кв'!$B$125:$AT$160,4,FALSE))","v":"-"},{"$f":"IF('Сбор показателей IV кв'!G34=\"\",\"-\",VLOOKUP(B32,'Сбор показателей IV кв'!$B$125:$AT$160,5,FALSE))","v":"-"},{"$f":"IF('Сбор показателей IV кв'!G34=\"\",\"-\",VLOOKUP(B32,'Сбор показателей IV кв'!$B$125:$AT$160,8,FALSE))","v":"-"},{"$f":"IF('Сбор показателей IV кв'!G34=\"\",\"-\",VLOOKUP(B32,'Сбор показателей IV кв'!$B$125:$AT$160,23,FALSE))","v":"-"},{"$f":"IF('Сбор показателей IV кв'!G34=\"\",\"-\",VLOOKUP(B32,'Сбор показателей IV кв'!$B$125:$AT$160,38,FALSE))","v":"-"}]
[null,"Степин Константин",{"$f":"VLOOKUP($B33,'Показатели за ГОД'!$A$120:$AS$155,4,FALSE)","v":21},{"$f":"VLOOKUP($B33,'Показатели за ГОД'!$A$120:$AS$155,5,FALSE)","v":21},{"$f":"VLOOKUP($B33,'Показатели за ГОД'!$A$120:$AS$155,8,FALSE)","v":21},{"$f":"VLOOKUP($B33,'Показатели за ГОД'!$A$120:$AS$155,23,FALSE)","v":21},{"$f":"VLOOKUP($B33,'Показатели за ГОД'!$A$120:$AS$155,38,FALSE)","v":21},{"$f":"IF('Сбор показателей I кв'!G35=\"\",\"-\",VLOOKUP($B33,'Сбор показателей I кв'!$B$125:$AU$160,4,FALSE))","v":"-"},{"$f":"IF('Сбор показателей I кв'!G35=\"\",\"-\",VLOOKUP($B33,'Сбор показателей I кв'!$B$125:$AU$160,5,FALSE))","v":"-"},{"$f":"IF('Сбор показателей I кв'!G35=\"\",\"-\",VLOOKUP($B33,'Сбор показателей I кв'!$B$125:$AU$160,8,FALSE))","v":"-"},{"$f":"IF('Сбор показателей I кв'!G35=\"\",\"-\",VLOOKUP($B33,'Сбор показателей I кв'!$B$125:$AU$160,23,FALSE))","v":"-"},{"$f":"IF('Сбор показателей I кв'!G35=\"\",\"-\",VLOOKUP($B33,'Сбор показателей I кв'!$B$125:$AU$160,38,FALSE))","v":"-"},{"$f":"IF('Сбор показателей II кв'!G35=\"\",\"-\",VLOOKUP($B33,'Сбор показателей II кв'!$B$125:$AT$160,4,FALSE))","v":"-"},{"$f":"IF('Сбор показателей II кв'!G35=\"\",\"-\",VLOOKUP($B33,'Сбор показателей II кв'!$B$125:$AT$160,5,FALSE))","v":"-"},{"$f":"IF('Сбор показателей II кв'!G35=\"\",\"-\",VLOOKUP($B33,'Сбор показателей II кв'!$B$125:$AT$160,8,FALSE))","v":"-"},{"$f":"IF('Сбор показателей II кв'!G35=\"\",\"-\",VLOOKUP($B33,'Сбор показателей II кв'!$B$125:$AT$160,23,FALSE))","v":"-"},{"$f":"IF('Сбор показателей II кв'!G35=\"\",\"-\",VLOOKUP($B33,'Сбор показателей II кв'!$B$125:$AT$160,38,FALSE))","v":"-"},{"$f":"IF('Сбор показателей III кв'!G35=\"\",\"-\",VLOOKUP($B33,'Сбор показателей III кв'!$B$125:$AT$160,4,FALSE))","v":"-"},{"$f":"IF('Сбор показателей III кв'!G35=\"\",\"-\",VLOOKUP($B33,'Сбор показателей III кв'!$B$125:$AT$160,5,FALSE))","v":"-"},{"$f":"IF('Сбор показателей III кв'!G35=\"\",\"-\",VLOOKUP($B33,'Сбор показателей III кв'!$B$125:$AT$160,8,FALSE))","v":"-"},{"$f":"IF('Сбор показателей III кв'!G35=\"\",\"-\",VLOOKUP($B33,'Сбор показателей III кв'!$B$125:$AT$160,23,FALSE))","v":"-"},{"$f":"IF('Сбор показателей III кв'!G35=\"\",\"-\",VLOOKUP($B33,'Сбор показателей III кв'!$B$125:$AT$160,38,FALSE))","v":"-"},{"$f":"IF('Сбор показателей IV кв'!G35=\"\",\"-\",VLOOKUP(B33,'Сбор показателей IV кв'!$B$125:$AT$160,4,FALSE))","v":"-"},{"$f":"IF('Сбор показателей IV кв'!G35=\"\",\"-\",VLOOKUP(B33,'Сбор показателей IV кв'!$B$125:$AT$160,5,FALSE))","v":"-"},{"$f":"IF('Сбор показателей IV кв'!G35=\"\",\"-\",VLOOKUP(B33,'Сбор показателей IV кв'!$B$125:$AT$160,8,FALSE))","v":"-"},{"$f":"IF('Сбор показателей IV кв'!G35=\"\",\"-\",VLOOKUP(B33,'Сбор показателей IV кв'!$B$125:$AT$160,23,FALSE))","v":"-"},{"$f":"IF('Сбор показателей IV кв'!G35=\"\",\"-\",VLOOKUP(B33,'Сбор показателей IV кв'!$B$125:$AT$160,38,FALSE))","v":"-"}]
[null,"Титов Александр",{"$f":"VLOOKUP($B34,'Показатели за ГОД'!$A$120:$AS$155,4,FALSE)","v":21},{"$f":"VLOOKUP($B34,'Показатели за ГОД'!$A$120:$AS$155,5,FALSE)","v":21},{"$f":"VLOOKUP($B34,'Показатели за ГОД'!$A$120:$AS$155,8,FALSE)","v":21},{"$f":"VLOOKUP($B34,'Показатели за ГОД'!$A$120:$AS$155,23,FALSE)","v":21},{"$f":"VLOOKUP($B34,'Показатели за ГОД'!$A$120:$AS$155,38,FALSE)","v":21},{"$f":"IF('Сбор показателей I кв'!G36=\"\",\"-\",VLOOKUP($B34,'Сбор показателей I кв'!$B$125:$AU$160,4,FALSE))","v":"-"},{"$f":"IF('Сбор показателей I кв'!G36=\"\",\"-\",VLOOKUP($B34,'Сбор показателей I кв'!$B$125:$AU$160,5,FALSE))","v":"-"},{"$f":"IF('Сбор показателей I кв'!G36=\"\",\"-\",VLOOKUP($B34,'Сбор показателей I кв'!$B$125:$AU$160,8,FALSE))","v":"-"},{"$f":"IF('Сбор показателей I кв'!G36=\"\",\"-\",VLOOKUP($B34,'Сбор показателей I кв'!$B$125:$AU$160,23,FALSE))","v":"-"},{"$f":"IF('Сбор показателей I кв'!G36=\"\",\"-\",VLOOKUP($B34,'Сбор показателей I кв'!$B$125:$AU$160,38,FALSE))","v":"-"},{"$f":"IF('Сбор показателей II кв'!G36=\"\",\"-\",VLOOKUP($B34,'Сбор показателей II кв'!$B$125:$AT$160,4,FALSE))","v":"-"},{"$f":"IF('Сбор показателей II кв'!G36=\"\",\"-\",VLOOKUP($B34,'Сбор показателей II кв'!$B$125:$AT$160,5,FALSE))","v":"-"},{"$f":"IF('Сбор показателей II кв'!G36=\"\",\"-\",VLOOKUP($B34,'Сбор показателей II кв'!$B$125:$AT$160,8,FALSE))","v":"-"},{"$f":"IF('Сбор показателей II кв'!G36=\"\",\"-\",VLOOKUP($B34,'Сбор показателей II кв'!$B$125:$AT$160,23,FALSE))","v":"-"},{"$f":"IF('Сбор показателей II кв'!G36=\"\",\"-\",VLOOKUP($B34,'Сбор показателей II кв'!$B$125:$AT$160,38,FALSE))","v":"-"},{"$f":"IF('Сбор показателей III кв'!G36=\"\",\"-\",VLOOKUP($B34,'Сбор показателей III кв'!$B$125:$AT$160,4,FALSE))","v":"-"},{"$f":"IF('Сбор показателей III кв'!G36=\"\",\"-\",VLOOKUP($B34,'Сбор показателей III кв'!$B$125:$AT$160,5,FALSE))","v":"-"},{"$f":"IF('Сбор показателей III кв'!G36=\"\",\"-\",VLOOKUP($B34,'Сбор показателей III кв'!$B$125:$AT$160,8,FALSE))","v":"-"},{"$f":"IF('Сбор показателей III кв'!G36=\"\",\"-\",VLOOKUP($B34,'Сбор показателей III кв'!$B$125:$AT$160,23,FALSE))","v":"-"},{"$f":"IF('Сбор показателей III кв'!G36=\"\",\"-\",VLOOKUP($B34,'Сбор показателей III кв'!$B$125:$AT$160,38,FALSE))","v":"-"},{"$f":"IF('Сбор показателей IV кв'!G36=\"\",\"-\",VLOOKUP(B34,'Сбор показателей IV кв'!$B$125:$AT$160,4,FALSE))","v":"-"},{"$f":"IF('Сбор показателей IV кв'!G36=\"\",\"-\",VLOOKUP(B34,'Сбор показателей IV кв'!$B$125:$AT$160,5,FALSE))","v":"-"},{"$f":"IF('Сбор показателей IV кв'!G36=\"\",\"-\",VLOOKUP(B34,'Сбор показателей IV кв'!$B$125:$AT$160,8,FALSE))","v":"-"},{"$f":"IF('Сбор показателей IV кв'!G36=\"\",\"-\",VLOOKUP(B34,'Сбор показателей IV кв'!$B$125:$AT$160,23,FALSE))","v":"-"},{"$f":"IF('Сбор показателей IV кв'!G36=\"\",\"-\",VLOOKUP(B34,'Сбор показателей IV кв'!$B$125:$AT$160,38,FALSE))","v":"-"}]
[null,"Фирсов Владимир",{"$f":"VLOOKUP($B35,'Показатели за ГОД'!$A$120:$AS$155,4,FALSE)","v":21},{"$f":"VLOOKUP($B35,'Показатели за ГОД'!$A$120:$AS$155,5,FALSE)","v":21},{"$f":"VLOOKUP($B35,'Показатели за ГОД'!$A$120:$AS$155,8,FALSE)","v":21},{"$f":"VLOOKUP($B35,'Показатели за ГОД'!$A$120:$AS$155,23,FALSE)","v":21},{"$f":"VLOOKUP($B35,'Показатели за ГОД'!$A$120:$AS$155,38,FALSE)","v":21},{"$f":"IF('Сбор показателей I кв'!G37=\"\",\"-\",VLOOKUP($B35,'Сбор показателей I кв'!$B$125:$AU$160,4,FALSE))","v":"-"},{"$f":"IF('Сбор показателей I кв'!G37=\"\",\"-\",VLOOKUP($B35,'Сбор показателей I кв'!$B$125:$AU$160,5,FALSE))","v":"-"},{"$f":"IF('Сбор показателей I кв'!G37=\"\",\"-\",VLOOKUP($B35,'Сбор показателей I кв'!$B$125:$AU$160,8,FALSE))","v":"-"},{"$f":"IF('Сбор показателей I кв'!G37=\"\",\"-\",VLOOKUP($B35,'Сбор показателей I кв'!$B$125:$AU$160,23,FALSE))","v":"-"},{"$f":"IF('Сбор показателей I кв'!G37=\"\",\"-\",VLOOKUP($B35,'Сбор показателей I кв'!$B$125:$AU$160,38,FALSE))","v":"-"},{"$f":"IF('Сбор показателей II кв'!G37=\"\",\"-\",VLOOKUP($B35,'Сбор показателей II кв'!$B$125:$AT$160,4,FALSE))","v":"-"},{"$f":"IF('Сбор показателей II кв'!G37=\"\",\"-\",VLOOKUP($B35,'Сбор показателей II кв'!$B$125:$AT$160,5,FALSE))","v":"-"},{"$f":"IF('Сбор показателей II кв'!G37=\"\",\"-\",VLOOKUP($B35,'Сбор показателей II кв'!$B$125:$AT$160,8,FALSE))","v":"-"},{"$f":"IF('Сбор показателей II кв'!G37=\"\",\"-\",VLOOKUP($B35,'Сбор показателей II кв'!$B$125:$AT$160,23,FALSE))","v":"-"},{"$f":"IF('Сбор показателей II кв'!G37=\"\",\"-\",VLOOKUP($B35,'Сбор показателей II кв'!$B$125:$AT$160,38,FALSE))","v":"-"},{"$f":"IF('Сбор показателей III кв'!G37=\"\",\"-\",VLOOKUP($B35,'Сбор показателей III кв'!$B$125:$AT$160,4,FALSE))","v":"-"},{"$f":"IF('Сбор показателей III кв'!G37=\"\",\"-\",VLOOKUP($B35,'Сбор показателей III кв'!$B$125:$AT$160,5,FALSE))","v":"-"},{"$f":"IF('Сбор показателей III кв'!G37=\"\",\"-\",VLOOKUP($B35,'Сбор показателей III кв'!$B$125:$AT$160,8,FALSE))","v":"-"},{"$f":"IF('Сбор показателей III кв'!G37=\"\",\"-\",VLOOKUP($B35,'Сбор показателей III кв'!$B$125:$AT$160,23,FALSE))","v":"-"},{"$f":"IF('Сбор показателей III кв'!G37=\"\",\"-\",VLOOKUP($B35,'Сбор показателей III кв'!$B$125:$AT$160,38,FALSE))","v":"-"},{"$f":"IF('Сбор показателей IV кв'!G37=\"\",\"-\",VLOOKUP(B35,'Сбор показателей IV кв'!$B$125:$AT$160,4,FALSE))","v":"-"},{"$f":"IF('Сбор показателей IV кв'!G37=\"\",\"-\",VLOOKUP(B35,'Сбор показателей IV кв'!$B$125:$AT$160,5,FALSE))","v":"-"},{"$f":"IF('Сбор показателей IV кв'!G37=\"\",\"-\",VLOOKUP(B35,'Сбор показателей IV кв'!$B$125:$AT$160,8,FALSE))","v":"-"},{"$f":"IF('Сбор показателей IV кв'!G37=\"\",\"-\",VLOOKUP(B35,'Сбор показателей IV кв'!$B$125:$AT$160,23,FALSE))","v":"-"},{"$f":"IF('Сбор показателей IV кв'!G37=\"\",\"-\",VLOOKUP(B35,'Сбор показателей IV кв'!$B$125:$AT$160,38,FALSE))","v":"-"}]
[null,"Чунц Илья",{"$f":"VLOOKUP($B36,'Показатели за ГОД'!$A$120:$AS$155,4,FALSE)","v":21},{"$f":"VLOOKUP($B36,'Показатели за ГОД'!$A$120:$AS$155,5,FALSE)","v":21},{"$f":"VLOOKUP($B36,'Показатели за ГОД'!$A$120:$AS$155,8,FALSE)","v":21},{"$f":"VLOOKUP($B36,'Показатели за ГОД'!$A$120:$AS$155,23,FALSE)","v":21},{"$f":"VLOOKUP($B36,'Показатели за ГОД'!$A$120:$AS$155,38,FALSE)","v":21},{"$f":"IF('Сбор показателей I кв'!G38=\"\",\"-\",VLOOKUP($B36,'Сбор показателей I кв'!$B$125:$AU$160,4,FALSE))","v":"-"},{"$f":"IF('Сбор показателей I кв'!G38=\"\",\"-\",VLOOKUP($B36,'Сбор показателей I кв'!$B$125:$AU$160,5,FALSE))","v":"-"},{"$f":"IF('Сбор показателей I кв'!G38=\"\",\"-\",VLOOKUP($B36,'Сбор показателей I кв'!$B$125:$AU$160,8,FALSE))","v":"-"},{"$f":"IF('Сбор показателей I кв'!G38=\"\",\"-\",VLOOKUP($B36,'Сбор показателей I кв'!$B$125:$AU$160,23,FALSE))","v":"-"},{"$f":"IF('Сбор показателей I кв'!G38=\"\",\"-\",VLOOKUP($B36,'Сбор показателей I кв'!$B$125:$AU$160,38,FALSE))","v":"-"},{"$f":"IF('Сбор показателей II кв'!G38=\"\",\"-\",VLOOKUP($B36,'Сбор показателей II кв'!$B$125:$AT$160,4,FALSE))","v":"-"},{"$f":"IF('Сбор показателей II кв'!G38=\"\",\"-\",VLOOKUP($B36,'Сбор показателей II кв'!$B$125:$AT$160,5,FALSE))","v":"-"},{"$f":"IF('Сбор показателей II кв'!G38=\"\",\"-\",VLOOKUP($B36,'Сбор показателей II кв'!$B$125:$AT$160,8,FALSE))","v":"-"},{"$f":"IF('Сбор показателей II кв'!G38=\"\",\"-\",VLOOKUP($B36,'Сбор показателей II кв'!$B$125:$AT$160,23,FALSE))","v":"-"},{"$f":"IF('Сбор показателей II кв'!G38=\"\",\"-\",VLOOKUP($B36,'Сбор показателей II кв'!$B$125:$AT$160,38,FALSE))","v":"-"},{"$f":"IF('Сбор показателей III кв'!G38=\"\",\"-\",VLOOKUP($B36,'Сбор показателей III кв'!$B$125:$AT$160,4,FALSE))","v":"-"},{"$f":"IF('Сбор показателей III кв'!G38=\"\",\"-\",VLOOKUP($B36,'Сбор показателей III кв'!$B$125:$AT$160,5,FALSE))","v":"-"},{"$f":"IF('Сбор показателей III кв'!G38=\"\",\"-\",VLOOKUP($B36,'Сбор показателей III кв'!$B$125:$AT$160,8,FALSE))","v":"-"},{"$f":"IF('Сбор показателей III кв'!G38=\"\",\"-\",VLOOKUP($B36,'Сбор показателей III кв'!$B$125:$AT$160,23,FALSE))","v":"-"},{"$f":"IF('Сбор показателей III кв'!G38=\"\",\"-\",VLOOKUP($B36,'Сбор показателей III кв'!$B$125:$AT$160,38,FALSE))","v":"-"},{"$f":"IF('Сбор показателей IV кв'!G38=\"\",\"-\",VLOOKUP(B36,'Сбор показателей IV кв'!$B$125:$AT$160,4,FALSE))","v":"-"},{"$f":"IF('Сбор показателей IV кв'!G38=\"\",\"-\",VLOOKUP(B36,'Сбор показателей IV кв'!$B$125:$AT$160,5,FALSE))","v":"-"},{"$f":"IF('Сбор показателей IV кв'!G38=\"\",\"-\",VLOOKUP(B36,'Сбор показателей IV кв'!$B$125:$AT$160,8,FALSE))","v":"-"},{"$f":"IF('Сбор показателей IV кв'!G38=\"\",\"-\",VLOOKUP(B36,'Сбор показателей IV кв'!$B$125:$AT$160,23,FALSE))","v":"-"},{"$f":"IF('Сбор показателей IV кв'!G38=\"\",\"-\",VLOOKUP(B36,'Сбор показателей IV кв'!$B$125:$AT$160,38,FALSE))","v":"-"}]
[null,"Шепляков Алексей",{"$f":"VLOOKUP($B37,'Показатели за ГОД'!$A$120:$AS$155,4,FALSE)","v":21},{"$f":"VLOOKUP($B37,'Показатели за ГОД'!$A$120:$AS$155,5,FALSE)","v":21},{"$f":"VLOOKUP($B37,'Показатели за ГОД'!$A$120:$AS$155,8,FALSE)","v":21},{"$f":"VLOOKUP($B37,'Показатели за ГОД'!$A$120:$AS$155,23,FALSE)","v":21},{"$f":"VLOOKUP($B37,'Показатели за ГОД'!$A$120:$AS$155,38,FALSE)","v":21},{"$f":"IF('Сбор показателей I кв'!G39=\"\",\"-\",VLOOKUP($B37,'Сбор показателей I кв'!$B$125:$AU$160,4,FALSE))","v":"-"},{"$f":"IF('Сбор показателей I кв'!G39=\"\",\"-\",VLOOKUP($B37,'Сбор показателей I кв'!$B$125:$AU$160,5,FALSE))","v":"-"},{"$f":"IF('Сбор показателей I кв'!G39=\"\",\"-\",VLOOKUP($B37,'Сбор показателей I кв'!$B$125:$AU$160,8,FALSE))","v":"-"},{"$f":"IF('Сбор показателей I кв'!G39=\"\",\"-\",VLOOKUP($B37,'Сбор показателей I кв'!$B$125:$AU$160,23,FALSE))","v":"-"},{"$f":"IF('Сбор показателей I кв'!G39=\"\",\"-\",VLOOKUP($B37,'Сбор показателей I кв'!$B$125:$AU$160,38,FALSE))","v":"-"},{"$f":"IF('Сбор показателей II кв'!G39=\"\",\"-\",VLOOKUP($B37,'Сбор показателей II кв'!$B$125:$AT$160,4,FALSE))","v":"-"},{"$f":"IF('Сбор показателей II кв'!G39=\"\",\"-\",VLOOKUP($B37,'Сбор показателей II кв'!$B$125:$AT$160,5,FALSE))","v":"-"},{"$f":"IF('Сбор показателей II кв'!G39=\"\",\"-\",VLOOKUP($B37,'Сбор показателей II кв'!$B$125:$AT$160,8,FALSE))","v":"-"},{"$f":"IF('Сбор показателей II кв'!G39=\"\",\"-\",VLOOKUP($B37,'Сбор показателей II кв'!$B$125:$AT$160,23,FALSE))","v":"-"},{"$f":"IF('Сбор показателей II кв'!G39=\"\",\"-\",VLOOKUP($B37,'Сбор показателей II кв'!$B$125:$AT$160,38,FALSE))","v":"-"},{"$f":"IF('Сбор показателей III кв'!G39=\"\",\"-\",VLOOKUP($B37,'Сбор показателей III кв'!$B$125:$AT$160,4,FALSE))","v":"-"},{"$f":"IF('Сбор показателей III кв'!G39=\"\",\"-\",VLOOKUP($B37,'Сбор показателей III кв'!$B$125:$AT$160,5,FALSE))","v":"-"},{"$f":"IF('Сбор показателей III кв'!G39=\"\",\"-\",VLOOKUP($B37,'Сбор показателей III кв'!$B$125:$AT$160,8,FALSE))","v":"-"},{"$f":"IF('Сбор показателей III кв'!G39=\"\",\"-\",VLOOKUP($B37,'Сбор показателей III кв'!$B$125:$AT$160,23,FALSE))","v":"-"},{"$f":"IF('Сбор показателей III кв'!G39=\"\",\"-\",VLOOKUP($B37,'Сбор показателей III кв'!$B$125:$AT$160,38,FALSE))","v":"-"},{"$f":"IF('Сбор показателей IV кв'!G39=\"\",\"-\",VLOOKUP(B37,'Сбор показателей IV кв'!$B$125:$AT$160,4,FALSE))","v":"-"},{"$f":"IF('Сбор показателей IV кв'!G39=\"\",\"-\",VLOOKUP(B37,'Сбор показателей IV кв'!$B$125:$AT$160,5,FALSE))","v":"-"},{"$f":"IF('Сбор показателей IV кв'!G39=\"\",\"-\",VLOOKUP(B37,'Сбор показателей IV кв'!$B$125:$AT$160,8,FALSE))","v":"-"},{"$f":"IF('Сбор показателей IV кв'!G39=\"\",\"-\",VLOOKUP(B37,'Сбор показателей IV кв'!$B$125:$AT$160,23,FALSE))","v":"-"},{"$f":"IF('Сбор показателей IV кв'!G39=\"\",\"-\",VLOOKUP(B37,'Сбор показателей IV кв'!$B$125:$AT$160,38,FALSE))","v":"-"}]
[null,"Шестаков Антон",{"$f":"VLOOKUP($B38,'Показатели за ГОД'!$A$120:$AS$155,4,FALSE)","v":21},{"$f":"VLOOKUP($B38,'Показатели за ГОД'!$A$120:$AS$155,5,FALSE)","v":21},{"$f":"VLOOKUP($B38,'Показатели за ГОД'!$A$120:$AS$155,8,FALSE)","v":21},{"$f":"VLOOKUP($B38,'Показатели за ГОД'!$A$120:$AS$155,23,FALSE)","v":21},{"$f":"VLOOKUP($B38,'Показатели за ГОД'!$A$120:$AS$155,38,FALSE)","v":21},{"$f":"IF('Сбор показателей I кв'!G40=\"\",\"-\",VLOOKUP($B38,'Сбор показателей I кв'!$B$125:$AU$160,4,FALSE))","v":"-"},{"$f":"IF('Сбор показателей I кв'!G40=\"\",\"-\",VLOOKUP($B38,'Сбор показателей I кв'!$B$125:$AU$160,5,FALSE))","v":"-"},{"$f":"IF('Сбор показателей I кв'!G40=\"\",\"-\",VLOOKUP($B38,'Сбор показателей I кв'!$B$125:$AU$160,8,FALSE))","v":"-"},{"$f":"IF('Сбор показателей I кв'!G40=\"\",\"-\",VLOOKUP($B38,'Сбор показателей I кв'!$B$125:$AU$160,23,FALSE))","v":"-"},{"$f":"IF('Сбор показателей I кв'!G40=\"\",\"-\",VLOOKUP($B38,'Сбор показателей I кв'!$B$125:$AU$160,38,FALSE))","v":"-"},{"$f":"IF('Сбор показателей II кв'!G40=\"\",\"-\",VLOOKUP($B38,'Сбор показателей II кв'!$B$125:$AT$160,4,FALSE))","v":"-"},{"$f":"IF('Сбор показателей II кв'!G40=\"\",\"-\",VLOOKUP($B38,'Сбор показателей II кв'!$B$125:$AT$160,5,FALSE))","v":"-"},{"$f":"IF('Сбор показателей II кв'!G40=\"\",\"-\",VLOOKUP($B38,'Сбор показателей II кв'!$B$125:$AT$160,8,FALSE))","v":"-"},{"$f":"IF('Сбор показателей II кв'!G40=\"\",\"-\",VLOOKUP($B38,'Сбор показателей II кв'!$B$125:$AT$160,23,FALSE))","v":"-"},{"$f":"IF('Сбор показателей II кв'!G40=\"\",\"-\",VLOOKUP($B38,'Сбор показателей II кв'!$B$125:$AT$160,38,FALSE))","v":"-"},{"$f":"IF('Сбор показателей III кв'!G40=\"\",\"-\",VLOOKUP($B38,'Сбор показателей III кв'!$B$125:$AT$160,4,FALSE))","v":"-"},{"$f":"IF('Сбор показателей III кв'!G40=\"\",\"-\",VLOOKUP($B38,'Сбор показателей III кв'!$B$125:$AT$160,5,FALSE))","v":"-"},{"$f":"IF('Сбор показателей III кв'!G40=\"\",\"-\",VLOOKUP($B38,'Сбор показателей III кв'!$B$125:$AT$160,8,FALSE))","v":"-"},{"$f":"IF('Сбор показателей III кв'!G40=\"\",\"-\",VLOOKUP($B38,'Сбор показателей III кв'!$B$125:$AT$160,23,FALSE))","v":"-"},{"$f":"IF('Сбор показателей III кв'!G40=\"\",\"-\",VLOOKUP($B38,'Сбор показателей III кв'!$B$125:$AT$160,38,FALSE))","v":"-"},{"$f":"IF('Сбор показателей IV кв'!G40=\"\",\"-\",VLOOKUP(B38,'Сбор показателей IV кв'!$B$125:$AT$160,4,FALSE))","v":"-"},{"$f":"IF('Сбор показателей IV кв'!G40=\"\",\"-\",VLOOKUP(B38,'Сбор показателей IV кв'!$B$125:$AT$160,5,FALSE))","v":"-"},{"$f":"IF('Сбор показателей IV кв'!G40=\"\",\"-\",VLOOKUP(B38,'Сбор показателей IV кв'!$B$125:$AT$160,8,FALSE))","v":"-"},{"$f":"IF('Сбор показателей IV кв'!G40=\"\",\"-\",VLOOKUP(B38,'Сбор показателей IV кв'!$B$125:$AT$160,23,FALSE))","v":"-"},{"$f":"IF('Сбор показателей IV кв'!G40=\"\",\"-\",VLOOKUP(B38,'Сбор показателей IV кв'!$B$125:$AT$160,38,FALSE))","v":"-"}]
[null,"Ялымов Денис",{"$f":"VLOOKUP($B39,'Показатели за ГОД'!$A$120:$AS$155,4,FALSE)","v":21},{"$f":"VLOOKUP($B39,'Показатели за ГОД'!$A$120:$AS$155,5,FALSE)","v":21},{"$f":"VLOOKUP($B39,'Показатели за ГОД'!$A$120:$AS$155,8,FALSE)","v":21},{"$f":"VLOOKUP($B39,'Показатели за ГОД'!$A$120:$AS$155,23,FALSE)","v":21},{"$f":"VLOOKUP($B39,'Показатели за ГОД'!$A$120:$AS$155,38,FALSE)","v":21},{"$f":"IF('Сбор показателей I кв'!G41=\"\",\"-\",VLOOKUP($B39,'Сбор показателей I кв'!$B$125:$AU$160,4,FALSE))","v":"-"},{"$f":"IF('Сбор показателей I кв'!G41=\"\",\"-\",VLOOKUP($B39,'Сбор показателей I кв'!$B$125:$AU$160,5,FALSE))","v":"-"},{"$f":"IF('Сбор показателей I кв'!G41=\"\",\"-\",VLOOKUP($B39,'Сбор показателей I кв'!$B$125:$AU$160,8,FALSE))","v":"-"},{"$f":"IF('Сбор показателей I кв'!G41=\"\",\"-\",VLOOKUP($B39,'Сбор показателей I кв'!$B$125:$AU$160,23,FALSE))","v":"-"},{"$f":"IF('Сбор показателей I кв'!G41=\"\",\"-\",VLOOKUP($B39,'Сбор показателей I кв'!$B$125:$AU$160,38,FALSE))","v":"-"},{"$f":"IF('Сбор показателей II кв'!G41=\"\",\"-\",VLOOKUP($B39,'Сбор показателей II кв'!$B$125:$AT$160,4,FALSE))","v":"-"},{"$f":"IF('Сбор показателей II кв'!G41=\"\",\"-\",VLOOKUP($B39,'Сбор показателей II кв'!$B$125:$AT$160,5,FALSE))","v":"-"},{"$f":"IF('Сбор показателей II кв'!G41=\"\",\"-\",VLOOKUP($B39,'Сбор показателей II кв'!$B$125:$AT$160,8,FALSE))","v":"-"},{"$f":"IF('Сбор показателей II кв'!G41=\"\",\"-\",VLOOKUP($B39,'Сбор показателей II кв'!$B$125:$AT$160,23,FALSE))","v":"-"},{"$f":"IF('Сбор показателей II кв'!G41=\"\",\"-\",VLOOKUP($B39,'Сбор показателей II кв'!$B$125:$AT$160,38,FALSE))","v":"-"},{"$f":"IF('Сбор показателей III кв'!G41=\"\",\"-\",VLOOKUP($B39,'Сбор показателей III кв'!$B$125:$AT$160,4,FALSE))","v":"-"},{"$f":"IF('Сбор показателей III кв'!G41=\"\",\"-\",VLOOKUP($B39,'Сбор показателей III кв'!$B$125:$AT$160,5,FALSE))","v":"-"},{"$f":"IF('Сбор показателей III кв'!G41=\"\",\"-\",VLOOKUP($B39,'Сбор показателей III кв'!$B$125:$AT$160,8,FALSE))","v":"-"},{"$f":"IF('Сбор показателей III кв'!G41=\"\",\"-\",VLOOKUP($B39,'Сбор показателей III кв'!$B$125:$AT$160,23,FALSE))","v":"-"},{"$f":"IF('Сбор показателей III кв'!G41=\"\",\"-\",VLOOKUP($B39,'Сбор показателей III кв'!$B$125:$AT$160,38,FALSE))","v":"-"},{"$f":"IF('Сбор показателей IV кв'!G41=\"\",\"-\",VLOOKUP(B39,'Сбор показателей IV кв'!$B$125:$AT$160,4,FALSE))","v":"-"},{"$f":"IF('Сбор показателей IV кв'!G41=\"\",\"-\",VLOOKUP(B39,'Сбор показателей IV кв'!$B$125:$AT$160,5,FALSE))","v":"-"},{"$f":"IF('Сбор показателей IV кв'!G41=\"\",\"-\",VLOOKUP(B39,'Сбор показателей IV кв'!$B$125:$AT$160,8,FALSE))","v":"-"},{"$f":"IF('Сбор показателей IV кв'!G41=\"\",\"-\",VLOOKUP(B39,'Сбор показателей IV кв'!$B$125:$AT$160,23,FALSE))","v":"-"},{"$f":"IF('Сбор показателей IV кв'!G41=\"\",\"-\",VLOOKUP(B39,'Сбор показателей IV кв'!$B$125:$AT$160,38,FALSE))","v":"-"}]
[]
[]
[]
[]
[]
[]
[]
[]
[]
[]
[]
[]
[]
[]
[]
[]
[]
[]
[]
[]
[null,null,null,null,null,null,null,null,null,null,null,null,null,null,"ММ"]

{"sheet":"Показатели за ГОД","index":11,"n_rows":179,"n_cols":47,"rows_kept":179,"cut":false,"hidden":true,"merged":[[3,40,3,44],[3,24,4,24],[3,25,3,29],[3,30,3,36],[3,37,4,37],[3,38,4,38],[3,39,4,39],[3,23,4,23],[3,0,4,0],[3,1,4,1],[3,2,4,2],[3,3,4,3],[3,4,4,4],[3,5,4,5],[3,6,4,6],[3,7,4,7],[3,8,3,14],[3,15,3,21],[3,22,4,22],[2,37,2,44],[2,0,2,1],[2,2,2,3],[2,4,2,6],[2,7,2,21],[2,22,2,36]]}
[null,null,null,"Коэфицент интегрального рейтинга",0.1,null,null,null,0.1,null,null,null,null,null,null,0.1,null,null,null,null,null,null,null,0.1,0.1,0.1,null,null,null,null,0.1,null,null,null,null,null,null,null,0.1,0.1,0.1]
[null,null,null,"Коэфицент рейтинга блока",1,null,null,null,0.5,null,null,null,null,null,null,0.5,null,null,null,null,null,null,null,0.25,0.25,0.25,null,null,null,null,0.25,null,null,null,null,null,null,null,0.33,0.33,0.33]
["УЧАСТНИК",null,"ЗОНА УПРАВЛЕНИЯ",null,"РЕЗУЛЬТАТИВНОСТЬ",null,null,"ПРОАКТИВНОСТЬ",null,null,null,null,null,null,null,null,null,null,null,null,null,null,"ПРОФЕССИОНАЛЬНОЕ РАЗВИТИЕ",null,null,null,null,null,null,null,null,null,null,null,null,null,null,"ЭФФЕКТИВНОЕ ВЗАИМОДЕЙСТВИЕ"]
["ФИО","ТИП","Число сотрудников      в прямом подчинении","Число сотрудников в подразделении","Интегральный показатель","Выполнение УПЦ","Множитель","Интегральный показатель - проактивность","Поданные инициативы",null,null,null,null,null,null,"Инициативы, одобренные к реализации",null,null,null,null,null,null,"Интегральный показатель - профессиональное развитие","Выполнение ИПР самим участником","Выполнение ИПР непосредственными подчиненными ","Наполнение Кадрового резерва функции",null,null,null,null,"Управление знаниями функции",null,null,null,null,null,null,"Интегральный показатель - эффективное взаимодействие","Обратная связь от подрядчиков","Обратная связь от прямых подчиненных","Работа кросс-функциональных команд"]
[null,null,null,null,null,null,null,null,"Интегральный показатель - ПоИн","Преобразование - ПоИн ЛИНиЯ","Преобразование - ПоИн И.Д.Е.Я.","Преобразование - ПоИн Другие","ЛИНиЯ","И.Д.Е.Я.","Другие","Интегральный показатель - ОдИн","Преобразование - ОдИн ЛИНиЯ","Преобразование - ОдИн И.Д.Е.Я.","Преобразование - ОдИн Другие","ЛИНиЯ","И.Д.Е.Я.","Другие",null,null,null,"Интегральный показатель - НКРФ","Преобразование - ОКР","Преобразование - ПКР","Оперативный кадровый резерв","Перспективный кадровый резерв","Интегральный показатель - УЗФ","Преобразование - тренеры","Преобразование - программы б/ИЗ","Преобразование - программы т/ИЗ","Число внутренних тренеров","Число курсов внутренних тренеров вне Института Закупки","Число курсов внутренних тренеров в рамках Института Закупки",null,null,null,"Интегральный показатель - РКФК","Преобразование - инициация","Преобразование - участие","Инициация кросс-функциональных команд","Участие в кросс-функциональных командах"]
["Василий Леонтьев","ОКР",{"$f":"SUM('Сбор показателей I кв'!D11,'Сбор показателей II кв'!D11,'Сбор показателей III кв'!D11,'Сбор показателей IV кв'!D11)/COUNT('Сбор показателей I кв'!D11,'Сбор показателей II кв'!D11,'Сбор показателей III кв'!D11,'Сбор показателей IV кв'!D11)","v":5},{"$f":"SUM('Сбор показателей I кв'!E11,'Сбор показателей II кв'!E11,'Сбор показателей III кв'!E11,'Сбор показателей IV кв'!E11)/COUNT('Сбор показателей I кв'!E11,'Сбор показателей II кв'!E11,'Сбор показателей III кв'!E11,'Сбор показателей IV кв'!E11)","v":15},{"$f":"F6*G6","v":2.8739999999999997},{"$f":"SUM('Сбор показателей I кв'!G11,'Сбор показателей II кв'!G11,'Сбор показателей III кв'!G11,'Сбор показателей IV кв'!G11)/COUNT('Сбор показателей I кв'!G11,'Сбор показателей II кв'!G11,'Сбор показателей III кв'!G11,'Сбор показателей IV кв'!G11)","v":0.95799999999999996},{"$f":"SUM('Сбор показателей I кв'!H11,'Сбор показателей II кв'!H11,'Сбор показателей III кв'!H11,'Сбор показателей IV кв'!H11)/COUNT('Сбор показателей I кв'!H11,'Сбор показателей II кв'!H11,'Сбор показателей III кв'!H11,'Сбор показателей IV кв'!H11)","v":3},null,{"$f":"SUM(J6:L6)/4","v":1.6333333333333333},{"$f":"M6","v":0},{"$f":"N6","v":0},6.5333333333333332,{"$f":"SUM('Сбор показателей I кв'!K11,'Сбор показателей II кв'!K11,'Сбор показателей III кв'!K11,'Сбор показателей IV кв'!K11)","v":0},{"$f":"SUM('Сбор показателей I кв'!L11,'Сбор показателей II кв'!L11,'Сбор показателей III кв'!L11,'Сбор показателей IV кв'!L11)","v":0},{"$f":"SUM('Сбор показателей I кв'!M11,'Сбор показателей II кв'!M11,'Сбор показателей III кв'!M11,'Сбор показателей IV кв'!M11)","v":6.5333333333333332},{"$f":"SUM(Q6:S6)","v":0.13333333333333333},{"$f":"T6","v":0},{"$f":"U6","v":0},0.13333333333333333,{"$f":"SUM('Сбор показателей I кв'!R11,'Сбор показателей II кв'!R11,'Сбор показателей III кв'!R11,'Сбор показателей IV кв'!R11)","v":0},{"$f":"SUM('Сбор показателей I кв'!S11,'Сбор показателей II кв'!S11,'Сбор показателей III кв'!S11,'Сбор показателей IV кв'!S11)","v":0},{"$f":"SUM('Сбор показателей I кв'!T11,'Сбор показателей II кв'!T11,'Сбор показателей III кв'!T11,'Сбор показателей IV кв'!T11)","v":0.13333333333333333},null,{"$f":"MAX('Сбор показателей I кв'!Y11,'Сбор показателей II кв'!Y11,'Сбор показателей III кв'!Y11,'Сбор показателей IV кв'!Y11)","v":0.63},{"$f":"SUM('Сбор показателей I кв'!Z11,'Сбор показателей II кв'!Z11,'Сбор показателей III кв'!Z11,'Сбор показателей IV кв'!Z11)/COUNT('Сбор показателей I кв'!Z11,'Сбор показателей II кв'!Z11,'Сбор показателей III кв'!Z11,'Сбор показателей IV кв'!Z11)","v":0.76},{"$f":"IF(AA6=\"\",\"\",IF(AA6=0,0,SUM((AA6/MAX(AA$6:AA$41)),(AB6/MAX(AB$6:AB$41)))))","v":0},{"$f":"(AC6*5)/D6","v":0},{"$f":"(AD6*2)/D6","v":0},{"$f":"'Сбор показателей IV кв'!AD11","v":0},{"$f":"'Сбор показателей IV кв'!AE11","v":0},{"$f":"SUM((AF6/MAX($AF$6:$AF$41))*0.25,(AG6/MAX($AG$6:$AG$41))*0.25,(AH6/MAX($AH$6:$AH$41))*0.5)","v":0.375},{"$f":"AI6","v":0.2},{"$f":"AJ6","v":0.83333333333333337},0.41666666666666669,{"$f":"SUM('Сбор показателей I кв'!AG11,'Сбор показателей II кв'!AG11,'Сбор показателей III кв'!AG11,'Сбор показателей IV кв'!AG11)/COUNT('Сбор показателей I кв'!AG11,'Сбор показателей II кв'!AG11,'Сбор показателей III кв'!AG11,'Сбор показателей IV кв'!AG11)","v":0.2},{"$f":"SUM('Сбор показателей I кв'!AH11,'Сбор показателей II кв'!AH11,'Сбор показателей III кв'!AH11,'Сбор показателей IV кв'!AH11)/COUNT('Сбор показателей I кв'!AJ11,'Сбор показателей II кв'!AJ11,'Сбор показателей III кв'!AJ11,'Сбор показателей IV кв'!AJ11)","v":0.83333333333333337},{"$f":"SUM('Сбор показателей I кв'!AI11,'Сбор показателей II кв'!AI11,'Сбор показателей III кв'!AI11,'Сбор показателей IV кв'!AI11)/COUNT('Сбор показателей I кв'!AI11,'Сбор показателей II кв'!AI11,'Сбор показателей III кв'!AI11,'Сбор показателей IV кв'!AI11)","v":0.41666666666666669},null,{"$f":"SUM('Сбор показателей I кв'!AN11,'Сбор показателей II кв'!AN11,'Сбор показателей III кв'!AN11,'Сбор показателей IV кв'!AN11)/2","v":0.37},{"$f":"SUM('Сбор показателей I кв'!AP11,'Сбор показателей II кв'!AO11,'Сбор показателей III кв'!AO11,'Сбор показателей IV кв'!AO11)/2","v":0.255},{"$f":"SUM((AP6/MAX($AP$6:$AP$41))*0.5,(AQ6/MAX($AQ$6:$AQ$41)*0.5))","v":0.18333333333333332},{"$f":"AR6","v":1.4666666666666666},{"$f":"AS6","v":0},{"$f":"SUM('Сбор показателей I кв'!AR11,'Сбор показателей II кв'!AQ11,'Сбор показателей III кв'!AQ11,'Сбор показателей IV кв'!AQ11)","v":1.4666666666666666},{"$f":"SUM('Сбор показателей I кв'!AS11,'Сбор показателей II кв'!AR11,'Сбор показателей III кв'!AR11,'Сбор показателей IV кв'!AR11)","v":0},null,{"$f":"COUNTIFS('Сбор показателей I кв'!N11,\">0\")+COUNTIF('Сбор показателей II кв'!N11,\"<>0\")+COUNTIF('Сбор показателей III кв'!N11,\"<>0\")+COUNTIF('Сбор показателей IV кв'!N11,\"<>0\")","v":3}]
["Гуннар Мюрдаль","ОКР",{"$f":"SUM('Сбор показателей I кв'!D12,'Сбор показателей II кв'!D12,'Сбор показателей III кв'!D12,'Сбор показателей IV кв'!D12)/COUNT('Сбор показателей I кв'!D12,'Сбор показателей II кв'!D12,'Сбор показателей III кв'!D12,'Сбор показателей IV кв'!D12)","v":6},{"$f":"SUM('Сбор показателей I кв'!E12,'Сбор показателей II кв'!E12,'Сбор показателей III кв'!E12,'Сбор показателей IV кв'!E12)/COUNT('Сбор показателей I кв'!E12,'Сбор показателей II кв'!E12,'Сбор показателей III кв'!E12,'Сбор показателей IV кв'!E12)","v":25},{"$f":"F7*G7","v":3.0089999999999995},{"$f":"SUM('Сбор показателей I кв'!G12,'Сбор показателей II кв'!G12,'Сбор показателей III кв'!G12,'Сбор показателей IV кв'!G12)/COUNT('Сбор показателей I кв'!G12,'Сбор показателей II кв'!G12,'Сбор показателей III кв'!G12,'Сбор показателей IV кв'!G12)","v":1.0029999999999999},{"$f":"SUM('Сбор показателей I кв'!H12,'Сбор показателей II кв'!H12,'Сбор показателей III кв'!H12,'Сбор показателей IV кв'!H12)/COUNT('Сбор показателей I кв'!H12,'Сбор показателей II кв'!H12,'Сбор показателей III кв'!H12,'Сбор показателей IV кв'!H12)","v":3},null,{"$f":"SUM(J7:L7)/4","v":1.2},{"$f":"M7","v":3.84},{"$f":"N7","v":0.96},{"$f":"O7","v":0},{"$f":"SUM('Сбор показателей I кв'!K12,'Сбор показателей II кв'!K12,'Сбор показателей III кв'!K12,'Сбор показателей IV кв'!K12)","v":3.84},{"$f":"SUM('Сбор показателей I кв'!L12,'Сбор показателей II кв'!L12,'Сбор показателей III кв'!L12,'Сбор показателей IV кв'!L12)","v":0.96},{"$f":"SUM('Сбор показателей I кв'!M12,'Сбор показателей II кв'!M12,'Сбор показателей III кв'!M12,'Сбор показателей IV кв'!M12)","v":0},{"$f":"SUM(Q7:S7)","v":2.6399999999999997},{"$f":"T7","v":1.92},{"$f":"U7","v":0.72},{"$f":"V7","v":0},{"$f":"SUM('Сбор показателей I кв'!R12,'Сбор показателей II кв'!R12,'Сбор показателей III кв'!R12,'Сбор показателей IV кв'!R12)","v":1.92},{"$f":"SUM('Сбор показателей I кв'!S12,'Сбор показателей II кв'!S12,'Сбор показателей III кв'!S12,'Сбор показателей IV кв'!S12)","v":0.72},{"$f":"SUM('Сбор показателей I кв'!T12,'Сбор показателей II кв'!T12,'Сбор показателей III кв'!T12,'Сбор показателей IV кв'!T12)","v":0},null,{"$f":"MAX('Сбор показателей I кв'!Y12,'Сбор показателей II кв'!Y12,'Сбор показателей III кв'!Y12,'Сбор показателей IV кв'!Y12)","v":0.81},{"$f":"SUM('Сбор показателей I кв'!Z12,'Сбор показателей II кв'!Z12,'Сбор показателей III кв'!Z12,'Сбор показателей IV кв'!Z12)/COUNT('Сбор показателей I кв'!Z12,'Сбор показателей II кв'!Z12,'Сбор показателей III кв'!Z12,'Сбор показателей IV кв'!Z12)","v":0.62},{"$f":"IF(AA7=\"\",\"\",IF(AA7=0,0,SUM((AA7/MAX(AA$6:AA$41)),(AB7/MAX(AB$6:AB$41)))))","v":0},0,0,{"$f":"'Сбор показателей IV кв'!AD12","v":0},{"$f":"'Сбор показателей IV кв'!AE12","v":0},{"$f":"SUM((AF7/MAX($AF$6:$AF$41))*0.25,(AG7/MAX($AG$6:$AG$41))*0.25,(AH7/MAX($AH$6:$AH$41))*0.5)","v":0.2805555555555555},{"$f":"AI7","v":0.18},{"$f":"AJ7","v":0.22222222222222221},{"$f":"AK7","v":0.22222222222222221},{"$f":"AVERAGE('Сбор показателей I кв'!AG12,'Сбор показателей II кв'!AG12,'Сбор показателей III кв'!AG12,'Сбор показателей IV кв'!AG12)","v":0.18},{"$f":"AVERAGE('Сбор показателей I кв'!AH12,'Сбор показателей II кв'!AH12,'Сбор показателей III кв'!AH12,'Сбор показателей IV кв'!AH12)","v":0.22222222222222221},{"$f":"AVERAGE('Сбор показателей I кв'!AI12,'Сбор показателей II кв'!AI12,'Сбор показателей III кв'!AI12,'Сбор показателей IV кв'!AI12)","v":0.22222222222222221},null,{"$f":"SUM('Сбор показателей I кв'!AN12,'Сбор показателей II кв'!AN12,'Сбор показателей III кв'!AN12,'Сбор показателей IV кв'!AN12)/2","v":0.3},{"$f":"SUM('Сбор показателей I кв'!AP12,'Сбор показателей II кв'!AO12,'Сбор показателей III кв'!AO12,'Сбор показателей IV кв'!AO12)/2","v":0.42499999999999999},{"$f":"SUM((AP7/MAX($AP$6:$AP$41))*0.5,(AQ7/MAX($AQ$6:$AQ$41)*0.5))","v":0.02},{"$f":"AR7","v":0.16},{"$f":"AS7","v":0},{"$f":"SUM('Сбор показателей I кв'!AR12,'Сбор показателей II кв'!AQ12,'Сбор показателей III кв'!AQ12,'Сбор показателей IV кв'!AQ12)","v":0.16},{"$f":"SUM('Сбор показателей I кв'!AS12,'Сбор показателей II кв'!AR12,'Сбор показателей III кв'!AR12,'Сбор показателей IV кв'!AR12)","v":0}]
["Джон Ричард Хикс","ОКР",{"$f":"SUM('Сбор показателей I кв'!D13,'Сбор показателей II кв'!D13,'Сбор показателей III кв'!D13,'Сбор показателей IV кв'!D13)/COUNT('Сбор показателей I кв'!D13,'Сбор показателей II кв'!D13,'Сбор показателей III кв'!D13,'Сбор показателей IV кв'!D13)","v":6},{"$f":"SUM('Сбор показателей I кв'!E13,'Сбор показателей II кв'!E13,'Сбор показателей III кв'!E13,'Сбор показателей IV кв'!E13)/COUNT('Сбор показателей I кв'!E13,'Сбор показателей II кв'!E13,'Сбор показателей III кв'!E13,'Сбор показателей IV кв'!E13)","v":7},1.024,{"$f":"SUM('Сбор показателей I кв'!G13,'Сбор показателей II кв'!G13,'Сбор показателей III кв'!G13,'Сбор показателей IV кв'!G13)/COUNT('Сбор показателей I кв'!G13,'Сбор показателей II кв'!G13,'Сбор показателей III кв'!G13,'Сбор показателей IV кв'!G13)","v":1.024},{"$f":"SUM('Сбор показателей I кв'!H13,'Сбор показателей II кв'!H13,'Сбор показателей III кв'!H13,'Сбор показателей IV кв'!H13)/COUNT('Сбор показателей I кв'!H13,'Сбор показателей II кв'!H13,'Сбор показателей III кв'!H13,'Сбор показателей IV кв'!H13)","v":1},null,5.6428571428571423,13.714285714285714,8.8571428571428577,0,{"$f":"SUM('Сбор показателей I кв'!K13,'Сбор показателей II кв'!K13,'Сбор показателей III кв'!K13,'Сбор показателей IV кв'!K13)","v":13.714285714285714},{"$f":"SUM('Сбор показателей I кв'!L13,'Сбор показателей II кв'!L13,'Сбор показателей III кв'!L13,'Сбор показателей IV кв'!L13)","v":8.8571428571428577},{"$f":"SUM('Сбор показателей I кв'!M13,'Сбор показателей II кв'!M13,'Сбор показателей III кв'!M13,'Сбор показателей IV кв'!M13)","v":0},19.714285714285715,13.142857142857142,6.5714285714285712,0,{"$f":"SUM('Сбор показателей I кв'!R13,'Сбор показателей II кв'!R13,'Сбор показателей III кв'!R13,'Сбор показателей IV кв'!R13)","v":13.142857142857142},{"$f":"SUM('Сбор показателей I кв'!S13,'Сбор показателей II кв'!S13,'Сбор показателей III кв'!S13,'Сбор показателей IV кв'!S13)","v":6.5714285714285712},{"$f":"SUM('Сбор показателей I кв'!T13,'Сбор показателей II кв'!T13,'Сбор показателей III кв'!T13,'Сбор показателей IV кв'!T13)","v":0},null,{"$f":"MAX('Сбор показателей I кв'!Y13,'Сбор показателей II кв'!Y13,'Сбор показателей III кв'!Y13,'Сбор показателей IV кв'!Y13)","v":0.77},{"$f":"SUM('Сбор показателей I кв'!Z13,'Сбор показателей II кв'!Z13,'Сбор показателей III кв'!Z13,'Сбор показателей IV кв'!Z13)/COUNT('Сбор показателей I кв'!Z13,'Сбор показателей II кв'!Z13,'Сбор показателей III кв'!Z13,'Сбор показателей IV кв'!Z13)","v":0.59},0,0,0,{"$f":"'Сбор показателей IV кв'!AD13","v":0},{"$f":"'Сбор показателей IV кв'!AE13","v":0},0,0,0,0,{"$f":"AVERAGE('Сбор показателей I кв'!AG13,'Сбор показателей II кв'!AG13,'Сбор показателей III кв'!AG13,'Сбор показателей IV кв'!AG13)","v":0},{"$f":"AVERAGE('Сбор показателей I кв'!AH13,'Сбор показателей II кв'!AH13,'Сбор показателей III кв'!AH13,'Сбор показателей IV кв'!AH13)","v":0},{"$f":"AVERAGE('Сбор показателей I кв'!AI13,'Сбор показателей II кв'!AI13,'Сбор показателей III кв'!AI13,'Сбор показателей IV кв'!AI13)","v":0},null,{"$f":"SUM('Сбор показателей I кв'!AN13,'Сбор показателей II кв'!AN13,'Сбор показателей III кв'!AN13,'Сбор показателей IV кв'!AN13)/2","v":0.435},{"$f":"SUM('Сбор показателей I кв'!AP13,'Сбор показателей II кв'!AO13,'Сбор показателей III кв'!AO13,'Сбор показателей IV кв'!AO13)/2","v":0.34499999999999997},0.35476190476190472,1.4285714285714286,0.2857142857142857,{"$f":"SUM('Сбор показателей I кв'!AR13,'Сбор показателей II кв'!AQ13,'Сбор показателей III кв'!AQ13,'Сбор показателей IV кв'!AQ13)","v":1.4285714285714286},{"$f":"SUM('Сбор показателей I кв'!AS13,'Сбор показателей II кв'!AR13,'Сбор показателей III кв'!AR13,'Сбор показателей IV кв'!AR13)","v":0.2857142857142857}]
["Кеннет Эрроу","ОКР",{"$f":"SUM('Сбор показателей I кв'!D14,'Сбор показателей II кв'!D14,'Сбор показателей III кв'!D14,'Сбор показателей IV кв'!D14)/COUNT('Сбор показателей I кв'!D14,'Сбор показателей II кв'!D14,'Сбор показателей III кв'!D14,'Сбор показателей IV кв'!D14)","v":3},{"$f":"SUM('Сбор показателей I кв'!E14,'Сбор показателей II кв'!E14,'Сбор показателей III кв'!E14,'Сбор показателей IV кв'!E14)/COUNT('Сбор показателей I кв'!E14,'Сбор показателей II кв'!E14,'Сбор показателей III кв'!E14,'Сбор показателей IV кв'!E14)","v":10},2.21,{"$f":"SUM('Сбор показателей I кв'!G14,'Сбор показателей II кв'!G14,'Сбор показателей III кв'!G14,'Сбор показателей IV кв'!G14)/COUNT('Сбор показателей I кв'!G14,'Сбор показателей II кв'!G14,'Сбор показателей III кв'!G14,'Сбор показателей IV кв'!G14)","v":1.105},{"$f":"SUM('Сбор показателей I кв'!H14,'Сбор показателей II кв'!H14,'Сбор показателей III кв'!H14,'Сбор показателей IV кв'!H14)/COUNT('Сбор показателей I кв'!H14,'Сбор показателей II кв'!H14,'Сбор показателей III кв'!H14,'Сбор показателей IV кв'!H14)","v":2},null,2,1.6,6.4,0,{"$f":"SUM('Сбор показателей I кв'!K14,'Сбор показателей II кв'!K14,'Сбор показателей III кв'!K14,'Сбор показателей IV кв'!K14)","v":1.6},{"$f":"SUM('Сбор показателей I кв'!L14,'Сбор показателей II кв'!L14,'Сбор показателей III кв'!L14,'Сбор показателей IV кв'!L14)","v":6.4},{"$f":"SUM('Сбор показателей I кв'!M14,'Сбор показателей II кв'!M14,'Сбор показателей III кв'!M14,'Сбор показателей IV кв'!M14)","v":0},2.5999999999999996,1.4,1.2,0,{"$f":"SUM('Сбор показателей I кв'!R14,'Сбор показателей II кв'!R14,'Сбор показателей III кв'!R14,'Сбор показателей IV кв'!R14)","v":1.4},{"$f":"SUM('Сбор показателей I кв'!S14,'Сбор показателей II кв'!S14,'Сбор показателей III кв'!S14,'Сбор показателей IV кв'!S14)","v":1.2},{"$f":"SUM('Сбор показателей I кв'!T14,'Сбор показателей II кв'!T14,'Сбор показателей III кв'!T14,'Сбор показателей IV кв'!T14)","v":0},null,{"$f":"MAX('Сбор показателей I кв'!Y14,'Сбор показателей II кв'!Y14,'Сбор показателей III кв'!Y14,'Сбор показателей IV кв'!Y14)","v":0.87},{"$f":"SUM('Сбор показателей I кв'!Z14,'Сбор показателей II кв'!Z14,'Сбор показателей III кв'!Z14,'Сбор показателей IV кв'!Z14)/COUNT('Сбор показателей I кв'!Z14,'Сбор показателей II кв'!Z14,'Сбор показателей III кв'!Z14,'Сбор показателей IV кв'!Z14)","v":0.68},0,0,0,{"$f":"'Сбор показателей IV кв'!AD14","v":0},{"$f":"'Сбор показателей IV кв'!AE14","v":0},0.36875000000000002,0.2,0.375,0.5,{"$f":"AVERAGE('Сбор показателей I кв'!AG14,'Сбор показателей II кв'!AG14,'Сбор показателей III кв'!AG14,'Сбор показателей IV кв'!AG14)","v":0.2},{"$f":"AVERAGE('Сбор показателей I кв'!AH14,'Сбор показателей II кв'!AH14,'Сбор показателей III кв'!AH14,'Сбор показателей IV кв'!AH14)","v":0.375},{"$f":"AVERAGE('Сбор показателей I кв'!AI14,'Сбор показателей II кв'!AI14,'Сбор показателей III кв'!AI14,'Сбор показателей IV кв'!AI14)","v":0.5},null,{"$f":"SUM('Сбор показателей I кв'!AN14,'Сбор показателей II кв'!AN14,'Сбор показателей III кв'!AN14,'Сбор показателей IV кв'!AN14)/2","v":0.495},{"$f":"SUM('Сбор показателей I кв'!AP14,'Сбор показателей II кв'!AO14,'Сбор показателей III кв'!AO14,'Сбор показателей IV кв'!AO14)/2","v":0.28499999999999998},0.62333333333333329,4,0.2,{"$f":"SUM('Сбор показателей I кв'!AR14,'Сбор показателей II кв'!AQ14,'Сбор показателей III кв'!AQ14,'Сбор показателей IV кв'!AQ14)","v":4},{"$f":"SUM('Сбор показателей I кв'!AS14,'Сбор показателей II кв'!AR14,'Сбор показателей III кв'!AR14,'Сбор показателей IV кв'!AR14)","v":0.2}]
["Кэрол Грейдер","ОКР",{"$f":"SUM('Сбор показателей I кв'!D15,'Сбор показателей II кв'!D15,'Сбор показателей III кв'!D15,'Сбор показателей IV кв'!D15)/COUNT('Сбор показателей I кв'!D15,'Сбор показателей II кв'!D15,'Сбор показателей III кв'!D15,'Сбор показателей IV кв'!D15)","v":5},{"$f":"SUM('Сбор показателей I кв'!E15,'Сбор показателей II кв'!E15,'Сбор показателей III кв'!E15,'Сбор показателей IV кв'!E15)/COUNT('Сбор показателей I кв'!E15,'Сбор показателей II кв'!E15,'Сбор показателей III кв'!E15,'Сбор показателей IV кв'!E15)","v":21},1.056,{"$f":"SUM('Сбор показателей I кв'!G15,'Сбор показателей II кв'!G15,'Сбор показателей III кв'!G15,'Сбор показателей IV кв'!G15)/COUNT('Сбор показателей I кв'!G15,'Сбор показателей II кв'!G15,'Сбор показателей III кв'!G15,'Сбор показателей IV кв'!G15)","v":1.056},{"$f":"SUM('Сбор показателей I кв'!H15,'Сбор показателей II кв'!H15,'Сбор показателей III кв'!H15,'Сбор показателей IV кв'!H15)/COUNT('Сбор показателей I кв'!H15,'Сбор показателей II кв'!H15,'Сбор показателей III кв'!H15,'Сбор показателей IV кв'!H15)","v":1},null,1.8571428571428572,3.4285714285714284,4,0,{"$f":"SUM('Сбор показателей I кв'!K15,'Сбор показателей II кв'!K15,'Сбор показателей III кв'!K15,'Сбор показателей IV кв'!K15)","v":3.4285714285714284},{"$f":"SUM('Сбор показателей I кв'!L15,'Сбор показателей II кв'!L15,'Сбор показателей III кв'!L15,'Сбор показателей IV кв'!L15)","v":4},{"$f":"SUM('Сбор показателей I кв'!M15,'Сбор показателей II кв'!M15,'Сбор показателей III кв'!M15,'Сбор показателей IV кв'!M15)","v":0},5.7142857142857144,2.5714285714285716,3.1428571428571428,0,{"$f":"SUM('Сбор показателей I кв'!R15,'Сбор показателей II кв'!R15,'Сбор показателей III кв'!R15,'Сбор показателей IV кв'!R15)","v":2.5714285714285716},{"$f":"SUM('Сбор показателей I кв'!S15,'Сбор показателей II кв'!S15,'Сбор показателей III кв'!S15,'Сбор показателей IV кв'!S15)","v":3.1428571428571428},{"$f":"SUM('Сбор показателей I кв'!T15,'Сбор показателей II кв'!T15,'Сбор показателей III кв'!T15,'Сбор показателей IV кв'!T15)","v":0},null,{"$f":"MAX('Сбор показателей I кв'!Y15,'Сбор показателей II кв'!Y15,'Сбор показателей III кв'!Y15,'Сбор показателей IV кв'!Y15)","v":0.8},{"$f":"SUM('Сбор показателей I кв'!Z15,'Сбор показателей II кв'!Z15,'Сбор показателей III кв'!Z15,'Сбор показателей IV кв'!Z15)/COUNT('Сбор показателей I кв'!Z15,'Сбор показателей II кв'!Z15,'Сбор показателей III кв'!Z15,'Сбор показателей IV кв'!Z15)","v":0.83},0,0,0,{"$f":"'Сбор показателей IV кв'!AD15","v":0},{"$f":"'Сбор показателей IV кв'!AE15","v":0},0.77976190476190477,2.3809523809523808E-2,5,2.5,{"$f":"AVERAGE('Сбор показателей I кв'!AG15,'Сбор показателей II кв'!AG15,'Сбор показателей III кв'!AG15,'Сбор показателей IV кв'!AG15)","v":2.3809523809523808E-2},{"$f":"AVERAGE('Сбор показателей I кв'!AH15,'Сбор показателей II кв'!AH15,'Сбор показателей III кв'!AH15,'Сбор показателей IV кв'!AH15)","v":5},{"$f":"AVERAGE('Сбор показателей I кв'!AI15,'Сбор показателей II кв'!AI15,'Сбор показателей III кв'!AI15,'Сбор показателей IV кв'!AI15)","v":2.5},null,{"$f":"SUM('Сбор показателей I кв'!AN15,'Сбор показателей II кв'!AN15,'Сбор показателей III кв'!AN15,'Сбор показателей IV кв'!AN15)/2","v":0.34},{"$f":"SUM('Сбор показателей I кв'!AP15,'Сбор показателей II кв'!AO15,'Сбор показателей III кв'!AO15,'Сбор показателей IV кв'!AO15)/2","v":0.33500000000000002},0.14206349206349206,0.66666666666666663,9.5238095238095233E-2,{"$f":"SUM('Сбор показателей I кв'!AR15,'Сбор показателей II кв'!AQ15,'Сбор показателей III кв'!AQ15,'Сбор показателей IV кв'!AQ15)","v":0.66666666666666663},{"$f":"SUM('Сбор показателей I кв'!AS15,'Сбор показателей II кв'!AR15,'Сбор показателей III кв'!AR15,'Сбор показателей IV кв'!AR15)","v":9.5238095238095233E-2}]
["Линда Бак","ЗГД",{"$f":"SUM('Сбор показателей I кв'!D16,'Сбор показателей II кв'!D16,'Сбор показателей III кв'!D16,'Сбор показателей IV кв'!D16)/COUNT('Сбор показателей I кв'!D16,'Сбор показателей II кв'!D16,'Сбор показателей III кв'!D16,'Сбор показателей IV кв'!D16)","v":6},{"$f":"SUM('Сбор показателей I кв'!E16,'Сбор показателей II кв'!E16,'Сбор показателей III кв'!E16,'Сбор показателей IV кв'!E16)/COUNT('Сбор показателей I кв'!E16,'Сбор показателей II кв'!E16,'Сбор показателей III кв'!E16,'Сбор показателей IV кв'!E16)","v":37},3.2309999999999999,{"$f":"SUM('Сбор показателей I кв'!G16,'Сбор показателей II кв'!G16,'Сбор показателей III кв'!G16,'Сбор показателей IV кв'!G16)/COUNT('Сбор показателей I кв'!G16,'Сбор показателей II кв'!G16,'Сбор показателей III кв'!G16,'Сбор показателей IV кв'!G16)","v":1.077},{"$f":"SUM('Сбор показателей I кв'!H16,'Сбор показателей II кв'!H16,'Сбор показателей III кв'!H16,'Сбор показателей IV кв'!H16)/COUNT('Сбор показателей I кв'!H16,'Сбор показателей II кв'!H16,'Сбор показателей III кв'!H16,'Сбор показателей IV кв'!H16)","v":3},null,0.8783783783783784,1.1351351351351351,2.3783783783783785,0,{"$f":"SUM('Сбор показателей I кв'!K16,'Сбор показателей II кв'!K16,'Сбор показателей III кв'!K16,'Сбор показателей IV кв'!K16)","v":1.1351351351351351},{"$f":"SUM('Сбор показателей I кв'!L16,'Сбор показателей II кв'!L16,'Сбор показателей III кв'!L16,'Сбор показателей IV кв'!L16)","v":2.3783783783783785},{"$f":"SUM('Сбор показателей I кв'!M16,'Сбор показателей II кв'!M16,'Сбор показателей III кв'!M16,'Сбор показателей IV кв'!M16)","v":0},1.8378378378378377,0.81081081081081086,1.027027027027027,0,{"$f":"SUM('Сбор показателей I кв'!R16,'Сбор показателей II кв'!R16,'Сбор показателей III кв'!R16,'Сбор показателей IV кв'!R16)","v":0.81081081081081086},{"$f":"SUM('Сбор показателей I кв'!S16,'Сбор показателей II кв'!S16,'Сбор показателей III кв'!S16,'Сбор показателей IV кв'!S16)","v":1.027027027027027},{"$f":"SUM('Сбор показателей I кв'!T16,'Сбор показателей II кв'!T16,'Сбор показателей III кв'!T16,'Сбор показателей IV кв'!T16)","v":0},null,{"$f":"MAX('Сбор показателей I кв'!Y16,'Сбор показателей II кв'!Y16,'Сбор показателей III кв'!Y16,'Сбор показателей IV кв'!Y16)","v":0.93},{"$f":"SUM('Сбор показателей I кв'!Z16,'Сбор показателей II кв'!Z16,'Сбор показателей III кв'!Z16,'Сбор показателей IV кв'!Z16)/COUNT('Сбор показателей I кв'!Z16,'Сбор показателей II кв'!Z16,'Сбор показателей III кв'!Z16,'Сбор показателей IV кв'!Z16)","v":0.87},0,0,0,{"$f":"'Сбор показателей IV кв'!AD16","v":0},{"$f":"'Сбор показателей IV кв'!AE16","v":0},0.24035626535626536,0.14864864864864866,0.36363636363636365,0.18181818181818182,{"$f":"AVERAGE('Сбор показателей I кв'!AG16,'Сбор показателей II кв'!AG16,'Сбор показателей III кв'!AG16,'Сбор показателей IV кв'!AG16)","v":0.14864864864864866},{"$f":"AVERAGE('Сбор показателей I кв'!AH16,'Сбор показателей II кв'!AH16,'Сбор показателей III кв'!AH16,'Сбор показателей IV кв'!AH16)","v":0.36363636363636365},{"$f":"AVERAGE('Сбор показателей I кв'!AI16,'Сбор показателей II кв'!AI16,'Сбор показателей III кв'!AI16,'Сбор показателей IV кв'!AI16)","v":0.18181818181818182},null,{"$f":"SUM('Сбор показателей I кв'!AN16,'Сбор показателей II кв'!AN16,'Сбор показателей III кв'!AN16,'Сбор показателей IV кв'!AN16)/2","v":0.44},{"$f":"SUM('Сбор показателей I кв'!AP16,'Сбор показателей II кв'!AO16,'Сбор показателей III кв'!AO16,'Сбор показателей IV кв'!AO16)/2","v":0.36499999999999999},0.63513513513513509,1.0810810810810811,0.81081081081081086,{"$f":"SUM('Сбор показателей I кв'!AR16,'Сбор показателей II кв'!AQ16,'Сбор показателей III кв'!AQ16,'Сбор показателей IV кв'!AQ16)","v":1.0810810810810811},{"$f":"SUM('Сбор показателей I кв'!AS16,'Сбор показателей II кв'!AR16,'Сбор показателей III кв'!AR16,'Сбор показателей IV кв'!AR16)","v":0.81081081081081086}]
["Мэй-Брит Мозер","ОКР",{"$f":"SUM('Сбор показателей I кв'!D17,'Сбор показателей II кв'!D17,'Сбор показателей III кв'!D17,'Сбор показателей IV кв'!D17)/COUNT('Сбор показателей I кв'!D17,'Сбор показателей II кв'!D17,'Сбор показателей III кв'!D17,'Сбор показателей IV кв'!D17)","v":6.25},{"$f":"SUM('Сбор показателей I кв'!E17,'Сбор показателей II кв'!E17,'Сбор показателей III кв'!E17,'Сбор показателей IV кв'!E17)/COUNT('Сбор показателей I кв'!E17,'Сбор показателей II кв'!E17,'Сбор показателей III кв'!E17,'Сбор показателей IV кв'!E17)","v":10.25},1.5870000000000002,{"$f":"SUM('Сбор показателей I кв'!G17,'Сбор показателей II кв'!G17,'Сбор показателей III кв'!G17,'Сбор показателей IV кв'!G17)/COUNT('Сбор показателей I кв'!G17,'Сбор показателей II кв'!G17,'Сбор показателей III кв'!G17,'Сбор показателей IV кв'!G17)","v":1.0580000000000001},{"$f":"SUM('Сбор показателей I кв'!H17,'Сбор показателей II кв'!H17,'Сбор показателей III кв'!H17,'Сбор показателей IV кв'!H17)/COUNT('Сбор показателей I кв'!H17,'Сбор показателей II кв'!H17,'Сбор показателей III кв'!H17,'Сбор показателей IV кв'!H17)","v":1.5},null,2.8011363636363633,3.5909090909090908,7.6136363636363633,0,{"$f":"SUM('Сбор показателей I кв'!K17,'Сбор показателей II кв'!K17,'Сбор показателей III кв'!K17,'Сбор показателей IV кв'!K17)","v":3.5909090909090908},{"$f":"SUM('Сбор показателей I кв'!L17,'Сбор показателей II кв'!L17,'Сбор показателей III кв'!L17,'Сбор показателей IV кв'!L17)","v":7.6136363636363633},{"$f":"SUM('Сбор показателей I кв'!M17,'Сбор показателей II кв'!M17,'Сбор показателей III кв'!M17,'Сбор показателей IV кв'!M17)","v":0},5.5681818181818183,2.5,3.0681818181818183,0,{"$f":"SUM('Сбор показателей I кв'!R17,'Сбор показателей II кв'!R17,'Сбор показателей III кв'!R17,'Сбор показателей IV кв'!R17)","v":2.5},{"$f":"SUM('Сбор показателей I кв'!S17,'Сбор показателей II кв'!S17,'Сбор показателей III кв'!S17,'Сбор показателей IV кв'!S17)","v":3.0681818181818183},{"$f":"SUM('Сбор показателей I кв'!T17,'Сбор показателей II кв'!T17,'Сбор показателей III кв'!T17,'Сбор показателей IV кв'!T17)","v":0},null,{"$f":"MAX('Сбор показателей I кв'!Y17,'Сбор показателей II кв'!Y17,'Сбор показателей III кв'!Y17,'Сбор показателей IV кв'!Y17)","v":0.71},{"$f":"SUM('Сбор показателей I кв'!Z17,'Сбор показателей II кв'!Z17,'Сбор показателей III кв'!Z17,'Сбор показателей IV кв'!Z17)/COUNT('Сбор показателей I кв'!Z17,'Сбор показателей II кв'!Z17,'Сбор показателей III кв'!Z17,'Сбор показателей IV кв'!Z17)","v":0.86},0,0,0,{"$f":"'Сбор показателей IV кв'!AD17","v":0},{"$f":"'Сбор показателей IV кв'!AE17","v":0},0.39403409090909092,0.14772727272727273,2.9375,0.3125,{"$f":"AVERAGE('Сбор показателей I кв'!AG17,'Сбор показателей II кв'!AG17,'Сбор показателей III кв'!AG17,'Сбор показателей IV кв'!AG17)","v":0.14772727272727273},{"$f":"AVERAGE('Сбор показателей I кв'!AH17,'Сбор показателей II кв'!AH17,'Сбор показателей III кв'!AH17,'Сбор показателей IV кв'!AH17)","v":2.9375},{"$f":"AVERAGE('Сбор показателей I кв'!AI17,'Сбор показателей II кв'!AI17,'Сбор показателей III кв'!AI17,'Сбор показателей IV кв'!AI17)","v":0.3125},null,{"$f":"SUM('Сбор показателей I кв'!AN17,'Сбор показателей II кв'!AN17,'Сбор показателей III кв'!AN17,'Сбор показателей IV кв'!AN17)/2","v":0.495},{"$f":"SUM('Сбор показателей I кв'!AP17,'Сбор показателей II кв'!AO17,'Сбор показателей III кв'!AO17,'Сбор показателей IV кв'!AO17)/2","v":0.28000000000000003},0.6586174242424242,1.625,0.73863636363636365,{"$f":"SUM('Сбор показателей I кв'!AR17,'Сбор показателей II кв'!AQ17,'Сбор показателей III кв'!AQ17,'Сбор показателей IV кв'!AQ17)","v":1.625},{"$f":"SUM('Сбор показателей I кв'!AS17,'Сбор показателей II кв'!AR17,'Сбор показателей III кв'!AR17,'Сбор показателей IV кв'!AR17)","v":0.73863636363636365}]
["Саймон Кузнец","ОКР (КЦ)",{"$f":"SUM('Сбор показателей I кв'!D18,'Сбор показателей II кв'!D18,'Сбор показателей III кв'!D18,'Сбор показателей IV кв'!D18)/COUNT('Сбор показателей I кв'!D18,'Сбор показателей II кв'!D18,'Сбор показателей III кв'!D18,'Сбор показателей IV кв'!D18)","v":7},{"$f":"SUM('Сбор показателей I кв'!E18,'Сбор показателей II кв'!E18,'Сбор показателей III кв'!E18,'Сбор показателей IV кв'!E18)/COUNT('Сбор показателей I кв'!E18,'Сбор показателей II кв'!E18,'Сбор показателей III кв'!E18,'Сбор показателей IV кв'!E18)","v":8},1.958,{"$f":"SUM('Сбор показателей I кв'!G18,'Сбор показателей II кв'!G18,'Сбор показателей III кв'!G18,'Сбор показателей IV кв'!G18)/COUNT('Сбор показателей I кв'!G18,'Сбор показателей II кв'!G18,'Сбор показателей III кв'!G18,'Сбор показателей IV кв'!G18)","v":0.97899999999999998},{"$f":"SUM('Сбор показателей I кв'!H18,'Сбор показателей II кв'!H18,'Сбор показателей III кв'!H18,'Сбор показателей IV кв'!H18)/COUNT('Сбор показателей I кв'!H18,'Сбор показателей II кв'!H18,'Сбор показателей III кв'!H18,'Сбор показателей IV кв'!H18)","v":2},null,4.15625,8.875,7.75,0,{"$f":"SUM('Сбор показателей I кв'!K18,'Сбор показателей II кв'!K18,'Сбор показателей III кв'!K18,'Сбор показателей IV кв'!K18)","v":8.875},{"$f":"SUM('Сбор показателей I кв'!L18,'Сбор показателей II кв'!L18,'Сбор показателей III кв'!L18,'Сбор показателей IV кв'!L18)","v":7.75},{"$f":"SUM('Сбор показателей I кв'!M18,'Сбор показателей II кв'!M18,'Сбор показателей III кв'!M18,'Сбор показателей IV кв'!M18)","v":0},11.625,7.625,4,0,{"$f":"SUM('Сбор показателей I кв'!R18,'Сбор показателей II кв'!R18,'Сбор показателей III кв'!R18,'Сбор показателей IV кв'!R18)","v":7.625},{"$f":"SUM('Сбор показателей I кв'!S18,'Сбор показателей II кв'!S18,'Сбор показателей III кв'!S18,'Сбор показателей IV кв'!S18)","v":4},{"$f":"SUM('Сбор показателей I кв'!T18,'Сбор показателей II кв'!T18,'Сбор показателей III кв'!T18,'Сбор показателей IV кв'!T18)","v":0},null,{"$f":"MAX('Сбор показателей I кв'!Y18,'Сбор показателей II кв'!Y18,'Сбор показателей III кв'!Y18,'Сбор показателей IV кв'!Y18)","v":0.88},{"$f":"SUM('Сбор показателей I кв'!Z18,'Сбор показателей II кв'!Z18,'Сбор показателей III кв'!Z18,'Сбор показателей IV кв'!Z18)/COUNT('Сбор показателей I кв'!Z18,'Сбор показателей II кв'!Z18,'Сбор показателей III кв'!Z18,'Сбор показателей IV кв'!Z18)","v":0.83},0,0,0,{"$f":"'Сбор показателей IV кв'!AD18","v":0},{"$f":"'Сбор показателей IV кв'!AE18","v":0},0.48750000000000004,0.1875,1.8125,0.8125,{"$f":"AVERAGE('Сбор показателей I кв'!AG18,'Сбор показателей II кв'!AG18,'Сбор показателей III кв'!AG18,'Сбор показателей IV кв'!AG18)","v":0.1875},{"$f":"AVERAGE('Сбор показателей I кв'!AH18,'Сбор показателей II кв'!AH18,'Сбор показателей III кв'!AH18,'Сбор показателей IV кв'!AH18)","v":1.8125},{"$f":"AVERAGE('Сбор показателей I кв'!AI18,'Сбор показателей II кв'!AI18,'Сбор показателей III кв'!AI18,'Сбор показателей IV кв'!AI18)","v":0.8125},null,{"$f":"SUM('Сбор показателей I кв'!AN18,'Сбор показателей II кв'!AN18,'Сбор показателей III кв'!AN18,'Сбор показателей IV кв'!AN18)/2","v":0.495},{"$f":"SUM('Сбор показателей I кв'!AP18,'Сбор показателей II кв'!AO18,'Сбор показателей III кв'!AO18,'Сбор показателей IV кв'!AO18)/2","v":0.26},0.77499999999999991,2.5,0.75,{"$f":"SUM('Сбор показателей I кв'!AR18,'Сбор показателей II кв'!AQ18,'Сбор показателей III кв'!AQ18,'Сбор показателей IV кв'!AQ18)","v":2.5},{"$f":"SUM('Сбор показателей I кв'!AS18,'Сбор показателей II кв'!AR18,'Сбор показателей III кв'!AR18,'Сбор показателей IV кв'!AR18)","v":0.75}]
["Светлана Алексеевич","ЗГД",{"$f":"SUM('Сбор показателей I кв'!D19,'Сбор показателей II кв'!D19,'Сбор показателей III кв'!D19,'Сбор показателей IV кв'!D19)/COUNT('Сбор показателей I кв'!D19,'Сбор показателей II кв'!D19,'Сбор показателей III кв'!D19,'Сбор показателей IV кв'!D19)","v":5.5},{"$f":"SUM('Сбор показателей I кв'!E19,'Сбор показателей II кв'!E19,'Сбор показателей III кв'!E19,'Сбор показателей IV кв'!E19)/COUNT('Сбор показателей I кв'!E19,'Сбор показателей II кв'!E19,'Сбор показателей III кв'!E19,'Сбор показателей IV кв'!E19)","v":13.5},1.4264999999999999,{"$f":"SUM('Сбор показателей I кв'!G19,'Сбор показателей II кв'!G19,'Сбор показателей III кв'!G19,'Сбор показателей IV кв'!G19)/COUNT('Сбор показателей I кв'!G19,'Сбор показателей II кв'!G19,'Сбор показателей III кв'!G19,'Сбор показателей IV кв'!G19)","v":0.95099999999999996},{"$f":"SUM('Сбор показателей I кв'!H19,'Сбор показателей II кв'!H19,'Сбор показателей III кв'!H19,'Сбор показателей IV кв'!H19)/COUNT('Сбор показателей I кв'!H19,'Сбор показателей II кв'!H19,'Сбор показателей III кв'!H19,'Сбор показателей IV кв'!H19)","v":1.5},null,1.3528138528138527,2.5151515151515151,2.8961038961038961,0,{"$f":"SUM('Сбор показателей I кв'!K19,'Сбор показателей II кв'!K19,'Сбор показателей III кв'!K19,'Сбор показателей IV кв'!K19)","v":2.5151515151515151},{"$f":"SUM('Сбор показателей I кв'!L19,'Сбор показателей II кв'!L19,'Сбор показателей III кв'!L19,'Сбор показателей IV кв'!L19)","v":2.8961038961038961},{"$f":"SUM('Сбор показателей I кв'!M19,'Сбор показателей II кв'!M19,'Сбор показателей III кв'!M19,'Сбор показателей IV кв'!M19)","v":0},4.7099567099567103,2.108225108225108,2.6017316017316019,0,{"$f":"SUM('Сбор показателей I кв'!R19,'Сбор показателей II кв'!R19,'Сбор показателей III кв'!R19,'Сбор показателей IV кв'!R19)","v":2.108225108225108},{"$f":"SUM('Сбор показателей I кв'!S19,'Сбор показателей II кв'!S19,'Сбор показателей III кв'!S19,'Сбор показателей IV кв'!S19)","v":2.6017316017316019},{"$f":"SUM('Сбор показателей I кв'!T19,'Сбор показателей II кв'!T19,'Сбор показателей III кв'!T19,'Сбор показателей IV кв'!T19)","v":0},null,{"$f":"MAX('Сбор показателей I кв'!Y19,'Сбор показателей II кв'!Y19,'Сбор показателей III кв'!Y19,'Сбор показателей IV кв'!Y19)","v":0.76},{"$f":"SUM('Сбор показателей I кв'!Z19,'Сбор показателей II кв'!Z19,'Сбор показателей III кв'!Z19,'Сбор показателей IV кв'!Z19)/COUNT('Сбор показателей I кв'!Z19,'Сбор показателей II кв'!Z19,'Сбор показателей III кв'!Z19,'Сбор показателей IV кв'!Z19)","v":0.54},0,0,0,{"$f":"'Сбор показателей IV кв'!AD19","v":0},{"$f":"'Сбор показателей IV кв'!AE19","v":0},0.23966450216450214,0.10173160173160173,0.5,0.4375,{"$f":"AVERAGE('Сбор показателей I кв'!AG19,'Сбор показателей II кв'!AG19,'Сбор показателей III кв'!AG19,'Сбор показателей IV кв'!AG19)","v":0.10173160173160173},{"$f":"AVERAGE('Сбор показателей I кв'!AH19,'Сбор показателей II кв'!AH19,'Сбор показателей III кв'!AH19,'Сбор показателей IV кв'!AH19)","v":0.5},{"$f":"AVERAGE('Сбор показателей I кв'!AI19,'Сбор показателей II кв'!AI19,'Сбор показателей III кв'!AI19,'Сбор показателей IV кв'!AI19)","v":0.4375},null,{"$f":"SUM('Сбор показателей I кв'!AN19,'Сбор показателей II кв'!AN19,'Сбор показателей III кв'!AN19,'Сбор показателей IV кв'!AN19)/2","v":0.26},{"$f":"SUM('Сбор показателей I кв'!AP19,'Сбор показателей II кв'!AO19,'Сбор показателей III кв'!AO19,'Сбор показателей IV кв'!AO19)/2","v":0.40500000000000003},0.67117604617604609,2.9134199134199132,0.49783549783549785,{"$f":"SUM('Сбор показателей I кв'!AR19,'Сбор показателей II кв'!AQ19,'Сбор показателей III кв'!AQ19,'Сбор показателей IV кв'!AQ19)","v":2.9134199134199132},{"$f":"SUM('Сбор показателей I кв'!AS19,'Сбор показателей II кв'!AR19,'Сбор показателей III кв'!AR19,'Сбор показателей IV кв'!AR19)","v":0.49783549783549785}]
["Эстер Дюфло","ЗГД",{"$f":"SUM('Сбор показателей I кв'!D20,'Сбор показателей II кв'!D20,'Сбор показателей III кв'!D20,'Сбор показателей IV кв'!D20)/COUNT('Сбор показателей I кв'!D20,'Сбор показателей II кв'!D20,'Сбор показателей III кв'!D20,'Сбор показателей IV кв'!D20)","v":6.5},{"$f":"SUM('Сбор показателей I кв'!E20,'Сбор показателей II кв'!E20,'Сбор показателей III кв'!E20,'Сбор показателей IV кв'!E20)/COUNT('Сбор показателей I кв'!E20,'Сбор показателей II кв'!E20,'Сбор показателей III кв'!E20,'Сбор показателей IV кв'!E20)","v":15.75},2.6724999999999999,{"$f":"SUM('Сбор показателей I кв'!G20,'Сбор показателей II кв'!G20,'Сбор показателей III кв'!G20,'Сбор показателей IV кв'!G20)/COUNT('Сбор показателей I кв'!G20,'Сбор показателей II кв'!G20,'Сбор показателей III кв'!G20,'Сбор показателей IV кв'!G20)","v":1.069},{"$f":"SUM('Сбор показателей I кв'!H20,'Сбор показателей II кв'!H20,'Сбор показателей III кв'!H20,'Сбор показателей IV кв'!H20)/COUNT('Сбор показателей I кв'!H20,'Сбор показателей II кв'!H20,'Сбор показателей III кв'!H20,'Сбор показателей IV кв'!H20)","v":2.5},null,2.7572115384615383,5.9391025641025639,5.0897435897435894,0,{"$f":"SUM('Сбор показателей I кв'!K20,'Сбор показателей II кв'!K20,'Сбор показателей III кв'!K20,'Сбор показателей IV кв'!K20)","v":5.9391025641025639},{"$f":"SUM('Сбор показателей I кв'!L20,'Сбор показателей II кв'!L20,'Сбор показателей III кв'!L20,'Сбор показателей IV кв'!L20)","v":5.0897435897435894},{"$f":"SUM('Сбор показателей I кв'!M20,'Сбор показателей II кв'!M20,'Сбор показателей III кв'!M20,'Сбор показателей IV кв'!M20)","v":0},8.3108974358974361,5.509615384615385,2.8012820512820511,0,{"$f":"SUM('Сбор показателей I кв'!R20,'Сбор показателей II кв'!R20,'Сбор показателей III кв'!R20,'Сбор показателей IV кв'!R20)","v":5.509615384615385},{"$f":"SUM('Сбор показателей I кв'!S20,'Сбор показателей II кв'!S20,'Сбор показателей III кв'!S20,'Сбор показателей IV кв'!S20)","v":2.8012820512820511},{"$f":"SUM('Сбор показателей I кв'!T20,'Сбор показателей II кв'!T20,'Сбор показателей III кв'!T20,'Сбор показателей IV кв'!T20)","v":0},null,{"$f":"MAX('Сбор показателей I кв'!Y20,'Сбор показателей II кв'!Y20,'Сбор показателей III кв'!Y20,'Сбор показателей IV кв'!Y20)","v":0.97},{"$f":"SUM('Сбор показателей I кв'!Z20,'Сбор показателей II кв'!Z20,'Сбор показателей III кв'!Z20,'Сбор показателей IV кв'!Z20)/COUNT('Сбор показателей I кв'!Z20,'Сбор показателей II кв'!Z20,'Сбор показателей III кв'!Z20,'Сбор показателей IV кв'!Z20)","v":0.88},0,0,0,{"$f":"'Сбор показателей IV кв'!AD20","v":0},{"$f":"'Сбор показателей IV кв'!AE20","v":0},0.44648701079622133,0.18429487179487181,1.3223684210526316,0.75,{"$f":"AVERAGE('Сбор показателей I кв'!AG20,'Сбор показателей II кв'!AG20,'Сбор показателей III кв'!AG20,'Сбор показателей IV кв'!AG20)","v":0.18429487179487181},{"$f":"AVERAGE('Сбор показателей I кв'!AH20,'Сбор показателей II кв'!AH20,'Сбор показателей III кв'!AH20,'Сбор показателей IV кв'!AH20)","v":1.3223684210526316},{"$f":"AVERAGE('Сбор показателей I кв'!AI20,'Сбор показателей II кв'!AI20,'Сбор показателей III кв'!AI20,'Сбор показателей IV кв'!AI20)","v":0.75},null,{"$f":"SUM('Сбор показателей I кв'!AN20,'Сбор показателей II кв'!AN20,'Сбор показателей III кв'!AN20,'Сбор показателей IV кв'!AN20)/2","v":0.375},{"$f":"SUM('Сбор показателей I кв'!AP20,'Сбор показателей II кв'!AO20,'Сбор показателей III кв'!AO20,'Сбор показателей IV кв'!AO20)/2","v":0.28999999999999998},0.77951388888888884,2.3621794871794872,0.78525641025641024,{"$f":"SUM('Сбор показателей I кв'!AR20,'Сбор показателей II кв'!AQ20,'Сбор показателей III кв'!AQ20,'Сбор показателей IV кв'!AQ20)","v":2.3621794871794872},{"$f":"SUM('Сбор показателей I кв'!AS20,'Сбор показателей II кв'!AR20,'Сбор показателей III кв'!AR20,'Сбор показателей IV кв'!AR20)","v":0.78525641025641024}]
[]
[]
[]
[]
[]
[]
[]
[]
[]
[]
[]
[]
[]
[]
[]
[]
[]
[]
[]
[]
[]
[]
[]
[]
[]
[]
[null,null,null,null,null,null,null,null,null,null,null,null,null,null,null,null,0,0,0]
["ПЕРЕСЧЕТ ДЛЯ ИНТЕГРАЛЬНОГО РЕЙТИНГА",null,null,null,null,null,null,null,null,null,null,null,null,null,null,null,0,0,0]
["Андреева Анна","ОКР","-",{"$f":"SUM(E44:AS44)","v":0.47624236414155857},{"$f":"(E6/MAX(E$6:E$41))*E$1","v":8.8950789229340757E-2},"-","-",null,{"$f":"(I6/MAX(I$6:I$41))*I$1","v":2.8945147679324896E-2},"-","-","-","-","-","-",{"$f":"(P6/MAX(P$6:P$41))*P$1","v":6.7632850241545897E-4},"-","-","-","-","-","-","-",{"$f":"(X6/MAX(X$6:X$41))*X$1","v":6.4948453608247428E-2},{"$f":"(Y6/MAX(Y$6:Y$41))*Y$1","v":8.6363636363636365E-2},{"$f":"IF(Z6=0,0,(Z6/MAX(Z$6:Z$41))*Z$1)","v":0},"-","-","-","-",{"$f":"(AE6/MAX(AE$6:AE$41))*AE$1","v":4.8091603053435121E-2},"-","-","-","-","-","-","-",{"$f":"(AM6/MAX(AM$6:AM$41))*AM$1","v":7.4747474747474757E-2},{"$f":"(AN6/MAX(AN$6:AN$41))*AN$1","v":0.06},{"$f":"(AO6/MAX(AO$6:AO$41))*AO$1","v":2.3518930957683745E-2},"-","-","-","-"]
["Анисимова Марина","ОКР","-",{"$f":"SUM(E45:AS45)","v":0.48089729536718306},{"$f":"(E7/MAX(E$6:E$41))*E$1","v":9.3129062209842142E-2},"-","-",null,{"$f":"(I7/MAX(I$6:I$41))*I$1","v":2.126582278481013E-2},"-","-","-","-","-","-",{"$f":"(P7/MAX(P$6:P$41))*P$1","v":1.3391304347826087E-2},"-","-","-","-","-","-","-",{"$f":"(X7/MAX(X$6:X$41))*X$1","v":8.3505154639175266E-2},{"$f":"(Y7/MAX(Y$6:Y$41))*Y$1","v":7.0454545454545464E-2},{"$f":"IF(Z7=0,0,(Z7/MAX(Z$6:Z$41))*Z$1)","v":0},"-","-","-","-",{"$f":"(AE7/MAX(AE$6:AE$41))*AE$1","v":3.5979643765903305E-2},"-","-","-","-","-","-","-",{"$f":"(AM7/MAX(AM$6:AM$41))*AM$1","v":6.0606060606060608E-2},0.1,2.5657015590200452E-3,"-","-","-","-"]
["Билый Александр","ОКР","-",0.59268578922923254,3.1692974311358715E-2,"-","-",null,0.1,"-","-","-","-","-","-",0.1,"-","-","-","-","-","-","-",{"$f":"(X8/MAX(X$6:X$41))*X$1","v":7.9381443298969082E-2},6.7045454545454547E-2,0,"-","-","-","-",0,"-","-","-","-","-","-","-",8.787878787878789E-2,8.1176470588235294E-2,4.5510658606426981E-2,"-","-","-","-"]
["Бильвина Валерия","ОКР","-",0.5783080340147303,6.8399876199319101E-2,"-","-",null,3.5443037974683553E-2,"-","-","-","-","-","-",1.3188405797101448E-2,"-","-","-","-","-","-","-",{"$f":"(X9/MAX(X$6:X$41))*X$1","v":8.9690721649484551E-2},7.7272727272727285E-2,0,"-","-","-","-",4.7290076335877868E-2,"-","-","-","-","-","-","-",0.1,6.7058823529411768E-2,7.9964365256124728E-2,"-","-","-","-"]
["Борисов Сергей","ОКР","-",0.53710771228432441,3.2683379758588677E-2,"-","-",null,3.2911392405063293E-2,"-","-","-","-","-","-",2.8985507246376815E-2,"-","-","-","-","-","-","-",{"$f":"(X10/MAX(X$6:X$41))*X$1","v":8.2474226804123724E-2},9.4318181818181815E-2,0,"-","-","-","-",0.1,"-","-","-","-","-","-","-",6.8686868686868699E-2,7.8823529411764723E-2,1.8224626153356665E-2,"-","-","-","-"]
["Булковский Сергей","ЗГД","-",0.60670240707478706,0.1,"-","-",null,1.556619911050291E-2,"-","-","-","-","-","-",9.3223658441049743E-3,"-","-","-","-","-","-","-",{"$f":"(X11/MAX(X$6:X$41))*X$1","v":9.5876288659793821E-2},9.8863636363636376E-2,0,"-","-","-","-",3.0824314946452352E-2,"-","-","-","-","-","-","-",8.8888888888888906E-2,8.5882352941176465E-2,8.1478360320231147E-2,"-","-","-","-"]
["Войтюк Юлия","ОКР","-",0.59883161773454519,4.9117920148560826E-2,"-","-",null,4.9640391254315304E-2,"-","-","-","-","-","-",2.8244400527009224E-2,"-","-","-","-","-","-","-",{"$f":"(X12/MAX(X$6:X$41))*X$1","v":7.3195876288659797E-2},9.7727272727272732E-2,0,"-","-","-","-",5.0532616238723106E-2,"-","-","-","-","-","-","-",0.1,6.5882352941176489E-2,8.4490787608827708E-2,"-","-","-","-"]
["Гудкова Людмила","ОКР (КЦ)","-",0.70137920917031571,6.0600433302383162E-2,"-","-",null,7.3655063291139244E-2,"-","-","-","-","-","-",5.8967391304347833E-2,"-","-","-","-","-","-","-",{"$f":"(X13/MAX(X$6:X$41))*X$1","v":9.0721649484536093E-2},9.4318181818181815E-2,0,"-","-","-","-",6.251908396946565E-2,"-","-","-","-","-","-","-",0.1,6.1176470588235304E-2,9.9420935412026734E-2,"-","-","-","-"]
["Гулиев Рагим","ЗГД","-",0.49638641264691752,4.4150417827298054E-2,"-","-",null,2.3973916378979672E-2,"-","-","-","-","-","-",2.389108476064998E-2,"-","-","-","-","-","-","-",{"$f":"(X14/MAX(X$6:X$41))*X$1","v":7.8350515463917525E-2},6.136363636363637E-2,0,"-","-","-","-",3.0735600277585009E-2,"-","-","-","-","-","-","-",5.252525252525253E-2,9.5294117647058835E-2,8.6101871402539554E-2,"-","-","-","-"]
["Завьялов Василий","ЗГД","-",0.67498530547038993,8.2714329928814612E-2,"-","-",null,4.8861976630963977E-2,"-","-","-","-","-","-",4.215672612411743E-2,"-","-","-","-","-","-","-",{"$f":"(X15/MAX(X$6:X$41))*X$1","v":0.1},0.1,0,"-","-","-","-",5.7259402911271129E-2,"-","-","-","-","-","-","-",7.575757575757576E-2,6.8235294117647061E-2,0.1,"-","-","-","-"]
["Коваленко Тамара","ОКР","-",0,0,"-","-",null,0,"-","-","-","-","-","-",0,"-","-","-","-","-","-","-",{"$f":"(X16/MAX(X$6:X$41))*X$1","v":0},0,0,"-","-","-","-",0,"-","-","-","-","-","-","-",0,0,0,"-","-","-","-"]
["Колесников Сергей","ОКР","-",0,0,"-","-",null,0,"-","-","-","-","-","-",0,"-","-","-","-","-","-","-",{"$f":"(X17/MAX(X$6:X$41))*X$1","v":0},0,0,"-","-","-","-",0,"-","-","-","-","-","-","-",0,0,0,"-","-","-","-"]
["Коробейников Павел","ЗГД","-",0,0,"-","-",null,0,"-","-","-","-","-","-",0,"-","-","-","-","-","-","-",{"$f":"(X18/MAX(X$6:X$41))*X$1","v":0},0,0,"-","-","-","-",0,"-","-","-","-","-","-","-",0,0,0,"-","-","-","-"]
["Марченко Лариса","ОКР","-",0,0,"-","-",null,0,"-","-","-","-","-","-",0,"-","-","-","-","-","-","-",{"$f":"(X19/MAX(X$6:X$41))*X$1","v":0},0,0,"-","-","-","-",0,"-","-","-","-","-","-","-",0,0,0,"-","-","-","-"]
["Мелёхин Денис","ОКР (КЦ)","-",0,0,"-","-",null,0,"-","-","-","-","-","-",0,"-","-","-","-","-","-","-",{"$f":"(X20/MAX(X$6:X$41))*X$1","v":0},0,0,"-","-","-","-",0,"-","-","-","-","-","-","-",0,0,0,"-","-","-","-"]
["Миняева Ирина","ОКР (КЦ)","-",0,0,"-","-",null,0,"-","-","-","-","-","-",0,"-","-","-","-","-","-","-",{"$f":"(X21/MAX(X$6:X$41))*X$1","v":0},0,0,"-","-","-","-",0,"-","-","-","-","-","-","-",0,0,0,"-","-","-","-"]
["Мирсаитов Дмитрий","ЗГД","-",0,0,"-","-",null,0,"-","-","-","-","-","-",0,"-","-","-","-","-","-","-",{"$f":"(X22/MAX(X$6:X$41))*X$1","v":0},0,0,"-","-","-","-",0,"-","-","-","-","-","-","-",0,0,0,"-","-","-","-"]
["Навальнева Евгения","ЗГД","-",0,0,"-","-",null,0,"-","-","-","-","-","-",0,"-","-","-","-","-","-","-",{"$f":"(X23/MAX(X$6:X$41))*X$1","v":0},{"$f":"(Y23/MAX(Y$6:Y$41))*Y$1","v":0},0,"-","-","-","-",0,"-","-","-","-","-","-","-",{"$f":"(AM23/MAX(AM$6:AM$41))*AM$1","v":0},0,0,"-","-","-","-"]
["Османов Руслан","ЗГД","-",0,0,"-","-",null,0,"-","-","-","-","-","-",0,"-","-","-","-","-","-","-",{"$f":"(X24/MAX(X$6:X$41))*X$1","v":0},0,0,"-","-","-","-",0,"-","-","-","-","-","-","-",0,0,0,"-","-","-","-"]
["Приймак Андрей","ЗГД","-",0,0,"-","-",null,0,"-","-","-","-","-","-",0,"-","-","-","-","-","-","-",{"$f":"(X25/MAX(X$6:X$41))*X$1","v":0},0,0,"-","-","-","-",0,"-","-","-","-","-","-","-",0,0,0,"-","-","-","-"]
["Проскуряков Алексей","ОКР","-",0,0,"-","-",null,0,"-","-","-","-","-","-",0,"-","-","-","-","-","-","-",{"$f":"(X26/MAX(X$6:X$41))*X$1","v":0},0,0,"-","-","-","-",0,"-","-","-","-","-","-","-",0,0,0,"-","-","-","-"]
["Савченко Яна","ОКР (КЦ)","-",0,0,"-","-",null,0,"-","-","-","-","-","-",0,"-","-","-","-","-","-","-",{"$f":"(X27/MAX(X$6:X$41))*X$1","v":0},0,0,"-","-","-","-",0,"-","-","-","-","-","-","-",0,0,0,"-","-","-","-"]
["Сафиуллин Наиль","ОКР (КЦ)","-",0,0,"-","-",null,0,"-","-","-","-","-","-",0,"-","-","-","-","-","-","-",{"$f":"(X28/MAX(X$6:X$41))*X$1","v":0},0,0,"-","-","-","-",0,"-","-","-","-","-","-","-",0,0,0,"-","-","-","-"]
["Сметанин Павел","ОКР","-",0,0,"-","-",null,0,"-","-","-","-","-","-",0,"-","-","-","-","-","-","-",{"$f":"(X29/MAX(X$6:X$41))*X$1","v":0},0,0,"-","-","-","-",0,"-","-","-","-","-","-","-",0,0,0,"-","-","-","-"]
["Степин Константин","ОКР (КЦ)","-",0,0,"-","-",null,0,"-","-","-","-","-","-",0,"-","-","-","-","-","-","-",{"$f":"(X30/MAX(X$6:X$41))*X$1","v":0},0,0,"-","-","-","-",0,"-","-","-","-","-","-","-",0,0,0,"-","-","-","-"]
["Титов Александр","ЗГД","-",0,0,"-","-",null,0,"-","-","-","-","-","-",0,"-","-","-","-","-","-","-",{"$f":"(X31/MAX(X$6:X$41))*X$1","v":0},0,0,"-","-","-","-",0,"-","-","-","-","-","-","-",0,0,0,"-","-","-","-"]
["Фирсов Владимир","ОКР","-",0,0,"-","-",null,0,"-","-","-","-","-","-",0,"-","-","-","-","-","-","-",{"$f":"(X32/MAX(X$6:X$41))*X$1","v":0},0,0,"-","-","-","-",0,"-","-","-","-","-","-","-",0,0,0,"-","-","-","-"]
["Чунц Илья","ЗГД","-",0,0,"-","-",null,0,"-","-","-","-","-","-",0,{"$f":"T71","v":"-"},{"$f":"U71","v":"-"},{"$f":"V71","v":"-"},"-","-","-","-",{"$f":"(X33/MAX(X$6:X$41))*X$1","v":0},0,0,"-","-","-","-",0,"-","-","-","-","-","-","-",0,0,0,"-","-","-","-"]
["Шепляков Алексей","ЗГД","-",0,0,"-","-",null,0,"-","-","-","-","-","-",0,"-","-","-","-","-","-","-",{"$f":"(X34/MAX(X$6:X$41))*X$1","v":0},0,0,"-","-","-","-",0,"-","-","-","-","-","-","-",0,0,0,"-","-","-","-"]
["Шестаков Антон","ЗГД","-",0,0,"-","-",null,0,"-","-","-","-","-","-",0,"-","-","-","-","-","-","-",{"$f":"(X35/MAX(X$6:X$41))*X$1","v":0},0,0,"-","-","-","-",0,"-","-","-","-","-","-","-",0,0,0,"-","-","-","-"]
["Ялымов Денис","ОКР","-",0,0,"-","-",null,0,"-","-","-","-","-","-",0,"-","-","-","-","-","-","-",{"$f":"(X36/MAX(X$6:X$41))*X$1","v":0},0,0,"-","-","-","-",0,"-","-","-","-","-","-","-",0,0,0,"-","-","-","-"]
["Винокурова Елена","КЦ","-",0,0,"-","-",null,0,"-","-","-","-","-","-",0,"-","-","-","-","-","-","-",{"$f":"(X37/MAX(X$6:X$41))*X$1","v":0},0,0,"-","-","-","-",0,"-","-","-","-","-","-","-",0,0,0,"-","-","-","-"]
["Горбунова Татьяна","КЦ","-",0,0,"-","-",null,0,"-","-","-","-","-","-",0,"-","-","-","-","-","-","-",{"$f":"(X38/MAX(X$6:X$41))*X$1","v":0},0,0,"-","-","-","-",0,"-","-","-","-","-","-","-",0,0,0,"-","-","-","-"]
["Давыденков Евгений","КЦ","-",0,0,"-","-",null,0,"-","-","-","-","-","-",0,"-","-","-","-","-","-","-",{"$f":"(X39/MAX(X$6:X$41))*X$1","v":0},{"$f":"(Y39/MAX(Y$6:Y$41))*Y$1","v":0},0,"-","-","-","-",0,"-","-","-","-","-","-","-",{"$f":"(AM39/MAX(AM$6:AM$41))*AM$1","v":0},0,0,"-","-","-","-"]
["Журавлев Сергей","КЦ","-",0,0,"-","-",null,0,"-","-","-","-","-","-",0,"-","-","-","-","-","-","-",{"$f":"(X40/MAX(X$6:X$41))*X$1","v":0},0,0,"-","-","-","-",0,"-","-","-","-","-","-","-",0,0,0,"-","-","-","-"]
["Ульданов Динар","КЦ","-",0,0,"-","-",null,0,"-","-","-","-","-","-",0,"-","-","-","-","-","-","-",{"$f":"(X41/MAX(X$6:X$41))*X$1","v":0},0,0,"-","-","-","-",0,"-","-","-","-","-","-","-",0,0,0,"-","-","-","-"]
[null,null,null,null,null,null,null,null,null,null,null,null,null,null,null,null,0,0,0]
["ПЕРЕСЧЕТ ДЛЯ РЕЙТИНГА БЛОКА",null,null,null,null,null,null,null,null,null,null,null,null,null,null,null,0,0,0]
["Андреева Анна","ОКР","-","-",{"$f":"(E6/MAX(E$6:E$41))*E$2","v":0.88950789229340754},"-","-",{"$f":"SUM(I82:V82)","v":0.14810738090870176},{"$f":"(I6/MAX(I$6:I$41))*I$2","v":0.14472573839662448},"-","-","-","-","-","-",{"$f":"(P6/MAX(P$6:P$41))*P$2","v":3.3816425120772944E-3},"-","-","-","-","-","-",{"$f":"SUM(X82:AK82)","v":0.49850923256329727},{"$f":"(X6/MAX(X$6:X$41))*X$2","v":0.16237113402061856},{"$f":"(Y6/MAX(Y$6:Y$41))*Y$2","v":0.21590909090909091},{"$f":"IF(Z44=0,0,(Z44/MAX(Z$6:Z$41))*Z$2)","v":0},"-","-","-","-",{"$f":"(AE6/MAX(AE$6:AE$41))*AE$2","v":0.12022900763358779},"-","-","-","-","-","-",{"$f":"SUM(AM82:AS82)","v":0.52227913882702304},{"$f":"(AM6/MAX(AM$6:AM$41))*AM$2","v":0.2466666666666667},{"$f":"(AN6/MAX(AN$6:AN$41))*AN$2","v":0.19800000000000001},{"$f":"(AO6/MAX(AO$6:AO$41))*AO$2","v":7.7612472160356355E-2},"-","-","-","-"]
["Анисимова Марина","ОКР","-","-",{"$f":"(E7/MAX(E$6:E$41))*E$2","v":0.93129062209842139},"-","-",{"$f":"SUM(I83:V83)","v":0.17328563566318106},{"$f":"(I7/MAX(I$6:I$41))*I$2","v":0.10632911392405064},"-","-","-","-","-","-",{"$f":"(P7/MAX(P$6:P$41))*P$2","v":6.6956521739130428E-2},"-","-","-","-","-","-",{"$f":"SUM(X83:AK83)","v":0.47484835964906008},{"$f":"(X7/MAX(X$6:X$41))*X$2","v":0.20876288659793815},{"$f":"(Y7/MAX(Y$6:Y$41))*Y$2","v":0.17613636363636365},{"$f":"IF(Z45=0,0,(Z45/MAX(Z$6:Z$41))*Z$2)","v":0},"-","-","-","-",{"$f":"(AE7/MAX(AE$6:AE$41))*AE$2","v":8.9949109414758255E-2},"-","-","-","-","-","-",{"$f":"SUM(AM83:AS83)","v":0.53846681514476613},{"$f":"(AM7/MAX(AM$6:AM$41))*AM$2","v":0.2},0.33,8.4668151447661495E-3,"-","-","-","-"]
["Билый Александр","ОКР","-","-",0.31692974311358713,"-","-",1,0.5,"-","-","-","-","-","-",0.5,"-","-","-","-","-","-",0.36606724461105905,{"$f":"(X8/MAX(X$6:X$41))*X$2","v":0.1984536082474227},0.16761363636363635,0,"-","-","-","-",0,"-","-","-","-","-","-",0.70806752634238557,0.29000000000000004,0.26788235294117646,0.15018517340120904,"-","-","-","-"]
["Бильвина Валерия","ОКР","-","-",0.68399876199319098,"-","-",0.24315721885892499,0.17721518987341775,"-","-","-","-","-","-",6.5942028985507231E-2,"-","-","-","-","-","-",0.53563381314522418,{"$f":"(X9/MAX(X$6:X$41))*X$2","v":0.22422680412371135},0.1931818181818182,0,"-","-","-","-",0.11822519083969467,"-","-","-","-","-","-",0.8151765229922705,0.33,0.22129411764705881,0.26388240534521162,"-","-","-","-"]
["Борисов Сергей","ОКР","-","-",0.32683379758588677,"-","-",0.30948449825720054,0.16455696202531647,"-","-","-","-","-","-",0.14492753623188406,"-","-","-","-","-","-",0.6919810215557638,{"$f":"(X10/MAX(X$6:X$41))*X$2","v":0.2061855670103093},0.23579545454545453,0,"-","-","-","-",0.25,"-","-","-","-","-","-",0.54692558003156722,0.22666666666666671,0.26011764705882356,6.0141266306076996E-2,"-","-","-","-"]
["Булковский Сергей","ЗГД","-","-",1,"-","-",0.12444282477303942,7.7830995552514548E-2,"-","-","-","-","-","-",4.661182922052487E-2,"-","-","-","-","-","-",0.56391059992470638,{"$f":"(X11/MAX(X$6:X$41))*X$2","v":0.23969072164948454},0.24715909090909091,0,"-","-","-","-",7.7060787366130881E-2,"-","-","-","-","-","-",0.84562368709597857,0.29333333333333339,0.28341176470588236,0.26887858905676282,"-","-","-","-"]
["Войтюк Юлия","ОКР","-","-",0.49117920148560823,"-","-",0.38942395890662262,0.24820195627157651,"-","-","-","-","-","-",0.14122200263504611,"-","-","-","-","-","-",0.553639413136639,{"$f":"(X12/MAX(X$6:X$41))*X$2","v":0.18298969072164947},0.24431818181818182,0,"-","-","-","-",0.12633154059680776,"-","-","-","-","-","-",0.82623136381501383,0.33,0.21741176470588239,0.2788195991091314,"-","-","-","-"]
["Гудкова Людмила","ОКР (КЦ)","-","-",0.60600433302383161,"-","-",0.66311227297743536,0.36827531645569622,"-","-","-","-","-","-",0.29483695652173914,"-","-","-","-","-","-",0.61889728818045886,{"$f":"(X13/MAX(X$6:X$41))*X$2","v":0.22680412371134021},0.23579545454545453,0,"-","-","-","-",0.15629770992366412,"-","-","-","-","-","-",0.85997143980086466,0.33,0.20188235294117648,0.32808908685968818,"-","-","-","-"]
["Гулиев Рагим","ЗГД","-","-",0.4415041782729805,"-","-",0.23932500569814824,0.11986958189489835,"-","-","-","-","-","-",0.11945542380324989,"-","-","-","-","-","-",0.42612438026284727,{"$f":"(X14/MAX(X$6:X$41))*X$2","v":0.19587628865979381},0.15340909090909091,0,"-","-","-","-",7.6839000693962517E-2,"-","-","-","-","-","-",0.77194009719700807,0.17333333333333337,0.31447058823529417,0.28413617562838056,"-","-","-","-"]
["Завьялов Василий","ЗГД","-","-",0.82714329928814612,"-","-",0.45509351377540702,0.24430988315481988,"-","-","-","-","-","-",0.21078363062058714,"-","-","-","-","-","-",0.64314850727817785,{"$f":"(X15/MAX(X$6:X$41))*X$2","v":0.25},0.25,0,"-","-","-","-",0.14314850727817782,"-","-","-","-","-","-",0.80517647058823538,0.25,0.22517647058823531,0.33,"-","-","-","-"]
["Коваленко Тамара","ОКР","-","-",0,"-","-",0,0,"-","-","-","-","-","-",0,"-","-","-","-","-","-",0,{"$f":"(X16/MAX(X$6:X$41))*X$2","v":0},0,0,"-","-","-","-",0,"-","-","-","-","-","-",0,0,0,0,"-","-","-","-"]
["Колесников Сергей","ОКР","-","-",0,"-","-",0,0,"-","-","-","-","-","-",0,"-","-","-","-","-","-",0,{"$f":"(X17/MAX(X$6:X$41))*X$2","v":0},0,0,"-","-","-","-",0,"-","-","-","-","-","-",0,0,0,0,"-","-","-","-"]
["Коробейников Павел","ЗГД","-","-",0,"-","-",0,0,"-","-","-","-","-","-",0,"-","-","-","-","-","-",0,{"$f":"(X18/MAX(X$6:X$41))*X$2","v":0},0,0,"-","-","-","-",0,"-","-","-","-","-","-",0,0,0,0,"-","-","-","-"]
["Марченко Лариса","ОКР","-","-",0,"-","-",0,0,"-","-","-","-","-","-",0,"-","-","-","-","-","-",0,{"$f":"(X19/MAX(X$6:X$41))*X$2","v":0},0,0,"-","-","-","-",0,"-","-","-","-","-","-",0,0,0,0,"-","-","-","-"]
["Мелёхин Денис","ОКР (КЦ)","-","-",0,"-","-",0,0,"-","-","-","-","-","-",0,"-","-","-","-","-","-",0,{"$f":"(X20/MAX(X$6:X$41))*X$2","v":0},0,0,"-","-","-","-",0,"-","-","-","-","-","-",0,0,0,0,"-","-","-","-"]
["Миняева Ирина","ОКР (КЦ)","-","-",0,"-","-",0,0,"-","-","-","-","-","-",0,"-","-","-","-","-","-",0,{"$f":"(X21/MAX(X$6:X$41))*X$2","v":0},0,0,"-","-","-","-",0,"-","-","-","-","-","-",0,0,0,0,"-","-","-","-"]
["Мирсаитов Дмитрий","ЗГД","-","-",0,"-","-",0,0,"-","-","-","-","-","-",0,"-","-","-","-","-","-",0,{"$f":"(X22/MAX(X$6:X$41))*X$2","v":0},0,0,"-","-","-","-",0,"-","-","-","-","-","-",0,0,0,0,"-","-","-","-"]
["Навальнева Евгения","ЗГД","-","-",0,"-","-",0,0,"-","-","-","-","-","-",0,"-","-","-","-","-","-",0,{"$f":"(X23/MAX(X$6:X$41))*X$2","v":0},{"$f":"(Y23/MAX(Y$6:Y$41))*Y$2","v":0},0,"-","-","-","-",0,"-","-","-","-","-","-",0,{"$f":"(AM23/MAX(AM$6:AM$41))*AM$2","v":0},0,0,"-","-","-","-"]
["Османов Руслан","ЗГД","-","-",0,"-","-",0,0,"-","-","-","-","-","-",0,"-","-","-","-","-","-",0,{"$f":"(X24/MAX(X$6:X$41))*X$2","v":0},0,0,"-","-","-","-",0,"-","-","-","-","-","-",0,0,0,0,"-","-","-","-"]
["Приймак Андрей","ЗГД","-","-",0,"-","-",0,0,"-","-","-","-","-","-",0,"-","-","-","-","-","-",0,{"$f":"(X25/MAX(X$6:X$41))*X$2","v":0},0,0,"-","-","-","-",0,"-","-","-","-","-","-",0,0,0,0,"-","-","-","-"]
["Проскуряков Алексей","ОКР","-","-",0,"-","-",0,0,"-","-","-","-","-","-",0,"-","-","-","-","-","-",0,{"$f":"(X26/MAX(X$6:X$41))*X$2","v":0},0,0,"-","-","-","-",0,"-","-","-","-","-","-",0,0,0,0,"-","-","-","-"]
["Савченко Яна","ОКР (КЦ)","-","-",0,"-","-",0,0,"-","-","-","-","-","-",0,"-","-","-","-","-","-",0,{"$f":"(X27/MAX(X$6:X$41))*X$2","v":0},0,0,"-","-","-","-",0,"-","-","-","-","-","-",0,0,0,0,"-","-","-","-"]
["Сафиуллин Наиль","ОКР (КЦ)","-","-",0,"-","-",0,0,"-","-","-","-","-","-",0,"-","-","-","-","-","-",0,{"$f":"(X28/MAX(X$6:X$41))*X$2","v":0},0,0,"-","-","-","-",0,"-","-","-","-","-","-",0,0,0,0,"-","-","-","-"]
["Сметанин Павел","ОКР","-","-",0,"-","-",0,0,"-","-","-","-","-","-",0,"-","-","-","-","-","-",0,{"$f":"(X29/MAX(X$6:X$41))*X$2","v":0},0,0,"-","-","-","-",0,"-","-","-","-","-","-",0,0,0,0,"-","-","-","-"]
["Степин Константин","ОКР (КЦ)","-","-",0,"-","-",0,0,"-","-","-","-","-","-",0,"-","-","-","-","-","-",0,{"$f":"(X30/MAX(X$6:X$41))*X$2","v":0},0,0,"-","-","-","-",0,"-","-","-","-","-","-",0,0,0,0,"-","-","-","-"]
["Титов Александр","ЗГД","-","-",0,"-","-",0,0,"-","-","-","-","-","-",0,"-","-","-","-","-","-",0,{"$f":"(X31/MAX(X$6:X$41))*X$2","v":0},0,0,"-","-","-","-",0,"-","-","-","-","-","-",0,0,0,0,"-","-","-","-"]
["Фирсов Владимир","ОКР","-","-",0,"-","-",0,0,"-","-","-","-","-","-",0,"-","-","-","-","-","-",0,{"$f":"(X32/MAX(X$6:X$41))*X$2","v":0},0,0,"-","-","-","-",0,"-","-","-","-","-","-",0,0,0,0,"-","-","-","-"]
["Чунц Илья","ЗГД","-","-",0,"-","-",0,0,"-","-","-","-","-","-",0,"-","-","-","-","-","-",0,{"$f":"(X33/MAX(X$6:X$41))*X$2","v":0},0,0,"-","-","-","-",0,"-","-","-","-","-","-",0,0,0,0,"-","-","-","-"]
["Шепляков Алексей","ЗГД","-","-",0,"-","-",0,0,"-","-","-","-","-","-",0,"-","-","-","-","-","-",0,{"$f":"(X34/MAX(X$6:X$41))*X$2","v":0},0,0,"-","-","-","-",0,"-","-","-","-","-","-",0,0,0,0,"-","-","-","-"]
["Шестаков Антон","ЗГД","-","-",0,"-","-",0,0,"-","-","-","-","-","-",0,"-","-","-","-","-","-",0,{"$f":"(X35/MAX(X$6:X$41))*X$2","v":0},0,0,"-","-","-","-",0,"-","-","-","-","-","-",0,0,0,0,"-","-","-","-"]
["Ялымов Денис","ОКР","-","-",0,"-","-",0,0,"-","-","-","-","-","-",0,"-","-","-","-","-","-",0,{"$f":"(X36/MAX(X$6:X$41))*X$2","v":0},0,0,"-","-","-","-",0,"-","-","-","-","-","-",0,0,0,0,"-","-","-","-"]
["Винокурова Елена","КЦ","-","-",0,"-","-",0,0,"-","-","-","-","-","-",0,"-","-","-","-","-","-",0,{"$f":"(X37/MAX(X$6:X$41))*X$2","v":0},0,0,"-","-","-","-",0,"-","-","-","-","-","-",0,0,0,0,"-","-","-","-"]
["Горбунова Татьяна","КЦ","-","-",0,"-","-",0,0,"-","-","-","-","-","-",0,"-","-","-","-","-","-",0,{"$f":"(X38/MAX(X$6:X$41))*X$2","v":0},0,0,"-","-","-","-",0,"-","-","-","-","-","-",0,0,0,0,"-","-","-","-"]
["Давыденков Евгений","КЦ","-","-",0,"-","-",0,0,"-","-","-","-","-","-",0,"-","-","-","-","-","-",0,{"$f":"(X39/MAX(X$6:X$41))*X$2","v":0},{"$f":"(Y39/MAX(Y$6:Y$41))*Y$2","v":0},0,"-","-","-","-",0,"-","-","-","-","-","-",0,{"$f":"(AM39/MAX(AM$6:AM$41))*AM$2","v":0},0,0,"-","-","-","-"]
["Журавлев Сергей","КЦ","-","-",0,"-","-",0,0,"-","-","-","-","-","-",0,"-","-","-","-","-","-",0,{"$f":"(X40/MAX(X$6:X$41))*X$2","v":0},0,0,"-","-","-","-",0,"-","-","-","-","-","-",0,0,0,0,"-","-","-","-"]
["Ульданов Динар","КЦ","-","-",0,"-","-",0,0,"-","-","-","-","-","-",0,"-","-","-","-","-","-",0,{"$f":"(X41/MAX(X$6:X$41))*X$2","v":0},0,0,"-","-","-","-",0,"-","-","-","-","-","-",0,0,0,0,"-","-","-","-"]
[1,2,3,4,5,6,7,8,9,10,11,12,13,14,15,16,20,21,22,20,21,22,23,{"$f":"MAX('Сбор показателей I кв'!Y123,'Сбор показателей II кв'!Y123,'Сбор показателей III кв'!Y123,'Сбор показателей IV кв'!Y123)","v":24},25,26,27,28,29,30,31,32,33,34,35,36,37,38,39,40,41,42,43,44,45]
["РАСПРЕДЕЛЕНИЕ МЕСТ",null,null,"ИНТЕГРАЛЬНЫЙ РЕЙТИНГ","РЕЗУЛЬТАТИВНОСТЬ",null,null,"ПРОАКТИВНОСТЬ",null,null,null,null,null,null,null,null,0,0,0,null,null,null,"ПРОФЕССИОНАЛЬНОЕ РАЗВИТИЕ",{"$f":"MAX('Сбор показателей I кв'!Y124,'Сбор показателей II кв'!Y124,'Сбор показателей III кв'!Y124,'Сбор показателей IV кв'!Y124)","v":0},null,null,null,null,null,null,null,null,null,null,null,null,null,"ЭФФЕКТИВНОЕ ВЗАИМОДЕЙСТВИЕ"]
["Василий Леонтьев","ОКР","-",{"$f":"_xlfn.RANK.AVG(D44,D$44:D$74)","v":10},{"$f":"_xlfn.RANK.AVG(E82,E$82:E$112)","v":3},"-","-",{"$f":"_xlfn.RANK.AVG(H82,H$82:H$112)","v":9},"-","-","-","-","-","-","-","-","-","-","-","-","-","-",{"$f":"_xlfn.RANK.AVG(W82,W$82:W$112)","v":7},{"$f":"MAX('Сбор показателей I кв'!Y125,'Сбор показателей II кв'!Y125,'Сбор показателей III кв'!Y125,'Сбор показателей IV кв'!Y125)","v":0},"-","-","-","-","-","-","-","-","-","-","-","-","-",{"$f":"_xlfn.RANK.AVG(AL82,AL$82:AL$112)","v":10},"-","-","-","-","-","-","-"]
["Гуннар Мюрдаль","ОКР","-",{"$f":"_xlfn.RANK.AVG(D45,D$44:D$74)","v":9},{"$f":"_xlfn.RANK.AVG(E83,E$82:E$112)","v":2},"-","-",{"$f":"_xlfn.RANK.AVG(H83,H$82:H$112)","v":8},"-","-","-","-","-","-","-","-","-","-","-","-","-","-",{"$f":"_xlfn.RANK.AVG(W83,W$82:W$112)","v":8},{"$f":"MAX('Сбор показателей I кв'!Y126,'Сбор показателей II кв'!Y126,'Сбор показателей III кв'!Y126,'Сбор показателей IV кв'!Y126)","v":0},"-","-","-","-","-","-","-","-","-","-","-","-","-",{"$f":"_xlfn.RANK.AVG(AL83,AL$82:AL$112)","v":9},"-","-","-","-","-","-","-"]
["Джон Ричард Хикс","ОКР","-",5,10,"-","-",1,"-","-","-","-","-","-","-","-","-","-","-","-","-","-",10,{"$f":"MAX('Сбор показателей I кв'!Y127,'Сбор показателей II кв'!Y127,'Сбор показателей III кв'!Y127,'Сбор показателей IV кв'!Y127)","v":0},"-","-","-","-","-","-","-","-","-","-","-","-","-",7,"-","-","-","-","-","-","-"]
["Кеннет Эрроу","ОКР","-",6,5,"-","-",6,"-","-","-","-","-","-","-","-","-","-","-","-","-","-",6,{"$f":"MAX('Сбор показателей I кв'!Y128,'Сбор показателей II кв'!Y128,'Сбор показателей III кв'!Y128,'Сбор показателей IV кв'!Y128)","v":0},"-","-","-","-","-","-","-","-","-","-","-","-","-",4,"-","-","-","-","-","-","-"]
["Кэрол Грейдер","ОКР","-",7,9,"-","-",5,"-","-","-","-","-","-","-","-","-","-","-","-","-","-",1,{"$f":"MAX('Сбор показателей I кв'!Y129,'Сбор показателей II кв'!Y129,'Сбор показателей III кв'!Y129,'Сбор показателей IV кв'!Y129)","v":0},"-","-","-","-","-","-","-","-","-","-","-","-","-",8,"-","-","-","-","-","-","-"]
["Линда Бак","ЗГД","-",3,1,"-","-",10,"-","-","-","-","-","-","-","-","-","-","-","-","-","-",4,{"$f":"MAX('Сбор показателей I кв'!Y130,'Сбор показателей II кв'!Y130,'Сбор показателей III кв'!Y130,'Сбор показателей IV кв'!Y130)","v":0},"-","-","-","-","-","-","-","-","-","-","-","-","-",2,"-","-","-","-","-","-","-"]
["Мэй-Брит Мозер","ОКР","-",4,7,"-","-",4,"-","-","-","-","-","-","-","-","-","-","-","-","-","-",5,{"$f":"MAX('Сбор показателей I кв'!Y131,'Сбор показателей II кв'!Y131,'Сбор показателей III кв'!Y131,'Сбор показателей IV кв'!Y131)","v":0},"-","-","-","-","-","-","-","-","-","-","-","-","-",3,"-","-","-","-","-","-","-"]
["Саймон Кузнец","ОКР (КЦ)","-",1,6,"-","-",2,"-","-","-","-","-","-","-","-","-","-","-","-","-","-",3,{"$f":"MAX('Сбор показателей I кв'!Y132,'Сбор показателей II кв'!Y132,'Сбор показателей III кв'!Y132,'Сбор показателей IV кв'!Y132)","v":0},"-","-","-","-","-","-","-","-","-","-","-","-","-",1,"-","-","-","-","-","-","-"]
["Светлана Алексеевич","ЗГД","-",8,8,"-","-",7,"-","-","-","-","-","-","-","-","-","-","-","-","-","-",9,{"$f":"MAX('Сбор показателей I кв'!Y133,'Сбор показателей II кв'!Y133,'Сбор показателей III кв'!Y133,'Сбор показателей IV кв'!Y133)","v":0},"-","-","-","-","-","-","-","-","-","-","-","-","-",6,"-","-","-","-","-","-","-"]
["Эстер Дюфло","ЗГД","-",2,4,"-","-",3,"-","-","-","-","-","-","-","-","-","-","-","-","-","-",2,{"$f":"MAX('Сбор показателей I кв'!Y134,'Сбор показателей II кв'!Y134,'Сбор показателей III кв'!Y134,'Сбор показателей IV кв'!Y134)","v":0},"-","-","-","-","-","-","-","-","-","-","-","-","-",5,"-","-","-","-","-","-","-"]
["Коваленко Тамара","ОКР","-",21,21,"-","-",21,"-","-","-","-","-","-","-","-","-","-","-","-","-","-",21,{"$f":"MAX('Сбор показателей I кв'!Y135,'Сбор показателей II кв'!Y135,'Сбор показателей III кв'!Y135,'Сбор показателей IV кв'!Y135)","v":0},"-","-","-","-","-","-","-","-","-","-","-","-","-",21,"-","-","-","-","-","-","-"]
["Колесников Сергей","ОКР","-",21,21,"-","-",21,"-","-","-","-","-","-","-","-","-","-","-","-","-","-",21,{"$f":"MAX('Сбор показателей I кв'!Y136,'Сбор показателей II кв'!Y136,'Сбор показателей III кв'!Y136,'Сбор показателей IV кв'!Y136)","v":0},"-","-","-","-","-","-","-","-","-","-","-","-","-",21,"-","-","-","-","-","-","-"]
["Коробейников Павел","ЗГД","-",21,21,"-","-",21,"-","-","-","-","-","-","-","-","-","-","-","-","-","-",21,{"$f":"MAX('Сбор показателей I кв'!Y137,'Сбор показателей II кв'!Y137,'Сбор показателей III кв'!Y137,'Сбор показателей IV кв'!Y137)","v":0},"-","-","-","-","-","-","-","-","-","-","-","-","-",21,"-","-","-","-","-","-","-"]
["Марченко Лариса","ОКР","-",21,21,"-","-",21,"-","-","-","-","-","-","-","-","-","-","-","-","-","-",21,{"$f":"MAX('Сбор показателей I кв'!Y138,'Сбор показателей II кв'!Y138,'Сбор показателей III кв'!Y138,'Сбор показателей IV кв'!Y138)","v":0},"-","-","-","-","-","-","-","-","-","-","-","-","-",21,"-","-","-","-","-","-","-"]
["Мелёхин Денис","ОКР (КЦ)","-",21,21,"-","-",21,"-","-","-","-","-","-","-","-","-","-","-","-","-","-",21,{"$f":"MAX('Сбор показателей I кв'!Y139,'Сбор показателей II кв'!Y139,'Сбор показателей III кв'!Y139,'Сбор показателей IV кв'!Y139)","v":0},"-","-","-","-","-","-","-","-","-","-","-","-","-",21,"-","-","-","-","-","-","-"]
["Миняева Ирина","ОКР (КЦ)","-",21,21,"-","-",21,"-","-","-","-","-","-","-","-",{"$f":"T135","v":"-"},{"$f":"U135","v":"-"},{"$f":"V135","v":"-"},"-","-","-",21,{"$f":"MAX('Сбор показателей I кв'!Y140,'Сбор показателей II кв'!Y140,'Сбор показателей III кв'!Y140,'Сбор показателей IV кв'!Y140)","v":0},"-","-","-","-","-","-","-","-","-","-","-","-","-",21,"-","-","-","-","-","-","-"]
["Мирсаитов Дмитрий","ЗГД","-",21,21,"-","-",21,"-","-","-","-","-","-","-","-","-","-","-","-","-","-",21,{"$f":"MAX('Сбор показателей I кв'!Y141,'Сбор показателей II кв'!Y141,'Сбор показателей III кв'!Y141,'Сбор показателей IV кв'!Y141)","v":0},"-","-","-","-","-","-","-","-","-","-","-","-","-",21,"-","-","-","-","-","-","-"]
["Навальнева Евгения","ЗГД","-",21,21,"-","-",21,"-","-","-","-","-","-","-","-","-","-","-","-","-","-",21,{"$f":"MAX('Сбор показателей I кв'!Y142,'Сбор показателей II кв'!Y142,'Сбор показателей III кв'!Y142,'Сбор показателей IV кв'!Y142)","v":0},"-","-","-","-","-","-","-","-","-","-","-","-","-",21,"-","-","-","-","-","-","-"]
["Османов Руслан","ЗГД","-",21,21,"-","-",21,"-","-","-","-","-","-","-","-","-","-","-","-","-","-",21,{"$f":"MAX('Сбор показателей I кв'!Y143,'Сбор показателей II кв'!Y143,'Сбор показателей III кв'!Y143,'Сбор показателей IV кв'!Y143)","v":0},"-","-","-","-","-","-","-","-","-","-","-","-","-",21,"-","-","-","-","-","-","-"]
["Приймак Андрей","ЗГД","-",21,21,"-","-",21,"-","-","-","-","-","-","-","-","-","-","-","-","-","-",21,{"$f":"MAX('Сбор показателей I кв'!Y144,'Сбор показателей II кв'!Y144,'Сбор показателей III кв'!Y144,'Сбор показателей IV кв'!Y144)","v":0},"-","-","-","-","-","-","-","-","-","-","-","-","-",21,"-","-","-","-","-","-","-"]
["Проскуряков Алексей","ОКР","-",21,21,"-","-",21,"-","-","-","-","-","-","-","-","-","-","-","-","-","-",21,{"$f":"MAX('Сбор показателей I кв'!Y145,'Сбор показателей II кв'!Y145,'Сбор показателей III кв'!Y145,'Сбор показателей IV кв'!Y145)","v":0},"-","-","-","-","-","-","-","-","-","-","-","-","-",21,"-","-","-","-","-","-","-"]
["Савченко Яна","ОКР (КЦ)","-",21,21,"-","-",21,"-","-","-","-","-","-","-","-","-","-","-","-","-","-",21,{"$f":"MAX('Сбор показателей I кв'!Y146,'Сбор показателей II кв'!Y146,'Сбор показателей III кв'!Y146,'Сбор показателей IV кв'!Y146)","v":0},"-","-","-","-","-","-","-","-","-","-","-","-","-",21,"-","-","-","-","-","-","-"]
["Сафиуллин Наиль","ОКР (КЦ)","-",21,21,"-","-",21,"-","-","-","-","-","-","-","-","-","-","-","-","-","-",21,{"$f":"MAX('Сбор показателей I кв'!Y147,'Сбор показателей II кв'!Y147,'Сбор показателей III кв'!Y147,'Сбор показателей IV кв'!Y147)","v":0},"-","-","-","-","-","-","-","-","-","-","-","-","-",21,"-","-","-","-","-","-","-"]
["Сметанин Павел","ОКР","-",21,21,"-","-",21,"-","-","-","-","-","-","-","-","-","-","-","-","-","-",21,{"$f":"MAX('Сбор показателей I кв'!Y148,'Сбор показателей II кв'!Y148,'Сбор показателей III кв'!Y148,'Сбор показателей IV кв'!Y148)","v":0},"-","-","-","-","-","-","-","-","-","-","-","-","-",21,"-","-","-","-","-","-","-"]
["Степин Константин","ОКР (КЦ)","-",21,21,"-","-",21,"-","-","-","-","-","-","-","-","-","-","-","-","-","-",21,{"$f":"MAX('Сбор показателей I кв'!Y149,'Сбор показателей II кв'!Y149,'Сбор показателей III кв'!Y149,'Сбор показателей IV кв'!Y149)","v":0},"-","-","-","-","-","-","-","-","-","-","-","-","-",21,"-","-","-","-","-","-","-"]
["Титов Александр","ЗГД","-",21,21,"-","-",21,"-","-","-","-","-","-","-","-","-","-","-","-","-","-",21,{"$f":"MAX('Сбор показателей I кв'!Y150,'Сбор показателей II кв'!Y150,'Сбор показателей III кв'!Y150,'Сбор показателей IV кв'!Y150)","v":0},"-","-","-","-","-","-","-","-","-","-","-","-","-",21,"-","-","-","-","-","-","-"]
["Фирсов Владимир","ОКР","-",21,21,"-","-",21,"-","-","-","-","-","-","-","-","-","-","-","-","-","-",21,{"$f":"MAX('Сбор показателей I кв'!Y151,'Сбор показателей II кв'!Y151,'Сбор показателей III кв'!Y151,'Сбор показателей IV кв'!Y151)","v":0},"-","-","-","-","-","-","-","-","-","-","-","-","-",21,"-","-","-","-","-","-","-"]
["Чунц Илья","ЗГД","-",21,21,"-","-",21,"-","-","-","-","-","-","-","-","-","-","-","-","-","-",21,{"$f":"MAX('Сбор показателей I кв'!Y152,'Сбор показателей II кв'!Y152,'Сбор показателей III кв'!Y152,'Сбор показателей IV кв'!Y152)","v":0},"-","-","-","-","-","-","-","-","-","-","-","-","-",21,"-","-","-","-","-","-","-"]
["Шепляков Алексей","ЗГД","-",21,21,"-","-",21,"-","-","-","-","-","-","-","-","-","-","-","-","-","-",21,{"$f":"MAX('Сбор показателей I кв'!Y153,'Сбор показателей II кв'!Y153,'Сбор показателей III кв'!Y153,'Сбор показателей IV кв'!Y153)","v":0},"-","-","-","-","-","-","-","-","-","-","-","-","-",21,"-","-","-","-","-","-","-"]
["Шестаков Антон","ЗГД","-",21,21,"-","-",21,"-","-","-","-","-","-","-","-","-","-","-","-","-","-",21,{"$f":"MAX('Сбор показателей I кв'!Y154,'Сбор показателей II кв'!Y154,'Сбор показателей III кв'!Y154,'Сбор показателей IV кв'!Y154)","v":0},"-","-","-","-","-","-","-","-","-","-","-","-","-",21,"-","-","-","-","-","-","-"]
["Ялымов Денис","ОКР","-",21,21,"-","-",21,"-","-","-","-","-","-","-","-","-","-","-","-","-","-",21,{"$f":"MAX('Сбор показателей I кв'!Y155,'Сбор показателей II кв'!Y155,'Сбор показателей III кв'!Y155,'Сбор показателей IV кв'!Y155)","v":0},"-","-","-","-","-","-","-","-","-","-","-","-","-",21,"-","-","-","-","-","-","-"]
["Винокурова Елена","КЦ","-",{"$f":"_xlfn.RANK.AVG(D75,D$75:D$79)","v":3},{"$f":"_xlfn.RANK.AVG(E113,E$113:E$117)","v":3},"-","-",{"$f":"_xlfn.RANK.AVG(H113,H$113:H$117)","v":3},"-","-","-","-","-","-","-","-","-","-","-","-","-","-",{"$f":"_xlfn.RANK.AVG(W113,W$113:W$117)","v":3},{"$f":"MAX('Сбор показателей I кв'!Y156,'Сбор показателей II кв'!Y156,'Сбор показателей III кв'!Y156,'Сбор показателей IV кв'!Y156)","v":0},"-","-","-","-","-","-","-","-","-","-","-","-","-",{"$f":"_xlfn.RANK.AVG(AL113,AL$113:AL$117)","v":3},"-","-","-","-","-","-","-"]
["Горбунова Татьяна","КЦ","-",{"$f":"_xlfn.RANK.AVG(D76,D$75:D$79)","v":3},{"$f":"_xlfn.RANK.AVG(E114,E$113:E$117)","v":3},"-","-",{"$f":"_xlfn.RANK.AVG(H114,H$113:H$117)","v":3},"-","-","-","-","-","-","-","-","-","-","-","-","-","-",{"$f":"_xlfn.RANK.AVG(W114,W$113:W$117)","v":3},{"$f":"MAX('Сбор показателей I кв'!Y157,'Сбор показателей II кв'!Y157,'Сбор показателей III кв'!Y157,'Сбор показателей IV кв'!Y157)","v":0},"-","-","-","-","-","-","-","-","-","-","-","-","-",{"$f":"_xlfn.RANK.AVG(AL114,AL$113:AL$117)","v":3},"-","-","-","-","-","-","-"]
["Давыденков Евгений","КЦ","-",3,3,"-","-",3,"-","-","-","-","-","-","-","-","-","-","-","-","-","-",3,{"$f":"MAX('Сбор показателей I кв'!Y158,'Сбор показателей II кв'!Y158,'Сбор показателей III кв'!Y158,'Сбор показателей IV кв'!Y158)","v":0},"-","-","-","-","-","-","-","-","-","-","-","-","-",3,"-","-","-","-","-","-","-"]
["Журавлев Сергей","КЦ","-",3,3,"-","-",3,"-","-","-","-","-","-","-","-","-","-","-","-","-","-",3,{"$f":"MAX('Сбор показателей I кв'!Y159,'Сбор показателей II кв'!Y159,'Сбор показателей III кв'!Y159,'Сбор показателей IV кв'!Y159)","v":0},"-","-","-","-","-","-","-","-","-","-","-","-","-",3,"-","-","-","-","-","-","-"]
["Ульданов Динар","КЦ","-",3,3,"-","-",3,"-","-","-","-","-","-","-","-","-","-","-","-","-","-",3,{"$f":"MAX('Сбор показателей I кв'!Y160,'Сбор показателей II кв'!Y160,'Сбор показателей III кв'!Y160,'Сбор показателей IV кв'!Y160)","v":0},"-","-","-","-","-","-","-","-","-","-","-","-","-",3,"-","-","-","-","-","-","-"]
[null,null,null,null,null,null,null,null,null,null,null,null,null,null,null,null,0,0,0,null,null,null,null,{"$f":"MAX('Сбор показателей I кв'!Y161,'Сбор показателей II кв'!Y161,'Сбор показателей III кв'!Y161,'Сбор показателей IV кв'!Y161)","v":0}]
[null,null,null,null,null,null,null,null,null,null,null,null,null,null,null,null,0,0,0,null,null,null,null,{"$f":"MAX('Сбор показателей I кв'!Y162,'Сбор показателей II кв'!Y162,'Сбор показателей III кв'!Y162,'Сбор показателей IV кв'!Y162)","v":0}]
[null,null,null,null,null,null,null,null,null,null,null,null,null,null,null,null,0,0,0,null,null,null,null,{"$f":"MAX('Сбор показателей I кв'!Y163,'Сбор показателей II кв'!Y163,'Сбор показателей III кв'!Y163,'Сбор показателей IV кв'!Y163)","v":0}]
[null,null,null,null,null,null,null,null,null,null,null,null,null,null,null,null,0,0,0,null,null,null,null,{"$f":"MAX('Сбор показателей I кв'!Y164,'Сбор показателей II кв'!Y164,'Сбор показателей III кв'!Y164,'Сбор показателей IV кв'!Y164)","v":0}]
[null,null,null,null,null,null,null,null,null,null,null,null,null,null,null,null,0,0,0,null,null,null,null,{"$f":"MAX('Сбор показателей I кв'!Y165,'Сбор показателей II кв'!Y165,'Сбор показателей III кв'!Y165,'Сбор показателей IV кв'!Y165)","v":0}]
[null,null,null,null,null,null,null,null,null,null,null,null,null,null,null,null,0,0,0,null,null,null,null,{"$f":"MAX('Сбор показателей I кв'!Y166,'Сбор показателей II кв'!Y166,'Сбор показателей III кв'!Y166,'Сбор показателей IV кв'!Y166)","v":0}]
[null,null,null,null,null,null,null,null,null,null,null,null,null,null,null,null,0,0,0,null,null,null,null,{"$f":"MAX('Сбор показателей I кв'!Y167,'Сбор показателей II кв'!Y167,'Сбор показателей III кв'!Y167,'Сбор показателей IV кв'!Y167)","v":0}]
[null,null,null,null,null,null,null,null,null,null,null,null,null,null,null,null,0,0,0,null,null,null,null,{"$f":"MAX('Сбор показателей I кв'!Y168,'Сбор показателей II кв'!Y168,'Сбор показателей III кв'!Y168,'Сбор показателей IV кв'!Y168)","v":0}]
[null,null,null,null,null,null,null,null,null,null,null,null,null,null,null,null,0,0,0,null,null,null,null,{"$f":"MAX('Сбор показателей I кв'!Y169,'Сбор показателей II кв'!Y169,'Сбор показателей III кв'!Y169,'Сбор показателей IV кв'!Y169)","v":0}]
[null,null,null,null,null,null,null,null,null,null,null,null,null,null,null,null,0,0,0,null,null,null,null,{"$f":"MAX('Сбор показателей I кв'!Y170,'Сбор показателей II кв'!Y170,'Сбор показателей III кв'!Y170,'Сбор показателей IV кв'!Y170)","v":0}]
[null,null,null,null,null,null,null,null,null,null,null,null,null,null,null,null,0,0,0,null,null,null,null,{"$f":"MAX('Сбор показателей I кв'!Y171,'Сбор показателей II кв'!Y171,'Сбор показателей III кв'!Y171,'Сбор показателей IV кв'!Y171)","v":0}]
[null,null,null,null,null,null,null,null,null,null,null,null,null,null,null,null,0,0,0,null,null,null,null,{"$f":"MAX('Сбор показателей I кв'!Y172,'Сбор показателей II кв'!Y172,'Сбор показателей III кв'!Y172,'Сбор показателей IV кв'!Y172)","v":0}]
[null,null,null,null,null,null,null,null,null,null,null,null,null,null,null,null,0,0,0,null,null,null,null,{"$f":"MAX('Сбор показателей I кв'!Y173,'Сбор показателей II кв'!Y173,'Сбор показателей III кв'!Y173,'Сбор показателей IV кв'!Y173)","v":0}]
[null,null,null,null,null,null,null,null,null,null,null,null,null,null,null,null,0,0,0,null,null,null,null,{"$f":"MAX('Сбор показателей I кв'!Y174,'Сбор показателей II кв'!Y174,'Сбор показателей III кв'!Y174,'Сбор показателей IV кв'!Y174)","v":0}]
[null,null,null,null,null,null,null,null,null,null,null,null,null,null,null,null,0,0,0,null,null,null,null,{"$f":"MAX('Сбор показателей I кв'!Y175,'Сбор показателей II кв'!Y175,'Сбор показателей III кв'!Y175,'Сбор показателей IV кв'!Y175)","v":0}]
[null,null,null,null,null,null,null,null,null,null,null,null,null,null,null,null,0,0,0,null,null,null,null,{"$f":"MAX('Сбор показателей I кв'!Y176,'Сбор показателей II кв'!Y176,'Сбор показателей III кв'!Y176,'Сбор показателей IV кв'!Y176)","v":0}]
[null,null,null,null,null,null,null,null,null,null,null,null,null,null,null,null,0,0,0,null,null,null,null,{"$f":"MAX('Сбор показателей I кв'!Y177,'Сбор показателей II кв'!Y177,'Сбор показателей III кв'!Y177,'Сбор показателей IV кв'!Y177)","v":0}]
[null,null,null,null,null,null,null,null,null,null,null,null,null,null,null,null,0,0,0,null,null,null,null,{"$f":"MAX('Сбор показателей I кв'!Y178,'Сбор показателей II кв'!Y178,'Сбор показателей III кв'!Y178,'Сбор показателей IV кв'!Y178)","v":0}]
[null,null,null,null,null,null,null,null,null,null,null,null,null,null,null,null,0,0,0,null,null,null,null,{"$f":"MAX('Сбор показателей I кв'!Y179,'Сбор показателей II кв'!Y179,'Сбор показателей III кв'!Y179,'Сбор показателей IV кв'!Y179)","v":0}]
[null,null,null,null,null,null,null,null,null,null,null,null,null,null,null,null,0,0,0,null,null,null,null,{"$f":"MAX('Сбор показателей I кв'!Y180,'Сбор показателей II кв'!Y180,'Сбор показателей III кв'!Y180,'Сбор показателей IV кв'!Y180)","v":0}]
[null,null,null,null,null,null,null,null,null,null,null,null,null,null,null,null,0,0,0,null,null,null,null,{"$f":"MAX('Сбор показателей I кв'!Y181,'Сбор показателей II кв'!Y181,'Сбор показателей III кв'!Y181,'Сбор показателей IV кв'!Y181)","v":0}]
[null,null,null,null,null,null,null,null,null,null,null,null,null,null,null,null,0,0,0,null,null,null,null,{"$f":"MAX('Сбор показателей I кв'!Y182,'Сбор показателей II кв'!Y182,'Сбор показателей III кв'!Y182,'Сбор показателей IV кв'!Y182)","v":0}]
[null,null,null,null,null,null,null,null,null,null,null,null,null,null,null,null,0,0,0,null,null,null,null,{"$f":"MAX('Сбор показателей I кв'!Y183,'Сбор показателей II кв'!Y183,'Сбор показателей III кв'!Y183,'Сбор показателей IV кв'!Y183)","v":0}]
[null,null,null,null,null,null,null,null,null,null,null,null,null,null,null,null,0,0,0,null,null,null,null,{"$f":"MAX('Сбор показателей I кв'!Y184,'Сбор показателей II кв'!Y184,'Сбор показателей III кв'!Y184,'Сбор показателей IV кв'!Y184)","v":0}]

{"sheet":"ИНТЕГРАЛЬНЫЙ РЕЙТИНГ","index":12,"n_rows":37,"n_cols":8,"rows_kept":37,"cut":false,"hidden":true,"merged":[[4,1,4,2],[4,3,4,7]]}
[null,"К СОДЕРЖАНИЮ"]
[]
[null,"ИНТЕГРАЛЬНЫЙ РЕЙТИНГ"]
[]
[null,"УЧАСТНИК",null,"РАСПРЕДЕЛЕНИЕ МЕСТ"]
[null,"ФИО","ТИП",{"$f":"IF(H7=\"-\",\"ГОД (Кум.)\",\"ГОД\")","v":"ГОД (Кум.)"},"I КВАРТАЛ","II КВАРТАЛ","III КВАРТАЛ","IV КВАРТАЛ"]
[null,"Андреева Анна","ОКР",{"$f":"VLOOKUP(B7,'РЕЙТИНГ Тех'!$B$5:$AB$35,3,FALSE)","v":{"$error":"#N/A"}},{"$f":"IF('Сбор показателей I кв'!G11=\"\",\"-\",VLOOKUP($B7,'РЕЙТИНГ Тех'!$B$5:$AB$35,8,FALSE))","v":{"$error":"#N/A"}},{"$f":"IF('Сбор показателей II кв'!G11=\"\",\"-\",VLOOKUP(B7,'РЕЙТИНГ Тех'!$B$5:$AB$35,13,FALSE))","v":{"$error":"#N/A"}},{"$f":"IF('Сбор показателей III кв'!G11=\"\",\"-\",VLOOKUP(B7,'РЕЙТИНГ Тех'!$B$5:$AB$35,18,FALSE))","v":"-"},{"$f":"IF('Сбор показателей IV кв'!G11=\"\",\"-\",VLOOKUP(B7,'РЕЙТИНГ Тех'!$B$5:$AB$35,23,FALSE))","v":"-"}]
[null,"Анисимова Марина","ОКР",{"$f":"VLOOKUP(B8,'РЕЙТИНГ Тех'!$B$5:$AB$35,3,FALSE)","v":{"$error":"#N/A"}},{"$f":"IF('Сбор показателей I кв'!G12=\"\",\"-\",VLOOKUP($B8,'РЕЙТИНГ Тех'!$B$5:$AB$35,8,FALSE))","v":{"$error":"#N/A"}},{"$f":"IF('Сбор показателей II кв'!G12=\"\",\"-\",VLOOKUP(B8,'РЕЙТИНГ Тех'!$B$5:$AB$35,13,FALSE))","v":{"$error":"#N/A"}},{"$f":"IF('Сбор показателей III кв'!G12=\"\",\"-\",VLOOKUP(B8,'РЕЙТИНГ Тех'!$B$5:$AB$35,18,FALSE))","v":"-"},{"$f":"IF('Сбор показателей IV кв'!G12=\"\",\"-\",VLOOKUP(B8,'РЕЙТИНГ Тех'!$B$5:$AB$35,23,FALSE))","v":"-"}]
[null,"Билый Александр","ОКР",{"$f":"VLOOKUP(B9,'РЕЙТИНГ Тех'!$B$5:$AB$35,3,FALSE)","v":{"$error":"#N/A"}},{"$f":"IF('Сбор показателей I кв'!G13=\"\",\"-\",VLOOKUP($B9,'РЕЙТИНГ Тех'!$B$5:$AB$35,8,FALSE))","v":{"$error":"#N/A"}},{"$f":"IF('Сбор показателей II кв'!G13=\"\",\"-\",VLOOKUP(B9,'РЕЙТИНГ Тех'!$B$5:$AB$35,13,FALSE))","v":{"$error":"#N/A"}},{"$f":"IF('Сбор показателей III кв'!G13=\"\",\"-\",VLOOKUP(B9,'РЕЙТИНГ Тех'!$B$5:$AB$35,18,FALSE))","v":"-"},{"$f":"IF('Сбор показателей IV кв'!G13=\"\",\"-\",VLOOKUP(B9,'РЕЙТИНГ Тех'!$B$5:$AB$35,23,FALSE))","v":"-"}]
[null,"Бильвина Валерия","ОКР",{"$f":"VLOOKUP(B10,'РЕЙТИНГ Тех'!$B$5:$AB$35,3,FALSE)","v":{"$error":"#N/A"}},{"$f":"IF('Сбор показателей I кв'!G14=\"\",\"-\",VLOOKUP($B10,'РЕЙТИНГ Тех'!$B$5:$AB$35,8,FALSE))","v":{"$error":"#N/A"}},{"$f":"IF('Сбор показателей II кв'!G14=\"\",\"-\",VLOOKUP(B10,'РЕЙТИНГ Тех'!$B$5:$AB$35,13,FALSE))","v":{"$error":"#N/A"}},{"$f":"IF('Сбор показателей III кв'!G14=\"\",\"-\",VLOOKUP(B10,'РЕЙТИНГ Тех'!$B$5:$AB$35,18,FALSE))","v":"-"},{"$f":"IF('Сбор показателей IV кв'!G14=\"\",\"-\",VLOOKUP(B10,'РЕЙТИНГ Тех'!$B$5:$AB$35,23,FALSE))","v":"-"}]
[null,"Борисов Сергей","ОКР",{"$f":"VLOOKUP(B11,'РЕЙТИНГ Тех'!$B$5:$AB$35,3,FALSE)","v":{"$error":"#N/A"}},{"$f":"IF('Сбор показателей I кв'!G15=\"\",\"-\",VLOOKUP($B11,'РЕЙТИНГ Тех'!$B$5:$AB$35,8,FALSE))","v":{"$error":"#N/A"}},{"$f":"IF('Сбор показателей II кв'!G15=\"\",\"-\",VLOOKUP(B11,'РЕЙТИНГ Тех'!$B$5:$AB$35,13,FALSE))","v":{"$error":"#N/A"}},{"$f":"IF('Сбор показателей III кв'!G15=\"\",\"-\",VLOOKUP(B11,'РЕЙТИНГ Тех'!$B$5:$AB$35,18,FALSE))","v":"-"},{"$f":"IF('Сбор показателей IV кв'!G15=\"\",\"-\",VLOOKUP(B11,'РЕЙТИНГ Тех'!$B$5:$AB$35,23,FALSE))","v":"-"}]
[null,"Булковский Сергей","ЗГД",{"$f":"VLOOKUP(B12,'РЕЙТИНГ Тех'!$B$5:$AB$35,3,FALSE)","v":{"$error":"#N/A"}},{"$f":"IF('Сбор показателей I кв'!G16=\"\",\"-\",VLOOKUP($B12,'РЕЙТИНГ Тех'!$B$5:$AB$35,8,FALSE))","v":{"$error":"#N/A"}},{"$f":"IF('Сбор показателей II кв'!G16=\"\",\"-\",VLOOKUP(B12,'РЕЙТИНГ Тех'!$B$5:$AB$35,13,FALSE))","v":{"$error":"#N/A"}},{"$f":"IF('Сбор показателей III кв'!G16=\"\",\"-\",VLOOKUP(B12,'РЕЙТИНГ Тех'!$B$5:$AB$35,18,FALSE))","v":"-"},{"$f":"IF('Сбор показателей IV кв'!G16=\"\",\"-\",VLOOKUP(B12,'РЕЙТИНГ Тех'!$B$5:$AB$35,23,FALSE))","v":"-"}]
[null,"Войтюк Юлия","ОКР",{"$f":"VLOOKUP(B13,'РЕЙТИНГ Тех'!$B$5:$AB$35,3,FALSE)","v":{"$error":"#N/A"}},{"$f":"IF('Сбор показателей I кв'!G17=\"\",\"-\",VLOOKUP($B13,'РЕЙТИНГ Тех'!$B$5:$AB$35,8,FALSE))","v":{"$error":"#N/A"}},{"$f":"IF('Сбор показателей II кв'!G17=\"\",\"-\",VLOOKUP(B13,'РЕЙТИНГ Тех'!$B$5:$AB$35,13,FALSE))","v":{"$error":"#N/A"}},{"$f":"IF('Сбор показателей III кв'!G17=\"\",\"-\",VLOOKUP(B13,'РЕЙТИНГ Тех'!$B$5:$AB$35,18,FALSE))","v":"-"},{"$f":"IF('Сбор показателей IV кв'!G17=\"\",\"-\",VLOOKUP(B13,'РЕЙТИНГ Тех'!$B$5:$AB$35,23,FALSE))","v":"-"}]
[null,"Василий Леонтьев","ОКР (КЦ)",{"$f":"VLOOKUP(B14,'РЕЙТИНГ Тех'!$B$5:$AB$35,3,FALSE)","v":{"$error":"#N/A"}},{"$f":"IF('Сбор показателей I кв'!G18=\"\",\"-\",VLOOKUP($B14,'РЕЙТИНГ Тех'!$B$5:$AB$35,8,FALSE))","v":{"$error":"#N/A"}},{"$f":"IF('Сбор показателей II кв'!G18=\"\",\"-\",VLOOKUP(B14,'РЕЙТИНГ Тех'!$B$5:$AB$35,13,FALSE))","v":{"$error":"#N/A"}},{"$f":"IF('Сбор показателей III кв'!G18=\"\",\"-\",VLOOKUP(B14,'РЕЙТИНГ Тех'!$B$5:$AB$35,18,FALSE))","v":"-"},{"$f":"IF('Сбор показателей IV кв'!G18=\"\",\"-\",VLOOKUP(B14,'РЕЙТИНГ Тех'!$B$5:$AB$35,23,FALSE))","v":"-"}]
[null,"Гуннар Мюрдаль","ЗГД",{"$f":"VLOOKUP(B15,'РЕЙТИНГ Тех'!$B$5:$AB$35,3,FALSE)","v":{"$error":"#N/A"}},{"$f":"IF('Сбор показателей I кв'!G19=\"\",\"-\",VLOOKUP($B15,'РЕЙТИНГ Тех'!$B$5:$AB$35,8,FALSE))","v":{"$error":"#N/A"}},{"$f":"IF('Сбор показателей II кв'!G19=\"\",\"-\",VLOOKUP(B15,'РЕЙТИНГ Тех'!$B$5:$AB$35,13,FALSE))","v":{"$error":"#N/A"}},{"$f":"IF('Сбор показателей III кв'!G19=\"\",\"-\",VLOOKUP(B15,'РЕЙТИНГ Тех'!$B$5:$AB$35,18,FALSE))","v":"-"},{"$f":"IF('Сбор показателей IV кв'!G19=\"\",\"-\",VLOOKUP(B15,'РЕЙТИНГ Тех'!$B$5:$AB$35,23,FALSE))","v":"-"}]
[null,"Джон Ричард Хикс","ЗГД",{"$f":"VLOOKUP(B16,'РЕЙТИНГ Тех'!$B$5:$AB$35,3,FALSE)","v":{"$error":"#N/A"}},{"$f":"IF('Сбор показателей I кв'!G20=\"\",\"-\",VLOOKUP($B16,'РЕЙТИНГ Тех'!$B$5:$AB$35,8,FALSE))","v":{"$error":"#N/A"}},{"$f":"IF('Сбор показателей II кв'!G20=\"\",\"-\",VLOOKUP(B16,'РЕЙТИНГ Тех'!$B$5:$AB$35,13,FALSE))","v":{"$error":"#N/A"}},{"$f":"IF('Сбор показателей III кв'!G20=\"\",\"-\",VLOOKUP(B16,'РЕЙТИНГ Тех'!$B$5:$AB$35,18,FALSE))","v":"-"},{"$f":"IF('Сбор показателей IV кв'!G20=\"\",\"-\",VLOOKUP(B16,'РЕЙТИНГ Тех'!$B$5:$AB$35,23,FALSE))","v":"-"}]
[null,"Кеннет Эрроу","ОКР",{"$f":"VLOOKUP(B17,'РЕЙТИНГ Тех'!$B$5:$AB$35,3,FALSE)","v":{"$error":"#N/A"}},{"$f":"IF('Сбор показателей I кв'!G21=\"\",\"-\",VLOOKUP($B17,'РЕЙТИНГ Тех'!$B$5:$AB$35,8,FALSE))","v":"-"},{"$f":"IF('Сбор показателей II кв'!G21=\"\",\"-\",VLOOKUP(B17,'РЕЙТИНГ Тех'!$B$5:$AB$35,13,FALSE))","v":"-"},{"$f":"IF('Сбор показателей III кв'!G21=\"\",\"-\",VLOOKUP(B17,'РЕЙТИНГ Тех'!$B$5:$AB$35,18,FALSE))","v":"-"},{"$f":"IF('Сбор показателей IV кв'!G21=\"\",\"-\",VLOOKUP(B17,'РЕЙТИНГ Тех'!$B$5:$AB$35,23,FALSE))","v":"-"}]
[null,"Кэрол Грейдер","ОКР",{"$f":"VLOOKUP(B18,'РЕЙТИНГ Тех'!$B$5:$AB$35,3,FALSE)","v":{"$error":"#N/A"}},{"$f":"IF('Сбор показателей I кв'!G22=\"\",\"-\",VLOOKUP($B18,'РЕЙТИНГ Тех'!$B$5:$AB$35,8,FALSE))","v":"-"},{"$f":"IF('Сбор показателей II кв'!G22=\"\",\"-\",VLOOKUP(B18,'РЕЙТИНГ Тех'!$B$5:$AB$35,13,FALSE))","v":"-"},{"$f":"IF('Сбор показателей III кв'!G22=\"\",\"-\",VLOOKUP(B18,'РЕЙТИНГ Тех'!$B$5:$AB$35,18,FALSE))","v":"-"},{"$f":"IF('Сбор показателей IV кв'!G22=\"\",\"-\",VLOOKUP(B18,'РЕЙТИНГ Тех'!$B$5:$AB$35,23,FALSE))","v":"-"}]
[null,"Линда Бак","ЗГД",{"$f":"VLOOKUP(B19,'РЕЙТИНГ Тех'!$B$5:$AB$35,3,FALSE)","v":{"$error":"#N/A"}},{"$f":"IF('Сбор показателей I кв'!G23=\"\",\"-\",VLOOKUP($B19,'РЕЙТИНГ Тех'!$B$5:$AB$35,8,FALSE))","v":"-"},{"$f":"IF('Сбор показателей II кв'!G23=\"\",\"-\",VLOOKUP(B19,'РЕЙТИНГ Тех'!$B$5:$AB$35,13,FALSE))","v":"-"},{"$f":"IF('Сбор показателей III кв'!G23=\"\",\"-\",VLOOKUP(B19,'РЕЙТИНГ Тех'!$B$5:$AB$35,18,FALSE))","v":"-"},{"$f":"IF('Сбор показателей IV кв'!G23=\"\",\"-\",VLOOKUP(B19,'РЕЙТИНГ Тех'!$B$5:$AB$35,23,FALSE))","v":"-"}]
[null,"Мэй-Брит Мозер","ОКР",{"$f":"VLOOKUP(B20,'РЕЙТИНГ Тех'!$B$5:$AB$35,3,FALSE)","v":{"$error":"#N/A"}},{"$f":"IF('Сбор показателей I кв'!G24=\"\",\"-\",VLOOKUP($B20,'РЕЙТИНГ Тех'!$B$5:$AB$35,8,FALSE))","v":"-"},{"$f":"IF('Сбор показателей II кв'!G24=\"\",\"-\",VLOOKUP(B20,'РЕЙТИНГ Тех'!$B$5:$AB$35,13,FALSE))","v":"-"},{"$f":"IF('Сбор показателей III кв'!G24=\"\",\"-\",VLOOKUP(B20,'РЕЙТИНГ Тех'!$B$5:$AB$35,18,FALSE))","v":"-"},{"$f":"IF('Сбор показателей IV кв'!G24=\"\",\"-\",VLOOKUP(B20,'РЕЙТИНГ Тех'!$B$5:$AB$35,23,FALSE))","v":"-"}]
[null,"Саймон Кузнец","ОКР (КЦ)",{"$f":"VLOOKUP(B21,'РЕЙТИНГ Тех'!$B$5:$AB$35,3,FALSE)","v":{"$error":"#N/A"}},{"$f":"IF('Сбор показателей I кв'!G25=\"\",\"-\",VLOOKUP($B21,'РЕЙТИНГ Тех'!$B$5:$AB$35,8,FALSE))","v":"-"},{"$f":"IF('Сбор показателей II кв'!G25=\"\",\"-\",VLOOKUP(B21,'РЕЙТИНГ Тех'!$B$5:$AB$35,13,FALSE))","v":"-"},{"$f":"IF('Сбор показателей III кв'!G25=\"\",\"-\",VLOOKUP(B21,'РЕЙТИНГ Тех'!$B$5:$AB$35,18,FALSE))","v":"-"},{"$f":"IF('Сбор показателей IV кв'!G25=\"\",\"-\",VLOOKUP(B21,'РЕЙТИНГ Тех'!$B$5:$AB$35,23,FALSE))","v":"-"}]
[null,"Светлана Алексеевич","ОКР (КЦ)",{"$f":"VLOOKUP(B22,'РЕЙТИНГ Тех'!$B$5:$AB$35,3,FALSE)","v":{"$error":"#N/A"}},{"$f":"IF('Сбор показателей I кв'!G26=\"\",\"-\",VLOOKUP($B22,'РЕЙТИНГ Тех'!$B$5:$AB$35,8,FALSE))","v":"-"},{"$f":"IF('Сбор показателей II кв'!G26=\"\",\"-\",VLOOKUP(B22,'РЕЙТИНГ Тех'!$B$5:$AB$35,13,FALSE))","v":"-"},{"$f":"IF('Сбор показателей III кв'!G26=\"\",\"-\",VLOOKUP(B22,'РЕЙТИНГ Тех'!$B$5:$AB$35,18,FALSE))","v":"-"},{"$f":"IF('Сбор показателей IV кв'!G26=\"\",\"-\",VLOOKUP(B22,'РЕЙТИНГ Тех'!$B$5:$AB$35,23,FALSE))","v":"-"}]
[null,"Эстер Дюфло","ЗГД",{"$f":"VLOOKUP(B23,'РЕЙТИНГ Тех'!$B$5:$AB$35,3,FALSE)","v":{"$error":"#N/A"}},{"$f":"IF('Сбор показателей I кв'!G27=\"\",\"-\",VLOOKUP($B23,'РЕЙТИНГ Тех'!$B$5:$AB$35,8,FALSE))","v":"-"},{"$f":"IF('Сбор показателей II кв'!G27=\"\",\"-\",VLOOKUP(B23,'РЕЙТИНГ Тех'!$B$5:$AB$35,13,FALSE))","v":"-"},{"$f":"IF('Сбор показателей III кв'!G27=\"\",\"-\",VLOOKUP(B23,'РЕЙТИНГ Тех'!$B$5:$AB$35,18,FALSE))","v":"-"},{"$f":"IF('Сбор показателей IV кв'!G27=\"\",\"-\",VLOOKUP(B23,'РЕЙТИНГ Тех'!$B$5:$AB$35,23,FALSE))","v":"-"}]
[null,"Навальнева Евгения","ЗГД",{"$f":"VLOOKUP(B24,'РЕЙТИНГ Тех'!$B$5:$AB$35,3,FALSE)","v":21},{"$f":"IF('Сбор показателей I кв'!G28=\"\",\"-\",VLOOKUP($B24,'РЕЙТИНГ Тех'!$B$5:$AB$35,8,FALSE))","v":"-"},{"$f":"IF('Сбор показателей II кв'!G28=\"\",\"-\",VLOOKUP(B24,'РЕЙТИНГ Тех'!$B$5:$AB$35,13,FALSE))","v":"-"},{"$f":"IF('Сбор показателей III кв'!G28=\"\",\"-\",VLOOKUP(B24,'РЕЙТИНГ Тех'!$B$5:$AB$35,18,FALSE))","v":"-"},{"$f":"IF('Сбор показателей IV кв'!G28=\"\",\"-\",VLOOKUP(B24,'РЕЙТИНГ Тех'!$B$5:$AB$35,23,FALSE))","v":"-"}]
[null,"Османов Руслан","ЗГД",{"$f":"VLOOKUP(B25,'РЕЙТИНГ Тех'!$B$5:$AB$35,3,FALSE)","v":21},{"$f":"IF('Сбор показателей I кв'!G29=\"\",\"-\",VLOOKUP($B25,'РЕЙТИНГ Тех'!$B$5:$AB$35,8,FALSE))","v":"-"},{"$f":"IF('Сбор показателей II кв'!G29=\"\",\"-\",VLOOKUP(B25,'РЕЙТИНГ Тех'!$B$5:$AB$35,13,FALSE))","v":"-"},{"$f":"IF('Сбор показателей III кв'!G29=\"\",\"-\",VLOOKUP(B25,'РЕЙТИНГ Тех'!$B$5:$AB$35,18,FALSE))","v":"-"},{"$f":"IF('Сбор показателей IV кв'!G29=\"\",\"-\",VLOOKUP(B25,'РЕЙТИНГ Тех'!$B$5:$AB$35,23,FALSE))","v":"-"}]
[null,"Приймак Андрей","ЗГД",{"$f":"VLOOKUP(B26,'РЕЙТИНГ Тех'!$B$5:$AB$35,3,FALSE)","v":21},{"$f":"IF('Сбор показателей I кв'!G30=\"\",\"-\",VLOOKUP($B26,'РЕЙТИНГ Тех'!$B$5:$AB$35,8,FALSE))","v":"-"},{"$f":"IF('Сбор показателей II кв'!G30=\"\",\"-\",VLOOKUP(B26,'РЕЙТИНГ Тех'!$B$5:$AB$35,13,FALSE))","v":"-"},{"$f":"IF('Сбор показателей III кв'!G30=\"\",\"-\",VLOOKUP(B26,'РЕЙТИНГ Тех'!$B$5:$AB$35,18,FALSE))","v":"-"},{"$f":"IF('Сбор показателей IV кв'!G30=\"\",\"-\",VLOOKUP(B26,'РЕЙТИНГ Тех'!$B$5:$AB$35,23,FALSE))","v":"-"}]
[null,"Проскуряков Алексей","ОКР",{"$f":"VLOOKUP(B27,'РЕЙТИНГ Тех'!$B$5:$AB$35,3,FALSE)","v":21},{"$f":"IF('Сбор показателей I кв'!G31=\"\",\"-\",VLOOKUP($B27,'РЕЙТИНГ Тех'!$B$5:$AB$35,8,FALSE))","v":"-"},{"$f":"IF('Сбор показателей II кв'!G31=\"\",\"-\",VLOOKUP(B27,'РЕЙТИНГ Тех'!$B$5:$AB$35,13,FALSE))","v":"-"},{"$f":"IF('Сбор показателей III кв'!G31=\"\",\"-\",VLOOKUP(B27,'РЕЙТИНГ Тех'!$B$5:$AB$35,18,FALSE))","v":"-"},{"$f":"IF('Сбор показателей IV кв'!G31=\"\",\"-\",VLOOKUP(B27,'РЕЙТИНГ Тех'!$B$5:$AB$35,23,FALSE))","v":"-"}]
[null,"Савченко Яна","ОКР (КЦ)",{"$f":"VLOOKUP(B28,'РЕЙТИНГ Тех'!$B$5:$AB$35,3,FALSE)","v":21},{"$f":"IF('Сбор показателей I кв'!G32=\"\",\"-\",VLOOKUP($B28,'РЕЙТИНГ Тех'!$B$5:$AB$35,8,FALSE))","v":"-"},{"$f":"IF('Сбор показателей II кв'!G32=\"\",\"-\",VLOOKUP(B28,'РЕЙТИНГ Тех'!$B$5:$AB$35,13,FALSE))","v":"-"},{"$f":"IF('Сбор показателей III кв'!G32=\"\",\"-\",VLOOKUP(B28,'РЕЙТИНГ Тех'!$B$5:$AB$35,18,FALSE))","v":"-"},{"$f":"IF('Сбор показателей IV кв'!G32=\"\",\"-\",VLOOKUP(B28,'РЕЙТИНГ Тех'!$B$5:$AB$35,23,FALSE))","v":"-"}]
[null,"Сафиуллин Наиль","ОКР (КЦ)",{"$f":"VLOOKUP(B29,'РЕЙТИНГ Тех'!$B$5:$AB$35,3,FALSE)","v":21},{"$f":"IF('Сбор показателей I кв'!G33=\"\",\"-\",VLOOKUP($B29,'РЕЙТИНГ Тех'!$B$5:$AB$35,8,FALSE))","v":"-"},{"$f":"IF('Сбор показателей II кв'!G33=\"\",\"-\",VLOOKUP(B29,'РЕЙТИНГ Тех'!$B$5:$AB$35,13,FALSE))","v":"-"},{"$f":"IF('Сбор показателей III кв'!G33=\"\",\"-\",VLOOKUP(B29,'РЕЙТИНГ Тех'!$B$5:$AB$35,18,FALSE))","v":"-"},{"$f":"IF('Сбор показателей IV кв'!G33=\"\",\"-\",VLOOKUP(B29,'РЕЙТИНГ Тех'!$B$5:$AB$35,23,FALSE))","v":"-"}]
[null,"Сметанин Павел","ОКР",{"$f":"VLOOKUP(B30,'РЕЙТИНГ Тех'!$B$5:$AB$35,3,FALSE)","v":21},{"$f":"IF('Сбор показателей I кв'!G34=\"\",\"-\",VLOOKUP($B30,'РЕЙТИНГ Тех'!$B$5:$AB$35,8,FALSE))","v":"-"},{"$f":"IF('Сбор показателей II кв'!G34=\"\",\"-\",VLOOKUP(B30,'РЕЙТИНГ Тех'!$B$5:$AB$35,13,FALSE))","v":"-"},{"$f":"IF('Сбор показателей III кв'!G34=\"\",\"-\",VLOOKUP(B30,'РЕЙТИНГ Тех'!$B$5:$AB$35,18,FALSE))","v":"-"},{"$f":"IF('Сбор показателей IV кв'!G34=\"\",\"-\",VLOOKUP(B30,'РЕЙТИНГ Тех'!$B$5:$AB$35,23,FALSE))","v":"-"}]
[null,"Степин Константин","ОКР (КЦ)",{"$f":"VLOOKUP(B31,'РЕЙТИНГ Тех'!$B$5:$AB$35,3,FALSE)","v":21},{"$f":"IF('Сбор показателей I кв'!G35=\"\",\"-\",VLOOKUP($B31,'РЕЙТИНГ Тех'!$B$5:$AB$35,8,FALSE))","v":"-"},{"$f":"IF('Сбор показателей II кв'!G35=\"\",\"-\",VLOOKUP(B31,'РЕЙТИНГ Тех'!$B$5:$AB$35,13,FALSE))","v":"-"},{"$f":"IF('Сбор показателей III кв'!G35=\"\",\"-\",VLOOKUP(B31,'РЕЙТИНГ Тех'!$B$5:$AB$35,18,FALSE))","v":"-"},{"$f":"IF('Сбор показателей IV кв'!G35=\"\",\"-\",VLOOKUP(B31,'РЕЙТИНГ Тех'!$B$5:$AB$35,23,FALSE))","v":"-"}]
[null,"Титов Александр","ЗГД",{"$f":"VLOOKUP(B32,'РЕЙТИНГ Тех'!$B$5:$AB$35,3,FALSE)","v":21},{"$f":"IF('Сбор показателей I кв'!G36=\"\",\"-\",VLOOKUP($B32,'РЕЙТИНГ Тех'!$B$5:$AB$35,8,FALSE))","v":"-"},{"$f":"IF('Сбор показателей II кв'!G36=\"\",\"-\",VLOOKUP(B32,'РЕЙТИНГ Тех'!$B$5:$AB$35,13,FALSE))","v":"-"},{"$f":"IF('Сбор показателей III кв'!G36=\"\",\"-\",VLOOKUP(B32,'РЕЙТИНГ Тех'!$B$5:$AB$35,18,FALSE))","v":"-"},{"$f":"IF('Сбор показателей IV кв'!G36=\"\",\"-\",VLOOKUP(B32,'РЕЙТИНГ Тех'!$B$5:$AB$35,23,FALSE))","v":"-"}]
[null,"Фирсов Владимир","ОКР",{"$f":"VLOOKUP(B33,'РЕЙТИНГ Тех'!$B$5:$AB$35,3,FALSE)","v":21},{"$f":"IF('Сбор показателей I кв'!G37=\"\",\"-\",VLOOKUP($B33,'РЕЙТИНГ Тех'!$B$5:$AB$35,8,FALSE))","v":"-"},{"$f":"IF('Сбор показателей II кв'!G37=\"\",\"-\",VLOOKUP(B33,'РЕЙТИНГ Тех'!$B$5:$AB$35,13,FALSE))","v":"-"},{"$f":"IF('Сбор показателей III кв'!G37=\"\",\"-\",VLOOKUP(B33,'РЕЙТИНГ Тех'!$B$5:$AB$35,18,FALSE))","v":"-"},{"$f":"IF('Сбор показателей IV кв'!G37=\"\",\"-\",VLOOKUP(B33,'РЕЙТИНГ Тех'!$B$5:$AB$35,23,FALSE))","v":"-"}]
[null,"Чунц Илья","ЗГД",{"$f":"VLOOKUP(B34,'РЕЙТИНГ Тех'!$B$5:$AB$35,3,FALSE)","v":21},{"$f":"IF('Сбор показателей I кв'!G38=\"\",\"-\",VLOOKUP($B34,'РЕЙТИНГ Тех'!$B$5:$AB$35,8,FALSE))","v":"-"},{"$f":"IF('Сбор показателей II кв'!G38=\"\",\"-\",VLOOKUP(B34,'РЕЙТИНГ Тех'!$B$5:$AB$35,13,FALSE))","v":"-"},{"$f":"IF('Сбор показателей III кв'!G38=\"\",\"-\",VLOOKUP(B34,'РЕЙТИНГ Тех'!$B$5:$AB$35,18,FALSE))","v":"-"},{"$f":"IF('Сбор показателей IV кв'!G38=\"\",\"-\",VLOOKUP(B34,'РЕЙТИНГ Тех'!$B$5:$AB$35,23,FALSE))","v":"-"}]
[null,"Шепляков Алексей","ЗГД",{"$f":"VLOOKUP(B35,'РЕЙТИНГ Тех'!$B$5:$AB$35,3,FALSE)","v":21},{"$f":"IF('Сбор показателей I кв'!G39=\"\",\"-\",VLOOKUP($B35,'РЕЙТИНГ Тех'!$B$5:$AB$35,8,FALSE))","v":"-"},{"$f":"IF('Сбор показателей II кв'!G39=\"\",\"-\",VLOOKUP(B35,'РЕЙТИНГ Тех'!$B$5:$AB$35,13,FALSE))","v":"-"},{"$f":"IF('Сбор показателей III кв'!G39=\"\",\"-\",VLOOKUP(B35,'РЕЙТИНГ Тех'!$B$5:$AB$35,18,FALSE))","v":"-"},{"$f":"IF('Сбор показателей IV кв'!G39=\"\",\"-\",VLOOKUP(B35,'РЕЙТИНГ Тех'!$B$5:$AB$35,23,FALSE))","v":"-"}]
[null,"Шестаков Антон","ЗГД",{"$f":"VLOOKUP(B36,'РЕЙТИНГ Тех'!$B$5:$AB$35,3,FALSE)","v":21},{"$f":"IF('Сбор показателей I кв'!G40=\"\",\"-\",VLOOKUP($B36,'РЕЙТИНГ Тех'!$B$5:$AB$35,8,FALSE))","v":"-"},{"$f":"IF('Сбор показателей II кв'!G40=\"\",\"-\",VLOOKUP(B36,'РЕЙТИНГ Тех'!$B$5:$AB$35,13,FALSE))","v":"-"},{"$f":"IF('Сбор показателей III кв'!G40=\"\",\"-\",VLOOKUP(B36,'РЕЙТИНГ Тех'!$B$5:$AB$35,18,FALSE))","v":"-"},{"$f":"IF('Сбор показателей IV кв'!G40=\"\",\"-\",VLOOKUP(B36,'РЕЙТИНГ Тех'!$B$5:$AB$35,23,FALSE))","v":"-"}]
[null,"Ялымов Денис","ОКР",{"$f":"VLOOKUP(B37,'РЕЙТИНГ Тех'!$B$5:$AB$35,3,FALSE)","v":21},{"$f":"IF('Сбор показателей I кв'!G41=\"\",\"-\",VLOOKUP($B37,'РЕЙТИНГ Тех'!$B$5:$AB$35,8,FALSE))","v":"-"},{"$f":"IF('Сбор показателей II кв'!G41=\"\",\"-\",VLOOKUP(B37,'РЕЙТИНГ Тех'!$B$5:$AB$35,13,FALSE))","v":"-"},{"$f":"IF('Сбор показателей III кв'!G41=\"\",\"-\",VLOOKUP(B37,'РЕЙТИНГ Тех'!$B$5:$AB$35,18,FALSE))","v":"-"},{"$f":"IF('Сбор показателей IV кв'!G41=\"\",\"-\",VLOOKUP(B37,'РЕЙТИНГ Тех'!$B$5:$AB$35,23,FALSE))","v":"-"}]

{"sheet":"РЕЙТИНГ Результативность","index":13,"n_rows":38,"n_cols":8,"rows_kept":38,"cut":false,"hidden":true,"merged":[[5,1,5,2],[5,3,5,7]]}
[]
[null,"К СОДЕРЖАНИЮ"]
[]
[null,"РЕЙТИНГ ПО БЛОКУ РЕЗУЛЬТАТИВНОСТЬ"]
[]
[null,"УЧАСТНИК",null,"РАСПРЕДЕЛЕНИЕ МЕСТ"]
[null,"ФИО","ТИП",{"$f":"IF(H8=\"-\",\"ГОД (Кум.)\",\"ГОД\")","v":"ГОД (Кум.)"},"I КВАРТАЛ","II КВАРТАЛ","III КВАРТАЛ","IV КВАРТАЛ"]
[null,"Андреева Анна","ОКР",{"$f":"VLOOKUP(B8,'РЕЙТИНГ Тех'!$B$5:$AB$35,4,FALSE)","v":{"$error":"#N/A"}},{"$f":"IF('Сбор показателей I кв'!G11=\"\",\"-\",VLOOKUP($B8,'РЕЙТИНГ Тех'!$B$5:$AB$35,9,FALSE))","v":{"$error":"#N/A"}},{"$f":"IF('Сбор показателей II кв'!G11=\"\",\"-\",VLOOKUP(B8,'РЕЙТИНГ Тех'!$B$5:$AB$35,14,FALSE))","v":{"$error":"#N/A"}},{"$f":"IF('Сбор показателей III кв'!G11=\"\",\"-\",VLOOKUP(B8,'РЕЙТИНГ Тех'!$B$5:$AB$35,19,FALSE))","v":"-"},{"$f":"IF('Сбор показателей IV кв'!G11=\"\",\"-\",VLOOKUP(B8,'РЕЙТИНГ Тех'!$B$5:$AB$35,24,FALSE))","v":"-"}]
[null,"Анисимова Марина","ОКР",{"$f":"VLOOKUP(B9,'РЕЙТИНГ Тех'!$B$5:$AB$35,4,FALSE)","v":{"$error":"#N/A"}},{"$f":"IF('Сбор показателей I кв'!G12=\"\",\"-\",VLOOKUP($B9,'РЕЙТИНГ Тех'!$B$5:$AB$35,9,FALSE))","v":{"$error":"#N/A"}},{"$f":"IF('Сбор показателей II кв'!G12=\"\",\"-\",VLOOKUP(B9,'РЕЙТИНГ Тех'!$B$5:$AB$35,14,FALSE))","v":{"$error":"#N/A"}},{"$f":"IF('Сбор показателей III кв'!G12=\"\",\"-\",VLOOKUP(B9,'РЕЙТИНГ Тех'!$B$5:$AB$35,19,FALSE))","v":"-"},{"$f":"IF('Сбор показателей IV кв'!G12=\"\",\"-\",VLOOKUP(B9,'РЕЙТИНГ Тех'!$B$5:$AB$35,24,FALSE))","v":"-"}]
[null,"Билый Александр","ОКР",{"$f":"VLOOKUP(B10,'РЕЙТИНГ Тех'!$B$5:$AB$35,4,FALSE)","v":{"$error":"#N/A"}},{"$f":"IF('Сбор показателей I кв'!G13=\"\",\"-\",VLOOKUP($B10,'РЕЙТИНГ Тех'!$B$5:$AB$35,9,FALSE))","v":{"$error":"#N/A"}},{"$f":"IF('Сбор показателей II кв'!G13=\"\",\"-\",VLOOKUP(B10,'РЕЙТИНГ Тех'!$B$5:$AB$35,14,FALSE))","v":{"$error":"#N/A"}},{"$f":"IF('Сбор показателей III кв'!G13=\"\",\"-\",VLOOKUP(B10,'РЕЙТИНГ Тех'!$B$5:$AB$35,19,FALSE))","v":"-"},{"$f":"IF('Сбор показателей IV кв'!G13=\"\",\"-\",VLOOKUP(B10,'РЕЙТИНГ Тех'!$B$5:$AB$35,24,FALSE))","v":"-"}]
[null,"Бильвина Валерия","ОКР",{"$f":"VLOOKUP(B11,'РЕЙТИНГ Тех'!$B$5:$AB$35,4,FALSE)","v":{"$error":"#N/A"}},{"$f":"IF('Сбор показателей I кв'!G14=\"\",\"-\",VLOOKUP($B11,'РЕЙТИНГ Тех'!$B$5:$AB$35,9,FALSE))","v":{"$error":"#N/A"}},{"$f":"IF('Сбор показателей II кв'!G14=\"\",\"-\",VLOOKUP(B11,'РЕЙТИНГ Тех'!$B$5:$AB$35,14,FALSE))","v":{"$error":"#N/A"}},{"$f":"IF('Сбор показателей III кв'!G14=\"\",\"-\",VLOOKUP(B11,'РЕЙТИНГ Тех'!$B$5:$AB$35,19,FALSE))","v":"-"},{"$f":"IF('Сбор показателей IV кв'!G14=\"\",\"-\",VLOOKUP(B11,'РЕЙТИНГ Тех'!$B$5:$AB$35,24,FALSE))","v":"-"}]
[null,"Борисов Сергей","ОКР",{"$f":"VLOOKUP(B12,'РЕЙТИНГ Тех'!$B$5:$AB$35,4,FALSE)","v":{"$error":"#N/A"}},{"$f":"IF('Сбор показателей I кв'!G15=\"\",\"-\",VLOOKUP($B12,'РЕЙТИНГ Тех'!$B$5:$AB$35,9,FALSE))","v":{"$error":"#N/A"}},{"$f":"IF('Сбор показателей II кв'!G15=\"\",\"-\",VLOOKUP(B12,'РЕЙТИНГ Тех'!$B$5:$AB$35,14,FALSE))","v":{"$error":"#N/A"}},{"$f":"IF('Сбор показателей III кв'!G15=\"\",\"-\",VLOOKUP(B12,'РЕЙТИНГ Тех'!$B$5:$AB$35,19,FALSE))","v":"-"},{"$f":"IF('Сбор показателей IV кв'!G15=\"\",\"-\",VLOOKUP(B12,'РЕЙТИНГ Тех'!$B$5:$AB$35,24,FALSE))","v":"-"}]
[null,"Булковский Сергей","ЗГД",{"$f":"VLOOKUP(B13,'РЕЙТИНГ Тех'!$B$5:$AB$35,4,FALSE)","v":{"$error":"#N/A"}},{"$f":"IF('Сбор показателей I кв'!G16=\"\",\"-\",VLOOKUP($B13,'РЕЙТИНГ Тех'!$B$5:$AB$35,9,FALSE))","v":{"$error":"#N/A"}},{"$f":"IF('Сбор показателей II кв'!G16=\"\",\"-\",VLOOKUP(B13,'РЕЙТИНГ Тех'!$B$5:$AB$35,14,FALSE))","v":{"$error":"#N/A"}},{"$f":"IF('Сбор показателей III кв'!G16=\"\",\"-\",VLOOKUP(B13,'РЕЙТИНГ Тех'!$B$5:$AB$35,19,FALSE))","v":"-"},{"$f":"IF('Сбор показателей IV кв'!G16=\"\",\"-\",VLOOKUP(B13,'РЕЙТИНГ Тех'!$B$5:$AB$35,24,FALSE))","v":"-"}]
[null,"Войтюк Юлия","ОКР",{"$f":"VLOOKUP(B14,'РЕЙТИНГ Тех'!$B$5:$AB$35,4,FALSE)","v":{"$error":"#N/A"}},{"$f":"IF('Сбор показателей I кв'!G17=\"\",\"-\",VLOOKUP($B14,'РЕЙТИНГ Тех'!$B$5:$AB$35,9,FALSE))","v":{"$error":"#N/A"}},{"$f":"IF('Сбор показателей II кв'!G17=\"\",\"-\",VLOOKUP(B14,'РЕЙТИНГ Тех'!$B$5:$AB$35,14,FALSE))","v":{"$error":"#N/A"}},{"$f":"IF('Сбор показателей III кв'!G17=\"\",\"-\",VLOOKUP(B14,'РЕЙТИНГ Тех'!$B$5:$AB$35,19,FALSE))","v":"-"},{"$f":"IF('Сбор показателей IV кв'!G17=\"\",\"-\",VLOOKUP(B14,'РЕЙТИНГ Тех'!$B$5:$AB$35,24,FALSE))","v":"-"}]
[null,"Гудкова Людмила","ОКР (КЦ)",{"$f":"VLOOKUP(B15,'РЕЙТИНГ Тех'!$B$5:$AB$35,4,FALSE)","v":{"$error":"#N/A"}},{"$f":"IF('Сбор показателей I кв'!G18=\"\",\"-\",VLOOKUP($B15,'РЕЙТИНГ Тех'!$B$5:$AB$35,9,FALSE))","v":{"$error":"#N/A"}},{"$f":"IF('Сбор показателей II кв'!G18=\"\",\"-\",VLOOKUP(B15,'РЕЙТИНГ Тех'!$B$5:$AB$35,14,FALSE))","v":{"$error":"#N/A"}},{"$f":"IF('Сбор показателей III кв'!G18=\"\",\"-\",VLOOKUP(B15,'РЕЙТИНГ Тех'!$B$5:$AB$35,19,FALSE))","v":"-"},{"$f":"IF('Сбор показателей IV кв'!G18=\"\",\"-\",VLOOKUP(B15,'РЕЙТИНГ Тех'!$B$5:$AB$35,24,FALSE))","v":"-"}]
[null,"Гулиев Рагим","ЗГД",{"$f":"VLOOKUP(B16,'РЕЙТИНГ Тех'!$B$5:$AB$35,4,FALSE)","v":{"$error":"#N/A"}},{"$f":"IF('Сбор показателей I кв'!G19=\"\",\"-\",VLOOKUP($B16,'РЕЙТИНГ Тех'!$B$5:$AB$35,9,FALSE))","v":{"$error":"#N/A"}},{"$f":"IF('Сбор показателей II кв'!G19=\"\",\"-\",VLOOKUP(B16,'РЕЙТИНГ Тех'!$B$5:$AB$35,14,FALSE))","v":{"$error":"#N/A"}},{"$f":"IF('Сбор показателей III кв'!G19=\"\",\"-\",VLOOKUP(B16,'РЕЙТИНГ Тех'!$B$5:$AB$35,19,FALSE))","v":"-"},{"$f":"IF('Сбор показателей IV кв'!G19=\"\",\"-\",VLOOKUP(B16,'РЕЙТИНГ Тех'!$B$5:$AB$35,24,FALSE))","v":"-"}]
[null,"Завьялов Василий","ЗГД",{"$f":"VLOOKUP(B17,'РЕЙТИНГ Тех'!$B$5:$AB$35,4,FALSE)","v":{"$error":"#N/A"}},{"$f":"IF('Сбор показателей I кв'!G20=\"\",\"-\",VLOOKUP($B17,'РЕЙТИНГ Тех'!$B$5:$AB$35,9,FALSE))","v":{"$error":"#N/A"}},{"$f":"IF('Сбор показателей II кв'!G20=\"\",\"-\",VLOOKUP(B17,'РЕЙТИНГ Тех'!$B$5:$AB$35,14,FALSE))","v":{"$error":"#N/A"}},{"$f":"IF('Сбор показателей III кв'!G20=\"\",\"-\",VLOOKUP(B17,'РЕЙТИНГ Тех'!$B$5:$AB$35,19,FALSE))","v":"-"},{"$f":"IF('Сбор показателей IV кв'!G20=\"\",\"-\",VLOOKUP(B17,'РЕЙТИНГ Тех'!$B$5:$AB$35,24,FALSE))","v":"-"}]
[null,"Коваленко Тамара","ОКР",{"$f":"VLOOKUP(B18,'РЕЙТИНГ Тех'!$B$5:$AB$35,4,FALSE)","v":21},{"$f":"IF('Сбор показателей I кв'!G21=\"\",\"-\",VLOOKUP($B18,'РЕЙТИНГ Тех'!$B$5:$AB$35,9,FALSE))","v":"-"},{"$f":"IF('Сбор показателей II кв'!G21=\"\",\"-\",VLOOKUP(B18,'РЕЙТИНГ Тех'!$B$5:$AB$35,14,FALSE))","v":"-"},{"$f":"IF('Сбор показателей III кв'!G21=\"\",\"-\",VLOOKUP(B18,'РЕЙТИНГ Тех'!$B$5:$AB$35,19,FALSE))","v":"-"},{"$f":"IF('Сбор показателей IV кв'!G21=\"\",\"-\",VLOOKUP(B18,'РЕЙТИНГ Тех'!$B$5:$AB$35,24,FALSE))","v":"-"}]
[null,"Колесников Сергей","ОКР",{"$f":"VLOOKUP(B19,'РЕЙТИНГ Тех'!$B$5:$AB$35,4,FALSE)","v":21},{"$f":"IF('Сбор показателей I кв'!G22=\"\",\"-\",VLOOKUP($B19,'РЕЙТИНГ Тех'!$B$5:$AB$35,9,FALSE))","v":"-"},{"$f":"IF('Сбор показателей II кв'!G22=\"\",\"-\",VLOOKUP(B19,'РЕЙТИНГ Тех'!$B$5:$AB$35,14,FALSE))","v":"-"},{"$f":"IF('Сбор показателей III кв'!G22=\"\",\"-\",VLOOKUP(B19,'РЕЙТИНГ Тех'!$B$5:$AB$35,19,FALSE))","v":"-"},{"$f":"IF('Сбор показателей IV кв'!G22=\"\",\"-\",VLOOKUP(B19,'РЕЙТИНГ Тех'!$B$5:$AB$35,24,FALSE))","v":"-"}]
[null,"Коробейников Павел","ЗГД",{"$f":"VLOOKUP(B20,'РЕЙТИНГ Тех'!$B$5:$AB$35,4,FALSE)","v":21},{"$f":"IF('Сбор показателей I кв'!G23=\"\",\"-\",VLOOKUP($B20,'РЕЙТИНГ Тех'!$B$5:$AB$35,9,FALSE))","v":"-"},{"$f":"IF('Сбор показателей II кв'!G23=\"\",\"-\",VLOOKUP(B20,'РЕЙТИНГ Тех'!$B$5:$AB$35,14,FALSE))","v":"-"},{"$f":"IF('Сбор показателей III кв'!G23=\"\",\"-\",VLOOKUP(B20,'РЕЙТИНГ Тех'!$B$5:$AB$35,19,FALSE))","v":"-"},{"$f":"IF('Сбор показателей IV кв'!G23=\"\",\"-\",VLOOKUP(B20,'РЕЙТИНГ Тех'!$B$5:$AB$35,24,FALSE))","v":"-"}]
[null,"Марченко Лариса","ОКР",{"$f":"VLOOKUP(B21,'РЕЙТИНГ Тех'!$B$5:$AB$35,4,FALSE)","v":21},{"$f":"IF('Сбор показателей I кв'!G24=\"\",\"-\",VLOOKUP($B21,'РЕЙТИНГ Тех'!$B$5:$AB$35,9,FALSE))","v":"-"},{"$f":"IF('Сбор показателей II кв'!G24=\"\",\"-\",VLOOKUP(B21,'РЕЙТИНГ Тех'!$B$5:$AB$35,14,FALSE))","v":"-"},{"$f":"IF('Сбор показателей III кв'!G24=\"\",\"-\",VLOOKUP(B21,'РЕЙТИНГ Тех'!$B$5:$AB$35,19,FALSE))","v":"-"},{"$f":"IF('Сбор показателей IV кв'!G24=\"\",\"-\",VLOOKUP(B21,'РЕЙТИНГ Тех'!$B$5:$AB$35,24,FALSE))","v":"-"}]
[null,"Мелёхин Денис","ОКР (КЦ)",{"$f":"VLOOKUP(B22,'РЕЙТИНГ Тех'!$B$5:$AB$35,4,FALSE)","v":21},{"$f":"IF('Сбор показателей I кв'!G25=\"\",\"-\",VLOOKUP($B22,'РЕЙТИНГ Тех'!$B$5:$AB$35,9,FALSE))","v":"-"},{"$f":"IF('Сбор показателей II кв'!G25=\"\",\"-\",VLOOKUP(B22,'РЕЙТИНГ Тех'!$B$5:$AB$35,14,FALSE))","v":"-"},{"$f":"IF('Сбор показателей III кв'!G25=\"\",\"-\",VLOOKUP(B22,'РЕЙТИНГ Тех'!$B$5:$AB$35,19,FALSE))","v":"-"},{"$f":"IF('Сбор показателей IV кв'!G25=\"\",\"-\",VLOOKUP(B22,'РЕЙТИНГ Тех'!$B$5:$AB$35,24,FALSE))","v":"-"}]
[null,"Миняева Ирина","ОКР (КЦ)",{"$f":"VLOOKUP(B23,'РЕЙТИНГ Тех'!$B$5:$AB$35,4,FALSE)","v":21},{"$f":"IF('Сбор показателей I кв'!G26=\"\",\"-\",VLOOKUP($B23,'РЕЙТИНГ Тех'!$B$5:$AB$35,9,FALSE))","v":"-"},{"$f":"IF('Сбор показателей II кв'!G26=\"\",\"-\",VLOOKUP(B23,'РЕЙТИНГ Тех'!$B$5:$AB$35,14,FALSE))","v":"-"},{"$f":"IF('Сбор показателей III кв'!G26=\"\",\"-\",VLOOKUP(B23,'РЕЙТИНГ Тех'!$B$5:$AB$35,19,FALSE))","v":"-"},{"$f":"IF('Сбор показателей IV кв'!G26=\"\",\"-\",VLOOKUP(B23,'РЕЙТИНГ Тех'!$B$5:$AB$35,24,FALSE))","v":"-"}]
[null,"Мирсаитов Дмитрий","ЗГД",{"$f":"VLOOKUP(B24,'РЕЙТИНГ Тех'!$B$5:$AB$35,4,FALSE)","v":21},{"$f":"IF('Сбор показателей I кв'!G27=\"\",\"-\",VLOOKUP($B24,'РЕЙТИНГ Тех'!$B$5:$AB$35,9,FALSE))","v":"-"},{"$f":"IF('Сбор показателей II кв'!G27=\"\",\"-\",VLOOKUP(B24,'РЕЙТИНГ Тех'!$B$5:$AB$35,14,FALSE))","v":"-"},{"$f":"IF('Сбор показателей III кв'!G27=\"\",\"-\",VLOOKUP(B24,'РЕЙТИНГ Тех'!$B$5:$AB$35,19,FALSE))","v":"-"},{"$f":"IF('Сбор показателей IV кв'!G27=\"\",\"-\",VLOOKUP(B24,'РЕЙТИНГ Тех'!$B$5:$AB$35,24,FALSE))","v":"-"}]
[null,"Навальнева Евгения","ЗГД",{"$f":"VLOOKUP(B25,'РЕЙТИНГ Тех'!$B$5:$AB$35,4,FALSE)","v":21},{"$f":"IF('Сбор показателей I кв'!G28=\"\",\"-\",VLOOKUP($B25,'РЕЙТИНГ Тех'!$B$5:$AB$35,9,FALSE))","v":"-"},{"$f":"IF('Сбор показателей II кв'!G28=\"\",\"-\",VLOOKUP(B25,'РЕЙТИНГ Тех'!$B$5:$AB$35,14,FALSE))","v":"-"},{"$f":"IF('Сбор показателей III кв'!G28=\"\",\"-\",VLOOKUP(B25,'РЕЙТИНГ Тех'!$B$5:$AB$35,19,FALSE))","v":"-"},{"$f":"IF('Сбор показателей IV кв'!G28=\"\",\"-\",VLOOKUP(B25,'РЕЙТИНГ Тех'!$B$5:$AB$35,24,FALSE))","v":"-"}]
[null,"Османов Руслан","ЗГД",{"$f":"VLOOKUP(B26,'РЕЙТИНГ Тех'!$B$5:$AB$35,4,FALSE)","v":21},{"$f":"IF('Сбор показателей I кв'!G29=\"\",\"-\",VLOOKUP($B26,'РЕЙТИНГ Тех'!$B$5:$AB$35,9,FALSE))","v":"-"},{"$f":"IF('Сбор показателей II кв'!G29=\"\",\"-\",VLOOKUP(B26,'РЕЙТИНГ Тех'!$B$5:$AB$35,14,FALSE))","v":"-"},{"$f":"IF('Сбор показателей III кв'!G29=\"\",\"-\",VLOOKUP(B26,'РЕЙТИНГ Тех'!$B$5:$AB$35,19,FALSE))","v":"-"},{"$f":"IF('Сбор показателей IV кв'!G29=\"\",\"-\",VLOOKUP(B26,'РЕЙТИНГ Тех'!$B$5:$AB$35,24,FALSE))","v":"-"}]
[null,"Приймак Андрей","ЗГД",{"$f":"VLOOKUP(B27,'РЕЙТИНГ Тех'!$B$5:$AB$35,4,FALSE)","v":21},{"$f":"IF('Сбор показателей I кв'!G30=\"\",\"-\",VLOOKUP($B27,'РЕЙТИНГ Тех'!$B$5:$AB$35,9,FALSE))","v":"-"},{"$f":"IF('Сбор показателей II кв'!G30=\"\",\"-\",VLOOKUP(B27,'РЕЙТИНГ Тех'!$B$5:$AB$35,14,FALSE))","v":"-"},{"$f":"IF('Сбор показателей III кв'!G30=\"\",\"-\",VLOOKUP(B27,'РЕЙТИНГ Тех'!$B$5:$AB$35,19,FALSE))","v":"-"},{"$f":"IF('Сбор показателей IV кв'!G30=\"\",\"-\",VLOOKUP(B27,'РЕЙТИНГ Тех'!$B$5:$AB$35,24,FALSE))","v":"-"}]
[null,"Проскуряков Алексей","ОКР",{"$f":"VLOOKUP(B28,'РЕЙТИНГ Тех'!$B$5:$AB$35,4,FALSE)","v":21},{"$f":"IF('Сбор показателей I кв'!G31=\"\",\"-\",VLOOKUP($B28,'РЕЙТИНГ Тех'!$B$5:$AB$35,9,FALSE))","v":"-"},{"$f":"IF('Сбор показателей II кв'!G31=\"\",\"-\",VLOOKUP(B28,'РЕЙТИНГ Тех'!$B$5:$AB$35,14,FALSE))","v":"-"},{"$f":"IF('Сбор показателей III кв'!G31=\"\",\"-\",VLOOKUP(B28,'РЕЙТИНГ Тех'!$B$5:$AB$35,19,FALSE))","v":"-"},{"$f":"IF('Сбор показателей IV кв'!G31=\"\",\"-\",VLOOKUP(B28,'РЕЙТИНГ Тех'!$B$5:$AB$35,24,FALSE))","v":"-"}]
[null,"Савченко Яна","ОКР (КЦ)",{"$f":"VLOOKUP(B29,'РЕЙТИНГ Тех'!$B$5:$AB$35,4,FALSE)","v":21},{"$f":"IF('Сбор показателей I кв'!G32=\"\",\"-\",VLOOKUP($B29,'РЕЙТИНГ Тех'!$B$5:$AB$35,9,FALSE))","v":"-"},{"$f":"IF('Сбор показателей II кв'!G32=\"\",\"-\",VLOOKUP(B29,'РЕЙТИНГ Тех'!$B$5:$AB$35,14,FALSE))","v":"-"},{"$f":"IF('Сбор показателей III кв'!G32=\"\",\"-\",VLOOKUP(B29,'РЕЙТИНГ Тех'!$B$5:$AB$35,19,FALSE))","v":"-"},{"$f":"IF('Сбор показателей IV кв'!G32=\"\",\"-\",VLOOKUP(B29,'РЕЙТИНГ Тех'!$B$5:$AB$35,24,FALSE))","v":"-"}]
[null,"Сафиуллин Наиль","ОКР (КЦ)",{"$f":"VLOOKUP(B30,'РЕЙТИНГ Тех'!$B$5:$AB$35,4,FALSE)","v":21},{"$f":"IF('Сбор показателей I кв'!G33=\"\",\"-\",VLOOKUP($B30,'РЕЙТИНГ Тех'!$B$5:$AB$35,9,FALSE))","v":"-"},{"$f":"IF('Сбор показателей II кв'!G33=\"\",\"-\",VLOOKUP(B30,'РЕЙТИНГ Тех'!$B$5:$AB$35,14,FALSE))","v":"-"},{"$f":"IF('Сбор показателей III кв'!G33=\"\",\"-\",VLOOKUP(B30,'РЕЙТИНГ Тех'!$B$5:$AB$35,19,FALSE))","v":"-"},{"$f":"IF('Сбор показателей IV кв'!G33=\"\",\"-\",VLOOKUP(B30,'РЕЙТИНГ Тех'!$B$5:$AB$35,24,FALSE))","v":"-"}]
[null,"Сметанин Павел","ОКР",{"$f":"VLOOKUP(B31,'РЕЙТИНГ Тех'!$B$5:$AB$35,4,FALSE)","v":21},{"$f":"IF('Сбор показателей I кв'!G34=\"\",\"-\",VLOOKUP($B31,'РЕЙТИНГ Тех'!$B$5:$AB$35,9,FALSE))","v":"-"},{"$f":"IF('Сбор показателей II кв'!G34=\"\",\"-\",VLOOKUP(B31,'РЕЙТИНГ Тех'!$B$5:$AB$35,14,FALSE))","v":"-"},{"$f":"IF('Сбор показателей III кв'!G34=\"\",\"-\",VLOOKUP(B31,'РЕЙТИНГ Тех'!$B$5:$AB$35,19,FALSE))","v":"-"},{"$f":"IF('Сбор показателей IV кв'!G34=\"\",\"-\",VLOOKUP(B31,'РЕЙТИНГ Тех'!$B$5:$AB$35,24,FALSE))","v":"-"}]
[null,"Степин Константин","ОКР (КЦ)",{"$f":"VLOOKUP(B32,'РЕЙТИНГ Тех'!$B$5:$AB$35,4,FALSE)","v":21},{"$f":"IF('Сбор показателей I кв'!G35=\"\",\"-\",VLOOKUP($B32,'РЕЙТИНГ Тех'!$B$5:$AB$35,9,FALSE))","v":"-"},{"$f":"IF('Сбор показателей II кв'!G35=\"\",\"-\",VLOOKUP(B32,'РЕЙТИНГ Тех'!$B$5:$AB$35,14,FALSE))","v":"-"},{"$f":"IF('Сбор показателей III кв'!G35=\"\",\"-\",VLOOKUP(B32,'РЕЙТИНГ Тех'!$B$5:$AB$35,19,FALSE))","v":"-"},{"$f":"IF('Сбор показателей IV кв'!G35=\"\",\"-\",VLOOKUP(B32,'РЕЙТИНГ Тех'!$B$5:$AB$35,24,FALSE))","v":"-"}]
[null,"Титов Александр","ЗГД",{"$f":"VLOOKUP(B33,'РЕЙТИНГ Тех'!$B$5:$AB$35,4,FALSE)","v":21},{"$f":"IF('Сбор показателей I кв'!G36=\"\",\"-\",VLOOKUP($B33,'РЕЙТИНГ Тех'!$B$5:$AB$35,9,FALSE))","v":"-"},{"$f":"IF('Сбор показателей II кв'!G36=\"\",\"-\",VLOOKUP(B33,'РЕЙТИНГ Тех'!$B$5:$AB$35,14,FALSE))","v":"-"},{"$f":"IF('Сбор показателей III кв'!G36=\"\",\"-\",VLOOKUP(B33,'РЕЙТИНГ Тех'!$B$5:$AB$35,19,FALSE))","v":"-"},{"$f":"IF('Сбор показателей IV кв'!G36=\"\",\"-\",VLOOKUP(B33,'РЕЙТИНГ Тех'!$B$5:$AB$35,24,FALSE))","v":"-"}]
[null,"Фирсов Владимир","ОКР",{"$f":"VLOOKUP(B34,'РЕЙТИНГ Тех'!$B$5:$AB$35,4,FALSE)","v":21},{"$f":"IF('Сбор показателей I кв'!G37=\"\",\"-\",VLOOKUP($B34,'РЕЙТИНГ Тех'!$B$5:$AB$35,9,FALSE))","v":"-"},{"$f":"IF('Сбор показателей II кв'!G37=\"\",\"-\",VLOOKUP(B34,'РЕЙТИНГ Тех'!$B$5:$AB$35,14,FALSE))","v":"-"},{"$f":"IF('Сбор показателей III кв'!G37=\"\",\"-\",VLOOKUP(B34,'РЕЙТИНГ Тех'!$B$5:$AB$35,19,FALSE))","v":"-"},{"$f":"IF('Сбор показателей IV кв'!G37=\"\",\"-\",VLOOKUP(B34,'РЕЙТИНГ Тех'!$B$5:$AB$35,24,FALSE))","v":"-"}]
[null,"Чунц Илья","ЗГД",{"$f":"VLOOKUP(B35,'РЕЙТИНГ Тех'!$B$5:$AB$35,4,FALSE)","v":21},{"$f":"IF('Сбор показателей I кв'!G38=\"\",\"-\",VLOOKUP($B35,'РЕЙТИНГ Тех'!$B$5:$AB$35,9,FALSE))","v":"-"},{"$f":"IF('Сбор показателей II кв'!G38=\"\",\"-\",VLOOKUP(B35,'РЕЙТИНГ Тех'!$B$5:$AB$35,14,FALSE))","v":"-"},{"$f":"IF('Сбор показателей III кв'!G38=\"\",\"-\",VLOOKUP(B35,'РЕЙТИНГ Тех'!$B$5:$AB$35,19,FALSE))","v":"-"},{"$f":"IF('Сбор показателей IV кв'!G38=\"\",\"-\",VLOOKUP(B35,'РЕЙТИНГ Тех'!$B$5:$AB$35,24,FALSE))","v":"-"}]
[null,"Шепляков Алексей","ЗГД",{"$f":"VLOOKUP(B36,'РЕЙТИНГ Тех'!$B$5:$AB$35,4,FALSE)","v":21},{"$f":"IF('Сбор показателей I кв'!G39=\"\",\"-\",VLOOKUP($B36,'РЕЙТИНГ Тех'!$B$5:$AB$35,9,FALSE))","v":"-"},{"$f":"IF('Сбор показателей II кв'!G39=\"\",\"-\",VLOOKUP(B36,'РЕЙТИНГ Тех'!$B$5:$AB$35,14,FALSE))","v":"-"},{"$f":"IF('Сбор показателей III кв'!G39=\"\",\"-\",VLOOKUP(B36,'РЕЙТИНГ Тех'!$B$5:$AB$35,19,FALSE))","v":"-"},{"$f":"IF('Сбор показателей IV кв'!G39=\"\",\"-\",VLOOKUP(B36,'РЕЙТИНГ Тех'!$B$5:$AB$35,24,FALSE))","v":"-"}]
[null,"Шестаков Антон","ЗГД",{"$f":"VLOOKUP(B37,'РЕЙТИНГ Тех'!$B$5:$AB$35,4,FALSE)","v":21},{"$f":"IF('Сбор показателей I кв'!G40=\"\",\"-\",VLOOKUP($B37,'РЕЙТИНГ Тех'!$B$5:$AB$35,9,FALSE))","v":"-"},{"$f":"IF('Сбор показателей II кв'!G40=\"\",\"-\",VLOOKUP(B37,'РЕЙТИНГ Тех'!$B$5:$AB$35,14,FALSE))","v":"-"},{"$f":"IF('Сбор показателей III кв'!G40=\"\",\"-\",VLOOKUP(B37,'РЕЙТИНГ Тех'!$B$5:$AB$35,19,FALSE))","v":"-"},{"$f":"IF('Сбор показателей IV кв'!G40=\"\",\"-\",VLOOKUP(B37,'РЕЙТИНГ Тех'!$B$5:$AB$35,24,FALSE))","v":"-"}]
[null,"Ялымов Денис","ОКР",{"$f":"VLOOKUP(B38,'РЕЙТИНГ Тех'!$B$5:$AB$35,4,FALSE)","v":21},{"$f":"IF('Сбор показателей I кв'!G41=\"\",\"-\",VLOOKUP($B38,'РЕЙТИНГ Тех'!$B$5:$AB$35,9,FALSE))","v":"-"},{"$f":"IF('Сбор показателей II кв'!G41=\"\",\"-\",VLOOKUP(B38,'РЕЙТИНГ Тех'!$B$5:$AB$35,14,FALSE))","v":"-"},{"$f":"IF('Сбор показателей III кв'!G41=\"\",\"-\",VLOOKUP(B38,'РЕЙТИНГ Тех'!$B$5:$AB$35,19,FALSE))","v":"-"},{"$f":"IF('Сбор показателей IV кв'!G41=\"\",\"-\",VLOOKUP(B38,'РЕЙТИНГ Тех'!$B$5:$AB$35,24,FALSE))","v":"-"}]

{"sheet":"РЕЙТИНГ Проактивность","index":14,"n_rows":37,"n_cols":8,"rows_kept":37,"cut":false,"hidden":true,"merged":[[4,1,4,2],[4,3,4,7]]}
[null,"К СОДЕРЖАНИЮ"]
[]
[null,"РЕЙТИНГ ПО БЛОКУ ПРОАКТИВНОСТЬ"]
[]
[null,"УЧАСТНИК",null,"РАСПРЕДЕЛЕНИЕ МЕСТ"]
[null,"ФИО","ТИП",{"$f":"IF(H7=\"-\",\"ГОД (Кум.)\",\"ГОД\")","v":"ГОД (Кум.)"},"I КВАРТАЛ","II КВАРТАЛ","III КВАРТАЛ","IV КВАРТАЛ"]
[null,"Андреева Анна","ОКР",{"$f":"VLOOKUP(B7,'РЕЙТИНГ Тех'!$B$5:$AB$35,5,FALSE)","v":{"$error":"#N/A"}},{"$f":"VLOOKUP(B7,'РЕЙТИНГ Тех'!$B$5:$AB$35,10,FALSE)","v":{"$error":"#N/A"}},{"$f":"VLOOKUP(B7,'РЕЙТИНГ Тех'!$B$5:$AB$35,15,FALSE)","v":{"$error":"#N/A"}},{"$f":"VLOOKUP(B7,'РЕЙТИНГ Тех'!$B$5:$AB$35,20,FALSE)","v":"-"},{"$f":"VLOOKUP(B7,'РЕЙТИНГ Тех'!$B$5:$AB$35,25,FALSE)","v":"-"}]
[null,"Анисимова Марина","ОКР",{"$f":"VLOOKUP(B8,'РЕЙТИНГ Тех'!$B$5:$AB$35,5,FALSE)","v":{"$error":"#N/A"}},{"$f":"VLOOKUP(B8,'РЕЙТИНГ Тех'!$B$5:$AB$35,10,FALSE)","v":{"$error":"#N/A"}},{"$f":"VLOOKUP(B8,'РЕЙТИНГ Тех'!$B$5:$AB$35,15,FALSE)","v":{"$error":"#N/A"}},{"$f":"VLOOKUP(B8,'РЕЙТИНГ Тех'!$B$5:$AB$35,20,FALSE)","v":"-"},{"$f":"VLOOKUP(B8,'РЕЙТИНГ Тех'!$B$5:$AB$35,25,FALSE)","v":"-"}]
[null,"Билый Александр","ОКР",{"$f":"VLOOKUP(B9,'РЕЙТИНГ Тех'!$B$5:$AB$35,5,FALSE)","v":{"$error":"#N/A"}},{"$f":"VLOOKUP(B9,'РЕЙТИНГ Тех'!$B$5:$AB$35,10,FALSE)","v":{"$error":"#N/A"}},{"$f":"VLOOKUP(B9,'РЕЙТИНГ Тех'!$B$5:$AB$35,15,FALSE)","v":{"$error":"#N/A"}},{"$f":"VLOOKUP(B9,'РЕЙТИНГ Тех'!$B$5:$AB$35,20,FALSE)","v":"-"},{"$f":"VLOOKUP(B9,'РЕЙТИНГ Тех'!$B$5:$AB$35,25,FALSE)","v":"-"}]
[null,"Бильвина Валерия","ОКР",{"$f":"VLOOKUP(B10,'РЕЙТИНГ Тех'!$B$5:$AB$35,5,FALSE)","v":{"$error":"#N/A"}},{"$f":"VLOOKUP(B10,'РЕЙТИНГ Тех'!$B$5:$AB$35,10,FALSE)","v":{"$error":"#N/A"}},{"$f":"VLOOKUP(B10,'РЕЙТИНГ Тех'!$B$5:$AB$35,15,FALSE)","v":{"$error":"#N/A"}},{"$f":"VLOOKUP(B10,'РЕЙТИНГ Тех'!$B$5:$AB$35,20,FALSE)","v":"-"},{"$f":"VLOOKUP(B10,'РЕЙТИНГ Тех'!$B$5:$AB$35,25,FALSE)","v":"-"}]
[null,"Борисов Сергей","ОКР",{"$f":"VLOOKUP(B11,'РЕЙТИНГ Тех'!$B$5:$AB$35,5,FALSE)","v":{"$error":"#N/A"}},{"$f":"VLOOKUP(B11,'РЕЙТИНГ Тех'!$B$5:$AB$35,10,FALSE)","v":{"$error":"#N/A"}},{"$f":"VLOOKUP(B11,'РЕЙТИНГ Тех'!$B$5:$AB$35,15,FALSE)","v":{"$error":"#N/A"}},{"$f":"VLOOKUP(B11,'РЕЙТИНГ Тех'!$B$5:$AB$35,20,FALSE)","v":"-"},{"$f":"VLOOKUP(B11,'РЕЙТИНГ Тех'!$B$5:$AB$35,25,FALSE)","v":"-"}]
[null,"Булковский Сергей","ЗГД",{"$f":"VLOOKUP(B12,'РЕЙТИНГ Тех'!$B$5:$AB$35,5,FALSE)","v":{"$error":"#N/A"}},{"$f":"VLOOKUP(B12,'РЕЙТИНГ Тех'!$B$5:$AB$35,10,FALSE)","v":{"$error":"#N/A"}},{"$f":"VLOOKUP(B12,'РЕЙТИНГ Тех'!$B$5:$AB$35,15,FALSE)","v":{"$error":"#N/A"}},{"$f":"VLOOKUP(B12,'РЕЙТИНГ Тех'!$B$5:$AB$35,20,FALSE)","v":"-"},{"$f":"VLOOKUP(B12,'РЕЙТИНГ Тех'!$B$5:$AB$35,25,FALSE)","v":"-"}]
[null,"Войтюк Юлия","ОКР",{"$f":"VLOOKUP(B13,'РЕЙТИНГ Тех'!$B$5:$AB$35,5,FALSE)","v":{"$error":"#N/A"}},{"$f":"VLOOKUP(B13,'РЕЙТИНГ Тех'!$B$5:$AB$35,10,FALSE)","v":{"$error":"#N/A"}},{"$f":"VLOOKUP(B13,'РЕЙТИНГ Тех'!$B$5:$AB$35,15,FALSE)","v":{"$error":"#N/A"}},{"$f":"VLOOKUP(B13,'РЕЙТИНГ Тех'!$B$5:$AB$35,20,FALSE)","v":"-"},{"$f":"VLOOKUP(B13,'РЕЙТИНГ Тех'!$B$5:$AB$35,25,FALSE)","v":"-"}]
[null,"Гудкова Людмила","ОКР (КЦ)",{"$f":"VLOOKUP(B14,'РЕЙТИНГ Тех'!$B$5:$AB$35,5,FALSE)","v":{"$error":"#N/A"}},{"$f":"VLOOKUP(B14,'РЕЙТИНГ Тех'!$B$5:$AB$35,10,FALSE)","v":{"$error":"#N/A"}},{"$f":"VLOOKUP(B14,'РЕЙТИНГ Тех'!$B$5:$AB$35,15,FALSE)","v":{"$error":"#N/A"}},{"$f":"VLOOKUP(B14,'РЕЙТИНГ Тех'!$B$5:$AB$35,20,FALSE)","v":"-"},{"$f":"VLOOKUP(B14,'РЕЙТИНГ Тех'!$B$5:$AB$35,25,FALSE)","v":"-"}]
[null,"Гулиев Рагим","ЗГД",{"$f":"VLOOKUP(B15,'РЕЙТИНГ Тех'!$B$5:$AB$35,5,FALSE)","v":{"$error":"#N/A"}},{"$f":"VLOOKUP(B15,'РЕЙТИНГ Тех'!$B$5:$AB$35,10,FALSE)","v":{"$error":"#N/A"}},{"$f":"VLOOKUP(B15,'РЕЙТИНГ Тех'!$B$5:$AB$35,15,FALSE)","v":{"$error":"#N/A"}},{"$f":"VLOOKUP(B15,'РЕЙТИНГ Тех'!$B$5:$AB$35,20,FALSE)","v":"-"},{"$f":"VLOOKUP(B15,'РЕЙТИНГ Тех'!$B$5:$AB$35,25,FALSE)","v":"-"}]
[null,"Завьялов Василий","ЗГД",{"$f":"VLOOKUP(B16,'РЕЙТИНГ Тех'!$B$5:$AB$35,5,FALSE)","v":{"$error":"#N/A"}},{"$f":"VLOOKUP(B16,'РЕЙТИНГ Тех'!$B$5:$AB$35,10,FALSE)","v":{"$error":"#N/A"}},{"$f":"VLOOKUP(B16,'РЕЙТИНГ Тех'!$B$5:$AB$35,15,FALSE)","v":{"$error":"#N/A"}},{"$f":"VLOOKUP(B16,'РЕЙТИНГ Тех'!$B$5:$AB$35,20,FALSE)","v":"-"},{"$f":"VLOOKUP(B16,'РЕЙТИНГ Тех'!$B$5:$AB$35,25,FALSE)","v":"-"}]
[null,"Коваленко Тамара","ОКР",{"$f":"VLOOKUP(B17,'РЕЙТИНГ Тех'!$B$5:$AB$35,5,FALSE)","v":21},{"$f":"VLOOKUP(B17,'РЕЙТИНГ Тех'!$B$5:$AB$35,10,FALSE)","v":"-"},{"$f":"VLOOKUP(B17,'РЕЙТИНГ Тех'!$B$5:$AB$35,15,FALSE)","v":"-"},{"$f":"VLOOKUP(B17,'РЕЙТИНГ Тех'!$B$5:$AB$35,20,FALSE)","v":"-"},{"$f":"VLOOKUP(B17,'РЕЙТИНГ Тех'!$B$5:$AB$35,25,FALSE)","v":"-"}]
[null,"Колесников Сергей","ОКР",{"$f":"VLOOKUP(B18,'РЕЙТИНГ Тех'!$B$5:$AB$35,5,FALSE)","v":21},{"$f":"VLOOKUP(B18,'РЕЙТИНГ Тех'!$B$5:$AB$35,10,FALSE)","v":"-"},{"$f":"VLOOKUP(B18,'РЕЙТИНГ Тех'!$B$5:$AB$35,15,FALSE)","v":"-"},{"$f":"VLOOKUP(B18,'РЕЙТИНГ Тех'!$B$5:$AB$35,20,FALSE)","v":"-"},{"$f":"VLOOKUP(B18,'РЕЙТИНГ Тех'!$B$5:$AB$35,25,FALSE)","v":"-"}]
[null,"Коробейников Павел","ЗГД",{"$f":"VLOOKUP(B19,'РЕЙТИНГ Тех'!$B$5:$AB$35,5,FALSE)","v":21},{"$f":"VLOOKUP(B19,'РЕЙТИНГ Тех'!$B$5:$AB$35,10,FALSE)","v":"-"},{"$f":"VLOOKUP(B19,'РЕЙТИНГ Тех'!$B$5:$AB$35,15,FALSE)","v":"-"},{"$f":"VLOOKUP(B19,'РЕЙТИНГ Тех'!$B$5:$AB$35,20,FALSE)","v":"-"},{"$f":"VLOOKUP(B19,'РЕЙТИНГ Тех'!$B$5:$AB$35,25,FALSE)","v":"-"}]
[null,"Марченко Лариса","ОКР",{"$f":"VLOOKUP(B20,'РЕЙТИНГ Тех'!$B$5:$AB$35,5,FALSE)","v":21},{"$f":"VLOOKUP(B20,'РЕЙТИНГ Тех'!$B$5:$AB$35,10,FALSE)","v":"-"},{"$f":"VLOOKUP(B20,'РЕЙТИНГ Тех'!$B$5:$AB$35,15,FALSE)","v":"-"},{"$f":"VLOOKUP(B20,'РЕЙТИНГ Тех'!$B$5:$AB$35,20,FALSE)","v":"-"},{"$f":"VLOOKUP(B20,'РЕЙТИНГ Тех'!$B$5:$AB$35,25,FALSE)","v":"-"}]
[null,"Мелёхин Денис","ОКР (КЦ)",{"$f":"VLOOKUP(B21,'РЕЙТИНГ Тех'!$B$5:$AB$35,5,FALSE)","v":21},{"$f":"VLOOKUP(B21,'РЕЙТИНГ Тех'!$B$5:$AB$35,10,FALSE)","v":"-"},{"$f":"VLOOKUP(B21,'РЕЙТИНГ Тех'!$B$5:$AB$35,15,FALSE)","v":"-"},{"$f":"VLOOKUP(B21,'РЕЙТИНГ Тех'!$B$5:$AB$35,20,FALSE)","v":"-"},{"$f":"VLOOKUP(B21,'РЕЙТИНГ Тех'!$B$5:$AB$35,25,FALSE)","v":"-"}]
[null,"Миняева Ирина","ОКР (КЦ)",{"$f":"VLOOKUP(B22,'РЕЙТИНГ Тех'!$B$5:$AB$35,5,FALSE)","v":21},{"$f":"VLOOKUP(B22,'РЕЙТИНГ Тех'!$B$5:$AB$35,10,FALSE)","v":"-"},{"$f":"VLOOKUP(B22,'РЕЙТИНГ Тех'!$B$5:$AB$35,15,FALSE)","v":"-"},{"$f":"VLOOKUP(B22,'РЕЙТИНГ Тех'!$B$5:$AB$35,20,FALSE)","v":"-"},{"$f":"VLOOKUP(B22,'РЕЙТИНГ Тех'!$B$5:$AB$35,25,FALSE)","v":"-"}]
[null,"Мирсаитов Дмитрий","ЗГД",{"$f":"VLOOKUP(B23,'РЕЙТИНГ Тех'!$B$5:$AB$35,5,FALSE)","v":21},{"$f":"VLOOKUP(B23,'РЕЙТИНГ Тех'!$B$5:$AB$35,10,FALSE)","v":"-"},{"$f":"VLOOKUP(B23,'РЕЙТИНГ Тех'!$B$5:$AB$35,15,FALSE)","v":"-"},{"$f":"VLOOKUP(B23,'РЕЙТИНГ Тех'!$B$5:$AB$35,20,FALSE)","v":"-"},{"$f":"VLOOKUP(B23,'РЕЙТИНГ Тех'!$B$5:$AB$35,25,FALSE)","v":"-"}]
[null,"Навальнева Евгения","ЗГД",{"$f":"VLOOKUP(B24,'РЕЙТИНГ Тех'!$B$5:$AB$35,5,FALSE)","v":21},{"$f":"VLOOKUP(B24,'РЕЙТИНГ Тех'!$B$5:$AB$35,10,FALSE)","v":"-"},{"$f":"VLOOKUP(B24,'РЕЙТИНГ Тех'!$B$5:$AB$35,15,FALSE)","v":"-"},{"$f":"VLOOKUP(B24,'РЕЙТИНГ Тех'!$B$5:$AB$35,20,FALSE)","v":"-"},{"$f":"VLOOKUP(B24,'РЕЙТИНГ Тех'!$B$5:$AB$35,25,FALSE)","v":"-"}]
[null,"Османов Руслан","ЗГД",{"$f":"VLOOKUP(B25,'РЕЙТИНГ Тех'!$B$5:$AB$35,5,FALSE)","v":21},{"$f":"VLOOKUP(B25,'РЕЙТИНГ Тех'!$B$5:$AB$35,10,FALSE)","v":"-"},{"$f":"VLOOKUP(B25,'РЕЙТИНГ Тех'!$B$5:$AB$35,15,FALSE)","v":"-"},{"$f":"VLOOKUP(B25,'РЕЙТИНГ Тех'!$B$5:$AB$35,20,FALSE)","v":"-"},{"$f":"VLOOKUP(B25,'РЕЙТИНГ Тех'!$B$5:$AB$35,25,FALSE)","v":"-"}]
[null,"Приймак Андрей","ЗГД",{"$f":"VLOOKUP(B26,'РЕЙТИНГ Тех'!$B$5:$AB$35,5,FALSE)","v":21},{"$f":"VLOOKUP(B26,'РЕЙТИНГ Тех'!$B$5:$AB$35,10,FALSE)","v":"-"},{"$f":"VLOOKUP(B26,'РЕЙТИНГ Тех'!$B$5:$AB$35,15,FALSE)","v":"-"},{"$f":"VLOOKUP(B26,'РЕЙТИНГ Тех'!$B$5:$AB$35,20,FALSE)","v":"-"},{"$f":"VLOOKUP(B26,'РЕЙТИНГ Тех'!$B$5:$AB$35,25,FALSE)","v":"-"}]
[null,"Проскуряков Алексей","ОКР",{"$f":"VLOOKUP(B27,'РЕЙТИНГ Тех'!$B$5:$AB$35,5,FALSE)","v":21},{"$f":"VLOOKUP(B27,'РЕЙТИНГ Тех'!$B$5:$AB$35,10,FALSE)","v":"-"},{"$f":"VLOOKUP(B27,'РЕЙТИНГ Тех'!$B$5:$AB$35,15,FALSE)","v":"-"},{"$f":"VLOOKUP(B27,'РЕЙТИНГ Тех'!$B$5:$AB$35,20,FALSE)","v":"-"},{"$f":"VLOOKUP(B27,'РЕЙТИНГ Тех'!$B$5:$AB$35,25,FALSE)","v":"-"}]
[null,"Савченко Яна","ОКР (КЦ)",{"$f":"VLOOKUP(B28,'РЕЙТИНГ Тех'!$B$5:$AB$35,5,FALSE)","v":21},{"$f":"VLOOKUP(B28,'РЕЙТИНГ Тех'!$B$5:$AB$35,10,FALSE)","v":"-"},{"$f":"VLOOKUP(B28,'РЕЙТИНГ Тех'!$B$5:$AB$35,15,FALSE)","v":"-"},{"$f":"VLOOKUP(B28,'РЕЙТИНГ Тех'!$B$5:$AB$35,20,FALSE)","v":"-"},{"$f":"VLOOKUP(B28,'РЕЙТИНГ Тех'!$B$5:$AB$35,25,FALSE)","v":"-"}]
[null,"Сафиуллин Наиль","ОКР (КЦ)",{"$f":"VLOOKUP(B29,'РЕЙТИНГ Тех'!$B$5:$AB$35,5,FALSE)","v":21},{"$f":"VLOOKUP(B29,'РЕЙТИНГ Тех'!$B$5:$AB$35,10,FALSE)","v":"-"},{"$f":"VLOOKUP(B29,'РЕЙТИНГ Тех'!$B$5:$AB$35,15,FALSE)","v":"-"},{"$f":"VLOOKUP(B29,'РЕЙТИНГ Тех'!$B$5:$AB$35,20,FALSE)","v":"-"},{"$f":"VLOOKUP(B29,'РЕЙТИНГ Тех'!$B$5:$AB$35,25,FALSE)","v":"-"}]
[null,"Сметанин Павел","ОКР",{"$f":"VLOOKUP(B30,'РЕЙТИНГ Тех'!$B$5:$AB$35,5,FALSE)","v":21},{"$f":"VLOOKUP(B30,'РЕЙТИНГ Тех'!$B$5:$AB$35,10,FALSE)","v":"-"},{"$f":"VLOOKUP(B30,'РЕЙТИНГ Тех'!$B$5:$AB$35,15,FALSE)","v":"-"},{"$f":"VLOOKUP(B30,'РЕЙТИНГ Тех'!$B$5:$AB$35,20,FALSE)","v":"-"},{"$f":"VLOOKUP(B30,'РЕЙТИНГ Тех'!$B$5:$AB$35,25,FALSE)","v":"-"}]
[null,"Степин Константин","ОКР (КЦ)",{"$f":"VLOOKUP(B31,'РЕЙТИНГ Тех'!$B$5:$AB$35,5,FALSE)","v":21},{"$f":"VLOOKUP(B31,'РЕЙТИНГ Тех'!$B$5:$AB$35,10,FALSE)","v":"-"},{"$f":"VLOOKUP(B31,'РЕЙТИНГ Тех'!$B$5:$AB$35,15,FALSE)","v":"-"},{"$f":"VLOOKUP(B31,'РЕЙТИНГ Тех'!$B$5:$AB$35,20,FALSE)","v":"-"},{"$f":"VLOOKUP(B31,'РЕЙТИНГ Тех'!$B$5:$AB$35,25,FALSE)","v":"-"}]
[null,"Титов Александр","ЗГД",{"$f":"VLOOKUP(B32,'РЕЙТИНГ Тех'!$B$5:$AB$35,5,FALSE)","v":21},{"$f":"VLOOKUP(B32,'РЕЙТИНГ Тех'!$B$5:$AB$35,10,FALSE)","v":"-"},{"$f":"VLOOKUP(B32,'РЕЙТИНГ Тех'!$B$5:$AB$35,15,FALSE)","v":"-"},{"$f":"VLOOKUP(B32,'РЕЙТИНГ Тех'!$B$5:$AB$35,20,FALSE)","v":"-"},{"$f":"VLOOKUP(B32,'РЕЙТИНГ Тех'!$B$5:$AB$35,25,FALSE)","v":"-"}]
[null,"Фирсов Владимир","ОКР",{"$f":"VLOOKUP(B33,'РЕЙТИНГ Тех'!$B$5:$AB$35,5,FALSE)","v":21},{"$f":"VLOOKUP(B33,'РЕЙТИНГ Тех'!$B$5:$AB$35,10,FALSE)","v":"-"},{"$f":"VLOOKUP(B33,'РЕЙТИНГ Тех'!$B$5:$AB$35,15,FALSE)","v":"-"},{"$f":"VLOOKUP(B33,'РЕЙТИНГ Тех'!$B$5:$AB$35,20,FALSE)","v":"-"},{"$f":"VLOOKUP(B33,'РЕЙТИНГ Тех'!$B$5:$AB$35,25,FALSE)","v":"-"}]
[null,"Чунц Илья","ЗГД",{"$f":"VLOOKUP(B34,'РЕЙТИНГ Тех'!$B$5:$AB$35,5,FALSE)","v":21},{"$f":"VLOOKUP(B34,'РЕЙТИНГ Тех'!$B$5:$AB$35,10,FALSE)","v":"-"},{"$f":"VLOOKUP(B34,'РЕЙТИНГ Тех'!$B$5:$AB$35,15,FALSE)","v":"-"},{"$f":"VLOOKUP(B34,'РЕЙТИНГ Тех'!$B$5:$AB$35,20,FALSE)","v":"-"},{"$f":"VLOOKUP(B34,'РЕЙТИНГ Тех'!$B$5:$AB$35,25,FALSE)","v":"-"}]
[null,"Шепляков Алексей","ЗГД",{"$f":"VLOOKUP(B35,'РЕЙТИНГ Тех'!$B$5:$AB$35,5,FALSE)","v":21},{"$f":"VLOOKUP(B35,'РЕЙТИНГ Тех'!$B$5:$AB$35,10,FALSE)","v":"-"},{"$f":"VLOOKUP(B35,'РЕЙТИНГ Тех'!$B$5:$AB$35,15,FALSE)","v":"-"},{"$f":"VLOOKUP(B35,'РЕЙТИНГ Тех'!$B$5:$AB$35,20,FALSE)","v":"-"},{"$f":"VLOOKUP(B35,'РЕЙТИНГ Тех'!$B$5:$AB$35,25,FALSE)","v":"-"}]
[null,"Шестаков Антон","ЗГД",{"$f":"VLOOKUP(B36,'РЕЙТИНГ Тех'!$B$5:$AB$35,5,FALSE)","v":21},{"$f":"VLOOKUP(B36,'РЕЙТИНГ Тех'!$B$5:$AB$35,10,FALSE)","v":"-"},{"$f":"VLOOKUP(B36,'РЕЙТИНГ Тех'!$B$5:$AB$35,15,FALSE)","v":"-"},{"$f":"VLOOKUP(B36,'РЕЙТИНГ Тех'!$B$5:$AB$35,20,FALSE)","v":"-"},{"$f":"VLOOKUP(B36,'РЕЙТИНГ Тех'!$B$5:$AB$35,25,FALSE)","v":"-"}]
[null,"Ялымов Денис","ОКР",{"$f":"VLOOKUP(B37,'РЕЙТИНГ Тех'!$B$5:$AB$35,5,FALSE)","v":21},{"$f":"VLOOKUP(B37,'РЕЙТИНГ Тех'!$B$5:$AB$35,10,FALSE)","v":"-"},{"$f":"VLOOKUP(B37,'РЕЙТИНГ Тех'!$B$5:$AB$35,15,FALSE)","v":"-"},{"$f":"VLOOKUP(B37,'РЕЙТИНГ Тех'!$B$5:$AB$35,20,FALSE)","v":"-"},{"$f":"VLOOKUP(B37,'РЕЙТИНГ Тех'!$B$5:$AB$35,25,FALSE)","v":"-"}]

{"sheet":"РЕЙТИНГ Развитие","index":15,"n_rows":37,"n_cols":8,"rows_kept":37,"cut":false,"hidden":true,"merged":[[4,1,4,2],[4,3,4,7]]}
[null,"К СОДЕРЖАНИЮ"]
[]
[null,"РЕЙТИНГ ПО БЛОКУ ПРОФЕССИОНАЛЬНОЕ И ЛИДЕРСКОЕ РАЗВИТИЕ"]
[]
[null,"УЧАСТНИК",null,"РАСПРЕДЕЛЕНИЕ МЕСТ"]
[null,"ФИО","ТИП",{"$f":"IF(H7=\"-\",\"ГОД (Кум.)\",\"ГОД\")","v":"ГОД (Кум.)"},"I КВАРТАЛ","II КВАРТАЛ","III КВАРТАЛ","IV КВАРТАЛ"]
[null,"Андреева Анна","ОКР",{"$f":"VLOOKUP(B7,'РЕЙТИНГ Тех'!$B$5:$AB$35,6,FALSE)","v":{"$error":"#N/A"}},{"$f":"VLOOKUP(B7,'РЕЙТИНГ Тех'!$B$5:$AB$35,11,FALSE)","v":{"$error":"#N/A"}},{"$f":"VLOOKUP(B7,'РЕЙТИНГ Тех'!$B$5:$AB$35,16,FALSE)","v":{"$error":"#N/A"}},{"$f":"VLOOKUP(B7,'РЕЙТИНГ Тех'!$B$5:$AB$35,21,FALSE)","v":"-"},{"$f":"VLOOKUP(B7,'РЕЙТИНГ Тех'!$B$5:$AB$35,26,FALSE)","v":"-"}]
[null,"Анисимова Марина","ОКР",{"$f":"VLOOKUP(B8,'РЕЙТИНГ Тех'!$B$5:$AB$35,6,FALSE)","v":{"$error":"#N/A"}},{"$f":"VLOOKUP(B8,'РЕЙТИНГ Тех'!$B$5:$AB$35,11,FALSE)","v":{"$error":"#N/A"}},{"$f":"VLOOKUP(B8,'РЕЙТИНГ Тех'!$B$5:$AB$35,16,FALSE)","v":{"$error":"#N/A"}},{"$f":"VLOOKUP(B8,'РЕЙТИНГ Тех'!$B$5:$AB$35,21,FALSE)","v":"-"},{"$f":"VLOOKUP(B8,'РЕЙТИНГ Тех'!$B$5:$AB$35,26,FALSE)","v":"-"}]
[null,"Билый Александр","ОКР",{"$f":"VLOOKUP(B9,'РЕЙТИНГ Тех'!$B$5:$AB$35,6,FALSE)","v":{"$error":"#N/A"}},{"$f":"VLOOKUP(B9,'РЕЙТИНГ Тех'!$B$5:$AB$35,11,FALSE)","v":{"$error":"#N/A"}},{"$f":"VLOOKUP(B9,'РЕЙТИНГ Тех'!$B$5:$AB$35,16,FALSE)","v":{"$error":"#N/A"}},{"$f":"VLOOKUP(B9,'РЕЙТИНГ Тех'!$B$5:$AB$35,21,FALSE)","v":"-"},{"$f":"VLOOKUP(B9,'РЕЙТИНГ Тех'!$B$5:$AB$35,26,FALSE)","v":"-"}]
[null,"Бильвина Валерия","ОКР",{"$f":"VLOOKUP(B10,'РЕЙТИНГ Тех'!$B$5:$AB$35,6,FALSE)","v":{"$error":"#N/A"}},{"$f":"VLOOKUP(B10,'РЕЙТИНГ Тех'!$B$5:$AB$35,11,FALSE)","v":{"$error":"#N/A"}},{"$f":"VLOOKUP(B10,'РЕЙТИНГ Тех'!$B$5:$AB$35,16,FALSE)","v":{"$error":"#N/A"}},{"$f":"VLOOKUP(B10,'РЕЙТИНГ Тех'!$B$5:$AB$35,21,FALSE)","v":"-"},{"$f":"VLOOKUP(B10,'РЕЙТИНГ Тех'!$B$5:$AB$35,26,FALSE)","v":"-"}]
[null,"Борисов Сергей","ОКР",{"$f":"VLOOKUP(B11,'РЕЙТИНГ Тех'!$B$5:$AB$35,6,FALSE)","v":{"$error":"#N/A"}},{"$f":"VLOOKUP(B11,'РЕЙТИНГ Тех'!$B$5:$AB$35,11,FALSE)","v":{"$error":"#N/A"}},{"$f":"VLOOKUP(B11,'РЕЙТИНГ Тех'!$B$5:$AB$35,16,FALSE)","v":{"$error":"#N/A"}},{"$f":"VLOOKUP(B11,'РЕЙТИНГ Тех'!$B$5:$AB$35,21,FALSE)","v":"-"},{"$f":"VLOOKUP(B11,'РЕЙТИНГ Тех'!$B$5:$AB$35,26,FALSE)","v":"-"}]
[null,"Булковский Сергей","ЗГД",{"$f":"VLOOKUP(B12,'РЕЙТИНГ Тех'!$B$5:$AB$35,6,FALSE)","v":{"$error":"#N/A"}},{"$f":"VLOOKUP(B12,'РЕЙТИНГ Тех'!$B$5:$AB$35,11,FALSE)","v":{"$error":"#N/A"}},{"$f":"VLOOKUP(B12,'РЕЙТИНГ Тех'!$B$5:$AB$35,16,FALSE)","v":{"$error":"#N/A"}},{"$f":"VLOOKUP(B12,'РЕЙТИНГ Тех'!$B$5:$AB$35,21,FALSE)","v":"-"},{"$f":"VLOOKUP(B12,'РЕЙТИНГ Тех'!$B$5:$AB$35,26,FALSE)","v":"-"}]
[null,"Войтюк Юлия","ОКР",{"$f":"VLOOKUP(B13,'РЕЙТИНГ Тех'!$B$5:$AB$35,6,FALSE)","v":{"$error":"#N/A"}},{"$f":"VLOOKUP(B13,'РЕЙТИНГ Тех'!$B$5:$AB$35,11,FALSE)","v":{"$error":"#N/A"}},{"$f":"VLOOKUP(B13,'РЕЙТИНГ Тех'!$B$5:$AB$35,16,FALSE)","v":{"$error":"#N/A"}},{"$f":"VLOOKUP(B13,'РЕЙТИНГ Тех'!$B$5:$AB$35,21,FALSE)","v":"-"},{"$f":"VLOOKUP(B13,'РЕЙТИНГ Тех'!$B$5:$AB$35,26,FALSE)","v":"-"}]
[null,"Гудкова Людмила","ОКР (КЦ)",{"$f":"VLOOKUP(B14,'РЕЙТИНГ Тех'!$B$5:$AB$35,6,FALSE)","v":{"$error":"#N/A"}},{"$f":"VLOOKUP(B14,'РЕЙТИНГ Тех'!$B$5:$AB$35,11,FALSE)","v":{"$error":"#N/A"}},{"$f":"VLOOKUP(B14,'РЕЙТИНГ Тех'!$B$5:$AB$35,16,FALSE)","v":{"$error":"#N/A"}},{"$f":"VLOOKUP(B14,'РЕЙТИНГ Тех'!$B$5:$AB$35,21,FALSE)","v":"-"},{"$f":"VLOOKUP(B14,'РЕЙТИНГ Тех'!$B$5:$AB$35,26,FALSE)","v":"-"}]
[null,"Гулиев Рагим","ЗГД",{"$f":"VLOOKUP(B15,'РЕЙТИНГ Тех'!$B$5:$AB$35,6,FALSE)","v":{"$error":"#N/A"}},{"$f":"VLOOKUP(B15,'РЕЙТИНГ Тех'!$B$5:$AB$35,11,FALSE)","v":{"$error":"#N/A"}},{"$f":"VLOOKUP(B15,'РЕЙТИНГ Тех'!$B$5:$AB$35,16,FALSE)","v":{"$error":"#N/A"}},{"$f":"VLOOKUP(B15,'РЕЙТИНГ Тех'!$B$5:$AB$35,21,FALSE)","v":"-"},{"$f":"VLOOKUP(B15,'РЕЙТИНГ Тех'!$B$5:$AB$35,26,FALSE)","v":"-"}]
[null,"Завьялов Василий","ЗГД",{"$f":"VLOOKUP(B16,'РЕЙТИНГ Тех'!$B$5:$AB$35,6,FALSE)","v":{"$error":"#N/A"}},{"$f":"VLOOKUP(B16,'РЕЙТИНГ Тех'!$B$5:$AB$35,11,FALSE)","v":{"$error":"#N/A"}},{"$f":"VLOOKUP(B16,'РЕЙТИНГ Тех'!$B$5:$AB$35,16,FALSE)","v":{"$error":"#N/A"}},{"$f":"VLOOKUP(B16,'РЕЙТИНГ Тех'!$B$5:$AB$35,21,FALSE)","v":"-"},{"$f":"VLOOKUP(B16,'РЕЙТИНГ Тех'!$B$5:$AB$35,26,FALSE)","v":"-"}]
[null,"Коваленко Тамара","ОКР",{"$f":"VLOOKUP(B17,'РЕЙТИНГ Тех'!$B$5:$AB$35,6,FALSE)","v":21},{"$f":"VLOOKUP(B17,'РЕЙТИНГ Тех'!$B$5:$AB$35,11,FALSE)","v":"-"},{"$f":"VLOOKUP(B17,'РЕЙТИНГ Тех'!$B$5:$AB$35,16,FALSE)","v":"-"},{"$f":"VLOOKUP(B17,'РЕЙТИНГ Тех'!$B$5:$AB$35,21,FALSE)","v":"-"},{"$f":"VLOOKUP(B17,'РЕЙТИНГ Тех'!$B$5:$AB$35,26,FALSE)","v":"-"}]
[null,"Колесников Сергей","ОКР",{"$f":"VLOOKUP(B18,'РЕЙТИНГ Тех'!$B$5:$AB$35,6,FALSE)","v":21},{"$f":"VLOOKUP(B18,'РЕЙТИНГ Тех'!$B$5:$AB$35,11,FALSE)","v":"-"},{"$f":"VLOOKUP(B18,'РЕЙТИНГ Тех'!$B$5:$AB$35,16,FALSE)","v":"-"},{"$f":"VLOOKUP(B18,'РЕЙТИНГ Тех'!$B$5:$AB$35,21,FALSE)","v":"-"},{"$f":"VLOOKUP(B18,'РЕЙТИНГ Тех'!$B$5:$AB$35,26,FALSE)","v":"-"}]
[null,"Коробейников Павел","ЗГД",{"$f":"VLOOKUP(B19,'РЕЙТИНГ Тех'!$B$5:$AB$35,6,FALSE)","v":21},{"$f":"VLOOKUP(B19,'РЕЙТИНГ Тех'!$B$5:$AB$35,11,FALSE)","v":"-"},{"$f":"VLOOKUP(B19,'РЕЙТИНГ Тех'!$B$5:$AB$35,16,FALSE)","v":"-"},{"$f":"VLOOKUP(B19,'РЕЙТИНГ Тех'!$B$5:$AB$35,21,FALSE)","v":"-"},{"$f":"VLOOKUP(B19,'РЕЙТИНГ Тех'!$B$5:$AB$35,26,FALSE)","v":"-"}]
[null,"Марченко Лариса","ОКР",{"$f":"VLOOKUP(B20,'РЕЙТИНГ Тех'!$B$5:$AB$35,6,FALSE)","v":21},{"$f":"VLOOKUP(B20,'РЕЙТИНГ Тех'!$B$5:$AB$35,11,FALSE)","v":"-"},{"$f":"VLOOKUP(B20,'РЕЙТИНГ Тех'!$B$5:$AB$35,16,FALSE)","v":"-"},{"$f":"VLOOKUP(B20,'РЕЙТИНГ Тех'!$B$5:$AB$35,21,FALSE)","v":"-"},{"$f":"VLOOKUP(B20,'РЕЙТИНГ Тех'!$B$5:$AB$35,26,FALSE)","v":"-"}]
[null,"Мелёхин Денис","ОКР (КЦ)",{"$f":"VLOOKUP(B21,'РЕЙТИНГ Тех'!$B$5:$AB$35,6,FALSE)","v":21},{"$f":"VLOOKUP(B21,'РЕЙТИНГ Тех'!$B$5:$AB$35,11,FALSE)","v":"-"},{"$f":"VLOOKUP(B21,'РЕЙТИНГ Тех'!$B$5:$AB$35,16,FALSE)","v":"-"},{"$f":"VLOOKUP(B21,'РЕЙТИНГ Тех'!$B$5:$AB$35,21,FALSE)","v":"-"},{"$f":"VLOOKUP(B21,'РЕЙТИНГ Тех'!$B$5:$AB$35,26,FALSE)","v":"-"}]
[null,"Миняева Ирина","ОКР (КЦ)",{"$f":"VLOOKUP(B22,'РЕЙТИНГ Тех'!$B$5:$AB$35,6,FALSE)","v":21},{"$f":"VLOOKUP(B22,'РЕЙТИНГ Тех'!$B$5:$AB$35,11,FALSE)","v":"-"},{"$f":"VLOOKUP(B22,'РЕЙТИНГ Тех'!$B$5:$AB$35,16,FALSE)","v":"-"},{"$f":"VLOOKUP(B22,'РЕЙТИНГ Тех'!$B$5:$AB$35,21,FALSE)","v":"-"},{"$f":"VLOOKUP(B22,'РЕЙТИНГ Тех'!$B$5:$AB$35,26,FALSE)","v":"-"}]
[null,"Мирсаитов Дмитрий","ЗГД",{"$f":"VLOOKUP(B23,'РЕЙТИНГ Тех'!$B$5:$AB$35,6,FALSE)","v":21},{"$f":"VLOOKUP(B23,'РЕЙТИНГ Тех'!$B$5:$AB$35,11,FALSE)","v":"-"},{"$f":"VLOOKUP(B23,'РЕЙТИНГ Тех'!$B$5:$AB$35,16,FALSE)","v":"-"},{"$f":"VLOOKUP(B23,'РЕЙТИНГ Тех'!$B$5:$AB$35,21,FALSE)","v":"-"},{"$f":"VLOOKUP(B23,'РЕЙТИНГ Тех'!$B$5:$AB$35,26,FALSE)","v":"-"}]
[null,"Навальнева Евгения","ЗГД",{"$f":"VLOOKUP(B24,'РЕЙТИНГ Тех'!$B$5:$AB$35,6,FALSE)","v":21},{"$f":"VLOOKUP(B24,'РЕЙТИНГ Тех'!$B$5:$AB$35,11,FALSE)","v":"-"},{"$f":"VLOOKUP(B24,'РЕЙТИНГ Тех'!$B$5:$AB$35,16,FALSE)","v":"-"},{"$f":"VLOOKUP(B24,'РЕЙТИНГ Тех'!$B$5:$AB$35,21,FALSE)","v":"-"},{"$f":"VLOOKUP(B24,'РЕЙТИНГ Тех'!$B$5:$AB$35,26,FALSE)","v":"-"}]
[null,"Османов Руслан","ЗГД",{"$f":"VLOOKUP(B25,'РЕЙТИНГ Тех'!$B$5:$AB$35,6,FALSE)","v":21},{"$f":"VLOOKUP(B25,'РЕЙТИНГ Тех'!$B$5:$AB$35,11,FALSE)","v":"-"},{"$f":"VLOOKUP(B25,'РЕЙТИНГ Тех'!$B$5:$AB$35,16,FALSE)","v":"-"},{"$f":"VLOOKUP(B25,'РЕЙТИНГ Тех'!$B$5:$AB$35,21,FALSE)","v":"-"},{"$f":"VLOOKUP(B25,'РЕЙТИНГ Тех'!$B$5:$AB$35,26,FALSE)","v":"-"}]
[null,"Приймак Андрей","ЗГД",{"$f":"VLOOKUP(B26,'РЕЙТИНГ Тех'!$B$5:$AB$35,6,FALSE)","v":21},{"$f":"VLOOKUP(B26,'РЕЙТИНГ Тех'!$B$5:$AB$35,11,FALSE)","v":"-"},{"$f":"VLOOKUP(B26,'РЕЙТИНГ Тех'!$B$5:$AB$35,16,FALSE)","v":"-"},{"$f":"VLOOKUP(B26,'РЕЙТИНГ Тех'!$B$5:$AB$35,21,FALSE)","v":"-"},{"$f":"VLOOKUP(B26,'РЕЙТИНГ Тех'!$B$5:$AB$35,26,FALSE)","v":"-"}]
[null,"Проскуряков Алексей","ОКР",{"$f":"VLOOKUP(B27,'РЕЙТИНГ Тех'!$B$5:$AB$35,6,FALSE)","v":21},{"$f":"VLOOKUP(B27,'РЕЙТИНГ Тех'!$B$5:$AB$35,11,FALSE)","v":"-"},{"$f":"VLOOKUP(B27,'РЕЙТИНГ Тех'!$B$5:$AB$35,16,FALSE)","v":"-"},{"$f":"VLOOKUP(B27,'РЕЙТИНГ Тех'!$B$5:$AB$35,21,FALSE)","v":"-"},{"$f":"VLOOKUP(B27,'РЕЙТИНГ Тех'!$B$5:$AB$35,26,FALSE)","v":"-"}]
[null,"Савченко Яна","ОКР (КЦ)",{"$f":"VLOOKUP(B28,'РЕЙТИНГ Тех'!$B$5:$AB$35,6,FALSE)","v":21},{"$f":"VLOOKUP(B28,'РЕЙТИНГ Тех'!$B$5:$AB$35,11,FALSE)","v":"-"},{"$f":"VLOOKUP(B28,'РЕЙТИНГ Тех'!$B$5:$AB$35,16,FALSE)","v":"-"},{"$f":"VLOOKUP(B28,'РЕЙТИНГ Тех'!$B$5:$AB$35,21,FALSE)","v":"-"},{"$f":"VLOOKUP(B28,'РЕЙТИНГ Тех'!$B$5:$AB$35,26,FALSE)","v":"-"}]
[null,"Сафиуллин Наиль","ОКР (КЦ)",{"$f":"VLOOKUP(B29,'РЕЙТИНГ Тех'!$B$5:$AB$35,6,FALSE)","v":21},{"$f":"VLOOKUP(B29,'РЕЙТИНГ Тех'!$B$5:$AB$35,11,FALSE)","v":"-"},{"$f":"VLOOKUP(B29,'РЕЙТИНГ Тех'!$B$5:$AB$35,16,FALSE)","v":"-"},{"$f":"VLOOKUP(B29,'РЕЙТИНГ Тех'!$B$5:$AB$35,21,FALSE)","v":"-"},{"$f":"VLOOKUP(B29,'РЕЙТИНГ Тех'!$B$5:$AB$35,26,FALSE)","v":"-"}]
[null,"Сметанин Павел","ОКР",{"$f":"VLOOKUP(B30,'РЕЙТИНГ Тех'!$B$5:$AB$35,6,FALSE)","v":21},{"$f":"VLOOKUP(B30,'РЕЙТИНГ Тех'!$B$5:$AB$35,11,FALSE)","v":"-"},{"$f":"VLOOKUP(B30,'РЕЙТИНГ Тех'!$B$5:$AB$35,16,FALSE)","v":"-"},{"$f":"VLOOKUP(B30,'РЕЙТИНГ Тех'!$B$5:$AB$35,21,FALSE)","v":"-"},{"$f":"VLOOKUP(B30,'РЕЙТИНГ Тех'!$B$5:$AB$35,26,FALSE)","v":"-"}]
[null,"Степин Константин","ОКР (КЦ)",{"$f":"VLOOKUP(B31,'РЕЙТИНГ Тех'!$B$5:$AB$35,6,FALSE)","v":21},{"$f":"VLOOKUP(B31,'РЕЙТИНГ Тех'!$B$5:$AB$35,11,FALSE)","v":"-"},{"$f":"VLOOKUP(B31,'РЕЙТИНГ Тех'!$B$5:$AB$35,16,FALSE)","v":"-"},{"$f":"VLOOKUP(B31,'РЕЙТИНГ Тех'!$B$5:$AB$35,21,FALSE)","v":"-"},{"$f":"VLOOKUP(B31,'РЕЙТИНГ Тех'!$B$5:$AB$35,26,FALSE)","v":"-"}]
[null,"Титов Александр","ЗГД",{"$f":"VLOOKUP(B32,'РЕЙТИНГ Тех'!$B$5:$AB$35,6,FALSE)","v":21},{"$f":"VLOOKUP(B32,'РЕЙТИНГ Тех'!$B$5:$AB$35,11,FALSE)","v":"-"},{"$f":"VLOOKUP(B32,'РЕЙТИНГ Тех'!$B$5:$AB$35,16,FALSE)","v":"-"},{"$f":"VLOOKUP(B32,'РЕЙТИНГ Тех'!$B$5:$AB$35,21,FALSE)","v":"-"},{"$f":"VLOOKUP(B32,'РЕЙТИНГ Тех'!$B$5:$AB$35,26,FALSE)","v":"-"}]
[null,"Фирсов Владимир","ОКР",{"$f":"VLOOKUP(B33,'РЕЙТИНГ Тех'!$B$5:$AB$35,6,FALSE)","v":21},{"$f":"VLOOKUP(B33,'РЕЙТИНГ Тех'!$B$5:$AB$35,11,FALSE)","v":"-"},{"$f":"VLOOKUP(B33,'РЕЙТИНГ Тех'!$B$5:$AB$35,16,FALSE)","v":"-"},{"$f":"VLOOKUP(B33,'РЕЙТИНГ Тех'!$B$5:$AB$35,21,FALSE)","v":"-"},{"$f":"VLOOKUP(B33,'РЕЙТИНГ Тех'!$B$5:$AB$35,26,FALSE)","v":"-"}]
[null,"Чунц Илья","ЗГД",{"$f":"VLOOKUP(B34,'РЕЙТИНГ Тех'!$B$5:$AB$35,6,FALSE)","v":21},{"$f":"VLOOKUP(B34,'РЕЙТИНГ Тех'!$B$5:$AB$35,11,FALSE)","v":"-"},{"$f":"VLOOKUP(B34,'РЕЙТИНГ Тех'!$B$5:$AB$35,16,FALSE)","v":"-"},{"$f":"VLOOKUP(B34,'РЕЙТИНГ Тех'!$B$5:$AB$35,21,FALSE)","v":"-"},{"$f":"VLOOKUP(B34,'РЕЙТИНГ Тех'!$B$5:$AB$35,26,FALSE)","v":"-"}]
[null,"Шепляков Алексей","ЗГД",{"$f":"VLOOKUP(B35,'РЕЙТИНГ Тех'!$B$5:$AB$35,6,FALSE)","v":21},{"$f":"VLOOKUP(B35,'РЕЙТИНГ Тех'!$B$5:$AB$35,11,FALSE)","v":"-"},{"$f":"VLOOKUP(B35,'РЕЙТИНГ Тех'!$B$5:$AB$35,16,FALSE)","v":"-"},{"$f":"VLOOKUP(B35,'РЕЙТИНГ Тех'!$B$5:$AB$35,21,FALSE)","v":"-"},{"$f":"VLOOKUP(B35,'РЕЙТИНГ Тех'!$B$5:$AB$35,26,FALSE)","v":"-"}]
[null,"Шестаков Антон","ЗГД",{"$f":"VLOOKUP(B36,'РЕЙТИНГ Тех'!$B$5:$AB$35,6,FALSE)","v":21},{"$f":"VLOOKUP(B36,'РЕЙТИНГ Тех'!$B$5:$AB$35,11,FALSE)","v":"-"},{"$f":"VLOOKUP(B36,'РЕЙТИНГ Тех'!$B$5:$AB$35,16,FALSE)","v":"-"},{"$f":"VLOOKUP(B36,'РЕЙТИНГ Тех'!$B$5:$AB$35,21,FALSE)","v":"-"},{"$f":"VLOOKUP(B36,'РЕЙТИНГ Тех'!$B$5:$AB$35,26,FALSE)","v":"-"}]
[null,"Ялымов Денис","ОКР",{"$f":"VLOOKUP(B37,'РЕЙТИНГ Тех'!$B$5:$AB$35,6,FALSE)","v":21},{"$f":"VLOOKUP(B37,'РЕЙТИНГ Тех'!$B$5:$AB$35,11,FALSE)","v":"-"},{"$f":"VLOOKUP(B37,'РЕЙТИНГ Тех'!$B$5:$AB$35,16,FALSE)","v":"-"},{"$f":"VLOOKUP(B37,'РЕЙТИНГ Тех'!$B$5:$AB$35,21,FALSE)","v":"-"},{"$f":"VLOOKUP(B37,'РЕЙТИНГ Тех'!$B$5:$AB$35,26,FALSE)","v":"-"}]

{"sheet":"РЕЙТИНГ Взаимодействие","index":16,"n_rows":37,"n_cols":8,"rows_kept":37,"cut":false,"hidden":true,"merged":[[4,1,4,2],[4,3,4,7]]}
[null,"К СОДЕРЖАНИЮ"]
[]
[null,"РЕЙТИНГ ПО БЛОКУ ЭФФЕКТИВНОЕ ВЗАИМОДЕЙСТВИЕ"]
[]
[null,"УЧАСТНИК",null,"РАСПРЕДЕЛЕНИЕ МЕСТ"]
[null,"ФИО","ТИП",{"$f":"IF(H7=\"-\",\"ГОД (Кум.)\",\"ГОД\")","v":"ГОД (Кум.)"},"I КВАРТАЛ","II КВАРТАЛ","III КВАРТАЛ","IV КВАРТАЛ"]
[null,"Ялымов Денис","ОКР",{"$f":"VLOOKUP(B7,'РЕЙТИНГ Тех'!$B$5:$AB$35,7,FALSE)","v":21},{"$f":"VLOOKUP(B7,'РЕЙТИНГ Тех'!$B$5:$AB$35,12,FALSE)","v":"-"},{"$f":"VLOOKUP(B7,'РЕЙТИНГ Тех'!$B$5:$AB$35,17,FALSE)","v":"-"},{"$f":"VLOOKUP(B7,'РЕЙТИНГ Тех'!$B$5:$AB$35,22,FALSE)","v":"-"},{"$f":"VLOOKUP(B7,'РЕЙТИНГ Тех'!$B$5:$AB$35,27,FALSE)","v":"-"}]
[null,"Мелёхин Денис","ОКР (КЦ)",{"$f":"VLOOKUP(B8,'РЕЙТИНГ Тех'!$B$5:$AB$35,7,FALSE)","v":21},{"$f":"VLOOKUP(B8,'РЕЙТИНГ Тех'!$B$5:$AB$35,12,FALSE)","v":"-"},{"$f":"VLOOKUP(B8,'РЕЙТИНГ Тех'!$B$5:$AB$35,17,FALSE)","v":"-"},{"$f":"VLOOKUP(B8,'РЕЙТИНГ Тех'!$B$5:$AB$35,22,FALSE)","v":"-"},{"$f":"VLOOKUP(B8,'РЕЙТИНГ Тех'!$B$5:$AB$35,27,FALSE)","v":"-"}]
[null,"Билый Александр","ОКР",{"$f":"VLOOKUP(B9,'РЕЙТИНГ Тех'!$B$5:$AB$35,7,FALSE)","v":{"$error":"#N/A"}},{"$f":"VLOOKUP(B9,'РЕЙТИНГ Тех'!$B$5:$AB$35,12,FALSE)","v":{"$error":"#N/A"}},{"$f":"VLOOKUP(B9,'РЕЙТИНГ Тех'!$B$5:$AB$35,17,FALSE)","v":{"$error":"#N/A"}},{"$f":"VLOOKUP(B9,'РЕЙТИНГ Тех'!$B$5:$AB$35,22,FALSE)","v":"-"},{"$f":"VLOOKUP(B9,'РЕЙТИНГ Тех'!$B$5:$AB$35,27,FALSE)","v":"-"}]
[null,"Гудкова Людмила","ОКР (КЦ)",{"$f":"VLOOKUP(B10,'РЕЙТИНГ Тех'!$B$5:$AB$35,7,FALSE)","v":{"$error":"#N/A"}},{"$f":"VLOOKUP(B10,'РЕЙТИНГ Тех'!$B$5:$AB$35,12,FALSE)","v":{"$error":"#N/A"}},{"$f":"VLOOKUP(B10,'РЕЙТИНГ Тех'!$B$5:$AB$35,17,FALSE)","v":{"$error":"#N/A"}},{"$f":"VLOOKUP(B10,'РЕЙТИНГ Тех'!$B$5:$AB$35,22,FALSE)","v":"-"},{"$f":"VLOOKUP(B10,'РЕЙТИНГ Тех'!$B$5:$AB$35,27,FALSE)","v":"-"}]
[null,"Навальнева Евгения","ЗГД",{"$f":"VLOOKUP(B11,'РЕЙТИНГ Тех'!$B$5:$AB$35,7,FALSE)","v":21},{"$f":"VLOOKUP(B11,'РЕЙТИНГ Тех'!$B$5:$AB$35,12,FALSE)","v":"-"},{"$f":"VLOOKUP(B11,'РЕЙТИНГ Тех'!$B$5:$AB$35,17,FALSE)","v":"-"},{"$f":"VLOOKUP(B11,'РЕЙТИНГ Тех'!$B$5:$AB$35,22,FALSE)","v":"-"},{"$f":"VLOOKUP(B11,'РЕЙТИНГ Тех'!$B$5:$AB$35,27,FALSE)","v":"-"}]
[null,"Войтюк Юлия","ОКР",{"$f":"VLOOKUP(B12,'РЕЙТИНГ Тех'!$B$5:$AB$35,7,FALSE)","v":{"$error":"#N/A"}},{"$f":"VLOOKUP(B12,'РЕЙТИНГ Тех'!$B$5:$AB$35,12,FALSE)","v":{"$error":"#N/A"}},{"$f":"VLOOKUP(B12,'РЕЙТИНГ Тех'!$B$5:$AB$35,17,FALSE)","v":{"$error":"#N/A"}},{"$f":"VLOOKUP(B12,'РЕЙТИНГ Тех'!$B$5:$AB$35,22,FALSE)","v":"-"},{"$f":"VLOOKUP(B12,'РЕЙТИНГ Тех'!$B$5:$AB$35,27,FALSE)","v":"-"}]
[null,"Шестаков Антон","ЗГД",{"$f":"VLOOKUP(B13,'РЕЙТИНГ Тех'!$B$5:$AB$35,7,FALSE)","v":21},{"$f":"VLOOKUP(B13,'РЕЙТИНГ Тех'!$B$5:$AB$35,12,FALSE)","v":"-"},{"$f":"VLOOKUP(B13,'РЕЙТИНГ Тех'!$B$5:$AB$35,17,FALSE)","v":"-"},{"$f":"VLOOKUP(B13,'РЕЙТИНГ Тех'!$B$5:$AB$35,22,FALSE)","v":"-"},{"$f":"VLOOKUP(B13,'РЕЙТИНГ Тех'!$B$5:$AB$35,27,FALSE)","v":"-"}]
[null,"Миняева Ирина","ОКР (КЦ)",{"$f":"VLOOKUP(B14,'РЕЙТИНГ Тех'!$B$5:$AB$35,7,FALSE)","v":21},{"$f":"VLOOKUP(B14,'РЕЙТИНГ Тех'!$B$5:$AB$35,12,FALSE)","v":"-"},{"$f":"VLOOKUP(B14,'РЕЙТИНГ Тех'!$B$5:$AB$35,17,FALSE)","v":"-"},{"$f":"VLOOKUP(B14,'РЕЙТИНГ Тех'!$B$5:$AB$35,22,FALSE)","v":"-"},{"$f":"VLOOKUP(B14,'РЕЙТИНГ Тех'!$B$5:$AB$35,27,FALSE)","v":"-"}]
[null,"Османов Руслан","ЗГД",{"$f":"VLOOKUP(B15,'РЕЙТИНГ Тех'!$B$5:$AB$35,7,FALSE)","v":21},{"$f":"VLOOKUP(B15,'РЕЙТИНГ Тех'!$B$5:$AB$35,12,FALSE)","v":"-"},{"$f":"VLOOKUP(B15,'РЕЙТИНГ Тех'!$B$5:$AB$35,17,FALSE)","v":"-"},{"$f":"VLOOKUP(B15,'РЕЙТИНГ Тех'!$B$5:$AB$35,22,FALSE)","v":"-"},{"$f":"VLOOKUP(B15,'РЕЙТИНГ Тех'!$B$5:$AB$35,27,FALSE)","v":"-"}]
[null,"Сафиуллин Наиль","ОКР (КЦ)",{"$f":"VLOOKUP(B16,'РЕЙТИНГ Тех'!$B$5:$AB$35,7,FALSE)","v":21},{"$f":"VLOOKUP(B16,'РЕЙТИНГ Тех'!$B$5:$AB$35,12,FALSE)","v":"-"},{"$f":"VLOOKUP(B16,'РЕЙТИНГ Тех'!$B$5:$AB$35,17,FALSE)","v":"-"},{"$f":"VLOOKUP(B16,'РЕЙТИНГ Тех'!$B$5:$AB$35,22,FALSE)","v":"-"},{"$f":"VLOOKUP(B16,'РЕЙТИНГ Тех'!$B$5:$AB$35,27,FALSE)","v":"-"}]
[null,"Борисов Сергей","ОКР",{"$f":"VLOOKUP(B17,'РЕЙТИНГ Тех'!$B$5:$AB$35,7,FALSE)","v":{"$error":"#N/A"}},{"$f":"VLOOKUP(B17,'РЕЙТИНГ Тех'!$B$5:$AB$35,12,FALSE)","v":{"$error":"#N/A"}},{"$f":"VLOOKUP(B17,'РЕЙТИНГ Тех'!$B$5:$AB$35,17,FALSE)","v":{"$error":"#N/A"}},{"$f":"VLOOKUP(B17,'РЕЙТИНГ Тех'!$B$5:$AB$35,22,FALSE)","v":"-"},{"$f":"VLOOKUP(B17,'РЕЙТИНГ Тех'!$B$5:$AB$35,27,FALSE)","v":"-"}]
[null,"Колесников Сергей","ОКР",{"$f":"VLOOKUP(B18,'РЕЙТИНГ Тех'!$B$5:$AB$35,7,FALSE)","v":21},{"$f":"VLOOKUP(B18,'РЕЙТИНГ Тех'!$B$5:$AB$35,12,FALSE)","v":"-"},{"$f":"VLOOKUP(B18,'РЕЙТИНГ Тех'!$B$5:$AB$35,17,FALSE)","v":"-"},{"$f":"VLOOKUP(B18,'РЕЙТИНГ Тех'!$B$5:$AB$35,22,FALSE)","v":"-"},{"$f":"VLOOKUP(B18,'РЕЙТИНГ Тех'!$B$5:$AB$35,27,FALSE)","v":"-"}]
[null,"Титов Александр","ЗГД",{"$f":"VLOOKUP(B19,'РЕЙТИНГ Тех'!$B$5:$AB$35,7,FALSE)","v":21},{"$f":"VLOOKUP(B19,'РЕЙТИНГ Тех'!$B$5:$AB$35,12,FALSE)","v":"-"},{"$f":"VLOOKUP(B19,'РЕЙТИНГ Тех'!$B$5:$AB$35,17,FALSE)","v":"-"},{"$f":"VLOOKUP(B19,'РЕЙТИНГ Тех'!$B$5:$AB$35,22,FALSE)","v":"-"},{"$f":"VLOOKUP(B19,'РЕЙТИНГ Тех'!$B$5:$AB$35,27,FALSE)","v":"-"}]
[null,"Бильвина Валерия","ОКР",{"$f":"VLOOKUP(B20,'РЕЙТИНГ Тех'!$B$5:$AB$35,7,FALSE)","v":{"$error":"#N/A"}},{"$f":"VLOOKUP(B20,'РЕЙТИНГ Тех'!$B$5:$AB$35,12,FALSE)","v":{"$error":"#N/A"}},{"$f":"VLOOKUP(B20,'РЕЙТИНГ Тех'!$B$5:$AB$35,17,FALSE)","v":{"$error":"#N/A"}},{"$f":"VLOOKUP(B20,'РЕЙТИНГ Тех'!$B$5:$AB$35,22,FALSE)","v":"-"},{"$f":"VLOOKUP(B20,'РЕЙТИНГ Тех'!$B$5:$AB$35,27,FALSE)","v":"-"}]
[null,"Фирсов Владимир","ОКР",{"$f":"VLOOKUP(B21,'РЕЙТИНГ Тех'!$B$5:$AB$35,7,FALSE)","v":21},{"$f":"VLOOKUP(B21,'РЕЙТИНГ Тех'!$B$5:$AB$35,12,FALSE)","v":"-"},{"$f":"VLOOKUP(B21,'РЕЙТИНГ Тех'!$B$5:$AB$35,17,FALSE)","v":"-"},{"$f":"VLOOKUP(B21,'РЕЙТИНГ Тех'!$B$5:$AB$35,22,FALSE)","v":"-"},{"$f":"VLOOKUP(B21,'РЕЙТИНГ Тех'!$B$5:$AB$35,27,FALSE)","v":"-"}]
[null,"Мирсаитов Дмитрий","ЗГД",{"$f":"VLOOKUP(B22,'РЕЙТИНГ Тех'!$B$5:$AB$35,7,FALSE)","v":21},{"$f":"VLOOKUP(B22,'РЕЙТИНГ Тех'!$B$5:$AB$35,12,FALSE)","v":"-"},{"$f":"VLOOKUP(B22,'РЕЙТИНГ Тех'!$B$5:$AB$35,17,FALSE)","v":"-"},{"$f":"VLOOKUP(B22,'РЕЙТИНГ Тех'!$B$5:$AB$35,22,FALSE)","v":"-"},{"$f":"VLOOKUP(B22,'РЕЙТИНГ Тех'!$B$5:$AB$35,27,FALSE)","v":"-"}]
[null,"Анисимова Марина","ОКР",{"$f":"VLOOKUP(B23,'РЕЙТИНГ Тех'!$B$5:$AB$35,7,FALSE)","v":{"$error":"#N/A"}},{"$f":"VLOOKUP(B23,'РЕЙТИНГ Тех'!$B$5:$AB$35,12,FALSE)","v":{"$error":"#N/A"}},{"$f":"VLOOKUP(B23,'РЕЙТИНГ Тех'!$B$5:$AB$35,17,FALSE)","v":{"$error":"#N/A"}},{"$f":"VLOOKUP(B23,'РЕЙТИНГ Тех'!$B$5:$AB$35,22,FALSE)","v":"-"},{"$f":"VLOOKUP(B23,'РЕЙТИНГ Тех'!$B$5:$AB$35,27,FALSE)","v":"-"}]
[null,"Сметанин Павел","ОКР",{"$f":"VLOOKUP(B24,'РЕЙТИНГ Тех'!$B$5:$AB$35,7,FALSE)","v":21},{"$f":"VLOOKUP(B24,'РЕЙТИНГ Тех'!$B$5:$AB$35,12,FALSE)","v":"-"},{"$f":"VLOOKUP(B24,'РЕЙТИНГ Тех'!$B$5:$AB$35,17,FALSE)","v":"-"},{"$f":"VLOOKUP(B24,'РЕЙТИНГ Тех'!$B$5:$AB$35,22,FALSE)","v":"-"},{"$f":"VLOOKUP(B24,'РЕЙТИНГ Тех'!$B$5:$AB$35,27,FALSE)","v":"-"}]
[null,"Андреева Анна","ОКР",{"$f":"VLOOKUP(B25,'РЕЙТИНГ Тех'!$B$5:$AB$35,7,FALSE)","v":{"$error":"#N/A"}},{"$f":"VLOOKUP(B25,'РЕЙТИНГ Тех'!$B$5:$AB$35,12,FALSE)","v":{"$error":"#N/A"}},{"$f":"VLOOKUP(B25,'РЕЙТИНГ Тех'!$B$5:$AB$35,17,FALSE)","v":{"$error":"#N/A"}},{"$f":"VLOOKUP(B25,'РЕЙТИНГ Тех'!$B$5:$AB$35,22,FALSE)","v":"-"},{"$f":"VLOOKUP(B25,'РЕЙТИНГ Тех'!$B$5:$AB$35,27,FALSE)","v":"-"}]
[null,"Булковский Сергей","ЗГД",{"$f":"VLOOKUP(B26,'РЕЙТИНГ Тех'!$B$5:$AB$35,7,FALSE)","v":{"$error":"#N/A"}},{"$f":"VLOOKUP(B26,'РЕЙТИНГ Тех'!$B$5:$AB$35,12,FALSE)","v":{"$error":"#N/A"}},{"$f":"VLOOKUP(B26,'РЕЙТИНГ Тех'!$B$5:$AB$35,17,FALSE)","v":{"$error":"#N/A"}},{"$f":"VLOOKUP(B26,'РЕЙТИНГ Тех'!$B$5:$AB$35,22,FALSE)","v":"-"},{"$f":"VLOOKUP(B26,'РЕЙТИНГ Тех'!$B$5:$AB$35,27,FALSE)","v":"-"}]
[null,"Коваленко Тамара","ОКР",{"$f":"VLOOKUP(B27,'РЕЙТИНГ Тех'!$B$5:$AB$35,7,FALSE)","v":21},{"$f":"VLOOKUP(B27,'РЕЙТИНГ Тех'!$B$5:$AB$35,12,FALSE)","v":"-"},{"$f":"VLOOKUP(B27,'РЕЙТИНГ Тех'!$B$5:$AB$35,17,FALSE)","v":"-"},{"$f":"VLOOKUP(B27,'РЕЙТИНГ Тех'!$B$5:$AB$35,22,FALSE)","v":"-"},{"$f":"VLOOKUP(B27,'РЕЙТИНГ Тех'!$B$5:$AB$35,27,FALSE)","v":"-"}]
[null,"Чунц Илья","ЗГД",{"$f":"VLOOKUP(B28,'РЕЙТИНГ Тех'!$B$5:$AB$35,7,FALSE)","v":21},{"$f":"VLOOKUP(B28,'РЕЙТИНГ Тех'!$B$5:$AB$35,12,FALSE)","v":"-"},{"$f":"VLOOKUP(B28,'РЕЙТИНГ Тех'!$B$5:$AB$35,17,FALSE)","v":"-"},{"$f":"VLOOKUP(B28,'РЕЙТИНГ Тех'!$B$5:$AB$35,22,FALSE)","v":"-"},{"$f":"VLOOKUP(B28,'РЕЙТИНГ Тех'!$B$5:$AB$35,27,FALSE)","v":"-"}]
[null,"Савченко Яна","ОКР (КЦ)",{"$f":"VLOOKUP(B29,'РЕЙТИНГ Тех'!$B$5:$AB$35,7,FALSE)","v":21},{"$f":"VLOOKUP(B29,'РЕЙТИНГ Тех'!$B$5:$AB$35,12,FALSE)","v":"-"},{"$f":"VLOOKUP(B29,'РЕЙТИНГ Тех'!$B$5:$AB$35,17,FALSE)","v":"-"},{"$f":"VLOOKUP(B29,'РЕЙТИНГ Тех'!$B$5:$AB$35,22,FALSE)","v":"-"},{"$f":"VLOOKUP(B29,'РЕЙТИНГ Тех'!$B$5:$AB$35,27,FALSE)","v":"-"}]
[null,"Шепляков Алексей","ЗГД",{"$f":"VLOOKUP(B30,'РЕЙТИНГ Тех'!$B$5:$AB$35,7,FALSE)","v":21},{"$f":"VLOOKUP(B30,'РЕЙТИНГ Тех'!$B$5:$AB$35,12,FALSE)","v":"-"},{"$f":"VLOOKUP(B30,'РЕЙТИНГ Тех'!$B$5:$AB$35,17,FALSE)","v":"-"},{"$f":"VLOOKUP(B30,'РЕЙТИНГ Тех'!$B$5:$AB$35,22,FALSE)","v":"-"},{"$f":"VLOOKUP(B30,'РЕЙТИНГ Тех'!$B$5:$AB$35,27,FALSE)","v":"-"}]
[null,"Приймак Андрей","ЗГД",{"$f":"VLOOKUP(B31,'РЕЙТИНГ Тех'!$B$5:$AB$35,7,FALSE)","v":21},{"$f":"VLOOKUP(B31,'РЕЙТИНГ Тех'!$B$5:$AB$35,12,FALSE)","v":"-"},{"$f":"VLOOKUP(B31,'РЕЙТИНГ Тех'!$B$5:$AB$35,17,FALSE)","v":"-"},{"$f":"VLOOKUP(B31,'РЕЙТИНГ Тех'!$B$5:$AB$35,22,FALSE)","v":"-"},{"$f":"VLOOKUP(B31,'РЕЙТИНГ Тех'!$B$5:$AB$35,27,FALSE)","v":"-"}]
[null,"Коробейников Павел","ЗГД",{"$f":"VLOOKUP(B32,'РЕЙТИНГ Тех'!$B$5:$AB$35,7,FALSE)","v":21},{"$f":"VLOOKUP(B32,'РЕЙТИНГ Тех'!$B$5:$AB$35,12,FALSE)","v":"-"},{"$f":"VLOOKUP(B32,'РЕЙТИНГ Тех'!$B$5:$AB$35,17,FALSE)","v":"-"},{"$f":"VLOOKUP(B32,'РЕЙТИНГ Тех'!$B$5:$AB$35,22,FALSE)","v":"-"},{"$f":"VLOOKUP(B32,'РЕЙТИНГ Тех'!$B$5:$AB$35,27,FALSE)","v":"-"}]
[null,"Завьялов Василий","ЗГД",{"$f":"VLOOKUP(B33,'РЕЙТИНГ Тех'!$B$5:$AB$35,7,FALSE)","v":{"$error":"#N/A"}},{"$f":"VLOOKUP(B33,'РЕЙТИНГ Тех'!$B$5:$AB$35,12,FALSE)","v":{"$error":"#N/A"}},{"$f":"VLOOKUP(B33,'РЕЙТИНГ Тех'!$B$5:$AB$35,17,FALSE)","v":{"$error":"#N/A"}},{"$f":"VLOOKUP(B33,'РЕЙТИНГ Тех'!$B$5:$AB$35,22,FALSE)","v":"-"},{"$f":"VLOOKUP(B33,'РЕЙТИНГ Тех'!$B$5:$AB$35,27,FALSE)","v":"-"}]
[null,"Проскуряков Алексей","ОКР",{"$f":"VLOOKUP(B34,'РЕЙТИНГ Тех'!$B$5:$AB$35,7,FALSE)","v":21},{"$f":"VLOOKUP(B34,'РЕЙТИНГ Тех'!$B$5:$AB$35,12,FALSE)","v":"-"},{"$f":"VLOOKUP(B34,'РЕЙТИНГ Тех'!$B$5:$AB$35,17,FALSE)","v":"-"},{"$f":"VLOOKUP(B34,'РЕЙТИНГ Тех'!$B$5:$AB$35,22,FALSE)","v":"-"},{"$f":"VLOOKUP(B34,'РЕЙТИНГ Тех'!$B$5:$AB$35,27,FALSE)","v":"-"}]
[null,"Степин Константин","ОКР (КЦ)",{"$f":"VLOOKUP(B35,'РЕЙТИНГ Тех'!$B$5:$AB$35,7,FALSE)","v":21},{"$f":"VLOOKUP(B35,'РЕЙТИНГ Тех'!$B$5:$AB$35,12,FALSE)","v":"-"},{"$f":"VLOOKUP(B35,'РЕЙТИНГ Тех'!$B$5:$AB$35,17,FALSE)","v":"-"},{"$f":"VLOOKUP(B35,'РЕЙТИНГ Тех'!$B$5:$AB$35,22,FALSE)","v":"-"},{"$f":"VLOOKUP(B35,'РЕЙТИНГ Тех'!$B$5:$AB$35,27,FALSE)","v":"-"}]
[null,"Гулиев Рагим","ЗГД",{"$f":"VLOOKUP(B36,'РЕЙТИНГ Тех'!$B$5:$AB$35,7,FALSE)","v":{"$error":"#N/A"}},{"$f":"VLOOKUP(B36,'РЕЙТИНГ Тех'!$B$5:$AB$35,12,FALSE)","v":{"$error":"#N/A"}},{"$f":"VLOOKUP(B36,'РЕЙТИНГ Тех'!$B$5:$AB$35,17,FALSE)","v":{"$error":"#N/A"}},{"$f":"VLOOKUP(B36,'РЕЙТИНГ Тех'!$B$5:$AB$35,22,FALSE)","v":"-"},{"$f":"VLOOKUP(B36,'РЕЙТИНГ Тех'!$B$5:$AB$35,27,FALSE)","v":"-"}]
[null,"Марченко Лариса","ОКР",{"$f":"VLOOKUP(B37,'РЕЙТИНГ Тех'!$B$5:$AB$35,7,FALSE)","v":21},{"$f":"VLOOKUP(B37,'РЕЙТИНГ Тех'!$B$5:$AB$35,12,FALSE)","v":"-"},{"$f":"VLOOKUP(B37,'РЕЙТИНГ Тех'!$B$5:$AB$35,17,FALSE)","v":"-"},{"$f":"VLOOKUP(B37,'РЕЙТИНГ Тех'!$B$5:$AB$35,22,FALSE)","v":"-"},{"$f":"VLOOKUP(B37,'РЕЙТИНГ Тех'!$B$5:$AB$35,27,FALSE)","v":"-"}]

{"sheet":"РЕЙТИНГ КЦ Общий","index":17,"n_rows":11,"n_cols":28,"rows_kept":11,"cut":false,"hidden":true,"merged":[[4,23,4,27],[4,1,4,2],[4,3,4,7],[4,8,4,12],[4,13,4,17],[4,18,4,22]]}
[null,"К СОДЕРЖАНИЮ"]
[]
[]
[]
[null,"УЧАСТНИК",null,{"$f":"IF(Y7=\"-\",\"ГОД (Кумулятивный итог)\",\"ГОД\")","v":"ГОД (Кумулятивный итог)"},null,null,null,null,"I КВАРТАЛ",null,null,null,null,"II КВАРТАЛ",null,null,null,null,"III КВАРТАЛ",null,null,null,null,"IV КВАРТАЛ"]
[null,"ФИО","ТИП","ИНТЕГРАЛЬНЫЙ","РЕЗУЛЬТАТИВНОСТЬ","ПРОАКТИВНОСТЬ","ПРОФЕССИОНАЛЬНОЕ И ЛИДЕРСКОЕ РАЗВИТИЕ","ЭФФЕКТИВНОЕ ВЗАИМОДЕЙСТВИЕ","ИНТЕГРАЛЬНЫЙ","РЕЗУЛЬТАТИВНОСТЬ","ПРОАКТИВНОСТЬ","ПРОФЕССИОНАЛЬНОЕ И ЛИДЕРСКОЕ РАЗВИТИЕ","ЭФФЕКТИВНОЕ ВЗАИМОДЕЙСТВИЕ","ИНТЕГРАЛЬНЫЙ","РЕЗУЛЬТАТИВНОСТЬ","ПРОАКТИВНОСТЬ","ПРОФЕССИОНАЛЬНОЕ И ЛИДЕРСКОЕ РАЗВИТИЕ","ЭФФЕКТИВНОЕ ВЗАИМОДЕЙСТВИЕ","ИНТЕГРАЛЬНЫЙ","РЕЗУЛЬТАТИВНОСТЬ","ПРОАКТИВНОСТЬ","ПРОФЕССИОНАЛЬНОЕ И ЛИДЕРСКОЕ РАЗВИТИЕ","ЭФФЕКТИВНОЕ ВЗАИМОДЕЙСТВИЕ","ИНТЕГРАЛЬНЫЙ","РЕЗУЛЬТАТИВНОСТЬ","ПРОАКТИВНОСТЬ","ПРОФЕССИОНАЛЬНОЕ И ЛИДЕРСКОЕ РАЗВИТИЕ","ЭФФЕКТИВНОЕ ВЗАИМОДЕЙСТВИЕ"]
[null,"Винокурова Елена","КЦ",{"$f":"VLOOKUP($B7,'Показатели за ГОД'!$A$120:$AS$155,4,FALSE)","v":3},{"$f":"VLOOKUP($B7,'Показатели за ГОД'!$A$120:$AS$155,5,FALSE)","v":3},{"$f":"VLOOKUP($B7,'Показатели за ГОД'!$A$120:$AS$155,8,FALSE)","v":3},{"$f":"VLOOKUP($B7,'Показатели за ГОД'!$A$120:$AS$155,23,FALSE)","v":3},{"$f":"VLOOKUP($B7,'Показатели за ГОД'!$A$120:$AS$155,38,FALSE)","v":3},{"$f":"IF('Сбор показателей I кв'!G42=\"\",\"-\",VLOOKUP($B7,'Сбор показателей I кв'!$B$125:$AU$160,4,FALSE))","v":"-"},{"$f":"IF('Сбор показателей I кв'!G42=\"\",\"-\",VLOOKUP($B7,'Сбор показателей I кв'!$B$125:$AU$160,5,FALSE))","v":"-"},{"$f":"IF(AND('Сбор показателей I кв'!N42=\"\",'Сбор показателей I кв'!O42=\"\",'Сбор показателей I кв'!P42=\"\"),\"-\",VLOOKUP($B7,'Сбор показателей I кв'!$B$125:$AU$160,8,FALSE))","v":"-"},{"$f":"IF('Сбор показателей I кв'!AJ42=\"\",\"-\",VLOOKUP($B7,'Сбор показателей I кв'!$B$125:$AU$160,23,FALSE))","v":"-"},{"$f":"IF(AND('Сбор показателей I кв'!AT42=\"\",'Сбор показателей I кв'!AU42=\"\"),\"-\",VLOOKUP($B7,'Сбор показателей I кв'!$B$125:$AU$160,38,FALSE))","v":"-"},{"$f":"IF('Сбор показателей II кв'!G42=\"\",\"-\",VLOOKUP($B7,'Сбор показателей II кв'!$B$125:$AT$160,4,FALSE))","v":"-"},{"$f":"IF('Сбор показателей II кв'!G42=\"\",\"-\",VLOOKUP($B7,'Сбор показателей II кв'!$B$125:$AT$160,5,FALSE))","v":"-"},{"$f":"IF(AND('Сбор показателей II кв'!N42=\"\",'Сбор показателей II кв'!O42=\"\",'Сбор показателей II кв'!P42=\"\"),\"-\",VLOOKUP($B7,'Сбор показателей II кв'!$B$125:$AT$160,8,FALSE))","v":"-"},{"$f":"IF('Сбор показателей II кв'!AJ42=\"\",\"-\",VLOOKUP($B7,'Сбор показателей II кв'!$B$125:$AT$160,23,FALSE))","v":"-"},{"$f":"IF(AND('Сбор показателей II кв'!AS42=\"\",'Сбор показателей II кв'!AT42=\"\"),\"-\",VLOOKUP($B7,'Сбор показателей II кв'!$B$125:$AT$160,38,FALSE))","v":"-"},{"$f":"IF('Сбор показателей III кв'!G42=\"\",\"-\",VLOOKUP($B7,'Сбор показателей III кв'!$B$125:$AT$160,4,FALSE))","v":"-"},{"$f":"IF('Сбор показателей III кв'!G42=\"\",\"-\",VLOOKUP($B7,'Сбор показателей III кв'!$B$125:$AT$160,5,FALSE))","v":"-"},{"$f":"IF(AND('Сбор показателей III кв'!N42=\"\",'Сбор показателей III кв'!O42=\"\",'Сбор показателей III кв'!P42=\"\"),\"-\",VLOOKUP($B7,'Сбор показателей III кв'!$B$125:$AT$160,8,FALSE))","v":"-"},{"$f":"IF('Сбор показателей III кв'!AJ42=\"\",\"-\",VLOOKUP($B7,'Сбор показателей III кв'!$B$125:$AT$160,23,FALSE))","v":"-"},{"$f":"IF(AND('Сбор показателей III кв'!AS42=\"\",'Сбор показателей III кв'!AT42=\"\"),\"-\",VLOOKUP($B7,'Сбор показателей III кв'!$B$125:$AT$160,38,FALSE))","v":"-"},{"$f":"IF('Сбор показателей IV кв'!G42=\"\",\"-\",VLOOKUP(B7,'Сбор показателей IV кв'!$B$125:$AT$160,4,FALSE))","v":"-"},{"$f":"IF('Сбор показателей IV кв'!G42=\"\",\"-\",VLOOKUP(B7,'Сбор показателей IV кв'!$B$125:$AT$160,5,FALSE))","v":"-"},{"$f":"IF(AND('Сбор показателей IV кв'!N42=\"\",'Сбор показателей IV кв'!O42=\"\",'Сбор показателей IV кв'!P42=\"\"),\"-\",VLOOKUP(B7,'Сбор показателей IV кв'!$B$125:$AT$160,8,FALSE))","v":"-"},{"$f":"IF('Сбор показателей IV кв'!AJ42=\"\",\"-\",VLOOKUP(B7,'Сбор показателей IV кв'!$B$125:$AT$160,23,FALSE))","v":"-"},{"$f":"IF(AND('Сбор показателей IV кв'!AS42=\"\",'Сбор показателей IV кв'!AT42=\"\"),\"-\",VLOOKUP(B7,'Сбор показателей IV кв'!$B$125:$AT$160,38,FALSE))","v":"-"}]
[null,"Горбунова Татьяна","КЦ",{"$f":"VLOOKUP($B8,'Показатели за ГОД'!$A$120:$AS$155,4,FALSE)","v":3},{"$f":"VLOOKUP($B8,'Показатели за ГОД'!$A$120:$AS$155,5,FALSE)","v":3},{"$f":"VLOOKUP($B8,'Показатели за ГОД'!$A$120:$AS$155,8,FALSE)","v":3},{"$f":"VLOOKUP($B8,'Показатели за ГОД'!$A$120:$AS$155,23,FALSE)","v":3},{"$f":"VLOOKUP($B8,'Показатели за ГОД'!$A$120:$AS$155,38,FALSE)","v":3},{"$f":"IF('Сбор показателей I кв'!G43=\"\",\"-\",VLOOKUP($B8,'Сбор показателей I кв'!$B$125:$AU$160,4,FALSE))","v":"-"},{"$f":"IF('Сбор показателей I кв'!G43=\"\",\"-\",VLOOKUP($B8,'Сбор показателей I кв'!$B$125:$AU$160,5,FALSE))","v":"-"},{"$f":"IF(AND('Сбор показателей I кв'!N43=\"\",'Сбор показателей I кв'!O43=\"\",'Сбор показателей I кв'!P43=\"\"),\"-\",VLOOKUP($B8,'Сбор показателей I кв'!$B$125:$AU$160,8,FALSE))","v":"-"},{"$f":"IF('Сбор показателей I кв'!AJ43=\"\",\"-\",VLOOKUP($B8,'Сбор показателей I кв'!$B$125:$AU$160,23,FALSE))","v":"-"},{"$f":"IF(AND('Сбор показателей I кв'!AT43=\"\",'Сбор показателей I кв'!AU43=\"\"),\"-\",VLOOKUP($B8,'Сбор показателей I кв'!$B$125:$AU$160,38,FALSE))","v":"-"},{"$f":"IF('Сбор показателей II кв'!G43=\"\",\"-\",VLOOKUP($B8,'Сбор показателей II кв'!$B$125:$AT$160,4,FALSE))","v":"-"},{"$f":"IF('Сбор показателей II кв'!G43=\"\",\"-\",VLOOKUP($B8,'Сбор показателей II кв'!$B$125:$AT$160,5,FALSE))","v":"-"},{"$f":"IF(AND('Сбор показателей II кв'!N43=\"\",'Сбор показателей II кв'!O43=\"\",'Сбор показателей II кв'!P43=\"\"),\"-\",VLOOKUP($B8,'Сбор показателей II кв'!$B$125:$AT$160,8,FALSE))","v":"-"},{"$f":"IF('Сбор показателей II кв'!AJ43=\"\",\"-\",VLOOKUP($B8,'Сбор показателей II кв'!$B$125:$AT$160,23,FALSE))","v":"-"},{"$f":"IF(AND('Сбор показателей II кв'!AS43=\"\",'Сбор показателей II кв'!AT43=\"\"),\"-\",VLOOKUP($B8,'Сбор показателей II кв'!$B$125:$AT$160,38,FALSE))","v":"-"},{"$f":"IF('Сбор показателей III кв'!G43=\"\",\"-\",VLOOKUP($B8,'Сбор показателей III кв'!$B$125:$AT$160,4,FALSE))","v":"-"},{"$f":"IF('Сбор показателей III кв'!G43=\"\",\"-\",VLOOKUP($B8,'Сбор показателей III кв'!$B$125:$AT$160,5,FALSE))","v":"-"},{"$f":"IF(AND('Сбор показателей III кв'!N43=\"\",'Сбор показателей III кв'!O43=\"\",'Сбор показателей III кв'!P43=\"\"),\"-\",VLOOKUP($B8,'Сбор показателей III кв'!$B$125:$AT$160,8,FALSE))","v":"-"},{"$f":"IF('Сбор показателей III кв'!AJ43=\"\",\"-\",VLOOKUP($B8,'Сбор показателей III кв'!$B$125:$AT$160,23,FALSE))","v":"-"},{"$f":"IF(AND('Сбор показателей III кв'!AS43=\"\",'Сбор показателей III кв'!AT43=\"\"),\"-\",VLOOKUP($B8,'Сбор показателей III кв'!$B$125:$AT$160,38,FALSE))","v":"-"},{"$f":"IF('Сбор показателей IV кв'!G43=\"\",\"-\",VLOOKUP(B8,'Сбор показателей IV кв'!$B$125:$AT$160,4,FALSE))","v":"-"},{"$f":"IF('Сбор показателей IV кв'!G43=\"\",\"-\",VLOOKUP(B8,'Сбор показателей IV кв'!$B$125:$AT$160,5,FALSE))","v":"-"},{"$f":"IF(AND('Сбор показателей IV кв'!N43=\"\",'Сбор показателей IV кв'!O43=\"\",'Сбор показателей IV кв'!P43=\"\"),\"-\",VLOOKUP(B8,'Сбор показателей IV кв'!$B$125:$AT$160,8,FALSE))","v":"-"},{"$f":"IF('Сбор показателей IV кв'!AJ43=\"\",\"-\",VLOOKUP(B8,'Сбор показателей IV кв'!$B$125:$AT$160,23,FALSE))","v":"-"},{"$f":"IF(AND('Сбор показателей IV кв'!AS43=\"\",'Сбор показателей IV кв'!AT43=\"\"),\"-\",VLOOKUP(B8,'Сбор показателей IV кв'!$B$125:$AT$160,38,FALSE))","v":"-"}]
[null,"Давыденков Евгений","КЦ",{"$f":"VLOOKUP($B9,'Показатели за ГОД'!$A$120:$AS$155,4,FALSE)","v":3},{"$f":"VLOOKUP($B9,'Показатели за ГОД'!$A$120:$AS$155,5,FALSE)","v":3},{"$f":"VLOOKUP($B9,'Показатели за ГОД'!$A$120:$AS$155,8,FALSE)","v":3},{"$f":"VLOOKUP($B9,'Показатели за ГОД'!$A$120:$AS$155,23,FALSE)","v":3},{"$f":"VLOOKUP($B9,'Показатели за ГОД'!$A$120:$AS$155,38,FALSE)","v":3},{"$f":"IF('Сбор показателей I кв'!G44=\"\",\"-\",VLOOKUP($B9,'Сбор показателей I кв'!$B$125:$AU$160,4,FALSE))","v":"-"},{"$f":"IF('Сбор показателей I кв'!G44=\"\",\"-\",VLOOKUP($B9,'Сбор показателей I кв'!$B$125:$AU$160,5,FALSE))","v":"-"},{"$f":"IF(AND('Сбор показателей I кв'!N44=\"\",'Сбор показателей I кв'!O44=\"\",'Сбор показателей I кв'!P44=\"\"),\"-\",VLOOKUP($B9,'Сбор показателей I кв'!$B$125:$AU$160,8,FALSE))","v":"-"},{"$f":"IF('Сбор показателей I кв'!AJ44=\"\",\"-\",VLOOKUP($B9,'Сбор показателей I кв'!$B$125:$AU$160,23,FALSE))","v":"-"},{"$f":"IF(AND('Сбор показателей I кв'!AT44=\"\",'Сбор показателей I кв'!AU44=\"\"),\"-\",VLOOKUP($B9,'Сбор показателей I кв'!$B$125:$AU$160,38,FALSE))","v":"-"},{"$f":"IF('Сбор показателей II кв'!G44=\"\",\"-\",VLOOKUP($B9,'Сбор показателей II кв'!$B$125:$AT$160,4,FALSE))","v":"-"},{"$f":"IF('Сбор показателей II кв'!G44=\"\",\"-\",VLOOKUP($B9,'Сбор показателей II кв'!$B$125:$AT$160,5,FALSE))","v":"-"},{"$f":"IF(AND('Сбор показателей II кв'!N44=\"\",'Сбор показателей II кв'!O44=\"\",'Сбор показателей II кв'!P44=\"\"),\"-\",VLOOKUP($B9,'Сбор показателей II кв'!$B$125:$AT$160,8,FALSE))","v":"-"},{"$f":"IF('Сбор показателей II кв'!AJ44=\"\",\"-\",VLOOKUP($B9,'Сбор показателей II кв'!$B$125:$AT$160,23,FALSE))","v":"-"},{"$f":"IF(AND('Сбор показателей II кв'!AS44=\"\",'Сбор показателей II кв'!AT44=\"\"),\"-\",VLOOKUP($B9,'Сбор показателей II кв'!$B$125:$AT$160,38,FALSE))","v":"-"},{"$f":"IF('Сбор показателей III кв'!G44=\"\",\"-\",VLOOKUP($B9,'Сбор показателей III кв'!$B$125:$AT$160,4,FALSE))","v":"-"},{"$f":"IF('Сбор показателей III кв'!G44=\"\",\"-\",VLOOKUP($B9,'Сбор показателей III кв'!$B$125:$AT$160,5,FALSE))","v":"-"},{"$f":"IF(AND('Сбор показателей III кв'!N44=\"\",'Сбор показателей III кв'!O44=\"\",'Сбор показателей III кв'!P44=\"\"),\"-\",VLOOKUP($B9,'Сбор показателей III кв'!$B$125:$AT$160,8,FALSE))","v":"-"},{"$f":"IF('Сбор показателей III кв'!AJ44=\"\",\"-\",VLOOKUP($B9,'Сбор показателей III кв'!$B$125:$AT$160,23,FALSE))","v":"-"},{"$f":"IF(AND('Сбор показателей III кв'!AS44=\"\",'Сбор показателей III кв'!AT44=\"\"),\"-\",VLOOKUP($B9,'Сбор показателей III кв'!$B$125:$AT$160,38,FALSE))","v":"-"},{"$f":"IF('Сбор показателей IV кв'!G44=\"\",\"-\",VLOOKUP(B9,'Сбор показателей IV кв'!$B$125:$AT$160,4,FALSE))","v":"-"},{"$f":"IF('Сбор показателей IV кв'!G44=\"\",\"-\",VLOOKUP(B9,'Сбор показателей IV кв'!$B$125:$AT$160,5,FALSE))","v":"-"},{"$f":"IF(AND('Сбор показателей IV кв'!N44=\"\",'Сбор показателей IV кв'!O44=\"\",'Сбор показателей IV кв'!P44=\"\"),\"-\",VLOOKUP(B9,'Сбор показателей IV кв'!$B$125:$AT$160,8,FALSE))","v":"-"},{"$f":"IF('Сбор показателей IV кв'!AJ44=\"\",\"-\",VLOOKUP(B9,'Сбор показателей IV кв'!$B$125:$AT$160,23,FALSE))","v":"-"},{"$f":"IF(AND('Сбор показателей IV кв'!AS44=\"\",'Сбор показателей IV кв'!AT44=\"\"),\"-\",VLOOKUP(B9,'Сбор показателей IV кв'!$B$125:$AT$160,38,FALSE))","v":"-"}]
[null,"Журавлев Сергей","КЦ",{"$f":"VLOOKUP($B10,'Показатели за ГОД'!$A$120:$AS$155,4,FALSE)","v":3},{"$f":"VLOOKUP($B10,'Показатели за ГОД'!$A$120:$AS$155,5,FALSE)","v":3},{"$f":"VLOOKUP($B10,'Показатели за ГОД'!$A$120:$AS$155,8,FALSE)","v":3},{"$f":"VLOOKUP($B10,'Показатели за ГОД'!$A$120:$AS$155,23,FALSE)","v":3},{"$f":"VLOOKUP($B10,'Показатели за ГОД'!$A$120:$AS$155,38,FALSE)","v":3},{"$f":"IF('Сбор показателей I кв'!G45=\"\",\"-\",VLOOKUP($B10,'Сбор показателей I кв'!$B$125:$AU$160,4,FALSE))","v":"-"},{"$f":"IF('Сбор показателей I кв'!G45=\"\",\"-\",VLOOKUP($B10,'Сбор показателей I кв'!$B$125:$AU$160,5,FALSE))","v":"-"},{"$f":"IF(AND('Сбор показателей I кв'!N45=\"\",'Сбор показателей I кв'!O45=\"\",'Сбор показателей I кв'!P45=\"\"),\"-\",VLOOKUP($B10,'Сбор показателей I кв'!$B$125:$AU$160,8,FALSE))","v":"-"},{"$f":"IF('Сбор показателей I кв'!AJ45=\"\",\"-\",VLOOKUP($B10,'Сбор показателей I кв'!$B$125:$AU$160,23,FALSE))","v":"-"},{"$f":"IF(AND('Сбор показателей I кв'!AT45=\"\",'Сбор показателей I кв'!AU45=\"\"),\"-\",VLOOKUP($B10,'Сбор показателей I кв'!$B$125:$AU$160,38,FALSE))","v":"-"},{"$f":"IF('Сбор показателей II кв'!G45=\"\",\"-\",VLOOKUP($B10,'Сбор показателей II кв'!$B$125:$AT$160,4,FALSE))","v":"-"},{"$f":"IF('Сбор показателей II кв'!G45=\"\",\"-\",VLOOKUP($B10,'Сбор показателей II кв'!$B$125:$AT$160,5,FALSE))","v":"-"},{"$f":"IF(AND('Сбор показателей II кв'!N45=\"\",'Сбор показателей II кв'!O45=\"\",'Сбор показателей II кв'!P45=\"\"),\"-\",VLOOKUP($B10,'Сбор показателей II кв'!$B$125:$AT$160,8,FALSE))","v":"-"},{"$f":"IF('Сбор показателей II кв'!AJ45=\"\",\"-\",VLOOKUP($B10,'Сбор показателей II кв'!$B$125:$AT$160,23,FALSE))","v":"-"},{"$f":"IF(AND('Сбор показателей II кв'!AS45=\"\",'Сбор показателей II кв'!AT45=\"\"),\"-\",VLOOKUP($B10,'Сбор показателей II кв'!$B$125:$AT$160,38,FALSE))","v":"-"},{"$f":"IF('Сбор показателей III кв'!G45=\"\",\"-\",VLOOKUP($B10,'Сбор показателей III кв'!$B$125:$AT$160,4,FALSE))","v":"-"},{"$f":"IF('Сбор показателей III кв'!G45=\"\",\"-\",VLOOKUP($B10,'Сбор показателей III кв'!$B$125:$AT$160,5,FALSE))","v":"-"},{"$f":"IF(AND('Сбор показателей III кв'!N45=\"\",'Сбор показателей III кв'!O45=\"\",'Сбор показателей III кв'!P45=\"\"),\"-\",VLOOKUP($B10,'Сбор показателей III кв'!$B$125:$AT$160,8,FALSE))","v":"-"},{"$f":"IF('Сбор показателей III кв'!AJ45=\"\",\"-\",VLOOKUP($B10,'Сбор показателей III кв'!$B$125:$AT$160,23,FALSE))","v":"-"},{"$f":"IF(AND('Сбор показателей III кв'!AS45=\"\",'Сбор показателей III кв'!AT45=\"\"),\"-\",VLOOKUP($B10,'Сбор показателей III кв'!$B$125:$AT$160,38,FALSE))","v":"-"},{"$f":"IF('Сбор показателей IV кв'!G45=\"\",\"-\",VLOOKUP(B10,'Сбор показателей IV кв'!$B$125:$AT$160,4,FALSE))","v":"-"},{"$f":"IF('Сбор показателей IV кв'!G45=\"\",\"-\",VLOOKUP(B10,'Сбор показателей IV кв'!$B$125:$AT$160,5,FALSE))","v":"-"},{"$f":"IF(AND('Сбор показателей IV кв'!N45=\"\",'Сбор показателей IV кв'!O45=\"\",'Сбор показателей IV кв'!P45=\"\"),\"-\",VLOOKUP(B10,'Сбор показателей IV кв'!$B$125:$AT$160,8,FALSE))","v":"-"},{"$f":"IF('Сбор показателей IV кв'!AJ45=\"\",\"-\",VLOOKUP(B10,'Сбор показателей IV кв'!$B$125:$AT$160,23,FALSE))","v":"-"},{"$f":"IF(AND('Сбор показателей IV кв'!AS45=\"\",'Сбор показателей IV кв'!AT45=\"\"),\"-\",VLOOKUP(B10,'Сбор показателей IV кв'!$B$125:$AT$160,38,FALSE))","v":"-"}]
[null,"Ульданов Динар","КЦ",{"$f":"VLOOKUP($B11,'Показатели за ГОД'!$A$120:$AS$155,4,FALSE)","v":3},{"$f":"VLOOKUP($B11,'Показатели за ГОД'!$A$120:$AS$155,5,FALSE)","v":3},{"$f":"VLOOKUP($B11,'Показатели за ГОД'!$A$120:$AS$155,8,FALSE)","v":3},{"$f":"VLOOKUP($B11,'Показатели за ГОД'!$A$120:$AS$155,23,FALSE)","v":3},{"$f":"VLOOKUP($B11,'Показатели за ГОД'!$A$120:$AS$155,38,FALSE)","v":3},{"$f":"IF('Сбор показателей I кв'!G46=\"\",\"-\",VLOOKUP($B11,'Сбор показателей I кв'!$B$125:$AU$160,4,FALSE))","v":"-"},{"$f":"IF('Сбор показателей I кв'!G46=\"\",\"-\",VLOOKUP($B11,'Сбор показателей I кв'!$B$125:$AU$160,5,FALSE))","v":"-"},{"$f":"IF(AND('Сбор показателей I кв'!N46=\"\",'Сбор показателей I кв'!O46=\"\",'Сбор показателей I кв'!P46=\"\"),\"-\",VLOOKUP($B11,'Сбор показателей I кв'!$B$125:$AU$160,8,FALSE))","v":"-"},{"$f":"IF('Сбор показателей I кв'!AJ46=\"\",\"-\",VLOOKUP($B11,'Сбор показателей I кв'!$B$125:$AU$160,23,FALSE))","v":"-"},{"$f":"IF(AND('Сбор показателей I кв'!AT46=\"\",'Сбор показателей I кв'!AU46=\"\"),\"-\",VLOOKUP($B11,'Сбор показателей I кв'!$B$125:$AU$160,38,FALSE))","v":"-"},{"$f":"IF('Сбор показателей II кв'!G46=\"\",\"-\",VLOOKUP($B11,'Сбор показателей II кв'!$B$125:$AT$160,4,FALSE))","v":"-"},{"$f":"IF('Сбор показателей II кв'!G46=\"\",\"-\",VLOOKUP($B11,'Сбор показателей II кв'!$B$125:$AT$160,5,FALSE))","v":"-"},{"$f":"IF(AND('Сбор показателей II кв'!N46=\"\",'Сбор показателей II кв'!O46=\"\",'Сбор показателей II кв'!P46=\"\"),\"-\",VLOOKUP($B11,'Сбор показателей II кв'!$B$125:$AT$160,8,FALSE))","v":"-"},{"$f":"IF('Сбор показателей II кв'!AJ46=\"\",\"-\",VLOOKUP($B11,'Сбор показателей II кв'!$B$125:$AT$160,23,FALSE))","v":"-"},{"$f":"IF(AND('Сбор показателей II кв'!AS46=\"\",'Сбор показателей II кв'!AT46=\"\"),\"-\",VLOOKUP($B11,'Сбор показателей II кв'!$B$125:$AT$160,38,FALSE))","v":"-"},{"$f":"IF('Сбор показателей III кв'!G46=\"\",\"-\",VLOOKUP($B11,'Сбор показателей III кв'!$B$125:$AT$160,4,FALSE))","v":"-"},{"$f":"IF('Сбор показателей III кв'!G46=\"\",\"-\",VLOOKUP($B11,'Сбор показателей III кв'!$B$125:$AT$160,5,FALSE))","v":"-"},{"$f":"IF(AND('Сбор показателей III кв'!N46=\"\",'Сбор показателей III кв'!O46=\"\",'Сбор показателей III кв'!P46=\"\"),\"-\",VLOOKUP($B11,'Сбор показателей III кв'!$B$125:$AT$160,8,FALSE))","v":"-"},{"$f":"IF('Сбор показателей III кв'!AJ46=\"\",\"-\",VLOOKUP($B11,'Сбор показателей III кв'!$B$125:$AT$160,23,FALSE))","v":"-"},{"$f":"IF(AND('Сбор показателей III кв'!AS46=\"\",'Сбор показателей III кв'!AT46=\"\"),\"-\",VLOOKUP($B11,'Сбор показателей III кв'!$B$125:$AT$160,38,FALSE))","v":"-"},{"$f":"IF('Сбор показателей IV кв'!G46=\"\",\"-\",VLOOKUP(B11,'Сбор показателей IV кв'!$B$125:$AT$160,4,FALSE))","v":"-"},{"$f":"IF('Сбор показателей IV кв'!G46=\"\",\"-\",VLOOKUP(B11,'Сбор показателей IV кв'!$B$125:$AT$160,5,FALSE))","v":"-"},{"$f":"IF(AND('Сбор показателей IV кв'!N46=\"\",'Сбор показателей IV кв'!O46=\"\",'Сбор показателей IV кв'!P46=\"\"),\"-\",VLOOKUP(B11,'Сбор показателей IV кв'!$B$125:$AT$160,8,FALSE))","v":"-"},{"$f":"IF('Сбор показателей IV кв'!AJ46=\"\",\"-\",VLOOKUP(B11,'Сбор показателей IV кв'!$B$125:$AT$160,23,FALSE))","v":"-"},{"$f":"IF(AND('Сбор показателей IV кв'!AS46=\"\",'Сбор показателей IV кв'!AT46=\"\"),\"-\",VLOOKUP(B11,'Сбор показателей IV кв'!$B$125:$AT$160,38,FALSE))","v":"-"}]

{"sheet":"РЕЙТИНГ КЦ Шкалы","index":18,"n_rows":50,"n_cols":8,"rows_kept":50,"cut":false,"hidden":true,"merged":[[33,1,33,2],[33,3,33,7],[43,1,43,2],[43,3,43,7],[3,1,3,2],[3,3,3,7],[13,1,13,2],[13,3,13,7],[23,1,23,2],[23,3,23,7]]}
[null,"К СОДЕРЖАНИЮ"]
[]
[null,"ИНТЕГРАЛЬНЫЙ РЕЙТИНГ"]
[null,"УЧАСТНИК",null,"РАСПРЕДЕЛЕНИЕ МЕСТ"]
[null,"ФИО","ТИП",{"$f":"IF(H7=\"-\",\"ГОД (Кум.)\",\"ГОД\")","v":"ГОД (Кум.)"},"I КВАРТАЛ","II КВАРТАЛ","III КВАРТАЛ","IV КВАРТАЛ"]
[null,"Винокурова Елена","КЦ",{"$f":"VLOOKUP($B6,'РЕЙТИНГ Тех'!$B$36:$AB$40,3,FALSE)","v":3},{"$f":"VLOOKUP($B6,'РЕЙТИНГ Тех'!$B$36:$AB$40,8,FALSE)","v":"-"},{"$f":"VLOOKUP($B6,'РЕЙТИНГ Тех'!$B$36:$AB$40,13,FALSE)","v":"-"},{"$f":"VLOOKUP($B6,'РЕЙТИНГ Тех'!$B$36:$AB$40,18,FALSE)","v":"-"},{"$f":"VLOOKUP($B6,'РЕЙТИНГ Тех'!$B$36:$AB$40,23,FALSE)","v":"-"}]
[null,"Горбунова Татьяна","КЦ",{"$f":"VLOOKUP($B7,'РЕЙТИНГ Тех'!$B$36:$AB$40,3,FALSE)","v":3},{"$f":"VLOOKUP($B7,'РЕЙТИНГ Тех'!$B$36:$AB$40,8,FALSE)","v":"-"},{"$f":"VLOOKUP($B7,'РЕЙТИНГ Тех'!$B$36:$AB$40,13,FALSE)","v":"-"},{"$f":"VLOOKUP($B7,'РЕЙТИНГ Тех'!$B$36:$AB$40,18,FALSE)","v":"-"},{"$f":"VLOOKUP($B7,'РЕЙТИНГ Тех'!$B$36:$AB$40,23,FALSE)","v":"-"}]
[null,"Давыденков Евгений","КЦ",{"$f":"VLOOKUP($B8,'РЕЙТИНГ Тех'!$B$36:$AB$40,3,FALSE)","v":3},{"$f":"VLOOKUP($B8,'РЕЙТИНГ Тех'!$B$36:$AB$40,8,FALSE)","v":"-"},{"$f":"VLOOKUP($B8,'РЕЙТИНГ Тех'!$B$36:$AB$40,13,FALSE)","v":"-"},{"$f":"VLOOKUP($B8,'РЕЙТИНГ Тех'!$B$36:$AB$40,18,FALSE)","v":"-"},{"$f":"VLOOKUP($B8,'РЕЙТИНГ Тех'!$B$36:$AB$40,23,FALSE)","v":"-"}]
[null,"Журавлев Сергей","КЦ",{"$f":"VLOOKUP($B9,'РЕЙТИНГ Тех'!$B$36:$AB$40,3,FALSE)","v":3},{"$f":"VLOOKUP($B9,'РЕЙТИНГ Тех'!$B$36:$AB$40,8,FALSE)","v":"-"},{"$f":"VLOOKUP($B9,'РЕЙТИНГ Тех'!$B$36:$AB$40,13,FALSE)","v":"-"},{"$f":"VLOOKUP($B9,'РЕЙТИНГ Тех'!$B$36:$AB$40,18,FALSE)","v":"-"},{"$f":"VLOOKUP($B9,'РЕЙТИНГ Тех'!$B$36:$AB$40,23,FALSE)","v":"-"}]
[null,"Ульданов Динар","КЦ",{"$f":"VLOOKUP($B10,'РЕЙТИНГ Тех'!$B$36:$AB$40,3,FALSE)","v":3},{"$f":"VLOOKUP($B10,'РЕЙТИНГ Тех'!$B$36:$AB$40,8,FALSE)","v":"-"},{"$f":"VLOOKUP($B10,'РЕЙТИНГ Тех'!$B$36:$AB$40,13,FALSE)","v":"-"},{"$f":"VLOOKUP($B10,'РЕЙТИНГ Тех'!$B$36:$AB$40,18,FALSE)","v":"-"},{"$f":"VLOOKUP($B10,'РЕЙТИНГ Тех'!$B$36:$AB$40,23,FALSE)","v":"-"}]
[]
[]
[null,"РЕЙТИНГ ПО БЛОКУ РЕЗУЛЬТАТИВНОСТЬ"]
[null,"УЧАСТНИК",null,"РАСПРЕДЕЛЕНИЕ МЕСТ"]
[null,"ФИО","ТИП",{"$f":"IF(H17=\"-\",\"ГОД (Кум.)\",\"ГОД\")","v":"ГОД (Кум.)"},"I КВАРТАЛ","II КВАРТАЛ","III КВАРТАЛ","IV КВАРТАЛ"]
[null,"Винокурова Елена","КЦ",{"$f":"VLOOKUP($B16,'РЕЙТИНГ Тех'!$B$36:$AB$40,4,FALSE)","v":3},{"$f":"VLOOKUP($B16,'РЕЙТИНГ Тех'!$B$36:$AB$40,9,FALSE)","v":"-"},{"$f":"VLOOKUP($B16,'РЕЙТИНГ Тех'!$B$36:$AB$40,14,FALSE)","v":"-"},{"$f":"VLOOKUP($B16,'РЕЙТИНГ Тех'!$B$36:$AB$40,19,FALSE)","v":"-"},{"$f":"VLOOKUP($B16,'РЕЙТИНГ Тех'!$B$36:$AB$40,24,FALSE)","v":"-"}]
[null,"Горбунова Татьяна","КЦ",{"$f":"VLOOKUP($B17,'РЕЙТИНГ Тех'!$B$36:$AB$40,4,FALSE)","v":3},{"$f":"VLOOKUP($B17,'РЕЙТИНГ Тех'!$B$36:$AB$40,9,FALSE)","v":"-"},{"$f":"VLOOKUP($B17,'РЕЙТИНГ Тех'!$B$36:$AB$40,14,FALSE)","v":"-"},{"$f":"VLOOKUP($B17,'РЕЙТИНГ Тех'!$B$36:$AB$40,19,FALSE)","v":"-"},{"$f":"VLOOKUP($B17,'РЕЙТИНГ Тех'!$B$36:$AB$40,24,FALSE)","v":"-"}]
[null,"Давыденков Евгений","КЦ",{"$f":"VLOOKUP($B18,'РЕЙТИНГ Тех'!$B$36:$AB$40,4,FALSE)","v":3},{"$f":"VLOOKUP($B18,'РЕЙТИНГ Тех'!$B$36:$AB$40,9,FALSE)","v":"-"},{"$f":"VLOOKUP($B18,'РЕЙТИНГ Тех'!$B$36:$AB$40,14,FALSE)","v":"-"},{"$f":"VLOOKUP($B18,'РЕЙТИНГ Тех'!$B$36:$AB$40,19,FALSE)","v":"-"},{"$f":"VLOOKUP($B18,'РЕЙТИНГ Тех'!$B$36:$AB$40,24,FALSE)","v":"-"}]
[null,"Журавлев Сергей","КЦ",{"$f":"VLOOKUP($B19,'РЕЙТИНГ Тех'!$B$36:$AB$40,4,FALSE)","v":3},{"$f":"VLOOKUP($B19,'РЕЙТИНГ Тех'!$B$36:$AB$40,9,FALSE)","v":"-"},{"$f":"VLOOKUP($B19,'РЕЙТИНГ Тех'!$B$36:$AB$40,14,FALSE)","v":"-"},{"$f":"VLOOKUP($B19,'РЕЙТИНГ Тех'!$B$36:$AB$40,19,FALSE)","v":"-"},{"$f":"VLOOKUP($B19,'РЕЙТИНГ Тех'!$B$36:$AB$40,24,FALSE)","v":"-"}]
[null,"Ульданов Динар","КЦ",{"$f":"VLOOKUP($B20,'РЕЙТИНГ Тех'!$B$36:$AB$40,4,FALSE)","v":3},{"$f":"VLOOKUP($B20,'РЕЙТИНГ Тех'!$B$36:$AB$40,9,FALSE)","v":"-"},{"$f":"VLOOKUP($B20,'РЕЙТИНГ Тех'!$B$36:$AB$40,14,FALSE)","v":"-"},{"$f":"VLOOKUP($B20,'РЕЙТИНГ Тех'!$B$36:$AB$40,19,FALSE)","v":"-"},{"$f":"VLOOKUP($B20,'РЕЙТИНГ Тех'!$B$36:$AB$40,24,FALSE)","v":"-"}]
[]
[]
[null,"РЕЙТИНГ ПО БЛОКУ ПРОАКТИВНОСТЬ"]
[null,"УЧАСТНИК",null,"РАСПРЕДЕЛЕНИЕ МЕСТ"]
[null,"ФИО","ТИП",{"$f":"IF(H27=\"-\",\"ГОД (Кум.)\",\"ГОД\")","v":"ГОД (Кум.)"},"I КВАРТАЛ","II КВАРТАЛ","III КВАРТАЛ","IV КВАРТАЛ"]
[null,"Винокурова Елена","КЦ",{"$f":"VLOOKUP($B26,'РЕЙТИНГ Тех'!$B$36:$AB$40,5,FALSE)","v":3},{"$f":"VLOOKUP($B26,'РЕЙТИНГ Тех'!$B$36:$AB$40,10,FALSE)","v":"-"},{"$f":"VLOOKUP($B26,'РЕЙТИНГ Тех'!$B$36:$AB$40,15,FALSE)","v":"-"},{"$f":"VLOOKUP($B26,'РЕЙТИНГ Тех'!$B$36:$AB$40,20,FALSE)","v":"-"},{"$f":"VLOOKUP($B26,'РЕЙТИНГ Тех'!$B$36:$AB$40,25,FALSE)","v":"-"}]
[null,"Горбунова Татьяна","КЦ",{"$f":"VLOOKUP($B27,'РЕЙТИНГ Тех'!$B$36:$AB$40,5,FALSE)","v":3},{"$f":"VLOOKUP($B27,'РЕЙТИНГ Тех'!$B$36:$AB$40,10,FALSE)","v":"-"},{"$f":"VLOOKUP($B27,'РЕЙТИНГ Тех'!$B$36:$AB$40,15,FALSE)","v":"-"},{"$f":"VLOOKUP($B27,'РЕЙТИНГ Тех'!$B$36:$AB$40,20,FALSE)","v":"-"},{"$f":"VLOOKUP($B27,'РЕЙТИНГ Тех'!$B$36:$AB$40,25,FALSE)","v":"-"}]
[null,"Давыденков Евгений","КЦ",{"$f":"VLOOKUP($B28,'РЕЙТИНГ Тех'!$B$36:$AB$40,5,FALSE)","v":3},{"$f":"VLOOKUP($B28,'РЕЙТИНГ Тех'!$B$36:$AB$40,10,FALSE)","v":"-"},{"$f":"VLOOKUP($B28,'РЕЙТИНГ Тех'!$B$36:$AB$40,15,FALSE)","v":"-"},{"$f":"VLOOKUP($B28,'РЕЙТИНГ Тех'!$B$36:$AB$40,20,FALSE)","v":"-"},{"$f":"VLOOKUP($B28,'РЕЙТИНГ Тех'!$B$36:$AB$40,25,FALSE)","v":"-"}]
[null,"Журавлев Сергей","КЦ",{"$f":"VLOOKUP($B29,'РЕЙТИНГ Тех'!$B$36:$AB$40,5,FALSE)","v":3},{"$f":"VLOOKUP($B29,'РЕЙТИНГ Тех'!$B$36:$AB$40,10,FALSE)","v":"-"},{"$f":"VLOOKUP($B29,'РЕЙТИНГ Тех'!$B$36:$AB$40,15,FALSE)","v":"-"},{"$f":"VLOOKUP($B29,'РЕЙТИНГ Тех'!$B$36:$AB$40,20,FALSE)","v":"-"},{"$f":"VLOOKUP($B29,'РЕЙТИНГ Тех'!$B$36:$AB$40,25,FALSE)","v":"-"}]
[null,"Ульданов Динар","КЦ",{"$f":"VLOOKUP($B30,'РЕЙТИНГ Тех'!$B$36:$AB$40,5,FALSE)","v":3},{"$f":"VLOOKUP($B30,'РЕЙТИНГ Тех'!$B$36:$AB$40,10,FALSE)","v":"-"},{"$f":"VLOOKUP($B30,'РЕЙТИНГ Тех'!$B$36:$AB$40,15,FALSE)","v":"-"},{"$f":"VLOOKUP($B30,'РЕЙТИНГ Тех'!$B$36:$AB$40,20,FALSE)","v":"-"},{"$f":"VLOOKUP($B30,'РЕЙТИНГ Тех'!$B$36:$AB$40,25,FALSE)","v":"-"}]
[]
[]
[null,"РЕЙТИНГ ПО БЛОКУ ПРОФЕССИОНАЛЬНОЕ РАЗВИТИЕ"]
[null,"УЧАСТНИК",null,"РАСПРЕДЕЛЕНИЕ МЕСТ"]
[null,"ФИО","ТИП",{"$f":"IF(H37=\"-\",\"ГОД (Кум.)\",\"ГОД\")","v":"ГОД (Кум.)"},"I КВАРТАЛ","II КВАРТАЛ","III КВАРТАЛ","IV КВАРТАЛ"]
[null,"Винокурова Елена","КЦ",{"$f":"VLOOKUP($B36,'РЕЙТИНГ Тех'!$B$36:$AB$40,6,FALSE)","v":3},{"$f":"VLOOKUP($B36,'РЕЙТИНГ Тех'!$B$36:$AB$40,11,FALSE)","v":"-"},{"$f":"VLOOKUP($B36,'РЕЙТИНГ Тех'!$B$36:$AB$40,16,FALSE)","v":"-"},{"$f":"VLOOKUP($B36,'РЕЙТИНГ Тех'!$B$36:$AB$40,21,FALSE)","v":"-"},{"$f":"VLOOKUP($B36,'РЕЙТИНГ Тех'!$B$36:$AB$40,26,FALSE)","v":"-"}]
[null,"Горбунова Татьяна","КЦ",{"$f":"VLOOKUP($B37,'РЕЙТИНГ Тех'!$B$36:$AB$40,6,FALSE)","v":3},{"$f":"VLOOKUP($B37,'РЕЙТИНГ Тех'!$B$36:$AB$40,11,FALSE)","v":"-"},{"$f":"VLOOKUP($B37,'РЕЙТИНГ Тех'!$B$36:$AB$40,16,FALSE)","v":"-"},{"$f":"VLOOKUP($B37,'РЕЙТИНГ Тех'!$B$36:$AB$40,21,FALSE)","v":"-"},{"$f":"VLOOKUP($B37,'РЕЙТИНГ Тех'!$B$36:$AB$40,26,FALSE)","v":"-"}]
[null,"Давыденков Евгений","КЦ",{"$f":"VLOOKUP($B38,'РЕЙТИНГ Тех'!$B$36:$AB$40,6,FALSE)","v":3},{"$f":"VLOOKUP($B38,'РЕЙТИНГ Тех'!$B$36:$AB$40,11,FALSE)","v":"-"},{"$f":"VLOOKUP($B38,'РЕЙТИНГ Тех'!$B$36:$AB$40,16,FALSE)","v":"-"},{"$f":"VLOOKUP($B38,'РЕЙТИНГ Тех'!$B$36:$AB$40,21,FALSE)","v":"-"},{"$f":"VLOOKUP($B38,'РЕЙТИНГ Тех'!$B$36:$AB$40,26,FALSE)","v":"-"}]
[null,"Журавлев Сергей","КЦ",{"$f":"VLOOKUP($B39,'РЕЙТИНГ Тех'!$B$36:$AB$40,6,FALSE)","v":3},{"$f":"VLOOKUP($B39,'РЕЙТИНГ Тех'!$B$36:$AB$40,11,FALSE)","v":"-"},{"$f":"VLOOKUP($B39,'РЕЙТИНГ Тех'!$B$36:$AB$40,16,FALSE)","v":"-"},{"$f":"VLOOKUP($B39,'РЕЙТИНГ Тех'!$B$36:$AB$40,21,FALSE)","v":"-"},{"$f":"VLOOKUP($B39,'РЕЙТИНГ Тех'!$B$36:$AB$40,26,FALSE)","v":"-"}]
[null,"Ульданов Динар","КЦ",{"$f":"VLOOKUP($B40,'РЕЙТИНГ Тех'!$B$36:$AB$40,6,FALSE)","v":3},{"$f":"VLOOKUP($B40,'РЕЙТИНГ Тех'!$B$36:$AB$40,11,FALSE)","v":"-"},{"$f":"VLOOKUP($B40,'РЕЙТИНГ Тех'!$B$36:$AB$40,16,FALSE)","v":"-"},{"$f":"VLOOKUP($B40,'РЕЙТИНГ Тех'!$B$36:$AB$40,21,FALSE)","v":"-"},{"$f":"VLOOKUP($B40,'РЕЙТИНГ Тех'!$B$36:$AB$40,26,FALSE)","v":"-"}]
[]
[]
[null,"РЕЙТИНГ ПО БЛОКУ ЭФФЕКТИВНОЕ ВЗАИМОДЕЙСТВИЕ"]
[null,"УЧАСТНИК",null,"РАСПРЕДЕЛЕНИЕ МЕСТ"]
[null,"ФИО","ТИП",{"$f":"IF(H47=\"-\",\"ГОД (Кум.)\",\"ГОД\")","v":"ГОД (Кум.)"},"I КВАРТАЛ","II КВАРТАЛ","III КВАРТАЛ","IV КВАРТАЛ"]
[null,"Винокурова Елена","КЦ",{"$f":"VLOOKUP($B46,'РЕЙТИНГ Тех'!$B$36:$AB$40,7,FALSE)","v":3},{"$f":"VLOOKUP($B46,'РЕЙТИНГ Тех'!$B$36:$AB$40,12,FALSE)","v":"-"},{"$f":"VLOOKUP($B46,'РЕЙТИНГ Тех'!$B$36:$AB$40,17,FALSE)","v":"-"},{"$f":"VLOOKUP($B46,'РЕЙТИНГ Тех'!$B$36:$AB$40,22,FALSE)","v":"-"},{"$f":"VLOOKUP($B46,'РЕЙТИНГ Тех'!$B$36:$AB$40,27,FALSE)","v":"-"}]
[null,"Горбунова Татьяна","КЦ",{"$f":"VLOOKUP($B47,'РЕЙТИНГ Тех'!$B$36:$AB$40,7,FALSE)","v":3},{"$f":"VLOOKUP($B47,'РЕЙТИНГ Тех'!$B$36:$AB$40,12,FALSE)","v":"-"},{"$f":"VLOOKUP($B47,'РЕЙТИНГ Тех'!$B$36:$AB$40,17,FALSE)","v":"-"},{"$f":"VLOOKUP($B47,'РЕЙТИНГ Тех'!$B$36:$AB$40,22,FALSE)","v":"-"},{"$f":"VLOOKUP($B47,'РЕЙТИНГ Тех'!$B$36:$AB$40,27,FALSE)","v":"-"}]
[null,"Давыденков Евгений","КЦ",{"$f":"VLOOKUP($B48,'РЕЙТИНГ Тех'!$B$36:$AB$40,7,FALSE)","v":3},{"$f":"VLOOKUP($B48,'РЕЙТИНГ Тех'!$B$36:$AB$40,12,FALSE)","v":"-"},{"$f":"VLOOKUP($B48,'РЕЙТИНГ Тех'!$B$36:$AB$40,17,FALSE)","v":"-"},{"$f":"VLOOKUP($B48,'РЕЙТИНГ Тех'!$B$36:$AB$40,22,FALSE)","v":"-"},{"$f":"VLOOKUP($B48,'РЕЙТИНГ Тех'!$B$36:$AB$40,27,FALSE)","v":"-"}]
[null,"Журавлев Сергей","КЦ",{"$f":"VLOOKUP($B49,'РЕЙТИНГ Тех'!$B$36:$AB$40,7,FALSE)","v":3},{"$f":"VLOOKUP($B49,'РЕЙТИНГ Тех'!$B$36:$AB$40,12,FALSE)","v":"-"},{"$f":"VLOOKUP($B49,'РЕЙТИНГ Тех'!$B$36:$AB$40,17,FALSE)","v":"-"},{"$f":"VLOOKUP($B49,'РЕЙТИНГ Тех'!$B$36:$AB$40,22,FALSE)","v":"-"},{"$f":"VLOOKUP($B49,'РЕЙТИНГ Тех'!$B$36:$AB$40,27,FALSE)","v":"-"}]
[null,"Ульданов Динар","КЦ",{"$f":"VLOOKUP($B50,'РЕЙТИНГ Тех'!$B$36:$AB$40,7,FALSE)","v":3},{"$f":"VLOOKUP($B50,'РЕЙТИНГ Тех'!$B$36:$AB$40,12,FALSE)","v":"-"},{"$f":"VLOOKUP($B50,'РЕЙТИНГ Тех'!$B$36:$AB$40,17,FALSE)","v":"-"},{"$f":"VLOOKUP($B50,'РЕЙТИНГ Тех'!$B$36:$AB$40,22,FALSE)","v":"-"},{"$f":"VLOOKUP($B50,'РЕЙТИНГ Тех'!$B$36:$AB$40,27,FALSE)","v":"-"}]

{"sheet":"Сбор показателей I кв","index":19,"n_rows":160,"n_cols":47,"rows_kept":160,"cut":false,"hidden":false,"merged":[[7,38,7,46],[7,1,7,2],[7,3,7,4],[7,5,7,7],[7,8,7,22],[7,23,7,37],[8,24,9,24],[8,1,9,1],[8,2,9,2],[8,3,9,3],[8,4,9,4],[8,5,9,5],[8,6,9,6],[8,7,9,7],[8,8,9,8],[8,9,8,15],[8,16,8,22],[8,23,9,23],[8,42,8,46],[8,25,9,25],[8,26,8,30],[8,31,8,37],[8,38,9,38],[8,39,9,39],[8,41,9,41],[8,40,9,40]]}
[null,null,null,null,"Коэфицент интегрального рейтинга",0.2,null,null,null,0.2,null,null,null,null,null,null,0.2,null,null,null,null,null,null,null,null,null,null,null,null,null,null,0.2,null,null,null,null,null,null,null,null,null,null,0.2]
[null,null,null,null,"Коэфицент рейтинга блока",1,null,null,null,0.5,null,null,null,null,null,null,0.5,null,null,null,null,null,null,null,null,null,null,null,null,null,null,1,null,null,null,null,null,null,null,null,null,null,1]
[]
[null,"К СОДЕРЖАНИЮ"]
[]
[null,"I КВАРТАЛ"]
[]
[null,"УЧАСТНИК",null,"ЗОНА УПРАВЛЕНИЯ",null,"РЕЗУЛЬТАТИВНОСТЬ",null,null,"ПРОАКТИВНОСТЬ",null,null,null,null,null,null,null,null,null,null,null,null,null,null,"ЛИДЕРСКОЕ РАЗВИТИЕ",null,null,null,null,null,null,null,null,null,null,null,null,null,null,"МЕЖКОМАНДНОЕ ВЗАИМОДЕЙСТВИЕ"]
[null,"ФИО","ТИП","Число сотрудников      в прямом подчинении","Число сотрудников в подразделении","Интегральный показатель","Выполнение плана","Множитель","Интегральный показатель - проактивность","Поданные инициативы",null,null,null,null,null,null,"Инициативы, одобренные к реализации",null,null,null,null,null,null,"Интегральный показатель - профессиональное развитие","Выполнение ИПР самим участником","Выполнение ИПР непосредственными подчиненными ","Наполнение Кадрового резерва функции",null,null,null,null,"Управление знаниями функции",null,null,null,null,null,null,"Интегральный показатель - эффективное взаимодействие","Обратная связь от подрядчиков","Обратная связь от коллег","Обратная связь от прямых подчиненных","Работа кросс-функциональных команд"]
[null,null,null,null,null,null,null,null,null,"Интегральный показатель - ПоИн","Преобразование - ПоИн ЛИНиЯ","Преобразование - ПоИн И.Д.Е.Я.","Преобразование - ПоИн Другие","Формат 1","Формат 2","Другие","Интегральный показатель - ОдИн","Преобразование - ОдИн ЛИНиЯ","Преобразование - ОдИн И.Д.Е.Я.","Преобразование - ОдИн Другие","Формат 1","Формат 2","Другие",null,null,null,"Интегральный показатель - НКРФ","Преобразование - ОКР","Преобразование - ПКР","Оперативный кадровый резерв","Перспективный кадровый резерв","Интегральный показатель - УЗФ","Преобразование - тренеры","Преобразование - программы б/ИЗ","Преобразование - программы т/ИЗ","Число внутренних тренеров","Число курсов внутренних тренеров","Число курсов внутренних тренеров",null,null,null,null,"Интегральный показатель - РКФК","Преобразование - инициация","Преобразование - участие","Инициация кросс-функциональных команд","Участие в кросс-функциональных командах"]
[null,"Василий Леонтьев","ОКР",5,15,{"$f":"G11*H11","v":2.8739999999999997},0.95799999999999996,3,null,{"$f":"SUM(K11:M11)","v":3.2666666666666666},{"$f":"N11/$E11","v":0},{"$f":"O11/$E11","v":0},3.2666666666666666,null,null,49,{"$f":"SUM(R11:T11)","v":6.6666666666666666E-2},{"$f":"U11/$E11","v":0},{"$f":"V11/$E11","v":0},6.6666666666666666E-2,null,null,1,null,null,null,{"$f":"SUM((AB11/MAX(AB$11:AB$41)),(AC11/MAX(AC$11:AC$41)))","v":{"$error":"#DIV/0!"}},{"$f":"(AD11*5)/E11","v":0},{"$f":"(AE11*2)/E11","v":0},null,null,{"$f":"IF(AJ11=\"\",0,IF(AJ11=0,0,(SUM((AG11/MAX($AG$11:$AG$41))*0.25,(AH11/MAX($AH$11:$AH$41))*0.25,(AI11/MAX($AI$11:$AI$41))*0.5))))","v":0.3041666666666667},{"$f":"IF(AJ11=\"\",0,IF(AJ11=0,0,AJ11/E11))","v":0.4},{"$f":"IF(AJ11=\"\",0,IF(AJ11=0,0,IF(AK11=0,\"0\",AK11/AJ11)))","v":0.83333333333333337},{"$f":"IF(AL11=0,0,IF(AJ11=0,0,IF(AL11=\"\",\"\",AL11/AJ11)))","v":0.83333333333333337},6,5,5,null,null,null,null,{"$f":"SUM((AR11/MAX($AR$11:$AR$41))*0.5,(AS11/MAX($AS$11:$AS$41)*0.5))","v":0.18333333333333332},{"$f":"AT11/$E11","v":0.73333333333333328},{"$f":"AU11/$E11","v":0},11,0]
[null,"Гуннар Мюрдаль","ОКР",6,25,{"$f":"G12*H12","v":3.0089999999999995},1.0029999999999999,3,null,{"$f":"SUM(K12:M12)","v":2.4},{"$f":"N12/$E12","v":1.92},0.48,0,48,12,null,{"$f":"SUM(R12:T12)","v":1.3199999999999998},{"$f":"U12/$E12","v":0.96},0.36,0,24,9,null,null,null,null,{"$error":"#DIV/0!"},0,0,null,null,{"$f":"IF(AJ12=\"\",0,IF(AJ12=0,0,(SUM((AG12/MAX($AG$11:$AG$41))*0.25,(AH12/MAX($AH$11:$AH$41))*0.25,(AI12/MAX($AI$11:$AI$41))*0.5))))","v":0.23555555555555552},{"$f":"IF(AJ12=\"\",0,IF(AJ12=0,0,AJ12/E12))","v":0.36},{"$f":"IF(AJ12=\"\",0,IF(AJ12=0,0,IF(AK12=0,\"0\",AK12/AJ12)))","v":0.44444444444444442},{"$f":"IF(AL12=0,0,IF(AJ12=0,0,IF(AL12=\"\",\"\",AL12/AJ12)))","v":0.44444444444444442},9,4,4,null,null,null,null,0.02,{"$f":"AT12/$E12","v":0.08},0,2,0]
[null,"Джон Ричард Хикс","ОКР",6,7,1.024,1.024,1,null,11.285714285714285,6.8571428571428568,4.4285714285714288,0,48,31,null,9.8571428571428577,6.5714285714285712,3.2857142857142856,0,46,23,null,null,null,null,{"$error":"#DIV/0!"},0,0,null,null,0,0,0,0,0,0,0,null,null,null,null,0.3526785714285714,0.7142857142857143,0.14285714285714285,5,1]
[null,"Кеннет Эрроу","ОКР",3,10,2.21,1.105,2,null,4,0.8,3.2,0,8,32,null,1.2999999999999998,0.7,0.6,0,7,6,null,null,null,null,{"$error":"#DIV/0!"},0,0,null,null,0.31874999999999998,0.4,0.75,1,4,3,4,null,null,null,null,0.62187499999999996,2,0.1,20,1]
[null,"Кэрол Грейдер","ОКР",5,21,1.056,1.056,1,null,3.7142857142857144,1.7142857142857142,2,0,36,42,null,2.8571428571428572,1.2857142857142858,1.5714285714285714,0,27,33,null,null,null,null,{"$error":"#DIV/0!"},0,0,null,null,0.77380952380952384,4.7619047619047616E-2,10,5,1,10,5,null,null,null,null,0.14136904761904762,0.33333333333333331,4.7619047619047616E-2,7,1]
[null,"Линда Бак","ЗГД",6,37,3.2309999999999999,1.077,3,null,1.7567567567567568,0.56756756756756754,1.1891891891891893,0,21,44,null,0.91891891891891886,0.40540540540540543,0.51351351351351349,0,15,19,null,null,null,null,{"$error":"#DIV/0!"},0,0,null,null,0.20319410319410319,0.29729729729729731,0.72727272727272729,0.36363636363636365,11,8,4,null,null,null,null,0.62922297297297303,0.54054054054054057,0.40540540540540543,20,15]
[null,"Мэй-Брит Мозер","ОКР",7,8,2.1160000000000001,1.0580000000000001,2,null,6.75,3.5,3.25,0,28,26,null,3.75,2.5,1.25,0,20,10,null,null,null,null,{"$error":"#DIV/0!"},0,0,null,null,0.34375,0.5,2.75,0.25,4,11,1,null,null,null,null,0.61328125,0.625,0.375,5,3]
[null,"Саймон Кузнец","ОКР (КЦ)",7,8,1.958,0.97899999999999998,2,null,9.875,5.375,4.5,0,43,36,null,7.875,5.125,2.75,0,41,22,null,null,null,null,{"$error":"#DIV/0!"},0,0,null,null,0.53749999999999998,0.25,4.5,3,2,9,6,null,null,null,null,0.92578125,1.875,0.375,15,3]
[null,"Светлана Алексеевич","ЗГД",7,33,0.95099999999999996,0.95099999999999996,1,null,0.69696969696969702,0.51515151515151514,0.18181818181818182,0,17,6,null,0.4242424242424242,0.39393939393939392,3.0303030303030304E-2,0,13,1,null,null,null,null,{"$error":"#DIV/0!"},0,0,null,null,0.12310606060606061,0.12121212121212122,1.5,0.25,4,6,1,null,null,null,null,0.37973484848484851,0.48484848484848486,0.21212121212121213,16,7]
[null,"Эстер Дюфло","ЗГД",5,39,3.2069999999999999,1.069,3,null,1.1538461538461537,0.5641025641025641,0.58974358974358976,0,22,23,null,0.4358974358974359,0.38461538461538464,5.128205128205128E-2,0,15,2,null,null,null,null,{"$error":"#DIV/0!"},0,0,null,null,0.26332658569500672,0.48717948717948717,0.78947368421052633,0,19,15,0,null,null,null,null,0.62179487179487181,0.48717948717948717,0.41025641025641024,19,16]
[]
[]
[]
[]
[]
[]
[]
[]
[]
[]
[]
[]
[]
[]
[]
[]
[]
[]
[]
[]
[]
[]
[]
[]
[]
[]
[]
[null,"ПЕРЕСЧЕТ ДЛЯ ИНТЕГРАЛЬНОГО РЕЙТИНГА"]
[null,"Василий Леонтьев","ОКР","-",{"$f":"SUM(F49:AU49)","v":0.3553661039044948},{"$f":"(F11/MAX(F$11:F$46))*F$1","v":0.17790157845868151},"-","-",null,{"$f":"(J11/MAX(J$11:J$46))*J$1","v":5.7890295358649792E-2},"-","-","-","-","-","-",{"$f":"(Q11/MAX(Q$11:Q$46))*Q$1","v":1.3526570048309179E-3},"-","-","-","-","-","-","-",null,null,null,"-","-","-","-",{"$f":"IF(AF11=0,0,(AF11/MAX(AF$11:AF$46))*AF$1)","v":7.8615384615384629E-2},"-","-","-","-","-","-","-",null,null,null,{"$f":"(AQ11/MAX(AQ$11:AQ$46))*AQ$1","v":3.960618846694796E-2},"-","-","-","-"]
[null,"Гуннар Мюрдаль","ОКР","-",{"$f":"SUM(F50:AU50)","v":0.32077510507249324},{"$f":"(F12/MAX(F$11:F$46))*F$1","v":0.18625812441968428},"-","-",null,{"$f":"(J12/MAX(J$11:J$46))*J$1","v":4.2531645569620261E-2},"-","-","-","-","-","-",{"$f":"(Q12/MAX(Q$11:Q$46))*Q$1","v":2.6782608695652174E-2},"-","-","-","-","-","-","-",null,null,null,"-","-","-","-",{"$f":"IF(AF12=0,0,(AF12/MAX(AF$11:AF$46))*AF$1)","v":6.0882051282051278E-2},"-","-","-","-","-","-","-",null,null,null,{"$f":"(AQ12/MAX(AQ$11:AQ$46))*AQ$1","v":4.320675105485232E-3},"-","-","-","-"]
[null,"Джон Ричард Хикс","ОКР","-",0.53957642481319368,{"$f":"(F13/MAX(F$11:F$46))*F$1","v":6.3385948622717431E-2},"-","-",null,{"$f":"(J13/MAX(J$11:J$46))*J$1","v":0.2},"-","-","-","-","-","-",{"$f":"(Q13/MAX(Q$11:Q$46))*Q$1","v":0.2},"-","-","-","-","-","-","-",null,null,null,"-","-","-","-",{"$f":"IF(AF13=0,0,(AF13/MAX(AF$11:AF$46))*AF$1)","v":0},"-","-","-","-","-","-","-",null,null,null,{"$f":"(AQ13/MAX(AQ$11:AQ$46))*AQ$1","v":7.6190476190476197E-2},"-","-","-","-"]
[null,"Кеннет Эрроу","ОКР","-",0.45079324688800504,{"$f":"(F14/MAX(F$11:F$46))*F$1","v":0.1367997523986382},"-","-",null,{"$f":"(J14/MAX(J$11:J$46))*J$1","v":7.0886075949367106E-2},"-","-","-","-","-","-",{"$f":"(Q14/MAX(Q$11:Q$46))*Q$1","v":2.6376811594202895E-2},"-","-","-","-","-","-","-",null,null,null,"-","-","-","-",{"$f":"IF(AF14=0,0,(AF14/MAX(AF$11:AF$46))*AF$1)","v":8.2384615384615389E-2},"-","-","-","-","-","-","-",null,null,null,{"$f":"(AQ14/MAX(AQ$11:AQ$46))*AQ$1","v":0.13434599156118143},"-","-","-","-"]
[null,"Кэрол Грейдер","ОКР","-",0.41970104505674638,{"$f":"(F15/MAX(F$11:F$46))*F$1","v":6.5366759517177353E-2},"-","-",null,{"$f":"(J15/MAX(J$11:J$46))*J$1","v":6.5822784810126586E-2},"-","-","-","-","-","-",{"$f":"(Q15/MAX(Q$11:Q$46))*Q$1","v":5.7971014492753631E-2},"-","-","-","-","-","-","-",null,null,null,"-","-","-","-",{"$f":"IF(AF15=0,0,(AF15/MAX(AF$11:AF$46))*AF$1)","v":0.2},"-","-","-","-","-","-","-",null,null,null,{"$f":"(AQ15/MAX(AQ$11:AQ$46))*AQ$1","v":3.0540486236688771E-2},"-","-","-","-"]
[null,"Линда Бак","ЗГД","-",0.43822839218326293,{"$f":"(F16/MAX(F$11:F$46))*F$1","v":0.2},"-","-",null,{"$f":"(J16/MAX(J$11:J$46))*J$1","v":3.113239822100582E-2},"-","-","-","-","-","-",{"$f":"(Q16/MAX(Q$11:Q$46))*Q$1","v":1.8644731688209949E-2},"-","-","-","-","-","-","-",null,null,null,"-","-","-","-",{"$f":"IF(AF16=0,0,(AF16/MAX(AF$11:AF$46))*AF$1)","v":5.2517860517860518E-2},"-","-","-","-","-","-","-",null,null,null,{"$f":"(AQ16/MAX(AQ$11:AQ$46))*AQ$1","v":0.13593340175618659},"-","-","-","-"]
[null,"Мэй-Брит Мозер","ОКР","-",0.5480239354054055,{"$f":"(F17/MAX(F$11:F$46))*F$1","v":0.13098112039616219},"-","-",null,{"$f":"(J17/MAX(J$11:J$46))*J$1","v":0.11962025316455699},"-","-","-","-","-","-",{"$f":"(Q17/MAX(Q$11:Q$46))*Q$1","v":7.6086956521739135E-2},"-","-","-","-","-","-","-",null,null,null,"-","-","-","-",{"$f":"IF(AF17=0,0,(AF17/MAX(AF$11:AF$46))*AF$1)","v":8.8846153846153852E-2},"-","-","-","-","-","-","-",null,null,null,{"$f":"(AQ17/MAX(AQ$11:AQ$46))*AQ$1","v":0.13248945147679325},"-","-","-","-"]
[null,"Саймон Кузнец","ОКР (КЦ)","-",0.79490655222349549,{"$f":"(F18/MAX(F$11:F$46))*F$1","v":0.12120086660476632},"-","-",null,{"$f":"(J18/MAX(J$11:J$46))*J$1","v":0.17500000000000004},"-","-","-","-","-","-",{"$f":"(Q18/MAX(Q$11:Q$46))*Q$1","v":0.1597826086956522},"-","-","-","-","-","-","-",null,null,null,"-","-","-","-",{"$f":"IF(AF18=0,0,(AF18/MAX(AF$11:AF$46))*AF$1)","v":0.1389230769230769},"-","-","-","-","-","-","-",null,null,null,{"$f":"(AQ18/MAX(AQ$11:AQ$46))*AQ$1","v":0.2},"-","-","-","-"]
[null,"Светлана Алексеевич","ЗГД","-",0.19368012993651695,{"$f":"(F19/MAX(F$11:F$46))*F$1","v":5.8867223769730741E-2},"-","-",null,{"$f":"(J19/MAX(J$11:J$46))*J$1","v":1.2351361718450329E-2},"-","-","-","-","-","-",{"$f":"(Q19/MAX(Q$11:Q$46))*Q$1","v":8.6078173034694755E-3},"-","-","-","-","-","-","-",null,null,null,"-","-","-","-",{"$f":"IF(AF19=0,0,(AF19/MAX(AF$11:AF$46))*AF$1)","v":3.1818181818181822E-2},"-","-","-","-","-","-","-",null,null,null,{"$f":"(AQ19/MAX(AQ$11:AQ$46))*AQ$1","v":8.203554532668457E-2},"-","-","-","-"]
[null,"Эстер Дюфло","ЗГД","-",0.43019506977450828,{"$f":"(F20/MAX(F$11:F$46))*F$1","v":0.19851439182915509},"-","-",null,{"$f":"(J20/MAX(J$11:J$46))*J$1","v":2.0447906523855891E-2},"-","-","-","-","-","-",{"$f":"(Q20/MAX(Q$11:Q$46))*Q$1","v":8.8442958008175393E-3},"-","-","-","-","-","-","-",null,null,null,"-","-","-","-",{"$f":"IF(AF20=0,0,(AF20/MAX(AF$11:AF$46))*AF$1)","v":6.8059794456555578E-2},"-","-","-","-","-","-","-",null,null,null,{"$f":"(AQ20/MAX(AQ$11:AQ$46))*AQ$1","v":0.13432868116412419},"-","-","-","-"]
[null,"Коваленко Тамара","ОКР","-",0,{"$f":"(F21/MAX(F$11:F$46))*F$1","v":0},"-","-",null,{"$f":"(J21/MAX(J$11:J$46))*J$1","v":0},"-","-","-","-","-","-",{"$f":"(Q21/MAX(Q$11:Q$46))*Q$1","v":0},"-","-","-","-","-","-","-",null,null,null,"-","-","-","-",{"$f":"IF(AF21=0,0,(AF21/MAX(AF$11:AF$46))*AF$1)","v":0},"-","-","-","-","-","-","-",null,null,null,{"$f":"(AQ21/MAX(AQ$11:AQ$46))*AQ$1","v":0},"-","-","-","-"]
[null,"Колесников Сергей","ОКР","-",0,{"$f":"(F22/MAX(F$11:F$46))*F$1","v":0},"-","-",null,{"$f":"(J22/MAX(J$11:J$46))*J$1","v":0},"-","-","-","-","-","-",{"$f":"(Q22/MAX(Q$11:Q$46))*Q$1","v":0},"-","-","-","-","-","-","-",null,null,null,"-","-","-","-",{"$f":"IF(AF22=0,0,(AF22/MAX(AF$11:AF$46))*AF$1)","v":0},"-","-","-","-","-","-","-",null,null,null,{"$f":"(AQ22/MAX(AQ$11:AQ$46))*AQ$1","v":0},"-","-","-","-"]
[null,"Коробейников Павел","ЗГД","-",0,{"$f":"(F23/MAX(F$11:F$46))*F$1","v":0},"-","-",null,{"$f":"(J23/MAX(J$11:J$46))*J$1","v":0},"-","-","-","-","-","-",{"$f":"(Q23/MAX(Q$11:Q$46))*Q$1","v":0},"-","-","-","-","-","-","-",null,null,null,"-","-","-","-",{"$f":"IF(AF23=0,0,(AF23/MAX(AF$11:AF$46))*AF$1)","v":0},"-","-","-","-","-","-","-",null,null,null,{"$f":"(AQ23/MAX(AQ$11:AQ$46))*AQ$1","v":0},"-","-","-","-"]
[null,"Марченко Лариса","ОКР","-",0,{"$f":"(F24/MAX(F$11:F$46))*F$1","v":0},"-","-",null,{"$f":"(J24/MAX(J$11:J$46))*J$1","v":0},"-","-","-","-","-","-",{"$f":"(Q24/MAX(Q$11:Q$46))*Q$1","v":0},"-","-","-","-","-","-","-",null,null,null,"-","-","-","-",{"$f":"IF(AF24=0,0,(AF24/MAX(AF$11:AF$46))*AF$1)","v":0},"-","-","-","-","-","-","-",null,null,null,{"$f":"(AQ24/MAX(AQ$11:AQ$46))*AQ$1","v":0},"-","-","-","-"]
[null,"Мелёхин Денис","ОКР (КЦ)","-",0,{"$f":"(F25/MAX(F$11:F$46))*F$1","v":0},"-","-",null,{"$f":"(J25/MAX(J$11:J$46))*J$1","v":0},"-","-","-","-","-","-",{"$f":"(Q25/MAX(Q$11:Q$46))*Q$1","v":0},"-","-","-","-","-","-","-",null,null,null,"-","-","-","-",{"$f":"IF(AF25=0,0,(AF25/MAX(AF$11:AF$46))*AF$1)","v":0},"-","-","-","-","-","-","-",null,null,null,{"$f":"(AQ25/MAX(AQ$11:AQ$46))*AQ$1","v":0},"-","-","-","-"]
[null,"Миняева Ирина","ОКР (КЦ)","-",0,{"$f":"(F26/MAX(F$11:F$46))*F$1","v":0},"-","-",null,{"$f":"(J26/MAX(J$11:J$46))*J$1","v":0},"-","-","-","-","-","-",{"$f":"(Q26/MAX(Q$11:Q$46))*Q$1","v":0},"-","-","-","-","-","-","-",null,null,null,"-","-","-","-",{"$f":"IF(AF26=0,0,(AF26/MAX(AF$11:AF$46))*AF$1)","v":0},"-","-","-","-","-","-","-",null,null,null,{"$f":"(AQ26/MAX(AQ$11:AQ$46))*AQ$1","v":0},"-","-","-","-"]
[null,"Мирсаитов Дмитрий","ЗГД","-",0,{"$f":"(F27/MAX(F$11:F$46))*F$1","v":0},"-","-",null,{"$f":"(J27/MAX(J$11:J$46))*J$1","v":0},"-","-","-","-","-","-",{"$f":"(Q27/MAX(Q$11:Q$46))*Q$1","v":0},"-","-","-","-","-","-","-",null,null,null,"-","-","-","-",{"$f":"IF(AF27=0,0,(AF27/MAX(AF$11:AF$46))*AF$1)","v":0},"-","-","-","-","-","-","-",null,null,null,{"$f":"(AQ27/MAX(AQ$11:AQ$46))*AQ$1","v":0},"-","-","-","-"]
[null,"Навальнева Евгения","ЗГД","-",0,{"$f":"(F28/MAX(F$11:F$46))*F$1","v":0},"-","-",null,{"$f":"(J28/MAX(J$11:J$46))*J$1","v":0},"-","-","-","-","-","-",{"$f":"(Q28/MAX(Q$11:Q$46))*Q$1","v":0},"-","-","-","-","-","-","-",null,null,null,"-","-","-","-",{"$f":"IF(AF28=0,0,(AF28/MAX(AF$11:AF$46))*AF$1)","v":0},"-","-","-","-","-","-","-",null,null,null,{"$f":"(AQ28/MAX(AQ$11:AQ$46))*AQ$1","v":0},"-","-","-","-"]
[null,"Османов Руслан","ЗГД","-",0,{"$f":"(F29/MAX(F$11:F$46))*F$1","v":0},"-","-",null,{"$f":"(J29/MAX(J$11:J$46))*J$1","v":0},"-","-","-","-","-","-",{"$f":"(Q29/MAX(Q$11:Q$46))*Q$1","v":0},"-","-","-","-","-","-","-",null,null,null,"-","-","-","-",{"$f":"IF(AF29=0,0,(AF29/MAX(AF$11:AF$46))*AF$1)","v":0},"-","-","-","-","-","-","-",null,null,null,{"$f":"(AQ29/MAX(AQ$11:AQ$46))*AQ$1","v":0},"-","-","-","-"]
[null,"Приймак Андрей","ЗГД","-",0,{"$f":"(F30/MAX(F$11:F$46))*F$1","v":0},"-","-",null,{"$f":"(J30/MAX(J$11:J$46))*J$1","v":0},"-","-","-","-","-","-",{"$f":"(Q30/MAX(Q$11:Q$46))*Q$1","v":0},"-","-","-","-","-","-","-",null,null,null,"-","-","-","-",{"$f":"IF(AF30=0,0,(AF30/MAX(AF$11:AF$46))*AF$1)","v":0},"-","-","-","-","-","-","-",null,null,null,{"$f":"(AQ30/MAX(AQ$11:AQ$46))*AQ$1","v":0},"-","-","-","-"]
[null,"Проскуряков Алексей","ОКР","-",0,{"$f":"(F31/MAX(F$11:F$46))*F$1","v":0},"-","-",null,{"$f":"(J31/MAX(J$11:J$46))*J$1","v":0},"-","-","-","-","-","-",{"$f":"(Q31/MAX(Q$11:Q$46))*Q$1","v":0},"-","-","-","-","-","-","-",null,null,null,"-","-","-","-",{"$f":"IF(AF31=0,0,(AF31/MAX(AF$11:AF$46))*AF$1)","v":0},"-","-","-","-","-","-","-",null,null,null,{"$f":"(AQ31/MAX(AQ$11:AQ$46))*AQ$1","v":0},"-","-","-","-"]
[null,"Савченко Яна","ОКР (КЦ)","-",0,{"$f":"(F32/MAX(F$11:F$46))*F$1","v":0},"-","-",null,{"$f":"(J32/MAX(J$11:J$46))*J$1","v":0},"-","-","-","-","-","-",{"$f":"(Q32/MAX(Q$11:Q$46))*Q$1","v":0},"-","-","-","-","-","-","-",null,null,null,"-","-","-","-",{"$f":"IF(AF32=0,0,(AF32/MAX(AF$11:AF$46))*AF$1)","v":0},"-","-","-","-","-","-","-",null,null,null,{"$f":"(AQ32/MAX(AQ$11:AQ$46))*AQ$1","v":0},"-","-","-","-"]
[null,"Сафиуллин Наиль","ОКР (КЦ)","-",0,{"$f":"(F33/MAX(F$11:F$46))*F$1","v":0},"-","-",null,{"$f":"(J33/MAX(J$11:J$46))*J$1","v":0},"-","-","-","-","-","-",{"$f":"(Q33/MAX(Q$11:Q$46))*Q$1","v":0},"-","-","-","-","-","-","-",null,null,null,"-","-","-","-",{"$f":"IF(AF33=0,0,(AF33/MAX(AF$11:AF$46))*AF$1)","v":0},"-","-","-","-","-","-","-",null,null,null,{"$f":"(AQ33/MAX(AQ$11:AQ$46))*AQ$1","v":0},"-","-","-","-"]
[null,"Сметанин Павел","ОКР","-",0,{"$f":"(F34/MAX(F$11:F$46))*F$1","v":0},"-","-",null,{"$f":"(J34/MAX(J$11:J$46))*J$1","v":0},"-","-","-","-","-","-",{"$f":"(Q34/MAX(Q$11:Q$46))*Q$1","v":0},"-","-","-","-","-","-","-",null,null,null,"-","-","-","-",{"$f":"IF(AF34=0,0,(AF34/MAX(AF$11:AF$46))*AF$1)","v":0},"-","-","-","-","-","-","-",null,null,null,{"$f":"(AQ34/MAX(AQ$11:AQ$46))*AQ$1","v":0},"-","-","-","-"]
[null,"Степин Константин","ОКР (КЦ)","-",0,{"$f":"(F35/MAX(F$11:F$46))*F$1","v":0},"-","-",null,{"$f":"(J35/MAX(J$11:J$46))*J$1","v":0},"-","-","-","-","-","-",{"$f":"(Q35/MAX(Q$11:Q$46))*Q$1","v":0},"-","-","-","-","-","-","-",null,null,null,"-","-","-","-",{"$f":"IF(AF35=0,0,(AF35/MAX(AF$11:AF$46))*AF$1)","v":0},"-","-","-","-","-","-","-",null,null,null,{"$f":"(AQ35/MAX(AQ$11:AQ$46))*AQ$1","v":0},"-","-","-","-"]
[null,"Титов Александр","ЗГД","-",0,{"$f":"(F36/MAX(F$11:F$46))*F$1","v":0},"-","-",null,{"$f":"(J36/MAX(J$11:J$46))*J$1","v":0},"-","-","-","-","-","-",{"$f":"(Q36/MAX(Q$11:Q$46))*Q$1","v":0},"-","-","-","-","-","-","-",null,null,null,"-","-","-","-",{"$f":"IF(AF36=0,0,(AF36/MAX(AF$11:AF$46))*AF$1)","v":0},"-","-","-","-","-","-","-",null,null,null,{"$f":"(AQ36/MAX(AQ$11:AQ$46))*AQ$1","v":0},"-","-","-","-"]
[null,"Фирсов Владимир","ОКР","-",0,{"$f":"(F37/MAX(F$11:F$46))*F$1","v":0},"-","-",null,{"$f":"(J37/MAX(J$11:J$46))*J$1","v":0},"-","-","-","-","-","-",{"$f":"(Q37/MAX(Q$11:Q$46))*Q$1","v":0},"-","-","-","-","-","-","-",null,null,null,"-","-","-","-",{"$f":"IF(AF37=0,0,(AF37/MAX(AF$11:AF$46))*AF$1)","v":0},"-","-","-","-","-","-","-",null,null,null,{"$f":"(AQ37/MAX(AQ$11:AQ$46))*AQ$1","v":0},"-","-","-","-"]
[null,"Чунц Илья","ЗГД","-",0,{"$f":"(F38/MAX(F$11:F$46))*F$1","v":0},"-","-",null,{"$f":"(J38/MAX(J$11:J$46))*J$1","v":0},"-","-","-","-","-","-",{"$f":"(Q38/MAX(Q$11:Q$46))*Q$1","v":0},"-","-","-","-","-","-","-",null,null,null,"-","-","-","-",{"$f":"IF(AF38=0,0,(AF38/MAX(AF$11:AF$46))*AF$1)","v":0},"-","-","-","-","-","-","-",null,null,null,{"$f":"(AQ38/MAX(AQ$11:AQ$46))*AQ$1","v":0},"-","-","-","-"]
[null,"Шепляков Алексей","ЗГД","-",0,{"$f":"(F39/MAX(F$11:F$46))*F$1","v":0},"-","-",null,{"$f":"(J39/MAX(J$11:J$46))*J$1","v":0},"-","-","-","-","-","-",{"$f":"(Q39/MAX(Q$11:Q$46))*Q$1","v":0},"-","-","-","-","-","-","-",null,null,null,"-","-","-","-",{"$f":"IF(AF39=0,0,(AF39/MAX(AF$11:AF$46))*AF$1)","v":0},"-","-","-","-","-","-","-",null,null,null,{"$f":"(AQ39/MAX(AQ$11:AQ$46))*AQ$1","v":0},"-","-","-","-"]
[null,"Шестаков Антон","ЗГД","-",0,{"$f":"(F40/MAX(F$11:F$46))*F$1","v":0},"-","-",null,{"$f":"(J40/MAX(J$11:J$46))*J$1","v":0},"-","-","-","-","-","-",{"$f":"(Q40/MAX(Q$11:Q$46))*Q$1","v":0},"-","-","-","-","-","-","-",null,null,null,"-","-","-","-",{"$f":"IF(AF40=0,0,(AF40/MAX(AF$11:AF$46))*AF$1)","v":0},"-","-","-","-","-","-","-",null,null,null,{"$f":"(AQ40/MAX(AQ$11:AQ$46))*AQ$1","v":0},"-","-","-","-"]
[null,"Ялымов Денис","ОКР","-",0,{"$f":"(F41/MAX(F$11:F$46))*F$1","v":0},"-","-",null,{"$f":"(J41/MAX(J$11:J$46))*J$1","v":0},"-","-","-","-","-","-",{"$f":"(Q41/MAX(Q$11:Q$46))*Q$1","v":0},"-","-","-","-","-","-","-",null,null,null,"-","-","-","-",{"$f":"IF(AF41=0,0,(AF41/MAX(AF$11:AF$46))*AF$1)","v":0},"-","-","-","-","-","-","-",null,null,null,{"$f":"(AQ41/MAX(AQ$11:AQ$46))*AQ$1","v":0},"-","-","-","-"]
[null,"Винокурова Елена","КЦ","-",0,{"$f":"(F42/MAX(F$11:F$46))*F$1","v":0},"-","-",null,{"$f":"(J42/MAX(J$11:J$46))*J$1","v":0},"-","-","-","-","-","-",{"$f":"(Q42/MAX(Q$11:Q$46))*Q$1","v":0},"-","-","-","-","-","-","-",null,null,null,"-","-","-","-",{"$f":"IF(AF42=0,0,(AF42/MAX(AF$11:AF$46))*AF$1)","v":0},"-","-","-","-","-","-","-",null,null,null,{"$f":"(AQ42/MAX(AQ$11:AQ$46))*AQ$1","v":0},"-","-","-","-"]
[null,"Горбунова Татьяна","КЦ","-",0,{"$f":"(F43/MAX(F$11:F$46))*F$1","v":0},"-","-",null,{"$f":"(J43/MAX(J$11:J$46))*J$1","v":0},"-","-","-","-","-","-",{"$f":"(Q43/MAX(Q$11:Q$46))*Q$1","v":0},"-","-","-","-","-","-","-",null,null,null,"-","-","-","-",{"$f":"IF(AF43=0,0,(AF43/MAX(AF$11:AF$46))*AF$1)","v":0},"-","-","-","-","-","-","-",null,null,null,{"$f":"(AQ43/MAX(AQ$11:AQ$46))*AQ$1","v":0},"-","-","-","-"]
[null,"Давыденков Евгений","КЦ","-",0,{"$f":"(F44/MAX(F$11:F$46))*F$1","v":0},"-","-",null,{"$f":"(J44/MAX(J$11:J$46))*J$1","v":0},"-","-","-","-","-","-",{"$f":"(Q44/MAX(Q$11:Q$46))*Q$1","v":0},"-","-","-","-","-","-","-",null,null,null,"-","-","-","-",{"$f":"IF(AF44=0,0,(AF44/MAX(AF$11:AF$46))*AF$1)","v":0},"-","-","-","-","-","-","-",null,null,null,{"$f":"(AQ44/MAX(AQ$11:AQ$46))*AQ$1","v":0},"-","-","-","-"]
[null,"Журавлев Сергей","КЦ","-",0,{"$f":"(F45/MAX(F$11:F$46))*F$1","v":0},"-","-",null,{"$f":"(J45/MAX(J$11:J$46))*J$1","v":0},"-","-","-","-","-","-",{"$f":"(Q45/MAX(Q$11:Q$46))*Q$1","v":0},"-","-","-","-","-","-","-",null,null,null,"-","-","-","-",{"$f":"IF(AF45=0,0,(AF45/MAX(AF$11:AF$46))*AF$1)","v":0},"-","-","-","-","-","-","-",null,null,null,{"$f":"(AQ45/MAX(AQ$11:AQ$46))*AQ$1","v":0},"-","-","-","-"]
[null,"Ульданов Динар","КЦ","-",0,{"$f":"(F46/MAX(F$11:F$46))*F$1","v":0},"-","-",null,{"$f":"(J46/MAX(J$11:J$46))*J$1","v":0},"-","-","-","-","-","-",{"$f":"(Q46/MAX(Q$11:Q$46))*Q$1","v":0},"-","-","-","-","-","-","-",null,null,null,"-","-","-","-",{"$f":"IF(AF46=0,0,(AF46/MAX(AF$11:AF$46))*AF$1)","v":0},"-","-","-","-","-","-","-",null,null,null,{"$f":"(AQ46/MAX(AQ$11:AQ$46))*AQ$1","v":0},"-","-","-","-"]
[]
[null,"ПЕРЕСЧЕТ ДЛЯ РЕЙТИНГА БЛОКА"]
[null,"Василий Леонтьев","ОКР","-","-",{"$f":"(F11/MAX(F$11:F$46))*F$2","v":0.88950789229340754},"-","-",{"$f":"SUM(J87:W87)","v":0.14810738090870176},{"$f":"(J11/MAX(J$11:J$46))*J$2","v":0.14472573839662448},"-","-","-","-","-","-",{"$f":"(Q11/MAX(Q$11:Q$46))*Q$2","v":3.3816425120772944E-3},"-","-","-","-","-","-",{"$f":"SUM(Y87:AL87)","v":0.3930769230769231},null,null,null,"-","-","-","-",{"$f":"IF(AF11=0,0,((AF11/MAX(AF$11:AF$46))*AF$2))","v":0.3930769230769231},"-","-","-","-","-","-",{"$f":"SUM(AN87:AU87)","v":0.19803094233473978},null,null,null,{"$f":"(AQ11/MAX(AQ$11:AQ$46))*AQ$2","v":0.19803094233473978},"-","-","-","-"]
[null,"Гуннар Мюрдаль","ОКР","-","-",{"$f":"(F12/MAX(F$11:F$46))*F$2","v":0.93129062209842139},"-","-",{"$f":"SUM(J88:W88)","v":0.17328563566318106},{"$f":"(J12/MAX(J$11:J$46))*J$2","v":0.10632911392405064},"-","-","-","-","-","-",{"$f":"(Q12/MAX(Q$11:Q$46))*Q$2","v":6.6956521739130428E-2},"-","-","-","-","-","-",{"$f":"SUM(Y88:AL88)","v":0.30441025641025637},null,null,null,"-","-","-","-",{"$f":"IF(AF12=0,0,((AF12/MAX(AF$11:AF$46))*AF$2))","v":0.30441025641025637},"-","-","-","-","-","-",{"$f":"SUM(AN88:AU88)","v":2.1603375527426159E-2},null,null,null,{"$f":"(AQ12/MAX(AQ$11:AQ$46))*AQ$2","v":2.1603375527426159E-2},"-","-","-","-"]
[null,"Джон Ричард Хикс","ОКР","-","-",{"$f":"(F13/MAX(F$11:F$46))*F$2","v":0.31692974311358713},"-","-",1,{"$f":"(J13/MAX(J$11:J$46))*J$2","v":0.5},"-","-","-","-","-","-",{"$f":"(Q13/MAX(Q$11:Q$46))*Q$2","v":0.5},"-","-","-","-","-","-",0,null,null,null,"-","-","-","-",{"$f":"IF(AF13=0,0,((AF13/MAX(AF$11:AF$46))*AF$2))","v":0},"-","-","-","-","-","-",0.38095238095238093,null,null,null,{"$f":"(AQ13/MAX(AQ$11:AQ$46))*AQ$2","v":0.38095238095238093},"-","-","-","-"]
[null,"Кеннет Эрроу","ОКР","-","-",{"$f":"(F14/MAX(F$11:F$46))*F$2","v":0.68399876199319098},"-","-",0.24315721885892499,{"$f":"(J14/MAX(J$11:J$46))*J$2","v":0.17721518987341775},"-","-","-","-","-","-",{"$f":"(Q14/MAX(Q$11:Q$46))*Q$2","v":6.5942028985507231E-2},"-","-","-","-","-","-",0.41192307692307689,null,null,null,"-","-","-","-",{"$f":"IF(AF14=0,0,((AF14/MAX(AF$11:AF$46))*AF$2))","v":0.41192307692307689},"-","-","-","-","-","-",0.67172995780590716,null,null,null,{"$f":"(AQ14/MAX(AQ$11:AQ$46))*AQ$2","v":0.67172995780590716},"-","-","-","-"]
[null,"Кэрол Грейдер","ОКР","-","-",{"$f":"(F15/MAX(F$11:F$46))*F$2","v":0.32683379758588677},"-","-",0.30948449825720054,{"$f":"(J15/MAX(J$11:J$46))*J$2","v":0.16455696202531647},"-","-","-","-","-","-",{"$f":"(Q15/MAX(Q$11:Q$46))*Q$2","v":0.14492753623188406},"-","-","-","-","-","-",1,null,null,null,"-","-","-","-",{"$f":"IF(AF15=0,0,((AF15/MAX(AF$11:AF$46))*AF$2))","v":1},"-","-","-","-","-","-",0.15270243118344384,null,null,null,{"$f":"(AQ15/MAX(AQ$11:AQ$46))*AQ$2","v":0.15270243118344384},"-","-","-","-"]
[null,"Линда Бак","ЗГД","-","-",{"$f":"(F16/MAX(F$11:F$46))*F$2","v":1},"-","-",0.12444282477303942,{"$f":"(J16/MAX(J$11:J$46))*J$2","v":7.7830995552514548E-2},"-","-","-","-","-","-",{"$f":"(Q16/MAX(Q$11:Q$46))*Q$2","v":4.661182922052487E-2},"-","-","-","-","-","-",0.26258930258930258,null,null,null,"-","-","-","-",{"$f":"IF(AF16=0,0,((AF16/MAX(AF$11:AF$46))*AF$2))","v":0.26258930258930258},"-","-","-","-","-","-",0.67966700878093289,null,null,null,{"$f":"(AQ16/MAX(AQ$11:AQ$46))*AQ$2","v":0.67966700878093289},"-","-","-","-"]
[null,"Мэй-Брит Мозер","ОКР","-","-",{"$f":"(F17/MAX(F$11:F$46))*F$2","v":0.65490560198081094},"-","-",0.48926802421574023,{"$f":"(J17/MAX(J$11:J$46))*J$2","v":0.29905063291139244},"-","-","-","-","-","-",{"$f":"(Q17/MAX(Q$11:Q$46))*Q$2","v":0.19021739130434781},"-","-","-","-","-","-",0.44423076923076921,null,null,null,"-","-","-","-",{"$f":"IF(AF17=0,0,((AF17/MAX(AF$11:AF$46))*AF$2))","v":0.44423076923076921},"-","-","-","-","-","-",0.66244725738396626,null,null,null,{"$f":"(AQ17/MAX(AQ$11:AQ$46))*AQ$2","v":0.66244725738396626},"-","-","-","-"]
[null,"Саймон Кузнец","ОКР (КЦ)","-","-",{"$f":"(F18/MAX(F$11:F$46))*F$2","v":0.60600433302383161},"-","-",0.83695652173913049,{"$f":"(J18/MAX(J$11:J$46))*J$2","v":0.43750000000000006},"-","-","-","-","-","-",{"$f":"(Q18/MAX(Q$11:Q$46))*Q$2","v":0.39945652173913043},"-","-","-","-","-","-",0.69461538461538452,null,null,null,"-","-","-","-",{"$f":"IF(AF18=0,0,((AF18/MAX(AF$11:AF$46))*AF$2))","v":0.69461538461538452},"-","-","-","-","-","-",1,null,null,null,{"$f":"(AQ18/MAX(AQ$11:AQ$46))*AQ$2","v":1},"-","-","-","-"]
[null,"Светлана Алексеевич","ЗГД","-","-",{"$f":"(F19/MAX(F$11:F$46))*F$2","v":0.29433611884865368},"-","-",5.2397947554799512E-2,{"$f":"(J19/MAX(J$11:J$46))*J$2","v":3.087840429612582E-2},"-","-","-","-","-","-",{"$f":"(Q19/MAX(Q$11:Q$46))*Q$2","v":2.1519543258673689E-2},"-","-","-","-","-","-",0.15909090909090909,null,null,null,"-","-","-","-",{"$f":"IF(AF19=0,0,((AF19/MAX(AF$11:AF$46))*AF$2))","v":0.15909090909090909},"-","-","-","-","-","-",0.41017772663342283,null,null,null,{"$f":"(AQ19/MAX(AQ$11:AQ$46))*AQ$2","v":0.41017772663342283},"-","-","-","-"]
[null,"Эстер Дюфло","ЗГД","-","-",{"$f":"(F20/MAX(F$11:F$46))*F$2","v":0.99257195914577534},"-","-",7.3230505811683583E-2,{"$f":"(J20/MAX(J$11:J$46))*J$2","v":5.1119766309639728E-2},"-","-","-","-","-","-",{"$f":"(Q20/MAX(Q$11:Q$46))*Q$2","v":2.2110739502043848E-2},"-","-","-","-","-","-",0.34029897228277789,null,null,null,"-","-","-","-",{"$f":"IF(AF20=0,0,((AF20/MAX(AF$11:AF$46))*AF$2))","v":0.34029897228277789},"-","-","-","-","-","-",0.67164340582062099,null,null,null,{"$f":"(AQ20/MAX(AQ$11:AQ$46))*AQ$2","v":0.67164340582062099},"-","-","-","-"]
[null,"Коваленко Тамара","ОКР","-","-",{"$f":"(F21/MAX(F$11:F$46))*F$2","v":0},"-","-",0,{"$f":"(J21/MAX(J$11:J$46))*J$2","v":0},"-","-","-","-","-","-",{"$f":"(Q21/MAX(Q$11:Q$46))*Q$2","v":0},"-","-","-","-","-","-",0,null,null,null,"-","-","-","-",{"$f":"IF(AF21=0,0,((AF21/MAX(AF$11:AF$46))*AF$2))","v":0},"-","-","-","-","-","-",0,null,null,null,{"$f":"(AQ21/MAX(AQ$11:AQ$46))*AQ$2","v":0},"-","-","-","-"]
[null,"Колесников Сергей","ОКР","-","-",{"$f":"(F22/MAX(F$11:F$46))*F$2","v":0},"-","-",0,{"$f":"(J22/MAX(J$11:J$46))*J$2","v":0},"-","-","-","-","-","-",{"$f":"(Q22/MAX(Q$11:Q$46))*Q$2","v":0},"-","-","-","-","-","-",0,null,null,null,"-","-","-","-",{"$f":"IF(AF22=0,0,((AF22/MAX(AF$11:AF$46))*AF$2))","v":0},"-","-","-","-","-","-",0,null,null,null,{"$f":"(AQ22/MAX(AQ$11:AQ$46))*AQ$2","v":0},"-","-","-","-"]
[null,"Коробейников Павел","ЗГД","-","-",{"$f":"(F23/MAX(F$11:F$46))*F$2","v":0},"-","-",0,{"$f":"(J23/MAX(J$11:J$46))*J$2","v":0},"-","-","-","-","-","-",{"$f":"(Q23/MAX(Q$11:Q$46))*Q$2","v":0},"-","-","-","-","-","-",0,null,null,null,"-","-","-","-",{"$f":"IF(AF23=0,0,((AF23/MAX(AF$11:AF$46))*AF$2))","v":0},"-","-","-","-","-","-",0,null,null,null,{"$f":"(AQ23/MAX(AQ$11:AQ$46))*AQ$2","v":0},"-","-","-","-"]
[null,"Марченко Лариса","ОКР","-","-",{"$f":"(F24/MAX(F$11:F$46))*F$2","v":0},"-","-",0,{"$f":"(J24/MAX(J$11:J$46))*J$2","v":0},"-","-","-","-","-","-",{"$f":"(Q24/MAX(Q$11:Q$46))*Q$2","v":0},"-","-","-","-","-","-",0,null,null,null,"-","-","-","-",{"$f":"IF(AF24=0,0,((AF24/MAX(AF$11:AF$46))*AF$2))","v":0},"-","-","-","-","-","-",0,null,null,null,{"$f":"(AQ24/MAX(AQ$11:AQ$46))*AQ$2","v":0},"-","-","-","-"]
[null,"Мелёхин Денис","ОКР (КЦ)","-","-",{"$f":"(F25/MAX(F$11:F$46))*F$2","v":0},"-","-",0,{"$f":"(J25/MAX(J$11:J$46))*J$2","v":0},"-","-","-","-","-","-",{"$f":"(Q25/MAX(Q$11:Q$46))*Q$2","v":0},"-","-","-","-","-","-",0,null,null,null,"-","-","-","-",{"$f":"IF(AF25=0,0,((AF25/MAX(AF$11:AF$46))*AF$2))","v":0},"-","-","-","-","-","-",0,null,null,null,{"$f":"(AQ25/MAX(AQ$11:AQ$46))*AQ$2","v":0},"-","-","-","-"]
[null,"Миняева Ирина","ОКР (КЦ)","-","-",{"$f":"(F26/MAX(F$11:F$46))*F$2","v":0},"-","-",0,{"$f":"(J26/MAX(J$11:J$46))*J$2","v":0},"-","-","-","-","-","-",{"$f":"(Q26/MAX(Q$11:Q$46))*Q$2","v":0},"-","-","-","-","-","-",0,null,null,null,"-","-","-","-",{"$f":"IF(AF26=0,0,((AF26/MAX(AF$11:AF$46))*AF$2))","v":0},"-","-","-","-","-","-",0,null,null,null,{"$f":"(AQ26/MAX(AQ$11:AQ$46))*AQ$2","v":0},"-","-","-","-"]
[null,"Мирсаитов Дмитрий","ЗГД","-","-",{"$f":"(F27/MAX(F$11:F$46))*F$2","v":0},"-","-",0,{"$f":"(J27/MAX(J$11:J$46))*J$2","v":0},"-","-","-","-","-","-",{"$f":"(Q27/MAX(Q$11:Q$46))*Q$2","v":0},"-","-","-","-","-","-",0,null,null,null,"-","-","-","-",{"$f":"IF(AF27=0,0,((AF27/MAX(AF$11:AF$46))*AF$2))","v":0},"-","-","-","-","-","-",0,null,null,null,{"$f":"(AQ27/MAX(AQ$11:AQ$46))*AQ$2","v":0},"-","-","-","-"]
[null,"Навальнева Евгения","ЗГД","-","-",{"$f":"(F28/MAX(F$11:F$46))*F$2","v":0},"-","-",0,{"$f":"(J28/MAX(J$11:J$46))*J$2","v":0},"-","-","-","-","-","-",{"$f":"(Q28/MAX(Q$11:Q$46))*Q$2","v":0},"-","-","-","-","-","-",0,null,null,null,"-","-","-","-",{"$f":"IF(AF28=0,0,((AF28/MAX(AF$11:AF$46))*AF$2))","v":0},"-","-","-","-","-","-",0,null,null,null,{"$f":"(AQ28/MAX(AQ$11:AQ$46))*AQ$2","v":0},"-","-","-","-"]
[null,"Османов Руслан","ЗГД","-","-",{"$f":"(F29/MAX(F$11:F$46))*F$2","v":0},"-","-",0,{"$f":"(J29/MAX(J$11:J$46))*J$2","v":0},"-","-","-","-","-","-",{"$f":"(Q29/MAX(Q$11:Q$46))*Q$2","v":0},"-","-","-","-","-","-",0,null,null,null,"-","-","-","-",{"$f":"IF(AF29=0,0,((AF29/MAX(AF$11:AF$46))*AF$2))","v":0},"-","-","-","-","-","-",0,null,null,null,{"$f":"(AQ29/MAX(AQ$11:AQ$46))*AQ$2","v":0},"-","-","-","-"]
[null,"Приймак Андрей","ЗГД","-","-",{"$f":"(F30/MAX(F$11:F$46))*F$2","v":0},"-","-",0,{"$f":"(J30/MAX(J$11:J$46))*J$2","v":0},"-","-","-","-","-","-",{"$f":"(Q30/MAX(Q$11:Q$46))*Q$2","v":0},"-","-","-","-","-","-",0,null,null,null,"-","-","-","-",{"$f":"IF(AF30=0,0,((AF30/MAX(AF$11:AF$46))*AF$2))","v":0},"-","-","-","-","-","-",0,null,null,null,{"$f":"(AQ30/MAX(AQ$11:AQ$46))*AQ$2","v":0},"-","-","-","-"]
[null,"Проскуряков Алексей","ОКР","-","-",{"$f":"(F31/MAX(F$11:F$46))*F$2","v":0},"-","-",0,{"$f":"(J31/MAX(J$11:J$46))*J$2","v":0},"-","-","-","-","-","-",{"$f":"(Q31/MAX(Q$11:Q$46))*Q$2","v":0},"-","-","-","-","-","-",0,null,null,null,"-","-","-","-",{"$f":"IF(AF31=0,0,((AF31/MAX(AF$11:AF$46))*AF$2))","v":0},"-","-","-","-","-","-",0,null,null,null,{"$f":"(AQ31/MAX(AQ$11:AQ$46))*AQ$2","v":0},"-","-","-","-"]
[null,"Савченко Яна","ОКР (КЦ)","-","-",{"$f":"(F32/MAX(F$11:F$46))*F$2","v":0},"-","-",0,{"$f":"(J32/MAX(J$11:J$46))*J$2","v":0},"-","-","-","-","-","-",{"$f":"(Q32/MAX(Q$11:Q$46))*Q$2","v":0},"-","-","-","-","-","-",0,null,null,null,"-","-","-","-",{"$f":"IF(AF32=0,0,((AF32/MAX(AF$11:AF$46))*AF$2))","v":0},"-","-","-","-","-","-",0,null,null,null,{"$f":"(AQ32/MAX(AQ$11:AQ$46))*AQ$2","v":0},"-","-","-","-"]
[null,"Сафиуллин Наиль","ОКР (КЦ)","-","-",{"$f":"(F33/MAX(F$11:F$46))*F$2","v":0},"-","-",0,{"$f":"(J33/MAX(J$11:J$46))*J$2","v":0},"-","-","-","-","-","-",{"$f":"(Q33/MAX(Q$11:Q$46))*Q$2","v":0},"-","-","-","-","-","-",0,null,null,null,"-","-","-","-",{"$f":"IF(AF33=0,0,((AF33/MAX(AF$11:AF$46))*AF$2))","v":0},"-","-","-","-","-","-",0,null,null,null,{"$f":"(AQ33/MAX(AQ$11:AQ$46))*AQ$2","v":0},"-","-","-","-"]
[null,"Сметанин Павел","ОКР","-","-",{"$f":"(F34/MAX(F$11:F$46))*F$2","v":0},"-","-",0,{"$f":"(J34/MAX(J$11:J$46))*J$2","v":0},"-","-","-","-","-","-",{"$f":"(Q34/MAX(Q$11:Q$46))*Q$2","v":0},"-","-","-","-","-","-",0,null,null,null,"-","-","-","-",{"$f":"IF(AF34=0,0,((AF34/MAX(AF$11:AF$46))*AF$2))","v":0},"-","-","-","-","-","-",0,null,null,null,{"$f":"(AQ34/MAX(AQ$11:AQ$46))*AQ$2","v":0},"-","-","-","-"]
[null,"Степин Константин","ОКР (КЦ)","-","-",{"$f":"(F35/MAX(F$11:F$46))*F$2","v":0},"-","-",0,{"$f":"(J35/MAX(J$11:J$46))*J$2","v":0},"-","-","-","-","-","-",{"$f":"(Q35/MAX(Q$11:Q$46))*Q$2","v":0},"-","-","-","-","-","-",0,null,null,null,"-","-","-","-",{"$f":"IF(AF35=0,0,((AF35/MAX(AF$11:AF$46))*AF$2))","v":0},"-","-","-","-","-","-",0,null,null,null,{"$f":"(AQ35/MAX(AQ$11:AQ$46))*AQ$2","v":0},"-","-","-","-"]
[null,"Титов Александр","ЗГД","-","-",{"$f":"(F36/MAX(F$11:F$46))*F$2","v":0},"-","-",0,{"$f":"(J36/MAX(J$11:J$46))*J$2","v":0},"-","-","-","-","-","-",{"$f":"(Q36/MAX(Q$11:Q$46))*Q$2","v":0},"-","-","-","-","-","-",0,null,null,null,"-","-","-","-",{"$f":"IF(AF36=0,0,((AF36/MAX(AF$11:AF$46))*AF$2))","v":0},"-","-","-","-","-","-",0,null,null,null,{"$f":"(AQ36/MAX(AQ$11:AQ$46))*AQ$2","v":0},"-","-","-","-"]
[null,"Фирсов Владимир","ОКР","-","-",{"$f":"(F37/MAX(F$11:F$46))*F$2","v":0},"-","-",0,{"$f":"(J37/MAX(J$11:J$46))*J$2","v":0},"-","-","-","-","-","-",{"$f":"(Q37/MAX(Q$11:Q$46))*Q$2","v":0},"-","-","-","-","-","-",0,null,null,null,"-","-","-","-",{"$f":"IF(AF37=0,0,((AF37/MAX(AF$11:AF$46))*AF$2))","v":0},"-","-","-","-","-","-",0,null,null,null,{"$f":"(AQ37/MAX(AQ$11:AQ$46))*AQ$2","v":0},"-","-","-","-"]
[null,"Чунц Илья","ЗГД","-","-",{"$f":"(F38/MAX(F$11:F$46))*F$2","v":0},"-","-",0,{"$f":"(J38/MAX(J$11:J$46))*J$2","v":0},"-","-","-","-","-","-",{"$f":"(Q38/MAX(Q$11:Q$46))*Q$2","v":0},"-","-","-","-","-","-",0,null,null,null,"-","-","-","-",{"$f":"IF(AF38=0,0,((AF38/MAX(AF$11:AF$46))*AF$2))","v":0},"-","-","-","-","-","-",0,null,null,null,{"$f":"(AQ38/MAX(AQ$11:AQ$46))*AQ$2","v":0},"-","-","-","-"]
[null,"Шепляков Алексей","ЗГД","-","-",{"$f":"(F39/MAX(F$11:F$46))*F$2","v":0},"-","-",0,{"$f":"(J39/MAX(J$11:J$46))*J$2","v":0},"-","-","-","-","-","-",{"$f":"(Q39/MAX(Q$11:Q$46))*Q$2","v":0},"-","-","-","-","-","-",0,null,null,null,"-","-","-","-",{"$f":"IF(AF39=0,0,((AF39/MAX(AF$11:AF$46))*AF$2))","v":0},"-","-","-","-","-","-",0,null,null,null,{"$f":"(AQ39/MAX(AQ$11:AQ$46))*AQ$2","v":0},"-","-","-","-"]
[null,"Шестаков Антон","ЗГД","-","-",{"$f":"(F40/MAX(F$11:F$46))*F$2","v":0},"-","-",0,{"$f":"(J40/MAX(J$11:J$46))*J$2","v":0},"-","-","-","-","-","-",{"$f":"(Q40/MAX(Q$11:Q$46))*Q$2","v":0},"-","-","-","-","-","-",0,null,null,null,"-","-","-","-",{"$f":"IF(AF40=0,0,((AF40/MAX(AF$11:AF$46))*AF$2))","v":0},"-","-","-","-","-","-",0,null,null,null,{"$f":"(AQ40/MAX(AQ$11:AQ$46))*AQ$2","v":0},"-","-","-","-"]
[null,"Ялымов Денис","ОКР","-","-",{"$f":"(F41/MAX(F$11:F$46))*F$2","v":0},"-","-",0,{"$f":"(J41/MAX(J$11:J$46))*J$2","v":0},"-","-","-","-","-","-",{"$f":"(Q41/MAX(Q$11:Q$46))*Q$2","v":0},"-","-","-","-","-","-",0,null,null,null,"-","-","-","-",{"$f":"IF(AF41=0,0,((AF41/MAX(AF$11:AF$46))*AF$2))","v":0},"-","-","-","-","-","-",0,null,null,null,{"$f":"(AQ41/MAX(AQ$11:AQ$46))*AQ$2","v":0},"-","-","-","-"]
[null,"Винокурова Елена","КЦ","-","-",{"$f":"(F42/MAX(F$11:F$46))*F$2","v":0},"-","-",0,{"$f":"(J42/MAX(J$11:J$46))*J$2","v":0},"-","-","-","-","-","-",{"$f":"(Q42/MAX(Q$11:Q$46))*Q$2","v":0},"-","-","-","-","-","-",0,null,null,null,"-","-","-","-",{"$f":"IF(AF42=0,0,((AF42/MAX(AF$11:AF$46))*AF$2))","v":0},"-","-","-","-","-","-",0,null,null,null,{"$f":"(AQ42/MAX(AQ$11:AQ$46))*AQ$2","v":0},"-","-","-","-"]
[null,"Горбунова Татьяна","КЦ","-","-",{"$f":"(F43/MAX(F$11:F$46))*F$2","v":0},"-","-",0,{"$f":"(J43/MAX(J$11:J$46))*J$2","v":0},"-","-","-","-","-","-",{"$f":"(Q43/MAX(Q$11:Q$46))*Q$2","v":0},"-","-","-","-","-","-",0,null,null,null,"-","-","-","-",{"$f":"IF(AF43=0,0,((AF43/MAX(AF$11:AF$46))*AF$2))","v":0},"-","-","-","-","-","-",0,null,null,null,{"$f":"(AQ43/MAX(AQ$11:AQ$46))*AQ$2","v":0},"-","-","-","-"]
[null,"Давыденков Евгений","КЦ","-","-",{"$f":"(F44/MAX(F$11:F$46))*F$2","v":0},"-","-",0,{"$f":"(J44/MAX(J$11:J$46))*J$2","v":0},"-","-","-","-","-","-",{"$f":"(Q44/MAX(Q$11:Q$46))*Q$2","v":0},"-","-","-","-","-","-",0,null,null,null,"-","-","-","-",{"$f":"IF(AF44=0,0,((AF44/MAX(AF$11:AF$46))*AF$2))","v":0},"-","-","-","-","-","-",0,null,null,null,{"$f":"(AQ44/MAX(AQ$11:AQ$46))*AQ$2","v":0},"-","-","-","-"]
[null,"Журавлев Сергей","КЦ","-","-",{"$f":"(F45/MAX(F$11:F$46))*F$2","v":0},"-","-",0,{"$f":"(J45/MAX(J$11:J$46))*J$2","v":0},"-","-","-","-","-","-",{"$f":"(Q45/MAX(Q$11:Q$46))*Q$2","v":0},"-","-","-","-","-","-",0,null,null,null,"-","-","-","-",{"$f":"IF(AF45=0,0,((AF45/MAX(AF$11:AF$46))*AF$2))","v":0},"-","-","-","-","-","-",0,null,null,null,{"$f":"(AQ45/MAX(AQ$11:AQ$46))*AQ$2","v":0},"-","-","-","-"]
[null,"Ульданов Динар","КЦ","-","-",{"$f":"(F46/MAX(F$11:F$46))*F$2","v":0},"-","-",0,{"$f":"(J46/MAX(J$11:J$46))*J$2","v":0},"-","-","-","-","-","-",{"$f":"(Q46/MAX(Q$11:Q$46))*Q$2","v":0},"-","-","-","-","-","-",0,null,null,null,"-","-","-","-",{"$f":"IF(AF46=0,0,((AF46/MAX(AF$11:AF$46))*AF$2))","v":0},"-","-","-","-","-","-",0,null,null,null,{"$f":"(AQ46/MAX(AQ$11:AQ$46))*AQ$2","v":0},"-","-","-","-"]
[null,1,2,3,4,5,6,7,8,9,10,11,12,13,14,15,16,17,18,19,20,21,22,23,24,25,26,27,28,29,30,31,32,33,34,35,36,37,38,39,null,40,41,42,43,44,45]
[null,"РАСПРЕДЕЛЕНИЕ МЕСТ",null,null,"ИНТЕГРАЛЬНЫЙ РЕЙТИНГ","РЕЗУЛЬТАТИВНОСТЬ",null,null,"ПРОАКТИВНОСТЬ",null,null,null,null,null,null,null,null,null,null,null,null,null,null,"ПРОФЕССИОНАЛЬНОЕ РАЗВИТИЕ",null,null,null,null,null,null,null,null,null,null,null,null,null,null,"ЭФФЕКТИВНОЕ ВЗАИМОДЕЙСТВИЕ"]
[null,"Василий Леонтьев","ОКР","-",{"$f":"_xlfn.RANK.AVG(E49,E$49:E$79)","v":8},{"$f":"_xlfn.RANK.AVG(F87,F$87:F$117)","v":4},"-","-",{"$f":"_xlfn.RANK.AVG(I87,I$87:I$117)","v":7},"-","-","-","-","-","-","-","-","-","-","-","-","-","-",{"$f":"_xlfn.RANK.AVG(X87,X$87:X$117)","v":5},"-","-","-","-","-","-","-","-","-","-","-","-","-","-",{"$f":"_xlfn.RANK.AVG(AM87,AM$87:AM$117)","v":8},"-",null,"-","-","-","-","-","-"]
[null,"Гуннар Мюрдаль","ОКР","-",{"$f":"_xlfn.RANK.AVG(E50,E$49:E$79)","v":9},{"$f":"_xlfn.RANK.AVG(F88,F$87:F$117)","v":3},"-","-",{"$f":"_xlfn.RANK.AVG(I88,I$87:I$117)","v":6},"-","-","-","-","-","-","-","-","-","-","-","-","-","-",{"$f":"_xlfn.RANK.AVG(X88,X$87:X$117)","v":7},"-","-","-","-","-","-","-","-","-","-","-","-","-","-",{"$f":"_xlfn.RANK.AVG(AM88,AM$87:AM$117)","v":10},"-",null,"-","-","-","-","-","-"]
[null,"Джон Ричард Хикс","ОКР","-",3,9,"-","-",1,"-","-","-","-","-","-","-","-","-","-","-","-","-","-",20.5,"-","-","-","-","-","-","-","-","-","-","-","-","-","-",7,"-",null,"-","-","-","-","-","-"]
[null,"Кеннет Эрроу","ОКР","-",4,5,"-","-",5,"-","-","-","-","-","-","-","-","-","-","-","-","-","-",4,"-","-","-","-","-","-","-","-","-","-","-","-","-","-",3,"-",null,"-","-","-","-","-","-"]
[null,"Кэрол Грейдер","ОКР","-",7,8,"-","-",4,"-","-","-","-","-","-","-","-","-","-","-","-","-","-",1,"-","-","-","-","-","-","-","-","-","-","-","-","-","-",9,"-",null,"-","-","-","-","-","-"]
[null,"Линда Бак","ЗГД","-",5,1,"-","-",8,"-","-","-","-","-","-","-","-","-","-","-","-","-","-",8,"-","-","-","-","-","-","-","-","-","-","-","-","-","-",2,"-",null,"-","-","-","-","-","-"]
[null,"Мэй-Брит Мозер","ОКР","-",2,6,"-","-",3,"-","-","-","-","-","-","-","-","-","-","-","-","-","-",3,"-","-","-","-","-","-","-","-","-","-","-","-","-","-",5,"-",null,"-","-","-","-","-","-"]
[null,"Саймон Кузнец","ОКР (КЦ)","-",1,7,"-","-",2,"-","-","-","-","-","-","-","-","-","-","-","-","-","-",2,"-","-","-","-","-","-","-","-","-","-","-","-","-","-",1,"-",null,"-","-","-","-","-","-"]
[null,"Светлана Алексеевич","ЗГД","-",10,10,"-","-",10,"-","-","-","-","-","-","-","-","-","-","-","-","-","-",9,"-","-","-","-","-","-","-","-","-","-","-","-","-","-",6,"-",null,"-","-","-","-","-","-"]
[null,"Эстер Дюфло","ЗГД","-",6,2,"-","-",9,"-","-","-","-","-","-","-","-","-","-","-","-","-","-",6,"-","-","-","-","-","-","-","-","-","-","-","-","-","-",4,"-",null,"-","-","-","-","-","-"]
[null,"Коваленко Тамара","ОКР","-",21,21,"-","-",21,"-","-","-","-","-","-","-","-","-","-","-","-","-","-",20.5,"-","-","-","-","-","-","-","-","-","-","-","-","-","-",21,"-",null,"-","-","-","-","-","-"]
[null,"Колесников Сергей","ОКР","-",21,21,"-","-",21,"-","-","-","-","-","-","-","-","-","-","-","-","-","-",20.5,"-","-","-","-","-","-","-","-","-","-","-","-","-","-",21,"-",null,"-","-","-","-","-","-"]
[null,"Коробейников Павел","ЗГД","-",21,21,"-","-",21,"-","-","-","-","-","-","-","-","-","-","-","-","-","-",20.5,"-","-","-","-","-","-","-","-","-","-","-","-","-","-",21,"-",null,"-","-","-","-","-","-"]
[null,"Марченко Лариса","ОКР","-",21,21,"-","-",21,"-","-","-","-","-","-","-","-","-","-","-","-","-","-",20.5,"-","-","-","-","-","-","-","-","-","-","-","-","-","-",21,"-",null,"-","-","-","-","-","-"]
[null,"Мелёхин Денис","ОКР (КЦ)","-",21,21,"-","-",21,"-","-","-","-","-","-","-","-","-","-","-","-","-","-",20.5,"-","-","-","-","-","-","-","-","-","-","-","-","-","-",21,"-",null,"-","-","-","-","-","-"]
[null,"Миняева Ирина","ОКР (КЦ)","-",21,21,"-","-",21,"-","-","-","-","-","-","-","-","-","-","-","-","-","-",20.5,"-","-","-","-","-","-","-","-","-","-","-","-","-","-",21,"-",null,"-","-","-","-","-","-"]
[null,"Мирсаитов Дмитрий","ЗГД","-",21,21,"-","-",21,"-","-","-","-","-","-","-","-","-","-","-","-","-","-",20.5,"-","-","-","-","-","-","-","-","-","-","-","-","-","-",21,"-",null,"-","-","-","-","-","-"]
[null,"Навальнева Евгения","ЗГД","-",21,21,"-","-",21,"-","-","-","-","-","-","-","-","-","-","-","-","-","-",20.5,"-","-","-","-","-","-","-","-","-","-","-","-","-","-",21,"-",null,"-","-","-","-","-","-"]
[null,"Османов Руслан","ЗГД","-",21,21,"-","-",21,"-","-","-","-","-","-","-","-","-","-","-","-","-","-",20.5,"-","-","-","-","-","-","-","-","-","-","-","-","-","-",21,"-",null,"-","-","-","-","-","-"]
[null,"Приймак Андрей","ЗГД","-",21,21,"-","-",21,"-","-","-","-","-","-","-","-","-","-","-","-","-","-",20.5,"-","-","-","-","-","-","-","-","-","-","-","-","-","-",21,"-",null,"-","-","-","-","-","-"]
[null,"Проскуряков Алексей","ОКР","-",21,21,"-","-",21,"-","-","-","-","-","-","-","-","-","-","-","-","-","-",20.5,"-","-","-","-","-","-","-","-","-","-","-","-","-","-",21,"-",null,"-","-","-","-","-","-"]
[null,"Савченко Яна","ОКР (КЦ)","-",21,21,"-","-",21,"-","-","-","-","-","-","-","-","-","-","-","-","-","-",20.5,"-","-","-","-","-","-","-","-","-","-","-","-","-","-",21,"-",null,"-","-","-","-","-","-"]
[null,"Сафиуллин Наиль","ОКР (КЦ)","-",21,21,"-","-",21,"-","-","-","-","-","-","-","-","-","-","-","-","-","-",20.5,"-","-","-","-","-","-","-","-","-","-","-","-","-","-",21,"-",null,"-","-","-","-","-","-"]
[null,"Сметанин Павел","ОКР","-",21,21,"-","-",21,"-","-","-","-","-","-","-","-","-","-","-","-","-","-",20.5,"-","-","-","-","-","-","-","-","-","-","-","-","-","-",21,"-",null,"-","-","-","-","-","-"]
[null,"Степин Константин","ОКР (КЦ)","-",21,21,"-","-",21,"-","-","-","-","-","-","-","-","-","-","-","-","-","-",20.5,"-","-","-","-","-","-","-","-","-","-","-","-","-","-",21,"-",null,"-","-","-","-","-","-"]
[null,"Титов Александр","ЗГД","-",21,21,"-","-",21,"-","-","-","-","-","-","-","-","-","-","-","-","-","-",20.5,"-","-","-","-","-","-","-","-","-","-","-","-","-","-",21,"-",null,"-","-","-","-","-","-"]
[null,"Фирсов Владимир","ОКР","-",21,21,"-","-",21,"-","-","-","-","-","-","-","-","-","-","-","-","-","-",20.5,"-","-","-","-","-","-","-","-","-","-","-","-","-","-",21,"-",null,"-","-","-","-","-","-"]
[null,"Чунц Илья","ЗГД","-",21,21,"-","-",21,"-","-","-","-","-","-","-","-","-","-","-","-","-","-",20.5,"-","-","-","-","-","-","-","-","-","-","-","-","-","-",21,"-",null,"-","-","-","-","-","-"]
[null,"Шепляков Алексей","ЗГД","-",21,21,"-","-",21,"-","-","-","-","-","-","-","-","-","-","-","-","-","-",20.5,"-","-","-","-","-","-","-","-","-","-","-","-","-","-",21,"-",null,"-","-","-","-","-","-"]
[null,"Шестаков Антон","ЗГД","-",21,21,"-","-",21,"-","-","-","-","-","-","-","-","-","-","-","-","-","-",20.5,"-","-","-","-","-","-","-","-","-","-","-","-","-","-",21,"-",null,"-","-","-","-","-","-"]
[null,"Ялымов Денис","ОКР","-",21,21,"-","-",21,"-","-","-","-","-","-","-","-","-","-","-","-","-","-",20.5,"-","-","-","-","-","-","-","-","-","-","-","-","-","-",21,"-",null,"-","-","-","-","-","-"]
[null,"Винокурова Елена","КЦ","-",{"$f":"_xlfn.RANK.AVG(E80,E$80:E$84)","v":3},{"$f":"_xlfn.RANK.AVG(F118,F$118:F$122)","v":3},"-","-",{"$f":"_xlfn.RANK.AVG(I118,I$118:I$122)","v":3},"-","-","-","-","-","-","-","-","-","-","-","-","-","-",{"$f":"_xlfn.RANK.AVG(X118,X$118:X$122)","v":3},"-","-","-","-","-","-","-","-","-","-","-","-","-","-",{"$f":"_xlfn.RANK.AVG(AM118,AM$118:AM$122)","v":3},"-",null,"-","-","-","-","-","-"]
[null,"Горбунова Татьяна","КЦ","-",{"$f":"_xlfn.RANK.AVG(E81,E$80:E$84)","v":3},{"$f":"_xlfn.RANK.AVG(F119,F$118:F$122)","v":3},"-","-",{"$f":"_xlfn.RANK.AVG(I119,I$118:I$122)","v":3},"-","-","-","-","-","-","-","-","-","-","-","-","-","-",{"$f":"_xlfn.RANK.AVG(X119,X$118:X$122)","v":3},"-","-","-","-","-","-","-","-","-","-","-","-","-","-",{"$f":"_xlfn.RANK.AVG(AM119,AM$118:AM$122)","v":3},"-",null,"-","-","-","-","-","-"]
[null,"Давыденков Евгений","КЦ","-",3,3,"-","-",3,"-","-","-","-","-","-","-","-","-","-","-","-","-","-",3,"-","-","-","-","-","-","-","-","-","-","-","-","-","-",3,"-",null,"-","-","-","-","-","-"]
[null,"Журавлев Сергей","КЦ","-",3,3,"-","-",3,"-","-","-","-","-","-","-","-","-","-","-","-","-","-",3,"-","-","-","-","-","-","-","-","-","-","-","-","-","-",3,"-",null,"-","-","-","-","-","-"]
[null,"Ульданов Динар","КЦ","-",3,3,"-","-",3,"-","-","-","-","-","-","-","-","-","-","-","-","-","-",3,"-","-","-","-","-","-","-","-","-","-","-","-","-","-",3,"-",null,"-","-","-","-","-","-"]

{"sheet":"Сбор показателей II кв","index":20,"n_rows":160,"n_cols":46,"rows_kept":160,"cut":false,"hidden":false,"merged":[[7,38,7,45],[7,1,7,2],[7,3,7,4],[7,5,7,7],[7,8,7,22],[7,23,7,37],[8,24,9,24],[8,1,9,1],[8,2,9,2],[8,3,9,3],[8,4,9,4],[8,5,9,5],[8,6,9,6],[8,7,9,7],[8,8,9,8],[8,9,8,15],[8,16,8,22],[8,23,9,23],[8,41,8,45],[8,25,9,25],[8,26,8,30],[8,31,8,37],[8,38,9,38],[8,39,9,39],[8,40,9,40]]}
[null,null,null,null,"Коэфицент интегрального рейтинга",0.111,null,null,null,0.111,null,null,null,null,null,null,0.111,null,null,null,null,null,null,null,0.111,0.111,null,null,null,null,null,0.111,null,null,null,null,null,null,null,0.111,0.111,0.1]
[null,null,null,null,"Коэфицент рейтинга блока",1,null,null,null,0.5,null,null,null,null,null,null,0.5,null,null,null,null,null,null,null,0.33300000000000002,0.33300000000000002,null,null,null,null,null,0.33300000000000002,null,null,null,null,null,null,null,0.33300000000000002,0.33300000000000002,0.33300000000000002]
[]
[null,"К СОДЕРЖАНИЮ"]
[]
[null,"II КВАРТАЛ"]
[]
[null,"УЧАСТНИК",null,"ЗОНА УПРАВЛЕНИЯ",null,"РЕЗУЛЬТАТИВНОСТЬ",null,null,"ПРОАКТИВНОСТЬ",null,null,null,null,null,null,null,null,null,null,null,null,null,null,"ПРОФЕССИОНАЛЬНОЕ И ЛИДЕРСКОЕ РАЗВИТИЕ",null,null,null,null,null,null,null,null,null,null,null,null,null,null,"ЭФФЕКТИВНОЕ ВЗАИМОДЕЙСТВИЕ"]
[null,"ФИО","ТИП","Число сотрудников      в прямом подчинении","Число сотрудников в подразделении","Интегральный показатель","Выполнение УПЦ","Множитель","Интегральный показатель - проактивность","Поданные инициативы",null,null,null,null,null,null,"Инициативы, одобренные к реализации",null,null,null,null,null,null,"Интегральный показатель - профессиональное развитие","Выполнение ИПР самим участником","Выполнение ИПР непосредственными подчиненными ","Наполнение Кадрового резерва функции",null,null,null,null,"Управление знаниями функции",null,null,null,null,null,null,"Интегральный показатель - эффективное взаимодействие","Обратная связь от подрядчиков","Обратная связь от прямых подчиненных","Работа кросс-функциональных команд"]
[null,null,null,null,null,null,null,null,null,"Интегральный показатель - ПоИн","Преобразование - ПоИн ЛИНиЯ","Преобразование - ПоИн И.Д.Е.Я.","Преобразование - ПоИн Другие","Формат 1","Формат 2","Другие","Интегральный показатель - ОдИн","Преобразование - ОдИн ЛИНиЯ","Преобразование - ОдИн И.Д.Е.Я.","Преобразование - ОдИн Другие","Формат 1","Формат 2","Другие",null,null,null,"Интегральный показатель - НКРФ","Преобразование - ОКР","Преобразование - ПКР","Оперативный кадровый резерв","Перспективный кадровый резерв","Интегральный показатель - УЗФ","Преобразование - тренеры","Преобразование - программы б/ИЗ","Преобразование - программы т/ИЗ","Число внутренних тренеров","Число курсов внутренних тренеров вне Института Закупки","Число курсов внутренних тренеров в рамках Института Закупки",null,null,null,"Интегральный показатель - РКФК","Преобразование - инициация","Преобразование - участие","Инициация кросс-функциональных команд","Участие в кросс-функциональных командах"]
[null,"Василий Леонтьев","ОКР",5,15,{"$f":"G11*H11","v":2.8739999999999997},0.95799999999999996,3,null,{"$f":"SUM(K11:M11)","v":3.2666666666666666},{"$f":"N11/$E11","v":0},{"$f":"O11/$E11","v":0},3.2666666666666666,null,null,49,{"$f":"SUM(R11:T11)","v":6.6666666666666666E-2},{"$f":"U11/$E11","v":0},{"$f":"V11/$E11","v":0},6.6666666666666666E-2,null,null,1,null,0.63,0.76,{"$f":"SUM((AB11/MAX(AB$11:AB$46)),(AC11/MAX(AC$11:AC$46)))","v":{"$error":"#DIV/0!"}},{"$f":"(AD11*5)/E11","v":0},{"$f":"(AE11*2)/E11","v":0},null,null,{"$f":"IF(AJ11=\"\",0,IF(AJ11=0,0,(SUM((AG11/MAX($AG$11:$AG$41))*0.25,(AH11/MAX($AH$11:$AH$41))*0.25,(AI11/MAX($AI$11:$AI$41))*0.5))))","v":0.3041666666666667},{"$f":"IF(AJ11=\"\",0,IF(AJ11=0,0,AJ11/E11))","v":0.4},{"$f":"IF(AJ11=\"\",0,IF(AJ11=0,0,IF(AK11=0,\"0\",AK11/AJ11)))","v":0.83333333333333337},{"$f":"IF(AL11=0,0,IF(AJ11=0,0,IF(AL11=\"\",\"\",AL11/AJ11)))","v":0.83333333333333337},6,5,5,null,0.74,0.51,{"$f":"SUM((AQ11/MAX($AQ$11:$AQ$46))*0.5,(AR11/MAX($AR$11:$AR$46)*0.5))","v":0.15098039215686274},{"$f":"AS11/$E11","v":0.73333333333333328},{"$f":"AT11/$E11","v":0},11,0]
[null,"Гуннар Мюрдаль","ОКР",6,25,{"$f":"G12*H12","v":3.0089999999999995},1.0029999999999999,3,null,{"$f":"SUM(K12:M12)","v":2.4},{"$f":"N12/$E12","v":1.92},0.48,0,48,12,null,{"$f":"SUM(R12:T12)","v":1.3199999999999998},{"$f":"U12/$E12","v":0.96},0.36,0,24,9,null,null,0.81,0.62,{"$f":"SUM((AB12/MAX(AB$11:AB$46)),(AC12/MAX(AC$11:AC$46)))","v":{"$error":"#DIV/0!"}},0,0,null,null,{"$f":"IF(AJ12=\"\",0,IF(AJ12=0,0,(SUM((AG12/MAX($AG$11:$AG$41))*0.25,(AH12/MAX($AH$11:$AH$41))*0.25,(AI12/MAX($AI$11:$AI$41))*0.5))))","v":0.23555555555555552},{"$f":"IF(AJ12=\"\",0,IF(AJ12=0,0,AJ12/E12))","v":0.36},{"$f":"IF(AJ12=\"\",0,IF(AJ12=0,0,IF(AK12=0,\"0\",AK12/AJ12)))","v":0.44444444444444442},{"$f":"IF(AL12=0,0,IF(AJ12=0,0,IF(AL12=\"\",\"\",AL12/AJ12)))","v":0.44444444444444442},9,4,4,null,0.6,0.85,{"$f":"SUM((AQ12/MAX($AQ$11:$AQ$46))*0.5,(AR12/MAX($AR$11:$AR$46)*0.5))","v":1.6470588235294119E-2},{"$f":"AS12/$E12","v":0.08},0,2,0]
[null,"Джон Ричард Хикс","ОКР",6,7,1.024,1.024,1,null,11.285714285714285,6.8571428571428568,4.4285714285714288,0,48,31,null,9.8571428571428577,6.5714285714285712,3.2857142857142856,0,46,23,null,null,0.77,0.59,{"$error":"#DIV/0!"},0,0,null,null,0,0,0,0,0,0,0,null,0.87,0.69,0.32324929971988792,0.7142857142857143,0.14285714285714285,5,1]
[null,"Кеннет Эрроу","ОКР",3,10,2.21,1.105,2,null,4,0.8,3.2,0,8,32,null,1.2999999999999998,0.7,0.6,0,7,6,null,null,0.87,0.68,{"$error":"#DIV/0!"},0,0,null,null,0.31874999999999998,0.4,0.75,1,4,3,4,null,0.99,0.56999999999999995,0.53509803921568633,2,0.1,20,1]
[null,"Кэрол Грейдер","ОКР",5,21,1.056,1.056,1,null,3.7142857142857144,1.7142857142857142,2,0,36,42,null,2.8571428571428572,1.2857142857142858,1.5714285714285714,0,27,33,null,null,0.8,0.83,{"$error":"#DIV/0!"},0,0,null,null,0.77380952380952384,4.7619047619047616E-2,10,5,1,10,5,null,0.68,0.67,0.12735760971055088,0.33333333333333331,4.7619047619047616E-2,7,1]
[null,"Линда Бак","ЗГД",6,37,3.2309999999999999,1.077,3,null,1.7567567567567568,0.56756756756756754,1.1891891891891893,0,21,44,null,0.91891891891891886,0.40540540540540543,0.51351351351351349,0,15,19,null,null,0.93,0.87,{"$error":"#DIV/0!"},0,0,null,null,0.20319410319410319,0.29729729729729731,0.72727272727272729,0.36363636363636365,11,8,4,null,0.88,0.73,0.61128775834658189,0.54054054054054057,0.40540540540540543,20,15]
[null,"Мэй-Брит Мозер","ОКР",6,11,1.0580000000000001,1.0580000000000001,1,null,4.4545454545454541,9.0909090909090912E-2,4.3636363636363633,0,1,48,null,1.8181818181818181,0,1.8181818181818181,0,0,20,null,null,0.71,0.86,{"$error":"#DIV/0!"},0,0,null,null,0.37045454545454548,9.0909090909090912E-2,9,1,1,9,1,null,0.99,0.56000000000000005,0.654367201426025,1,0.36363636363636365,11,4]
[null,"Саймон Кузнец","ОКР (КЦ)",7,8,1.958,0.97899999999999998,2,null,6.75,3.5,3.25,0,28,26,null,3.75,2.5,1.25,0,20,10,null,null,0.88,0.83,{"$error":"#DIV/0!"},0,0,null,null,0.34375,0.5,2.75,0.25,4,11,1,null,0.99,0.52,0.5911764705882353,0.625,0.375,5,3]
[null,"Светлана Алексеевич","ЗГД",5,7,1.9019999999999999,0.95099999999999996,2,null,4.7142857142857144,2,2.7142857142857144,0,14,19,null,4.2857142857142856,1.7142857142857142,2.5714285714285716,0,12,18,null,null,0.76,0.54,{"$error":"#DIV/0!"},0,0,null,null,0.29285714285714282,0.2857142857142857,"0",1.5,2,0,3,null,0.52,0.81,0.85238095238095235,2.4285714285714284,0.2857142857142857,17,2]
[null,"Эстер Дюфло","ЗГД",7,8,2.1379999999999999,1.069,2,null,9.875,5.375,4.5,0,43,36,null,7.875,5.125,2.75,0,41,22,null,null,0.97,0.88,{"$error":"#DIV/0!"},0,0,null,null,0.53749999999999998,0.25,4.5,3,2,9,6,null,0.75,0.57999999999999996,0.84852941176470587,1.875,0.375,15,3]
[]
[]
[]
[]
[]
[]
[]
[]
[]
[]
[]
[]
[]
[]
[]
[]
[]
[]
[]
[]
[]
[]
[]
[]
[]
[]
[]
[null,"ПЕРЕСЧЕТ ДЛЯ ИНТЕГРАЛЬНОГО РЕЙТИНГА"]
[null,"Андреева Анна","ОКР","-",{"$f":"SUM(F49:AT49)","v":0.51048565334372376},{"$f":"(F11/MAX(F$11:F$46))*F$1","v":9.8735376044568238E-2},"-","-",null,{"$f":"(J11/MAX(J$11:J$46))*J$1","v":3.2129113924050635E-2},"-","-","-","-","-","-",{"$f":"(Q11/MAX(Q$11:Q$46))*Q$1","v":7.5072463768115943E-4},"-","-","-","-","-","-","-",{"$f":"(Y11/MAX(Y$11:Y$46))*Y$1","v":7.2092783505154648E-2},9.5863636363636359E-2,null,"-","-","-","-",{"$f":"IF(AF11=0,0,(AF11/MAX(AF$11:AF$46))*AF$1)","v":4.3631538461538465E-2},"-","-","-","-","-","-","-",{"$f":"(AN11/MAX(AN$11:AN$46))*AN$1","v":8.2969696969696971E-2},6.6599999999999993E-2,1.7712783437397305E-2,"-","-","-","-"]
[null,"Анисимова Марина","ОКР","-",{"$f":"SUM(F50:AT50)","v":0.52673250665616278},0.10337325905292477,"-","-",null,2.3605063291139244E-2,"-","-","-","-","-","-",1.4864347826086956E-2,"-","-","-","-","-","-","-",9.2690721649484539E-2,7.8204545454545457E-2,null,"-","-","-","-",{"$f":"IF(AF12=0,0,(AF12/MAX(AF$11:AF$46))*AF$1)","v":3.3789538461538461E-2},"-","-","-","-","-","-","-",6.7272727272727276E-2,0.111,1.9323036477160698E-3,"-","-","-","-"]
[null,"Билый Александр","ОКР","-",0.64528749719308864,3.5179201485608172E-2,"-","-",null,0.111,"-","-","-","-","-","-",0.111,"-","-","-","-","-","-","-",8.8113402061855681E-2,7.442045454545454E-2,null,"-","-","-","-",0,"-","-","-","-","-","-","-",9.7545454545454546E-2,9.0105882352941175E-2,3.7923102201774563E-2,"-","-","-","-"]
[null,"Бильвина Валерия","ОКР","-",0.60916981406360771,7.59238625812442E-2,"-","-",null,3.9341772151898741E-2,"-","-","-","-","-","-",1.4639130434782606E-2,"-","-","-","-","-","-","-",9.9556701030927841E-2,8.5772727272727278E-2,null,"-","-","-","-",4.5723461538461532E-2,"-","-","-","-","-","-","-",0.111,7.4435294117647058E-2,6.2776864935918511E-2,"-","-","-","-"]
[null,"Борисов Сергей","ОКР","-",0.59090162115800871,3.627855153203343E-2,"-","-",null,3.6531645569620255E-2,"-","-","-","-","-","-",3.2173913043478261E-2,"-","-","-","-","-","-","-",9.1546391752577325E-2,0.10469318181818181,null,"-","-","-","-",0.111,"-","-","-","-","-","-","-",7.624242424242425E-2,8.7494117647058833E-2,1.4941395552634462E-2,"-","-","-","-"]
[null,"Булковский Сергей","ЗГД","-",0.64964643849931369,0.111,"-","-",null,1.727848101265823E-2,"-","-","-","-","-","-",1.0347826086956521E-2,"-","-","-","-","-","-","-",0.10642268041237114,0.10973863636363637,null,"-","-","-","-",2.9147412587412585E-2,"-","-","-","-","-","-","-",9.866666666666668E-2,9.5329411764705871E-2,7.1715323604906261E-2,"-","-","-","-"]
[null,"Войтюк Юлия","ОКР","-",0.60439772066140007,3.6347260909935009E-2,"-","-",null,4.3812428078250865E-2,"-","-","-","-","-","-",2.0474308300395254E-2,"-","-","-","-","-","-","-",8.1247422680412365E-2,0.10847727272727273,null,"-","-","-","-",5.3140279720279723E-2,"-","-","-","-","-","-","-",0.111,7.3129411764705901E-2,7.6769336480148193E-2,"-","-","-","-"]
[null,"Гудкова Людмила","ОКР (КЦ)","-",0.67884959160920766,6.7266480965645303E-2,"-","-",null,6.638924050632912E-2,"-","-","-","-","-","-",4.2228260869565215E-2,"-","-","-","-","-","-","-",0.10070103092783506,0.10469318181818181,null,"-","-","-","-",4.9309615384615382E-2,"-","-","-","-","-","-","-",0.111,6.7905882352941177E-2,6.9355898784094649E-2,"-","-","-","-"]
[null,"Гулиев Рагим","ЗГД","-",0.62114201674629455,6.5342618384401113E-2,"-","-",null,4.6367088607594947E-2,"-","-","-","-","-","-",4.8260869565217392E-2,"-","-","-","-","-","-","-",8.6969072164948452E-2,6.8113636363636362E-2,null,"-","-","-","-",4.2009230769230764E-2,"-","-","-","-","-","-","-",5.8303030303030308E-2,0.10577647058823531,0.1,"-","-","-","-"]
[null,"Завьялов Василий","ЗГД","-",0.81773720933633753,7.3450324976787371E-2,"-","-",null,9.7125000000000017E-2,"-","-","-","-","-","-",8.8679347826086954E-2,"-","-","-","-","-","-","-",0.111,0.111,null,"-","-","-","-",7.7102307692307678E-2,"-","-","-","-","-","-","-",8.4090909090909091E-2,7.5741176470588242E-2,9.9548143279658233E-2,"-","-","-","-"]
[null,"Коваленко Тамара","ОКР","-",0,0,"-","-",null,0,"-","-","-","-","-","-",0,"-","-","-","-","-","-","-",0,0,null,"-","-","-","-",0,"-","-","-","-","-","-","-",0,0,0,"-","-","-","-"]
[null,"Колесников Сергей","ОКР","-",0,0,"-","-",null,0,"-","-","-","-","-","-",0,"-","-","-","-","-","-","-",0,0,null,"-","-","-","-",0,"-","-","-","-","-","-","-",0,0,0,"-","-","-","-"]
[null,"Коробейников Павел","ЗГД","-",0,0,"-","-",null,0,"-","-","-","-","-","-",0,"-","-","-","-","-","-","-",0,0,null,"-","-","-","-",0,"-","-","-","-","-","-","-",0,0,0,"-","-","-","-"]
[null,"Марченко Лариса","ОКР","-",0,0,"-","-",null,0,"-","-","-","-","-","-",0,"-","-","-","-","-","-","-",0,0,null,"-","-","-","-",0,"-","-","-","-","-","-","-",0,0,0,"-","-","-","-"]
[null,"Мелёхин Денис","ОКР (КЦ)","-",0,0,"-","-",null,0,"-","-","-","-","-","-",0,"-","-","-","-","-","-","-",0,0,null,"-","-","-","-",0,"-","-","-","-","-","-","-",0,0,0,"-","-","-","-"]
[null,"Миняева Ирина","ОКР (КЦ)","-",0,0,"-","-",null,0,"-","-","-","-","-","-",0,"-","-","-","-","-","-","-",0,0,null,"-","-","-","-",0,"-","-","-","-","-","-","-",0,0,0,"-","-","-","-"]
[null,"Мирсаитов Дмитрий","ЗГД","-",0,0,"-","-",null,0,"-","-","-","-","-","-",0,"-","-","-","-","-","-","-",0,0,null,"-","-","-","-",0,"-","-","-","-","-","-","-",0,0,0,"-","-","-","-"]
[null,"Навальнева Евгения","ЗГД","-",0,0,"-","-",null,0,"-","-","-","-","-","-",0,"-","-","-","-","-","-","-",0,0,null,"-","-","-","-",0,"-","-","-","-","-","-","-",0,0,0,"-","-","-","-"]
[null,"Османов Руслан","ЗГД","-",0,0,"-","-",null,0,"-","-","-","-","-","-",0,"-","-","-","-","-","-","-",0,0,null,"-","-","-","-",0,"-","-","-","-","-","-","-",0,0,0,"-","-","-","-"]
[null,"Приймак Андрей","ЗГД","-",0,0,"-","-",null,0,"-","-","-","-","-","-",0,"-","-","-","-","-","-","-",0,0,null,"-","-","-","-",0,"-","-","-","-","-","-","-",0,0,0,"-","-","-","-"]
[null,"Проскуряков Алексей","ОКР","-",0,0,"-","-",null,0,"-","-","-","-","-","-",0,"-","-","-","-","-","-","-",{"$f":"(Y31/MAX(Y$11:Y$46))*Y$1","v":0},0,null,"-","-","-","-",0,"-","-","-","-","-","-","-",{"$f":"(AN31/MAX(AN$11:AN$46))*AN$1","v":0},0,0,"-","-","-","-"]
[null,"Савченко Яна","ОКР (КЦ)","-",0,0,"-","-",null,0,"-","-","-","-","-","-",0,"-","-","-","-","-","-","-",0,0,null,"-","-","-","-",0,"-","-","-","-","-","-","-",0,0,0,"-","-","-","-"]
[null,"Сафиуллин Наиль","ОКР (КЦ)","-",0,0,"-","-",null,0,"-","-","-","-","-","-",0,"-","-","-","-","-","-","-",0,0,null,"-","-","-","-",0,"-","-","-","-","-","-","-",0,0,0,"-","-","-","-"]
[null,"Сметанин Павел","ОКР","-",0,0,"-","-",null,0,"-","-","-","-","-","-",0,"-","-","-","-","-","-","-",0,0,null,"-","-","-","-",0,"-","-","-","-","-","-","-",0,0,0,"-","-","-","-"]
[null,"Степин Константин","ОКР (КЦ)","-",0,0,"-","-",null,0,"-","-","-","-","-","-",0,"-","-","-","-","-","-","-",0,0,null,"-","-","-","-",0,"-","-","-","-","-","-","-",0,0,0,"-","-","-","-"]
[null,"Титов Александр","ЗГД","-",0,0,"-","-",null,0,"-","-","-","-","-","-",0,"-","-","-","-","-","-","-",0,0,null,"-","-","-","-",0,"-","-","-","-","-","-","-",0,0,0,"-","-","-","-"]
[null,"Фирсов Владимир","ОКР","-",0,0,"-","-",null,0,"-","-","-","-","-","-",0,"-","-","-","-","-","-","-",0,0,null,"-","-","-","-",0,"-","-","-","-","-","-","-",0,0,0,"-","-","-","-"]
[null,"Чунц Илья","ЗГД","-",0,0,"-","-",null,0,"-","-","-","-","-","-",0,"-","-","-","-","-","-","-",0,0,null,"-","-","-","-",0,"-","-","-","-","-","-","-",0,0,0,"-","-","-","-"]
[null,"Шепляков Алексей","ЗГД","-",0,0,"-","-",null,0,"-","-","-","-","-","-",0,"-","-","-","-","-","-","-",0,0,null,"-","-","-","-",0,"-","-","-","-","-","-","-",0,0,0,"-","-","-","-"]
[null,"Шестаков Антон","ЗГД","-",0,0,"-","-",null,0,"-","-","-","-","-","-",0,"-","-","-","-","-","-","-",0,0,null,"-","-","-","-",0,"-","-","-","-","-","-","-",0,0,0,"-","-","-","-"]
[null,"Ялымов Денис","ОКР","-",0,0,"-","-",null,0,"-","-","-","-","-","-",0,"-","-","-","-","-","-","-",0,0,null,"-","-","-","-",0,"-","-","-","-","-","-","-",0,0,0,"-","-","-","-"]
[null,"Винокурова Елена","КЦ","-",0,0,"-","-",null,0,"-","-","-","-","-","-",0,"-","-","-","-","-","-","-",0,0,null,"-","-","-","-",0,"-","-","-","-","-","-","-",0,0,0,"-","-","-","-"]
[null,"Горбунова Татьяна","КЦ","-",0,0,"-","-",null,0,"-","-","-","-","-","-",0,"-","-","-","-","-","-","-",0,0,null,"-","-","-","-",0,"-","-","-","-","-","-","-",0,0,0,"-","-","-","-"]
[null,"Давыденков Евгений","КЦ","-",0,0,"-","-",null,0,"-","-","-","-","-","-",0,"-","-","-","-","-","-","-",0,0,null,"-","-","-","-",0,"-","-","-","-","-","-","-",0,0,0,"-","-","-","-"]
[null,"Журавлев Сергей","КЦ","-",0,0,"-","-",null,0,"-","-","-","-","-","-",0,"-","-","-","-","-","-","-",0,0,null,"-","-","-","-",0,"-","-","-","-","-","-","-",0,0,0,"-","-","-","-"]
[null,"Ульданов Динар","КЦ","-",0,0,"-","-",null,0,"-","-","-","-","-","-",0,"-","-","-","-","-","-","-",0,0,null,"-","-","-","-",0,"-","-","-","-","-","-","-",0,0,0,"-","-","-","-"]
[]
[null,"ПЕРЕСЧЕТ ДЛЯ РЕЙТИНГА БЛОКА"]
[null,"Андреева Анна","ОКР","-","-",{"$f":"(F11/MAX(F$11:F$46))*F$2","v":0.88950789229340754},"-","-",{"$f":"SUM(J87:W87)","v":0.14810738090870176},{"$f":"(J11/MAX(J$11:J$46))*J$2","v":0.14472573839662448},"-","-","-","-","-","-",{"$f":"(Q11/MAX(Q$11:Q$46))*Q$2","v":3.3816425120772944E-3},"-","-","-","-","-","-",{"$f":"SUM(Y87:AL87)","v":0.63476387499098852},{"$f":"(Y11/MAX(Y$11:Y$46))*Y$2","v":0.21627835051546393},0.28759090909090912,null,"-","-","-","-",{"$f":"IF(AF11=0,0,((AF11/MAX(AF$11:AF$46))*AF$2))","v":0.13089461538461539},"-","-","-","-","-","-",{"$f":"SUM(AN87:AT87)","v":0.50769265975562394},{"$f":"(AN11/MAX(AN$11:AN$46))*AN$2","v":0.24890909090909094},0.19980000000000001,5.8983568846533031E-2,"-","-","-","-"]
[null,"Анисимова Марина","ОКР","-","-",0.93129062209842139,"-","-",{"$f":"SUM(J88:W88)","v":0.17328563566318106},0.10632911392405064,"-","-","-","-","-","-",6.6956521739130428E-2,"-","-","-","-","-","-",{"$f":"SUM(Y88:AL88)","v":0.61405441669670546},0.27807216494845366,0.23461363636363639,null,"-","-","-","-",{"$f":"IF(AF12=0,0,((AF12/MAX(AF$11:AF$46))*AF$2))","v":0.10136861538461538},"-","-","-","-","-","-",{"$f":"SUM(AN88:AT88)","v":0.54125275296507636},0.20181818181818184,0.33300000000000002,6.4345711468945131E-3,"-","-","-","-"]
[null,"Билый Александр","ОКР","-","-",0.31692974311358713,"-","-",1,0.5,"-","-","-","-","-","-",0.5,"-","-","-","-","-","-",0.4876015698219307,0.26434020618556703,0.22326136363636365,null,"-","-","-","-",0,"-","-","-","-","-","-",0.68923794102709646,0.29263636363636364,0.27031764705882355,0.12628393033190929,"-","-","-","-"]
[null,"Бильвина Валерия","ОКР","-","-",0.68399876199319098,"-","-",0.24315721885892499,0.17721518987341775,"-","-","-","-","-","-",6.5942028985507231E-2,"-","-","-","-","-","-",0.69315866952635008,0.29867010309278352,0.25731818181818183,null,"-","-","-","-",0.13717038461538461,"-","-","-","-","-","-",0.76535284258954983,0.33300000000000002,0.22330588235294116,0.20904696023660865,"-","-","-","-"]
[null,"Борисов Сергей","ОКР","-","-",0.32683379758588677,"-","-",0.30948449825720054,0.16455696202531647,"-","-","-","-","-","-",0.14492753623188406,"-","-","-","-","-","-",0.92171872071227745,0.27463917525773202,0.31407954545454547,null,"-","-","-","-",0.33300000000000002,"-","-","-","-","-","-",0.54096447285872207,0.22872727272727278,0.2624823529411765,4.9754847190272761E-2,"-","-","-","-"]
[null,"Булковский Сергей","ЗГД","-","-",1,"-","-",0.12444282477303942,7.7830995552514548E-2,"-","-","-","-","-","-",4.661182922052487E-2,"-","-","-","-","-","-",0.73592618809026034,0.31926804123711344,0.32921590909090909,null,"-","-","-","-",8.7442237762237765E-2,"-","-","-","-","-","-",0.82080026289845553,0.29600000000000004,0.28598823529411765,0.23881202760433784,"-","-","-","-"]
[null,"Войтюк Юлия","ОКР","-","-",0.32745280099040547,"-","-",0.28957989359750502,0.19735327963176064,"-","-","-","-","-","-",9.2226613965744386E-2,"-","-","-","-","-","-",0.72859492538389448,0.24374226804123711,0.32543181818181821,null,"-","-","-","-",0.15942083916083918,"-","-","-","-","-","-",0.80803012577301114,0.33300000000000002,0.21938823529411769,0.25564189047889346,"-","-","-","-"]
[null,"Гудкова Людмила","ОКР (КЦ)","-","-",0.60600433302383161,"-","-",0.48926802421574023,0.29905063291139244,"-","-","-","-","-","-",0.19021739130434781,"-","-","-","-","-","-",0.7641114843918968,0.30210309278350517,0.31407954545454547,null,"-","-","-","-",0.14792884615384616,"-","-","-","-","-","-",0.76767279000985877,0.33300000000000002,0.20371764705882356,0.2309551429510352,"-","-","-","-"]
[null,"Гулиев Рагим","ЗГД","-","-",0.58867223769730737,"-","-",0.426252063841497,0.20886075949367092,"-","-","-","-","-","-",0.21739130434782608,"-","-","-","-","-","-",0.59127581789344674,0.26090721649484538,0.2043409090909091,null,"-","-","-","-",0.12602769230769229,"-","-","-","-","-","-",0.82523850267379695,0.17490909090909093,0.31732941176470592,0.33300000000000002,"-","-","-","-"]
[null,"Завьялов Василий","ЗГД","-","-",0.66171463943051689,"-","-",0.83695652173913049,0.43750000000000006,"-","-","-","-","-","-",0.39945652173913043,"-","-","-","-","-","-",0.89730692307692306,0.33300000000000002,0.33300000000000002,null,"-","-","-","-",0.23130692307692305,"-","-","-","-","-","-",0.81099157380575382,0.25227272727272726,0.22722352941176471,0.3314953171212619,"-","-","-","-"]
[null,"Коваленко Тамара","ОКР","-","-",0,"-","-",0,0,"-","-","-","-","-","-",0,"-","-","-","-","-","-",0,0,0,null,"-","-","-","-",0,"-","-","-","-","-","-",0,0,0,0,"-","-","-","-"]
[null,"Колесников Сергей","ОКР","-","-",0,"-","-",0,0,"-","-","-","-","-","-",0,"-","-","-","-","-","-",0,0,0,null,"-","-","-","-",0,"-","-","-","-","-","-",0,0,0,0,"-","-","-","-"]
[null,"Коробейников Павел","ЗГД","-","-",0,"-","-",0,0,"-","-","-","-","-","-",0,"-","-","-","-","-","-",0,0,0,null,"-","-","-","-",0,"-","-","-","-","-","-",0,0,0,0,"-","-","-","-"]
[null,"Марченко Лариса","ОКР","-","-",0,"-","-",0,0,"-","-","-","-","-","-",0,"-","-","-","-","-","-",0,0,0,null,"-","-","-","-",0,"-","-","-","-","-","-",0,0,0,0,"-","-","-","-"]
[null,"Мелёхин Денис","ОКР (КЦ)","-","-",0,"-","-",0,0,"-","-","-","-","-","-",0,"-","-","-","-","-","-",0,0,0,null,"-","-","-","-",0,"-","-","-","-","-","-",0,0,0,0,"-","-","-","-"]
[null,"Миняева Ирина","ОКР (КЦ)","-","-",0,"-","-",0,0,"-","-","-","-","-","-",0,"-","-","-","-","-","-",0,0,0,null,"-","-","-","-",0,"-","-","-","-","-","-",0,0,0,0,"-","-","-","-"]
[null,"Мирсаитов Дмитрий","ЗГД","-","-",0,"-","-",0,0,"-","-","-","-","-","-",0,"-","-","-","-","-","-",0,0,0,null,"-","-","-","-",0,"-","-","-","-","-","-",0,0,0,0,"-","-","-","-"]
[null,"Навальнева Евгения","ЗГД","-","-",0,"-","-",0,0,"-","-","-","-","-","-",0,"-","-","-","-","-","-",0,0,0,null,"-","-","-","-",0,"-","-","-","-","-","-",0,0,0,0,"-","-","-","-"]
[null,"Османов Руслан","ЗГД","-","-",0,"-","-",0,0,"-","-","-","-","-","-",0,"-","-","-","-","-","-",0,0,0,null,"-","-","-","-",0,"-","-","-","-","-","-",0,0,0,0,"-","-","-","-"]
[null,"Приймак Андрей","ЗГД","-","-",0,"-","-",0,0,"-","-","-","-","-","-",0,"-","-","-","-","-","-",0,0,0,null,"-","-","-","-",0,"-","-","-","-","-","-",0,0,0,0,"-","-","-","-"]
[null,"Проскуряков Алексей","ОКР","-","-",0,"-","-",0,0,"-","-","-","-","-","-",0,"-","-","-","-","-","-",0,{"$f":"(Y31/MAX(Y$11:Y$46))*Y$2","v":0},0,null,"-","-","-","-",0,"-","-","-","-","-","-",0,{"$f":"(AN31/MAX(AN$11:AN$46))*AN$2","v":0},0,0,"-","-","-","-"]
[null,"Савченко Яна","ОКР (КЦ)","-","-",0,"-","-",0,0,"-","-","-","-","-","-",0,"-","-","-","-","-","-",0,0,0,null,"-","-","-","-",0,"-","-","-","-","-","-",0,0,0,0,"-","-","-","-"]
[null,"Сафиуллин Наиль","ОКР (КЦ)","-","-",0,"-","-",0,0,"-","-","-","-","-","-",0,"-","-","-","-","-","-",0,0,0,null,"-","-","-","-",0,"-","-","-","-","-","-",0,0,0,0,"-","-","-","-"]
[null,"Сметанин Павел","ОКР","-","-",0,"-","-",0,0,"-","-","-","-","-","-",0,"-","-","-","-","-","-",0,0,0,null,"-","-","-","-",0,"-","-","-","-","-","-",0,0,0,0,"-","-","-","-"]
[null,"Степин Константин","ОКР (КЦ)","-","-",0,"-","-",0,0,"-","-","-","-","-","-",0,"-","-","-","-","-","-",0,0,0,null,"-","-","-","-",0,"-","-","-","-","-","-",0,0,0,0,"-","-","-","-"]
[null,"Титов Александр","ЗГД","-","-",0,"-","-",0,0,"-","-","-","-","-","-",0,"-","-","-","-","-","-",0,0,0,null,"-","-","-","-",0,"-","-","-","-","-","-",0,0,0,0,"-","-","-","-"]
[null,"Фирсов Владимир","ОКР","-","-",0,"-","-",0,0,"-","-","-","-","-","-",0,"-","-","-","-","-","-",0,0,0,null,"-","-","-","-",0,"-","-","-","-","-","-",0,0,0,0,"-","-","-","-"]
[null,"Чунц Илья","ЗГД","-","-",0,"-","-",0,0,"-","-","-","-","-","-",0,"-","-","-","-","-","-",0,0,0,null,"-","-","-","-",0,"-","-","-","-","-","-",0,0,0,0,"-","-","-","-"]
[null,"Шепляков Алексей","ЗГД","-","-",0,"-","-",0,0,"-","-","-","-","-","-",0,"-","-","-","-","-","-",0,0,0,null,"-","-","-","-",0,"-","-","-","-","-","-",0,0,0,0,"-","-","-","-"]
[null,"Шестаков Антон","ЗГД","-","-",0,"-","-",0,0,"-","-","-","-","-","-",0,"-","-","-","-","-","-",0,0,0,null,"-","-","-","-",0,"-","-","-","-","-","-",0,0,0,0,"-","-","-","-"]
[null,"Ялымов Денис","ОКР","-","-",0,"-","-",0,0,"-","-","-","-","-","-",0,"-","-","-","-","-","-",0,0,0,null,"-","-","-","-",0,"-","-","-","-","-","-",0,0,0,0,"-","-","-","-"]
[null,"Винокурова Елена","КЦ","-","-",0,"-","-",0,0,"-","-","-","-","-","-",0,"-","-","-","-","-","-",0,0,0,null,"-","-","-","-",0,"-","-","-","-","-","-",0,0,0,0,"-","-","-","-"]
[null,"Горбунова Татьяна","КЦ","-","-",0,"-","-",0,0,"-","-","-","-","-","-",0,"-","-","-","-","-","-",0,0,0,null,"-","-","-","-",0,"-","-","-","-","-","-",0,0,0,0,"-","-","-","-"]
[null,"Давыденков Евгений","КЦ","-","-",0,"-","-",0,0,"-","-","-","-","-","-",0,"-","-","-","-","-","-",0,0,0,null,"-","-","-","-",0,"-","-","-","-","-","-",0,0,0,0,"-","-","-","-"]
[null,"Журавлев Сергей","КЦ","-","-",0,"-","-",0,0,"-","-","-","-","-","-",0,"-","-","-","-","-","-",0,0,0,null,"-","-","-","-",0,"-","-","-","-","-","-",0,0,0,0,"-","-","-","-"]
[null,"Ульданов Динар","КЦ","-","-",0,"-","-",0,0,"-","-","-","-","-","-",0,"-","-","-","-","-","-",0,0,0,null,"-","-","-","-",0,"-","-","-","-","-","-",0,0,0,0,"-","-","-","-"]
[null,1,2,3,4,5,6,7,8,9,10,11,12,13,14,15,16,17,18,19,20,21,22,23,24,25,26,27,28,29,30,31,32,33,34,35,36,37,38,39,40,41,42,43,44,45]
[null,"РАСПРЕДЕЛЕНИЕ МЕСТ",null,null,"ИНТЕГРАЛЬНЫЙ РЕЙТИНГ","РЕЗУЛЬТАТИВНОСТЬ",null,null,"ПРОАКТИВНОСТЬ",null,null,null,null,null,null,null,null,null,null,null,null,null,null,"ПРОФЕССИОНАЛЬНОЕ РАЗВИТИЕ",null,null,null,null,null,null,null,null,null,null,null,null,null,null,"ЭФФЕКТИВНОЕ ВЗАИМОДЕЙСТВИЕ"]
[null,"Василий Леонтьев","ОКР","-",{"$f":"_xlfn.RANK.AVG(E49,E$49:E$79)","v":10},{"$f":"_xlfn.RANK.AVG(F87,F$87:F$117)","v":3},"-","-",{"$f":"_xlfn.RANK.AVG(I87,I$87:I$117)","v":9},"-","-","-","-","-","-","-","-","-","-","-","-","-","-",{"$f":"_xlfn.RANK.AVG(X87,X$87:X$117)","v":7},"-","-","-","-","-","-","-","-","-","-","-","-","-","-",{"$f":"_xlfn.RANK.AVG(AM87,AM$87:AM$117)","v":10},"-","-","-","-","-","-","-"]
[null,"Гуннар Мюрдаль","ОКР","-",{"$f":"_xlfn.RANK.AVG(E50,E$49:E$79)","v":9},{"$f":"_xlfn.RANK.AVG(F88,F$87:F$117)","v":2},"-","-",{"$f":"_xlfn.RANK.AVG(I88,I$87:I$117)","v":8},"-","-","-","-","-","-","-","-","-","-","-","-","-","-",{"$f":"_xlfn.RANK.AVG(X88,X$87:X$117)","v":8},"-","-","-","-","-","-","-","-","-","-","-","-","-","-",{"$f":"_xlfn.RANK.AVG(AM88,AM$87:AM$117)","v":8},"-","-","-","-","-","-","-"]
[null,"Джон Ричард Хикс","ОКР","-",4,10,"-","-",1,"-","-","-","-","-","-","-","-","-","-","-","-","-","-",10,"-","-","-","-","-","-","-","-","-","-","-","-","-","-",7,"-","-","-","-","-","-","-"]
[null,"Кеннет Эрроу","ОКР","-",6,4,"-","-",7,"-","-","-","-","-","-","-","-","-","-","-","-","-","-",6,"-","-","-","-","-","-","-","-","-","-","-","-","-","-",6,"-","-","-","-","-","-","-"]
[null,"Кэрол Грейдер","ОКР","-",8,9,"-","-",5,"-","-","-","-","-","-","-","-","-","-","-","-","-","-",1,"-","-","-","-","-","-","-","-","-","-","-","-","-","-",9,"-","-","-","-","-","-","-"]
[null,"Линда Бак","ЗГД","-",3,1,"-","-",10,"-","-","-","-","-","-","-","-","-","-","-","-","-","-",4,"-","-","-","-","-","-","-","-","-","-","-","-","-","-",2,"-","-","-","-","-","-","-"]
[null,"Мэй-Брит Мозер","ОКР","-",7,8,"-","-",6,"-","-","-","-","-","-","-","-","-","-","-","-","-","-",5,"-","-","-","-","-","-","-","-","-","-","-","-","-","-",4,"-","-","-","-","-","-","-"]
[null,"Саймон Кузнец","ОКР (КЦ)","-",2,6,"-","-",3,"-","-","-","-","-","-","-","-","-","-","-","-","-","-",3,"-","-","-","-","-","-","-","-","-","-","-","-","-","-",5,"-","-","-","-","-","-","-"]
[null,"Светлана Алексеевич","ЗГД","-",5,7,"-","-",4,"-","-","-","-","-","-","-","-","-","-","-","-","-","-",9,"-","-","-","-","-","-","-","-","-","-","-","-","-","-",1,"-","-","-","-","-","-","-"]
[null,"Эстер Дюфло","ЗГД","-",1,5,"-","-",2,"-","-","-","-","-","-","-","-","-","-","-","-","-","-",2,"-","-","-","-","-","-","-","-","-","-","-","-","-","-",3,"-","-","-","-","-","-","-"]
[null,"Коваленко Тамара","ОКР","-",21,21,"-","-",21,"-","-","-","-","-","-","-","-","-","-","-","-","-","-",21,"-","-","-","-","-","-","-","-","-","-","-","-","-","-",21,"-","-","-","-","-","-","-"]
[null,"Колесников Сергей","ОКР","-",21,21,"-","-",21,"-","-","-","-","-","-","-","-","-","-","-","-","-","-",21,"-","-","-","-","-","-","-","-","-","-","-","-","-","-",21,"-","-","-","-","-","-","-"]
[null,"Коробейников Павел","ЗГД","-",21,21,"-","-",21,"-","-","-","-","-","-","-","-","-","-","-","-","-","-",21,"-","-","-","-","-","-","-","-","-","-","-","-","-","-",21,"-","-","-","-","-","-","-"]
[null,"Марченко Лариса","ОКР","-",21,21,"-","-",21,"-","-","-","-","-","-","-","-","-","-","-","-","-","-",21,"-","-","-","-","-","-","-","-","-","-","-","-","-","-",21,"-","-","-","-","-","-","-"]
[null,"Мелёхин Денис","ОКР (КЦ)","-",21,21,"-","-",21,"-","-","-","-","-","-","-","-","-","-","-","-","-","-",21,"-","-","-","-","-","-","-","-","-","-","-","-","-","-",21,"-","-","-","-","-","-","-"]
[null,"Миняева Ирина","ОКР (КЦ)","-",21,21,"-","-",21,"-","-","-","-","-","-","-","-","-","-","-","-","-","-",21,"-","-","-","-","-","-","-","-","-","-","-","-","-","-",21,"-","-","-","-","-","-","-"]
[null,"Мирсаитов Дмитрий","ЗГД","-",21,21,"-","-",21,"-","-","-","-","-","-","-","-","-","-","-","-","-","-",21,"-","-","-","-","-","-","-","-","-","-","-","-","-","-",21,"-","-","-","-","-","-","-"]
[null,"Навальнева Евгения","ЗГД","-",21,21,"-","-",21,"-","-","-","-","-","-","-","-","-","-","-","-","-","-",21,"-","-","-","-","-","-","-","-","-","-","-","-","-","-",21,"-","-","-","-","-","-","-"]
[null,"Османов Руслан","ЗГД","-",21,21,"-","-",21,"-","-","-","-","-","-","-","-","-","-","-","-","-","-",21,"-","-","-","-","-","-","-","-","-","-","-","-","-","-",21,"-","-","-","-","-","-","-"]
[null,"Приймак Андрей","ЗГД","-",21,21,"-","-",21,"-","-","-","-","-","-","-","-","-","-","-","-","-","-",21,"-","-","-","-","-","-","-","-","-","-","-","-","-","-",21,"-","-","-","-","-","-","-"]
[null,"Проскуряков Алексей","ОКР","-",21,21,"-","-",21,"-","-","-","-","-","-","-","-","-","-","-","-","-","-",21,"-","-","-","-","-","-","-","-","-","-","-","-","-","-",21,"-","-","-","-","-","-","-"]
[null,"Савченко Яна","ОКР (КЦ)","-",21,21,"-","-",21,"-","-","-","-","-","-","-","-","-","-","-","-","-","-",21,"-","-","-","-","-","-","-","-","-","-","-","-","-","-",21,"-","-","-","-","-","-","-"]
[null,"Сафиуллин Наиль","ОКР (КЦ)","-",21,21,"-","-",21,"-","-","-","-","-","-","-","-","-","-","-","-","-","-",21,"-","-","-","-","-","-","-","-","-","-","-","-","-","-",21,"-","-","-","-","-","-","-"]
[null,"Сметанин Павел","ОКР","-",21,21,"-","-",21,"-","-","-","-","-","-","-","-","-","-","-","-","-","-",21,"-","-","-","-","-","-","-","-","-","-","-","-","-","-",21,"-","-","-","-","-","-","-"]
[null,"Степин Константин","ОКР (КЦ)","-",21,21,"-","-",21,"-","-","-","-","-","-","-","-","-","-","-","-","-","-",21,"-","-","-","-","-","-","-","-","-","-","-","-","-","-",21,"-","-","-","-","-","-","-"]
[null,"Титов Александр","ЗГД","-",21,21,"-","-",21,"-","-","-","-","-","-","-","-","-","-","-","-","-","-",21,"-","-","-","-","-","-","-","-","-","-","-","-","-","-",21,"-","-","-","-","-","-","-"]
[null,"Фирсов Владимир","ОКР","-",21,21,"-","-",21,"-","-","-","-","-","-","-","-","-","-","-","-","-","-",21,"-","-","-","-","-","-","-","-","-","-","-","-","-","-",21,"-","-","-","-","-","-","-"]
[null,"Чунц Илья","ЗГД","-",21,21,"-","-",21,"-","-","-","-","-","-","-","-","-","-","-","-","-","-",21,"-","-","-","-","-","-","-","-","-","-","-","-","-","-",21,"-","-","-","-","-","-","-"]
[null,"Шепляков Алексей","ЗГД","-",21,21,"-","-",21,"-","-","-","-","-","-","-","-","-","-","-","-","-","-",21,"-","-","-","-","-","-","-","-","-","-","-","-","-","-",21,"-","-","-","-","-","-","-"]
[null,"Шестаков Антон","ЗГД","-",21,21,"-","-",21,"-","-","-","-","-","-","-","-","-","-","-","-","-","-",21,"-","-","-","-","-","-","-","-","-","-","-","-","-","-",21,"-","-","-","-","-","-","-"]
[null,"Ялымов Денис","ОКР","-",21,21,"-","-",21,"-","-","-","-","-","-","-","-","-","-","-","-","-","-",21,"-","-","-","-","-","-","-","-","-","-","-","-","-","-",21,"-","-","-","-","-","-","-"]
[null,"Винокурова Елена","КЦ","-",{"$f":"_xlfn.RANK.AVG(E80,E$80:E$84)","v":3},{"$f":"_xlfn.RANK.AVG(F118,F$118:F$122)","v":3},"-","-",{"$f":"_xlfn.RANK.AVG(I118,I$118:I$122)","v":3},"-","-","-","-","-","-","-","-","-","-","-","-","-","-",{"$f":"_xlfn.RANK.AVG(X118,X$118:X$122)","v":3},"-","-","-","-","-","-","-","-","-","-","-","-","-","-",{"$f":"_xlfn.RANK.AVG(AM118,AM$118:AM$122)","v":3},"-","-","-","-","-","-","-"]
[null,"Горбунова Татьяна","КЦ","-",{"$f":"_xlfn.RANK.AVG(E81,E$80:E$84)","v":3},{"$f":"_xlfn.RANK.AVG(F119,F$118:F$122)","v":3},"-","-",{"$f":"_xlfn.RANK.AVG(I119,I$118:I$122)","v":3},"-","-","-","-","-","-","-","-","-","-","-","-","-","-",{"$f":"_xlfn.RANK.AVG(X119,X$118:X$122)","v":3},"-","-","-","-","-","-","-","-","-","-","-","-","-","-",{"$f":"_xlfn.RANK.AVG(AM119,AM$118:AM$122)","v":3},"-","-","-","-","-","-","-"]
[null,"Давыденков Евгений","КЦ","-",3,3,"-","-",3,"-","-","-","-","-","-","-","-","-","-","-","-","-","-",3,"-","-","-","-","-","-","-","-","-","-","-","-","-","-",3,"-","-","-","-","-","-","-"]
[null,"Журавлев Сергей","КЦ","-",3,3,"-","-",3,"-","-","-","-","-","-","-","-","-","-","-","-","-","-",3,"-","-","-","-","-","-","-","-","-","-","-","-","-","-",3,"-","-","-","-","-","-","-"]
[null,"Ульданов Динар","КЦ","-",3,3,"-","-",3,"-","-","-","-","-","-","-","-","-","-","-","-","-","-",3,"-","-","-","-","-","-","-","-","-","-","-","-","-","-",3,"-","-","-","-","-","-","-"]

{"sheet":"Сбор показателей III кв","index":21,"n_rows":160,"n_cols":46,"rows_kept":160,"cut":false,"hidden":false,"merged":[[7,38,7,45],[7,1,7,2],[7,3,7,4],[7,5,7,7],[7,8,7,22],[7,23,7,37],[8,24,9,24],[8,1,9,1],[8,2,9,2],[8,3,9,3],[8,4,9,4],[8,5,9,5],[8,6,9,6],[8,7,9,7],[8,8,9,8],[8,9,8,15],[8,16,8,22],[8,23,9,23],[8,41,8,45],[8,25,9,25],[8,26,8,30],[8,31,8,37],[8,38,9,38],[8,39,9,39],[8,40,9,40]]}
[null,null,null,null,"Коэфицент интегрального рейтинга",{"$f":"(1/6)","v":0.16666666666666666},null,null,null,{"$f":"(1/6)","v":0.16666666666666666},null,null,null,null,null,null,{"$f":"(1/6)","v":0.16666666666666666},null,null,null,null,null,null,null,{"$f":"(1/6)","v":0.16666666666666666},null,null,null,null,null,null,{"$f":"(1/6)","v":0.16666666666666666},null,null,null,null,null,null,null,null,null,{"$f":"(1/6)","v":0.16666666666666666}]
[null,null,null,null,"Коэфицент рейтинга блока",1,null,null,null,0.5,null,null,null,null,null,null,0.5,null,null,null,null,null,null,null,0.5,null,null,null,null,null,null,0.5,null,null,null,null,null,null,null,null,null,0.33]
[]
[null,"К СОДЕРЖАНИЮ"]
[]
[null,"III КВАРТАЛ"]
[]
[null,"УЧАСТНИК",null,"ЗОНА УПРАВЛЕНИЯ",null,"РЕЗУЛЬТАТИВНОСТЬ",null,null,"ПРОАКТИВНОСТЬ",null,null,null,null,null,null,null,null,null,null,null,null,null,null,"ПРОФЕССИОНАЛЬНОЕ РАЗВИТИЕ",null,null,null,null,null,null,null,null,null,null,null,null,null,null,"ЭФФЕКТИВНОЕ ВЗАИМОДЕЙСТВИЕ"]
[null,"ФИО","ТИП","Число сотрудников      в прямом подчинении","Число сотрудников в подразделении","Интегральный показатель","Выполнение УПЦ","Множитель","Интегральный показатель - проактивность","Поданные инициативы",null,null,null,null,null,null,"Инициативы, одобренные к реализации",null,null,null,null,null,null,"Интегральный показатель - профессиональное развитие","Выполнение ИПР самим участником","Выполнение ИПР непосредственными подчиненными ","Наполнение Кадрового резерва функции",null,null,null,null,"Управление знаниями функции",null,null,null,null,null,null,"Интегральный показатель - эффективное взаимодействие","Обратная связь от подрядчиков","Обратная связь от прямых подчиненных","Работа кросс-функциональных команд"]
[null,null,null,null,null,null,null,null,null,"Интегральный показатель - ПоИн","Преобразование - ПоИн ЛИНиЯ","Преобразование - ПоИн И.Д.Е.Я.","Преобразование - ПоИн Другие","Формат 1","Формат 2","Другие","Интегральный показатель - ОдИн","Преобразование - ОдИн ЛИНиЯ","Преобразование - ОдИн И.Д.Е.Я.","Преобразование - ОдИн Другие","Формат 1","Формат 2","Другие",null,null,null,"Интегральный показатель - НКРФ","Преобразование - ОКР","Преобразование - ПКР","Оперативный кадровый резерв","Перспективный кадровый резерв","Интегральный показатель - УЗФ","Преобразование - тренеры","Преобразование - программы б/ИЗ","Преобразование - программы т/ИЗ","Число внутренних тренеров","Число курсов внутренних тренеров вне Института Закупки","Число курсов внутренних тренеров в рамках Института Закупки",null,null,null,"Интегральный показатель - РКФК","Преобразование - инициация","Преобразование - участие","Инициация кросс-функциональных команд","Участие в кросс-функциональных командах"]
[null,"Василий Леонтьев","ОКР",5,15,{"$f":"G11*H11","v":0},null,null,null,{"$f":"SUM(K11:M11)","v":0},{"$f":"N11/$E11","v":0},{"$f":"O11/$E11","v":0},0,null,null,null,{"$f":"SUM(R11:T11)","v":0},{"$f":"U11/$E11","v":0},{"$f":"V11/$E11","v":0},0,null,null,null,null,null,null,{"$f":"SUM((AB11/MAX(AB$11:AB$46)),(AC11/MAX(AC$11:AC$46)))","v":{"$error":"#DIV/0!"}},{"$f":"(AD11*5)/E11","v":0},{"$f":"(AE11*2)/E11","v":0},null,null,{"$f":"IF(AJ11=\"\",0,IF(AJ11=0,0,(SUM((AG11/MAX($AG$11:$AG$41))*0.25,(AH11/MAX($AH$11:$AH$41))*0.25,(AI11/MAX($AI$11:$AI$41))*0.5))))","v":0},{"$f":"IF(AJ11=\"\",0,IF(AJ11=0,0,AJ11/E11))","v":0},{"$f":"IF(AJ11=\"\",0,IF(AJ11=0,0,IF(AK11=0,\"0\",AK11/AJ11)))","v":0},{"$f":"IF(AL11=0,0,IF(AJ11=0,0,IF(AL11=\"\",\"\",AL11/AJ11)))","v":0},null,null,null,null,null,null,{"$f":"SUM((AQ11/MAX($AQ$11:$AQ$46))*0.5,(AR11/MAX($AR$11:$AR$46)*0.5))","v":{"$error":"#DIV/0!"}},{"$f":"AS11/$E11","v":0},{"$f":"AT11/$E11","v":0}]
[null,"Гуннар Мюрдаль","ОКР",6,25,{"$f":"G12*H12","v":0},null,null,null,{"$f":"SUM(K12:M12)","v":0},{"$f":"N12/$E12","v":0},0,0,null,null,null,{"$f":"SUM(R12:T12)","v":0},{"$f":"U12/$E12","v":0},0,0,null,null,null,null,null,null,{"$f":"SUM((AB12/MAX(AB$11:AB$46)),(AC12/MAX(AC$11:AC$46)))","v":{"$error":"#DIV/0!"}},0,0,null,null,{"$f":"IF(AJ12=\"\",0,IF(AJ12=0,0,(SUM((AG12/MAX($AG$11:$AG$41))*0.25,(AH12/MAX($AH$11:$AH$41))*0.25,(AI12/MAX($AI$11:$AI$41))*0.5))))","v":0},{"$f":"IF(AJ12=\"\",0,IF(AJ12=0,0,AJ12/E12))","v":0},{"$f":"IF(AJ12=\"\",0,IF(AJ12=0,0,IF(AK12=0,\"0\",AK12/AJ12)))","v":0},{"$f":"IF(AL12=0,0,IF(AJ12=0,0,IF(AL12=\"\",\"\",AL12/AJ12)))","v":0},null,null,null,null,null,null,{"$f":"SUM((AQ12/MAX($AQ$11:$AQ$46))*0.5,(AR12/MAX($AR$11:$AR$46)*0.5))","v":{"$error":"#DIV/0!"}},{"$f":"AS12/$E12","v":0},0]
[null,"Джон Ричард Хикс","ОКР",6,7,0,null,null,null,0,0,0,0,null,null,null,0,0,0,0,null,null,null,null,null,null,{"$error":"#DIV/0!"},0,0,null,null,0,0,0,0,null,null,null,null,null,null,{"$error":"#DIV/0!"},0,0]
[null,"Кеннет Эрроу","ОКР",3,10,0,null,null,null,0,0,0,0,null,null,null,0,0,0,0,null,null,null,null,null,null,{"$error":"#DIV/0!"},0,0,null,null,0,0,0,0,null,null,null,null,null,null,{"$error":"#DIV/0!"},0,0]
[null,"Кэрол Грейдер","ОКР",5,21,0,null,null,null,0,0,0,0,null,null,null,0,0,0,0,null,null,null,null,null,null,{"$error":"#DIV/0!"},0,0,null,null,0,0,0,0,null,null,null,null,null,null,{"$error":"#DIV/0!"},0,0]
[null,"Линда Бак","ЗГД",6,37,0,null,null,null,0,0,0,0,null,null,null,0,0,0,0,null,null,null,null,null,null,{"$error":"#DIV/0!"},0,0,null,null,0,0,0,0,null,null,null,null,null,null,{"$error":"#DIV/0!"},0,0]
[null,"Мэй-Брит Мозер","ОКР",6,11,0,null,null,null,0,0,0,0,null,null,null,0,0,0,0,null,null,null,null,null,null,{"$error":"#DIV/0!"},0,0,null,null,0,0,0,0,null,null,null,null,null,null,{"$error":"#DIV/0!"},0,0]
[null,"Саймон Кузнец","ОКР (КЦ)",7,8,0,null,null,null,0,0,0,0,null,null,null,0,0,0,0,null,null,null,null,null,null,{"$error":"#DIV/0!"},0,0,null,null,0,0,0,0,null,null,null,null,null,null,{"$error":"#DIV/0!"},0,0]
[null,"Светлана Алексеевич","ЗГД",5,7,0,null,null,null,0,0,0,0,null,null,null,0,0,0,0,null,null,null,null,null,null,{"$error":"#DIV/0!"},0,0,null,null,0,0,0,0,null,null,null,null,null,null,{"$error":"#DIV/0!"},0,0]
[null,"Эстер Дюфло","ЗГД",7,8,0,null,null,null,0,0,0,0,null,null,null,0,0,0,0,null,null,null,null,null,null,{"$error":"#DIV/0!"},0,0,null,null,0,0,0,0,null,null,null,null,null,null,{"$error":"#DIV/0!"},0,0]
[null,"Коваленко Тамара","ОКР",7,33,0,null,null,null,0,0,0,0,null,null,null,0,0,0,0,null,null,null,null,null,null,{"$error":"#DIV/0!"},0,0,null,null,0,0,0,0,null,null,null,null,null,null,{"$error":"#DIV/0!"},0,0]
[null,"Колесников Сергей","ОКР",5,7,0,null,null,null,0,0,0,0,null,null,null,0,0,0,0,null,null,null,null,null,null,{"$error":"#DIV/0!"},0,0,null,null,0,0,0,0,null,null,null,null,null,null,{"$error":"#DIV/0!"},0,0]
[null,"Коробейников Павел","ЗГД",6,6,0,null,null,null,0,0,0,0,null,null,null,0,0,0,0,null,null,null,null,null,null,{"$error":"#DIV/0!"},0,0,null,null,0,0,0,0,null,null,null,null,null,null,{"$error":"#DIV/0!"},0,0]
[null,"Марченко Лариса","ОКР",5,39,0,null,null,null,0,0,0,0,null,null,null,0,0,0,0,null,null,null,null,null,null,{"$error":"#DIV/0!"},0,0,null,null,0,0,0,0,null,null,null,null,null,null,{"$error":"#DIV/0!"},0,0]
[null,"Мелёхин Денис","ОКР (КЦ)",6,14,0,null,null,null,0,0,0,0,null,null,null,0,0,0,0,null,null,null,null,null,null,{"$error":"#DIV/0!"},0,0,null,null,0,0,0,0,null,null,null,null,null,null,{"$error":"#DIV/0!"},0,0]
[null,"Миняева Ирина","ОКР (КЦ)",3,11,0,null,null,null,0,0,0,0,null,null,null,0,0,0,0,null,null,null,null,null,null,{"$error":"#DIV/0!"},0,0,null,null,0,0,0,0,null,null,null,null,null,null,{"$error":"#DIV/0!"},0,0]
[null,"Мирсаитов Дмитрий","ЗГД",5,30,0,null,null,null,0,0,0,0,null,null,null,0,0,0,0,null,null,null,null,null,null,{"$error":"#DIV/0!"},0,0,null,null,0,0,0,0,null,null,null,null,null,null,{"$error":"#DIV/0!"},0,0]
[null,"Навальнева Евгения","ЗГД",6,21,0,null,null,null,0,0,0,0,null,null,null,0,0,0,0,null,null,null,null,null,null,{"$error":"#DIV/0!"},0,0,null,null,0,0,0,0,null,null,null,null,null,null,{"$error":"#DIV/0!"},0,0]
[null,"Османов Руслан","ЗГД",6,6,0,null,null,null,0,0,0,0,null,null,null,0,0,0,0,null,null,null,null,null,null,{"$error":"#DIV/0!"},0,0,null,null,0,0,0,0,null,null,null,null,null,null,{"$error":"#DIV/0!"},0,0]
[null,"Приймак Андрей","ЗГД",5,12,0,null,null,null,0,0,0,0,null,null,null,0,0,0,0,null,null,null,null,null,null,{"$error":"#DIV/0!"},0,0,null,null,0,0,0,0,null,null,null,null,null,null,{"$error":"#DIV/0!"},0,0]
[null,"Проскуряков Алексей","ОКР",5,16,0,null,null,null,0,0,0,0,null,null,null,0,0,0,0,null,null,null,null,null,null,{"$error":"#DIV/0!"},0,0,null,null,0,0,0,0,null,null,null,null,null,null,{"$error":"#DIV/0!"},0,0]
[null,"Савченко Яна","ОКР (КЦ)",5,8,0,null,null,null,0,0,0,0,null,null,null,0,0,0,0,null,null,null,null,null,null,{"$error":"#DIV/0!"},0,0,null,null,0,0,0,0,null,null,null,null,null,null,{"$error":"#DIV/0!"},0,0]
[null,"Сафиуллин Наиль","ОКР (КЦ)",3,17,0,null,null,null,0,0,0,0,null,null,null,0,0,0,0,null,null,null,null,null,null,{"$error":"#DIV/0!"},0,0,null,null,0,0,0,0,null,null,null,null,null,null,{"$error":"#DIV/0!"},0,0]
[null,"Сметанин Павел","ОКР",5,33,0,null,null,null,0,0,0,0,null,null,null,0,0,0,0,null,null,null,null,null,null,{"$error":"#DIV/0!"},0,0,null,null,0,0,0,0,null,null,null,null,null,null,{"$error":"#DIV/0!"},0,0]
[null,"Степин Константин","ОКР (КЦ)",7,21,0,null,null,null,0,0,0,0,null,null,null,0,0,0,0,null,null,null,null,null,null,{"$error":"#DIV/0!"},0,0,null,null,0,0,0,0,null,null,null,null,null,null,{"$error":"#DIV/0!"},0,0]
[null,"Титов Александр","ЗГД",7,13,0,null,null,null,0,0,0,0,null,null,null,0,0,0,0,null,null,null,null,null,null,{"$error":"#DIV/0!"},0,0,null,null,0,0,0,0,null,null,null,null,null,null,{"$error":"#DIV/0!"},0,0]
[null,"Фирсов Владимир","ОКР",6,11,0,null,null,null,0,0,0,0,null,null,null,0,0,0,0,null,null,null,null,null,null,{"$error":"#DIV/0!"},0,0,null,null,0,0,0,0,null,null,null,null,null,null,{"$error":"#DIV/0!"},0,0]
[null,"Чунц Илья","ЗГД",7,18,0,null,null,null,0,0,0,0,null,null,null,0,0,0,0,null,null,null,null,null,null,{"$error":"#DIV/0!"},0,0,null,null,0,0,0,0,null,null,null,null,null,null,{"$error":"#DIV/0!"},0,0]
[null,"Шепляков Алексей","ЗГД",5,13,0,null,null,null,0,0,0,0,null,null,null,0,0,0,0,null,null,null,null,null,null,{"$error":"#DIV/0!"},0,0,null,null,0,0,0,0,null,null,null,null,null,null,{"$error":"#DIV/0!"},0,0]
[null,"Шестаков Антон","ЗГД",6,10,0,null,null,null,0,0,0,0,null,null,null,0,0,0,0,null,null,null,null,null,null,{"$error":"#DIV/0!"},0,0,null,null,0,0,0,0,null,null,null,null,null,null,{"$error":"#DIV/0!"},0,0]
[null,"Ялымов Денис","ОКР",6,12,0,null,null,null,0,0,0,0,null,null,null,0,0,0,0,null,null,null,null,null,null,{"$error":"#DIV/0!"},0,0,null,null,0,0,0,0,null,null,null,null,null,null,{"$error":"#DIV/0!"},0,0]
[null,"Винокурова Елена","КЦ",3,3,0,null,null,null,0,0,0,0,null,null,null,0,0,0,0,null,null,null,null,null,null,{"$error":"#DIV/0!"},0,0,null,null,0,0,0,0,null,null,null,null,null,null,{"$error":"#DIV/0!"},0,0]
[null,"Горбунова Татьяна","КЦ",4,41,0,null,null,null,0,0,0,0,null,null,null,0,0,0,0,null,null,null,null,null,null,{"$error":"#DIV/0!"},0,0,null,null,0,0,0,0,null,null,null,null,null,null,{"$error":"#DIV/0!"},0,0]
[null,"Давыденков Евгений","КЦ",3,11,0,null,null,null,0,0,0,0,null,null,null,0,0,0,0,null,null,null,null,null,null,{"$error":"#DIV/0!"},0,0,null,null,0,0,0,0,null,null,null,null,null,null,{"$error":"#DIV/0!"},0,0]
[null,"Журавлев Сергей","КЦ",3,8,0,null,null,null,0,0,0,0,null,null,null,0,0,0,0,null,null,null,null,null,null,{"$error":"#DIV/0!"},0,0,null,null,0,0,0,0,null,null,null,null,null,null,{"$error":"#DIV/0!"},0,0]
[null,"Ульданов Динар","КЦ",3,6,0,null,null,null,0,0,0,0,null,null,null,0,0,0,0,null,null,null,null,null,null,{"$error":"#DIV/0!"},0,0,null,null,0,0,0,0,null,null,null,null,null,null,{"$error":"#DIV/0!"},0,0]
[]
[null,"ПЕРЕСЧЕТ ДЛЯ ИНТЕГРАЛЬНОГО РЕЙТИНГА"]
[null,"Андреева Анна","ОКР","-",{"$f":"SUM(F49:AT49)","v":{"$error":"#DIV/0!"}},{"$f":"(F11/MAX(F$11:F$46))*F$1","v":{"$error":"#DIV/0!"}},"-","-",null,{"$f":"(J11/MAX(J$11:J$46))*J$1","v":{"$error":"#DIV/0!"}},"-","-","-","-","-","-",{"$f":"(Q11/MAX(Q$11:Q$46))*Q$1","v":{"$error":"#DIV/0!"}},"-","-","-","-","-","-","-",{"$f":"(Y11/MAX(Y$11:Y$46))*Y$1","v":{"$error":"#DIV/0!"}},null,null,"-","-","-","-",{"$f":"IF(AF11=0,0,(AF11/MAX(AF$11:AF$46))*AF$1)","v":0},"-","-","-","-","-","-","-",null,null,{"$f":"(AP11/MAX(AP$11:AP$46))*AP$1","v":{"$error":"#DIV/0!"}},"-","-","-","-"]
[null,"Анисимова Марина","ОКР","-",{"$f":"SUM(F50:AT50)","v":{"$error":"#DIV/0!"}},{"$error":"#DIV/0!"},"-","-",null,{"$error":"#DIV/0!"},"-","-","-","-","-","-",{"$error":"#DIV/0!"},"-","-","-","-","-","-","-",{"$error":"#DIV/0!"},null,null,"-","-","-","-",{"$f":"IF(AF12=0,0,(AF12/MAX(AF$11:AF$46))*AF$1)","v":0},"-","-","-","-","-","-","-",null,null,{"$error":"#DIV/0!"},"-","-","-","-"]
[null,"Билый Александр","ОКР","-",{"$error":"#DIV/0!"},{"$error":"#DIV/0!"},"-","-",null,{"$error":"#DIV/0!"},"-","-","-","-","-","-",{"$error":"#DIV/0!"},"-","-","-","-","-","-","-",{"$error":"#DIV/0!"},null,null,"-","-","-","-",0,"-","-","-","-","-","-","-",null,null,{"$error":"#DIV/0!"},"-","-","-","-"]
[null,"Бильвина Валерия","ОКР","-",{"$error":"#DIV/0!"},{"$error":"#DIV/0!"},"-","-",null,{"$error":"#DIV/0!"},"-","-","-","-","-","-",{"$error":"#DIV/0!"},"-","-","-","-","-","-","-",{"$error":"#DIV/0!"},null,null,"-","-","-","-",0,"-","-","-","-","-","-","-",null,null,{"$error":"#DIV/0!"},"-","-","-","-"]
[null,"Борисов Сергей","ОКР","-",{"$error":"#DIV/0!"},{"$error":"#DIV/0!"},"-","-",null,{"$error":"#DIV/0!"},"-","-","-","-","-","-",{"$error":"#DIV/0!"},"-","-","-","-","-","-","-",{"$error":"#DIV/0!"},null,null,"-","-","-","-",0,"-","-","-","-","-","-","-",null,null,{"$error":"#DIV/0!"},"-","-","-","-"]
[null,"Булковский Сергей","ЗГД","-",{"$error":"#DIV/0!"},{"$error":"#DIV/0!"},"-","-",null,{"$error":"#DIV/0!"},"-","-","-","-","-","-",{"$error":"#DIV/0!"},"-","-","-","-","-","-","-",{"$error":"#DIV/0!"},null,null,"-","-","-","-",0,"-","-","-","-","-","-","-",null,null,{"$error":"#DIV/0!"},"-","-","-","-"]
[null,"Войтюк Юлия","ОКР","-",{"$error":"#DIV/0!"},{"$error":"#DIV/0!"},"-","-",null,{"$error":"#DIV/0!"},"-","-","-","-","-","-",{"$error":"#DIV/0!"},"-","-","-","-","-","-","-",{"$error":"#DIV/0!"},null,null,"-","-","-","-",0,"-","-","-","-","-","-","-",null,null,{"$error":"#DIV/0!"},"-","-","-","-"]
[null,"Гудкова Людмила","ОКР (КЦ)","-",{"$error":"#DIV/0!"},{"$error":"#DIV/0!"},"-","-",null,{"$error":"#DIV/0!"},"-","-","-","-","-","-",{"$error":"#DIV/0!"},"-","-","-","-","-","-","-",{"$error":"#DIV/0!"},null,null,"-","-","-","-",0,"-","-","-","-","-","-","-",null,null,{"$error":"#DIV/0!"},"-","-","-","-"]
[null,"Гулиев Рагим","ЗГД","-",{"$error":"#DIV/0!"},{"$error":"#DIV/0!"},"-","-",null,{"$error":"#DIV/0!"},"-","-","-","-","-","-",{"$error":"#DIV/0!"},"-","-","-","-","-","-","-",{"$error":"#DIV/0!"},null,null,"-","-","-","-",0,"-","-","-","-","-","-","-",null,null,{"$error":"#DIV/0!"},"-","-","-","-"]
[null,"Завьялов Василий","ЗГД","-",{"$error":"#DIV/0!"},{"$error":"#DIV/0!"},"-","-",null,{"$error":"#DIV/0!"},"-","-","-","-","-","-",{"$error":"#DIV/0!"},"-","-","-","-","-","-","-",{"$error":"#DIV/0!"},null,null,"-","-","-","-",0,"-","-","-","-","-","-","-",null,null,{"$error":"#DIV/0!"},"-","-","-","-"]
[null,"Коваленко Тамара","ОКР","-",{"$error":"#DIV/0!"},{"$error":"#DIV/0!"},"-","-",null,{"$error":"#DIV/0!"},"-","-","-","-","-","-",{"$error":"#DIV/0!"},"-","-","-","-","-","-","-",{"$error":"#DIV/0!"},null,null,"-","-","-","-",0,"-","-","-","-","-","-","-",null,null,{"$error":"#DIV/0!"},"-","-","-","-"]
[null,"Колесников Сергей","ОКР","-",{"$error":"#DIV/0!"},{"$error":"#DIV/0!"},"-","-",null,{"$error":"#DIV/0!"},"-","-","-","-","-","-",{"$error":"#DIV/0!"},"-","-","-","-","-","-","-",{"$error":"#DIV/0!"},null,null,"-","-","-","-",0,"-","-","-","-","-","-","-",null,null,{"$error":"#DIV/0!"},"-","-","-","-"]
[null,"Коробейников Павел","ЗГД","-",{"$error":"#DIV/0!"},{"$error":"#DIV/0!"},"-","-",null,{"$error":"#DIV/0!"},"-","-","-","-","-","-",{"$error":"#DIV/0!"},"-","-","-","-","-","-","-",{"$error":"#DIV/0!"},null,null,"-","-","-","-",0,"-","-","-","-","-","-","-",null,null,{"$error":"#DIV/0!"},"-","-","-","-"]
[null,"Марченко Лариса","ОКР","-",{"$error":"#DIV/0!"},{"$error":"#DIV/0!"},"-","-",null,{"$error":"#DIV/0!"},"-","-","-","-","-","-",{"$error":"#DIV/0!"},"-","-","-","-","-","-","-",{"$error":"#DIV/0!"},null,null,"-","-","-","-",0,"-","-","-","-","-","-","-",null,null,{"$error":"#DIV/0!"},"-","-","-","-"]
[null,"Мелёхин Денис","ОКР (КЦ)","-",{"$error":"#DIV/0!"},{"$error":"#DIV/0!"},"-","-",null,{"$error":"#DIV/0!"},"-","-","-","-","-","-",{"$error":"#DIV/0!"},"-","-","-","-","-","-","-",{"$error":"#DIV/0!"},null,null,"-","-","-","-",0,"-","-","-","-","-","-","-",null,null,{"$error":"#DIV/0!"},"-","-","-","-"]
[null,"Миняева Ирина","ОКР (КЦ)","-",{"$error":"#DIV/0!"},{"$error":"#DIV/0!"},"-","-",null,{"$error":"#DIV/0!"},"-","-","-","-","-","-",{"$error":"#DIV/0!"},"-","-","-","-","-","-","-",{"$error":"#DIV/0!"},null,null,"-","-","-","-",0,"-","-","-","-","-","-","-",null,null,{"$error":"#DIV/0!"},"-","-","-","-"]
[null,"Мирсаитов Дмитрий","ЗГД","-",{"$error":"#DIV/0!"},{"$error":"#DIV/0!"},"-","-",null,{"$error":"#DIV/0!"},"-","-","-","-","-","-",{"$error":"#DIV/0!"},"-","-","-","-","-","-","-",{"$error":"#DIV/0!"},null,null,"-","-","-","-",0,"-","-","-","-","-","-","-",null,null,{"$error":"#DIV/0!"},"-","-","-","-"]
[null,"Навальнева Евгения","ЗГД","-",{"$error":"#DIV/0!"},{"$error":"#DIV/0!"},"-","-",null,{"$error":"#DIV/0!"},"-","-","-","-","-","-",{"$error":"#DIV/0!"},"-","-","-","-","-","-","-",{"$error":"#DIV/0!"},null,null,"-","-","-","-",0,"-","-","-","-","-","-","-",null,null,{"$error":"#DIV/0!"},"-","-","-","-"]
[null,"Османов Руслан","ЗГД","-",{"$error":"#DIV/0!"},{"$error":"#DIV/0!"},"-","-",null,{"$error":"#DIV/0!"},"-","-","-","-","-","-",{"$error":"#DIV/0!"},"-","-","-","-","-","-","-",{"$error":"#DIV/0!"},null,null,"-","-","-","-",0,"-","-","-","-","-","-","-",null,null,{"$error":"#DIV/0!"},"-","-","-","-"]
[null,"Приймак Андрей","ЗГД","-",{"$error":"#DIV/0!"},{"$error":"#DIV/0!"},"-","-",null,{"$error":"#DIV/0!"},"-","-","-","-","-","-",{"$error":"#DIV/0!"},"-","-","-","-","-","-","-",{"$error":"#DIV/0!"},null,null,"-","-","-","-",0,"-","-","-","-","-","-","-",null,null,{"$error":"#DIV/0!"},"-","-","-","-"]
[null,"Проскуряков Алексей","ОКР","-",{"$error":"#DIV/0!"},{"$error":"#DIV/0!"},"-","-",null,{"$error":"#DIV/0!"},"-","-","-","-","-","-",{"$error":"#DIV/0!"},"-","-","-","-","-","-","-",{"$error":"#DIV/0!"},null,null,"-","-","-","-",0,"-","-","-","-","-","-","-",null,null,{"$error":"#DIV/0!"},"-","-","-","-"]
[null,"Савченко Яна","ОКР (КЦ)","-",{"$error":"#DIV/0!"},{"$error":"#DIV/0!"},"-","-",null,{"$error":"#DIV/0!"},"-","-","-","-","-","-",{"$error":"#DIV/0!"},"-","-","-","-","-","-","-",{"$error":"#DIV/0!"},null,null,"-","-","-","-",0,"-","-","-","-","-","-","-",null,null,{"$error":"#DIV/0!"},"-","-","-","-"]
[null,"Сафиуллин Наиль","ОКР (КЦ)","-",{"$error":"#DIV/0!"},{"$error":"#DIV/0!"},"-","-",null,{"$error":"#DIV/0!"},"-","-","-","-","-","-",{"$error":"#DIV/0!"},"-","-","-","-","-","-","-",{"$error":"#DIV/0!"},null,null,"-","-","-","-",0,"-","-","-","-","-","-","-",null,null,{"$error":"#DIV/0!"},"-","-","-","-"]
[null,"Сметанин Павел","ОКР","-",{"$error":"#DIV/0!"},{"$error":"#DIV/0!"},"-","-",null,{"$error":"#DIV/0!"},"-","-","-","-","-","-",{"$error":"#DIV/0!"},"-","-","-","-","-","-","-",{"$error":"#DIV/0!"},null,null,"-","-","-","-",0,"-","-","-","-","-","-","-",null,null,{"$error":"#DIV/0!"},"-","-","-","-"]
[null,"Степин Константин","ОКР (КЦ)","-",{"$error":"#DIV/0!"},{"$error":"#DIV/0!"},"-","-",null,{"$error":"#DIV/0!"},"-","-","-","-","-","-",{"$error":"#DIV/0!"},"-","-","-","-","-","-","-",{"$error":"#DIV/0!"},null,null,"-","-","-","-",0,"-","-","-","-","-","-","-",null,null,{"$error":"#DIV/0!"},"-","-","-","-"]
[null,"Титов Александр","ЗГД","-",{"$error":"#DIV/0!"},{"$error":"#DIV/0!"},"-","-",null,{"$error":"#DIV/0!"},"-","-","-","-","-","-",{"$error":"#DIV/0!"},"-","-","-","-","-","-","-",{"$error":"#DIV/0!"},null,null,"-","-","-","-",0,"-","-","-","-","-","-","-",null,null,{"$error":"#DIV/0!"},"-","-","-","-"]
[null,"Фирсов Владимир","ОКР","-",{"$error":"#DIV/0!"},{"$error":"#DIV/0!"},"-","-",null,{"$error":"#DIV/0!"},"-","-","-","-","-","-",{"$error":"#DIV/0!"},"-","-","-","-","-","-","-",{"$error":"#DIV/0!"},null,null,"-","-","-","-",0,"-","-","-","-","-","-","-",null,null,{"$error":"#DIV/0!"},"-","-","-","-"]
[null,"Чунц Илья","ЗГД","-",{"$error":"#DIV/0!"},{"$error":"#DIV/0!"},"-","-",null,{"$error":"#DIV/0!"},"-","-","-","-","-","-",{"$error":"#DIV/0!"},"-","-","-","-","-","-","-",{"$error":"#DIV/0!"},null,null,"-","-","-","-",0,"-","-","-","-","-","-","-",null,null,{"$error":"#DIV/0!"},"-","-","-","-"]
[null,"Шепляков Алексей","ЗГД","-",{"$error":"#DIV/0!"},{"$error":"#DIV/0!"},"-","-",null,{"$error":"#DIV/0!"},"-","-","-","-","-","-",{"$error":"#DIV/0!"},"-","-","-","-","-","-","-",{"$error":"#DIV/0!"},null,null,"-","-","-","-",0,"-","-","-","-","-","-","-",null,null,{"$error":"#DIV/0!"},"-","-","-","-"]
[null,"Шестаков Антон","ЗГД","-",{"$error":"#DIV/0!"},{"$error":"#DIV/0!"},"-","-",null,{"$error":"#DIV/0!"},"-","-","-","-","-","-",{"$error":"#DIV/0!"},"-","-","-","-","-","-","-",{"$error":"#DIV/0!"},null,null,"-","-","-","-",0,"-","-","-","-","-","-","-",null,null,{"$error":"#DIV/0!"},"-","-","-","-"]
[null,"Ялымов Денис","ОКР","-",{"$error":"#DIV/0!"},{"$error":"#DIV/0!"},"-","-",null,{"$error":"#DIV/0!"},"-","-","-","-","-","-",{"$error":"#DIV/0!"},"-","-","-","-","-","-","-",{"$error":"#DIV/0!"},null,null,"-","-","-","-",0,"-","-","-","-","-","-","-",null,null,{"$error":"#DIV/0!"},"-","-","-","-"]
[null,"Винокурова Елена","КЦ","-",{"$error":"#DIV/0!"},{"$error":"#DIV/0!"},"-","-",null,{"$error":"#DIV/0!"},"-","-","-","-","-","-",{"$error":"#DIV/0!"},"-","-","-","-","-","-","-",{"$error":"#DIV/0!"},null,null,"-","-","-","-",0,"-","-","-","-","-","-","-",null,null,{"$error":"#DIV/0!"},"-","-","-","-"]
[null,"Горбунова Татьяна","КЦ","-",{"$error":"#DIV/0!"},{"$error":"#DIV/0!"},"-","-",null,{"$error":"#DIV/0!"},"-","-","-","-","-","-",{"$error":"#DIV/0!"},"-","-","-","-","-","-","-",{"$error":"#DIV/0!"},null,null,"-","-","-","-",0,"-","-","-","-","-","-","-",null,null,{"$error":"#DIV/0!"},"-","-","-","-"]
[null,"Давыденков Евгений","КЦ","-",{"$error":"#DIV/0!"},{"$error":"#DIV/0!"},"-","-",null,{"$error":"#DIV/0!"},"-","-","-","-","-","-",{"$error":"#DIV/0!"},"-","-","-","-","-","-","-",{"$error":"#DIV/0!"},null,null,"-","-","-","-",0,"-","-","-","-","-","-","-",null,null,{"$error":"#DIV/0!"},"-","-","-","-"]
[null,"Журавлев Сергей","КЦ","-",{"$error":"#DIV/0!"},{"$error":"#DIV/0!"},"-","-",null,{"$error":"#DIV/0!"},"-","-","-","-","-","-",{"$error":"#DIV/0!"},"-","-","-","-","-","-","-",{"$error":"#DIV/0!"},null,null,"-","-","-","-",0,"-","-","-","-","-","-","-",null,null,{"$error":"#DIV/0!"},"-","-","-","-"]
[null,"Ульданов Динар","КЦ","-",{"$error":"#DIV/0!"},{"$error":"#DIV/0!"},"-","-",null,{"$error":"#DIV/0!"},"-","-","-","-","-","-",{"$error":"#DIV/0!"},"-","-","-","-","-","-","-",{"$error":"#DIV/0!"},null,null,"-","-","-","-",0,"-","-","-","-","-","-","-",null,null,{"$error":"#DIV/0!"},"-","-","-","-"]
[]
[null,"ПЕРЕСЧЕТ ДЛЯ РЕЙТИНГА БЛОКА"]
[null,"Андреева Анна","ОКР","-","-",{"$f":"(F11/MAX(F$11:F$46))*F$2","v":{"$error":"#DIV/0!"}},"-","-",{"$f":"SUM(J87:W87)","v":{"$error":"#DIV/0!"}},{"$f":"(J11/MAX(J$11:J$46))*J$2","v":{"$error":"#DIV/0!"}},"-","-","-","-","-","-",{"$f":"(Q11/MAX(Q$11:Q$46))*Q$2","v":{"$error":"#DIV/0!"}},"-","-","-","-","-","-",{"$f":"SUM(Y87:AL87)","v":{"$error":"#DIV/0!"}},{"$f":"(Y11/MAX(Y$11:Y$46))*Y$2","v":{"$error":"#DIV/0!"}},null,null,"-","-","-","-",{"$f":"IF(AF11=0,0,((AF11/MAX(AF$11:AF$46))*AF$2))","v":0},"-","-","-","-","-","-",{"$f":"SUM(AN87:AT87)","v":{"$error":"#DIV/0!"}},null,null,{"$f":"(AP11/MAX(AP$11:AP$46))*AP$2","v":{"$error":"#DIV/0!"}},"-","-","-","-"]
[null,"Анисимова Марина","ОКР","-","-",{"$error":"#DIV/0!"},"-","-",{"$f":"SUM(J88:W88)","v":{"$error":"#DIV/0!"}},{"$error":"#DIV/0!"},"-","-","-","-","-","-",{"$error":"#DIV/0!"},"-","-","-","-","-","-",{"$f":"SUM(Y88:AL88)","v":{"$error":"#DIV/0!"}},{"$error":"#DIV/0!"},null,null,"-","-","-","-",{"$f":"IF(AF12=0,0,((AF12/MAX(AF$11:AF$46))*AF$2))","v":0},"-","-","-","-","-","-",{"$f":"SUM(AN88:AT88)","v":{"$error":"#DIV/0!"}},null,null,{"$error":"#DIV/0!"},"-","-","-","-"]
[null,"Билый Александр","ОКР","-","-",{"$error":"#DIV/0!"},"-","-",{"$error":"#DIV/0!"},{"$error":"#DIV/0!"},"-","-","-","-","-","-",{"$error":"#DIV/0!"},"-","-","-","-","-","-",{"$error":"#DIV/0!"},{"$error":"#DIV/0!"},null,null,"-","-","-","-",0,"-","-","-","-","-","-",{"$error":"#DIV/0!"},null,null,{"$error":"#DIV/0!"},"-","-","-","-"]
[null,"Бильвина Валерия","ОКР","-","-",{"$error":"#DIV/0!"},"-","-",{"$error":"#DIV/0!"},{"$error":"#DIV/0!"},"-","-","-","-","-","-",{"$error":"#DIV/0!"},"-","-","-","-","-","-",{"$error":"#DIV/0!"},{"$error":"#DIV/0!"},null,null,"-","-","-","-",0,"-","-","-","-","-","-",{"$error":"#DIV/0!"},null,null,{"$error":"#DIV/0!"},"-","-","-","-"]
[null,"Борисов Сергей","ОКР","-","-",{"$error":"#DIV/0!"},"-","-",{"$error":"#DIV/0!"},{"$error":"#DIV/0!"},"-","-","-","-","-","-",{"$error":"#DIV/0!"},"-","-","-","-","-","-",{"$error":"#DIV/0!"},{"$error":"#DIV/0!"},null,null,"-","-","-","-",0,"-","-","-","-","-","-",{"$error":"#DIV/0!"},null,null,{"$error":"#DIV/0!"},"-","-","-","-"]
[null,"Булковский Сергей","ЗГД","-","-",{"$error":"#DIV/0!"},"-","-",{"$error":"#DIV/0!"},{"$error":"#DIV/0!"},"-","-","-","-","-","-",{"$error":"#DIV/0!"},"-","-","-","-","-","-",{"$error":"#DIV/0!"},{"$error":"#DIV/0!"},null,null,"-","-","-","-",0,"-","-","-","-","-","-",{"$error":"#DIV/0!"},null,null,{"$error":"#DIV/0!"},"-","-","-","-"]
[null,"Войтюк Юлия","ОКР","-","-",{"$error":"#DIV/0!"},"-","-",{"$error":"#DIV/0!"},{"$error":"#DIV/0!"},"-","-","-","-","-","-",{"$error":"#DIV/0!"},"-","-","-","-","-","-",{"$error":"#DIV/0!"},{"$error":"#DIV/0!"},null,null,"-","-","-","-",0,"-","-","-","-","-","-",{"$error":"#DIV/0!"},null,null,{"$error":"#DIV/0!"},"-","-","-","-"]
[null,"Гудкова Людмила","ОКР (КЦ)","-","-",{"$error":"#DIV/0!"},"-","-",{"$error":"#DIV/0!"},{"$error":"#DIV/0!"},"-","-","-","-","-","-",{"$error":"#DIV/0!"},"-","-","-","-","-","-",{"$error":"#DIV/0!"},{"$error":"#DIV/0!"},null,null,"-","-","-","-",0,"-","-","-","-","-","-",{"$error":"#DIV/0!"},null,null,{"$error":"#DIV/0!"},"-","-","-","-"]
[null,"Гулиев Рагим","ЗГД","-","-",{"$error":"#DIV/0!"},"-","-",{"$error":"#DIV/0!"},{"$error":"#DIV/0!"},"-","-","-","-","-","-",{"$error":"#DIV/0!"},"-","-","-","-","-","-",{"$error":"#DIV/0!"},{"$error":"#DIV/0!"},null,null,"-","-","-","-",0,"-","-","-","-","-","-",{"$error":"#DIV/0!"},null,null,{"$error":"#DIV/0!"},"-","-","-","-"]
[null,"Завьялов Василий","ЗГД","-","-",{"$error":"#DIV/0!"},"-","-",{"$error":"#DIV/0!"},{"$error":"#DIV/0!"},"-","-","-","-","-","-",{"$error":"#DIV/0!"},"-","-","-","-","-","-",{"$error":"#DIV/0!"},{"$error":"#DIV/0!"},null,null,"-","-","-","-",0,"-","-","-","-","-","-",{"$error":"#DIV/0!"},null,null,{"$error":"#DIV/0!"},"-","-","-","-"]
[null,"Коваленко Тамара","ОКР","-","-",{"$error":"#DIV/0!"},"-","-",{"$error":"#DIV/0!"},{"$error":"#DIV/0!"},"-","-","-","-","-","-",{"$error":"#DIV/0!"},"-","-","-","-","-","-",{"$error":"#DIV/0!"},{"$error":"#DIV/0!"},null,null,"-","-","-","-",0,"-","-","-","-","-","-",{"$error":"#DIV/0!"},null,null,{"$error":"#DIV/0!"},"-","-","-","-"]
[null,"Колесников Сергей","ОКР","-","-",{"$error":"#DIV/0!"},"-","-",{"$error":"#DIV/0!"},{"$error":"#DIV/0!"},"-","-","-","-","-","-",{"$error":"#DIV/0!"},"-","-","-","-","-","-",{"$error":"#DIV/0!"},{"$error":"#DIV/0!"},null,null,"-","-","-","-",0,"-","-","-","-","-","-",{"$error":"#DIV/0!"},null,null,{"$error":"#DIV/0!"},"-","-","-","-"]
[null,"Коробейников Павел","ЗГД","-","-",{"$error":"#DIV/0!"},"-","-",{"$error":"#DIV/0!"},{"$error":"#DIV/0!"},"-","-","-","-","-","-",{"$error":"#DIV/0!"},"-","-","-","-","-","-",{"$error":"#DIV/0!"},{"$error":"#DIV/0!"},null,null,"-","-","-","-",0,"-","-","-","-","-","-",{"$error":"#DIV/0!"},null,null,{"$error":"#DIV/0!"},"-","-","-","-"]
[null,"Марченко Лариса","ОКР","-","-",{"$error":"#DIV/0!"},"-","-",{"$error":"#DIV/0!"},{"$error":"#DIV/0!"},"-","-","-","-","-","-",{"$error":"#DIV/0!"},"-","-","-","-","-","-",{"$error":"#DIV/0!"},{"$error":"#DIV/0!"},null,null,"-","-","-","-",0,"-","-","-","-","-","-",{"$error":"#DIV/0!"},null,null,{"$error":"#DIV/0!"},"-","-","-","-"]
[null,"Мелёхин Денис","ОКР (КЦ)","-","-",{"$error":"#DIV/0!"},"-","-",{"$error":"#DIV/0!"},{"$error":"#DIV/0!"},"-","-","-","-","-","-",{"$error":"#DIV/0!"},"-","-","-","-","-","-",{"$error":"#DIV/0!"},{"$error":"#DIV/0!"},null,null,"-","-","-","-",0,"-","-","-","-","-","-",{"$error":"#DIV/0!"},null,null,{"$error":"#DIV/0!"},"-","-","-","-"]
[null,"Миняева Ирина","ОКР (КЦ)","-","-",{"$error":"#DIV/0!"},"-","-",{"$error":"#DIV/0!"},{"$error":"#DIV/0!"},"-","-","-","-","-","-",{"$error":"#DIV/0!"},"-","-","-","-","-","-",{"$error":"#DIV/0!"},{"$error":"#DIV/0!"},null,null,"-","-","-","-",0,"-","-","-","-","-","-",{"$error":"#DIV/0!"},null,null,{"$error":"#DIV/0!"},"-","-","-","-"]
[null,"Мирсаитов Дмитрий","ЗГД","-","-",{"$error":"#DIV/0!"},"-","-",{"$error":"#DIV/0!"},{"$error":"#DIV/0!"},"-","-","-","-","-","-",{"$error":"#DIV/0!"},"-","-","-","-","-","-",{"$error":"#DIV/0!"},{"$error":"#DIV/0!"},null,null,"-","-","-","-",0,"-","-","-","-","-","-",{"$error":"#DIV/0!"},null,null,{"$error":"#DIV/0!"},"-","-","-","-"]
[null,"Навальнева Евгения","ЗГД","-","-",{"$error":"#DIV/0!"},"-","-",{"$error":"#DIV/0!"},{"$error":"#DIV/0!"},"-","-","-","-","-","-",{"$error":"#DIV/0!"},"-","-","-","-","-","-",{"$error":"#DIV/0!"},{"$error":"#DIV/0!"},null,null,"-","-","-","-",0,"-","-","-","-","-","-",{"$error":"#DIV/0!"},null,null,{"$error":"#DIV/0!"},"-","-","-","-"]
[null,"Османов Руслан","ЗГД","-","-",{"$error":"#DIV/0!"},"-","-",{"$error":"#DIV/0!"},{"$error":"#DIV/0!"},"-","-","-","-","-","-",{"$error":"#DIV/0!"},"-","-","-","-","-","-",{"$error":"#DIV/0!"},{"$error":"#DIV/0!"},null,null,"-","-","-","-",0,"-","-","-","-","-","-",{"$error":"#DIV/0!"},null,null,{"$error":"#DIV/0!"},"-","-","-","-"]
[null,"Приймак Андрей","ЗГД","-","-",{"$error":"#DIV/0!"},"-","-",{"$error":"#DIV/0!"},{"$error":"#DIV/0!"},"-","-","-","-","-","-",{"$error":"#DIV/0!"},"-","-","-","-","-","-",{"$error":"#DIV/0!"},{"$error":"#DIV/0!"},null,null,"-","-","-","-",0,"-","-","-","-","-","-",{"$error":"#DIV/0!"},null,null,{"$error":"#DIV/0!"},"-","-","-","-"]
[null,"Проскуряков Алексей","ОКР","-","-",{"$error":"#DIV/0!"},"-","-",{"$error":"#DIV/0!"},{"$error":"#DIV/0!"},"-","-","-","-","-","-",{"$error":"#DIV/0!"},"-","-","-","-","-","-",{"$error":"#DIV/0!"},{"$error":"#DIV/0!"},null,null,"-","-","-","-",0,"-","-","-","-","-","-",{"$error":"#DIV/0!"},null,null,{"$error":"#DIV/0!"},"-","-","-","-"]
[null,"Савченко Яна","ОКР (КЦ)","-","-",{"$error":"#DIV/0!"},"-","-",{"$error":"#DIV/0!"},{"$error":"#DIV/0!"},"-","-","-","-","-","-",{"$error":"#DIV/0!"},"-","-","-","-","-","-",{"$error":"#DIV/0!"},{"$error":"#DIV/0!"},null,null,"-","-","-","-",0,"-","-","-","-","-","-",{"$error":"#DIV/0!"},null,null,{"$error":"#DIV/0!"},"-","-","-","-"]
[null,"Сафиуллин Наиль","ОКР (КЦ)","-","-",{"$error":"#DIV/0!"},"-","-",{"$error":"#DIV/0!"},{"$error":"#DIV/0!"},"-","-","-","-","-","-",{"$error":"#DIV/0!"},"-","-","-","-","-","-",{"$error":"#DIV/0!"},{"$error":"#DIV/0!"},null,null,"-","-","-","-",0,"-","-","-","-","-","-",{"$error":"#DIV/0!"},null,null,{"$error":"#DIV/0!"},"-","-","-","-"]
[null,"Сметанин Павел","ОКР","-","-",{"$error":"#DIV/0!"},"-","-",{"$error":"#DIV/0!"},{"$error":"#DIV/0!"},"-","-","-","-","-","-",{"$error":"#DIV/0!"},"-","-","-","-","-","-",{"$error":"#DIV/0!"},{"$error":"#DIV/0!"},null,null,"-","-","-","-",0,"-","-","-","-","-","-",{"$error":"#DIV/0!"},null,null,{"$error":"#DIV/0!"},"-","-","-","-"]
[null,"Степин Константин","ОКР (КЦ)","-","-",{"$error":"#DIV/0!"},"-","-",{"$error":"#DIV/0!"},{"$error":"#DIV/0!"},"-","-","-","-","-","-",{"$error":"#DIV/0!"},"-","-","-","-","-","-",{"$error":"#DIV/0!"},{"$error":"#DIV/0!"},null,null,"-","-","-","-",0,"-","-","-","-","-","-",{"$error":"#DIV/0!"},null,null,{"$error":"#DIV/0!"},"-","-","-","-"]
[null,"Титов Александр","ЗГД","-","-",{"$error":"#DIV/0!"},"-","-",{"$error":"#DIV/0!"},{"$error":"#DIV/0!"},"-","-","-","-","-","-",{"$error":"#DIV/0!"},"-","-","-","-","-","-",{"$error":"#DIV/0!"},{"$error":"#DIV/0!"},null,null,"-","-","-","-",0,"-","-","-","-","-","-",{"$error":"#DIV/0!"},null,null,{"$error":"#DIV/0!"},"-","-","-","-"]
[null,"Фирсов Владимир","ОКР","-","-",{"$error":"#DIV/0!"},"-","-",{"$error":"#DIV/0!"},{"$error":"#DIV/0!"},"-","-","-","-","-","-",{"$error":"#DIV/0!"},"-","-","-","-","-","-",{"$error":"#DIV/0!"},{"$error":"#DIV/0!"},null,null,"-","-","-","-",0,"-","-","-","-","-","-",{"$error":"#DIV/0!"},null,null,{"$error":"#DIV/0!"},"-","-","-","-"]
[null,"Чунц Илья","ЗГД","-","-",{"$error":"#DIV/0!"},"-","-",{"$error":"#DIV/0!"},{"$error":"#DIV/0!"},"-","-","-","-","-","-",{"$error":"#DIV/0!"},"-","-","-","-","-","-",{"$error":"#DIV/0!"},{"$error":"#DIV/0!"},null,null,"-","-","-","-",0,"-","-","-","-","-","-",{"$error":"#DIV/0!"},null,null,{"$error":"#DIV/0!"},"-","-","-","-"]
[null,"Шепляков Алексей","ЗГД","-","-",{"$error":"#DIV/0!"},"-","-",{"$error":"#DIV/0!"},{"$error":"#DIV/0!"},"-","-","-","-","-","-",{"$error":"#DIV/0!"},"-","-","-","-","-","-",{"$error":"#DIV/0!"},{"$error":"#DIV/0!"},null,null,"-","-","-","-",0,"-","-","-","-","-","-",{"$error":"#DIV/0!"},null,null,{"$error":"#DIV/0!"},"-","-","-","-"]
[null,"Шестаков Антон","ЗГД","-","-",{"$error":"#DIV/0!"},"-","-",{"$error":"#DIV/0!"},{"$error":"#DIV/0!"},"-","-","-","-","-","-",{"$error":"#DIV/0!"},"-","-","-","-","-","-",{"$error":"#DIV/0!"},{"$error":"#DIV/0!"},null,null,"-","-","-","-",0,"-","-","-","-","-","-",{"$error":"#DIV/0!"},null,null,{"$error":"#DIV/0!"},"-","-","-","-"]
[null,"Ялымов Денис","ОКР","-","-",{"$error":"#DIV/0!"},"-","-",{"$error":"#DIV/0!"},{"$error":"#DIV/0!"},"-","-","-","-","-","-",{"$error":"#DIV/0!"},"-","-","-","-","-","-",{"$error":"#DIV/0!"},{"$error":"#DIV/0!"},null,null,"-","-","-","-",0,"-","-","-","-","-","-",{"$error":"#DIV/0!"},null,null,{"$error":"#DIV/0!"},"-","-","-","-"]
[null,"Винокурова Елена","КЦ","-","-",{"$error":"#DIV/0!"},"-","-",{"$error":"#DIV/0!"},{"$error":"#DIV/0!"},"-","-","-","-","-","-",{"$error":"#DIV/0!"},"-","-","-","-","-","-",{"$error":"#DIV/0!"},{"$error":"#DIV/0!"},null,null,"-","-","-","-",0,"-","-","-","-","-","-",{"$error":"#DIV/0!"},null,null,{"$error":"#DIV/0!"},"-","-","-","-"]
[null,"Горбунова Татьяна","КЦ","-","-",{"$error":"#DIV/0!"},"-","-",{"$error":"#DIV/0!"},{"$error":"#DIV/0!"},"-","-","-","-","-","-",{"$error":"#DIV/0!"},"-","-","-","-","-","-",{"$error":"#DIV/0!"},{"$error":"#DIV/0!"},null,null,"-","-","-","-",0,"-","-","-","-","-","-",{"$error":"#DIV/0!"},null,null,{"$error":"#DIV/0!"},"-","-","-","-"]
[null,"Давыденков Евгений","КЦ","-","-",{"$error":"#DIV/0!"},"-","-",{"$error":"#DIV/0!"},{"$error":"#DIV/0!"},"-","-","-","-","-","-",{"$error":"#DIV/0!"},"-","-","-","-","-","-",{"$error":"#DIV/0!"},{"$error":"#DIV/0!"},null,null,"-","-","-","-",0,"-","-","-","-","-","-",{"$error":"#DIV/0!"},null,null,{"$error":"#DIV/0!"},"-","-","-","-"]
[null,"Журавлев Сергей","КЦ","-","-",{"$error":"#DIV/0!"},"-","-",{"$error":"#DIV/0!"},{"$error":"#DIV/0!"},"-","-","-","-","-","-",{"$error":"#DIV/0!"},"-","-","-","-","-","-",{"$error":"#DIV/0!"},{"$error":"#DIV/0!"},null,null,"-","-","-","-",0,"-","-","-","-","-","-",{"$error":"#DIV/0!"},null,null,{"$error":"#DIV/0!"},"-","-","-","-"]
[null,"Ульданов Динар","КЦ","-","-",{"$error":"#DIV/0!"},"-","-",{"$error":"#DIV/0!"},{"$error":"#DIV/0!"},"-","-","-","-","-","-",{"$error":"#DIV/0!"},"-","-","-","-","-","-",{"$error":"#DIV/0!"},{"$error":"#DIV/0!"},null,null,"-","-","-","-",0,"-","-","-","-","-","-",{"$error":"#DIV/0!"},null,null,{"$error":"#DIV/0!"},"-","-","-","-"]
[null,1,2,3,4,5,6,7,8,9,10,11,12,13,14,15,16,17,18,19,20,21,22,23,24,25,26,27,28,29,30,31,32,33,34,35,36,37,38,39,40,41,42,43,44,45]
[null,"РАСПРЕДЕЛЕНИЕ МЕСТ",null,null,"ИНТЕГРАЛЬНЫЙ РЕЙТИНГ","РЕЗУЛЬТАТИВНОСТЬ",null,null,"ПРОАКТИВНОСТЬ",null,null,null,null,null,null,null,null,null,null,null,null,null,null,"ПРОФЕССИОНАЛЬНОЕ РАЗВИТИЕ",null,null,null,null,null,null,null,null,null,null,null,null,null,null,"ЭФФЕКТИВНОЕ ВЗАИМОДЕЙСТВИЕ"]
[null,"Василий Леонтьев","ОКР","-",{"$f":"_xlfn.RANK.AVG(E49,E$49:E$79)","v":{"$error":"#DIV/0!"}},{"$f":"_xlfn.RANK.AVG(F87,F$87:F$117)","v":{"$error":"#DIV/0!"}},"-","-",{"$f":"_xlfn.RANK.AVG(I87,I$87:I$117)","v":{"$error":"#DIV/0!"}},"-","-","-","-","-","-","-","-","-","-","-","-","-","-",{"$f":"_xlfn.RANK.AVG(X87,X$87:X$117)","v":{"$error":"#DIV/0!"}},"-","-","-","-","-","-","-","-","-","-","-","-","-","-",{"$f":"_xlfn.RANK.AVG(AM87,AM$87:AM$117)","v":{"$error":"#DIV/0!"}},"-","-","-","-","-","-","-"]
[null,"Гуннар Мюрдаль","ОКР","-",{"$f":"_xlfn.RANK.AVG(E50,E$49:E$79)","v":{"$error":"#DIV/0!"}},{"$f":"_xlfn.RANK.AVG(F88,F$87:F$117)","v":{"$error":"#DIV/0!"}},"-","-",{"$f":"_xlfn.RANK.AVG(I88,I$87:I$117)","v":{"$error":"#DIV/0!"}},"-","-","-","-","-","-","-","-","-","-","-","-","-","-",{"$f":"_xlfn.RANK.AVG(X88,X$87:X$117)","v":{"$error":"#DIV/0!"}},"-","-","-","-","-","-","-","-","-","-","-","-","-","-",{"$f":"_xlfn.RANK.AVG(AM88,AM$87:AM$117)","v":{"$error":"#DIV/0!"}},"-","-","-","-","-","-","-"]
[null,"Джон Ричард Хикс","ОКР","-",{"$error":"#DIV/0!"},{"$error":"#DIV/0!"},"-","-",{"$error":"#DIV/0!"},"-","-","-","-","-","-","-","-","-","-","-","-","-","-",{"$error":"#DIV/0!"},"-","-","-","-","-","-","-","-","-","-","-","-","-","-",{"$error":"#DIV/0!"},"-","-","-","-","-","-","-"]
[null,"Кеннет Эрроу","ОКР","-",{"$error":"#DIV/0!"},{"$error":"#DIV/0!"},"-","-",{"$error":"#DIV/0!"},"-","-","-","-","-","-","-","-","-","-","-","-","-","-",{"$error":"#DIV/0!"},"-","-","-","-","-","-","-","-","-","-","-","-","-","-",{"$error":"#DIV/0!"},"-","-","-","-","-","-","-"]
[null,"Кэрол Грейдер","ОКР","-",{"$error":"#DIV/0!"},{"$error":"#DIV/0!"},"-","-",{"$error":"#DIV/0!"},"-","-","-","-","-","-","-","-","-","-","-","-","-","-",{"$error":"#DIV/0!"},"-","-","-","-","-","-","-","-","-","-","-","-","-","-",{"$error":"#DIV/0!"},"-","-","-","-","-","-","-"]
[null,"Линда Бак","ЗГД","-",{"$error":"#DIV/0!"},{"$error":"#DIV/0!"},"-","-",{"$error":"#DIV/0!"},"-","-","-","-","-","-","-","-","-","-","-","-","-","-",{"$error":"#DIV/0!"},"-","-","-","-","-","-","-","-","-","-","-","-","-","-",{"$error":"#DIV/0!"},"-","-","-","-","-","-","-"]
[null,"Мэй-Брит Мозер","ОКР","-",{"$error":"#DIV/0!"},{"$error":"#DIV/0!"},"-","-",{"$error":"#DIV/0!"},"-","-","-","-","-","-","-","-","-","-","-","-","-","-",{"$error":"#DIV/0!"},"-","-","-","-","-","-","-","-","-","-","-","-","-","-",{"$error":"#DIV/0!"},"-","-","-","-","-","-","-"]
[null,"Саймон Кузнец","ОКР (КЦ)","-",{"$error":"#DIV/0!"},{"$error":"#DIV/0!"},"-","-",{"$error":"#DIV/0!"},"-","-","-","-","-","-","-","-","-","-","-","-","-","-",{"$error":"#DIV/0!"},"-","-","-","-","-","-","-","-","-","-","-","-","-","-",{"$error":"#DIV/0!"},"-","-","-","-","-","-","-"]
[null,"Светлана Алексеевич","ЗГД","-",{"$error":"#DIV/0!"},{"$error":"#DIV/0!"},"-","-",{"$error":"#DIV/0!"},"-","-","-","-","-","-","-","-","-","-","-","-","-","-",{"$error":"#DIV/0!"},"-","-","-","-","-","-","-","-","-","-","-","-","-","-",{"$error":"#DIV/0!"},"-","-","-","-","-","-","-"]
[null,"Эстер Дюфло","ЗГД","-",{"$error":"#DIV/0!"},{"$error":"#DIV/0!"},"-","-",{"$error":"#DIV/0!"},"-","-","-","-","-","-","-","-","-","-","-","-","-","-",{"$error":"#DIV/0!"},"-","-","-","-","-","-","-","-","-","-","-","-","-","-",{"$error":"#DIV/0!"},"-","-","-","-","-","-","-"]
[null,"Коваленко Тамара","ОКР","-",{"$error":"#DIV/0!"},{"$error":"#DIV/0!"},"-","-",{"$error":"#DIV/0!"},"-","-","-","-","-","-","-","-","-","-","-","-","-","-",{"$error":"#DIV/0!"},"-","-","-","-","-","-","-","-","-","-","-","-","-","-",{"$error":"#DIV/0!"},"-","-","-","-","-","-","-"]
[null,"Колесников Сергей","ОКР","-",{"$error":"#DIV/0!"},{"$error":"#DIV/0!"},"-","-",{"$error":"#DIV/0!"},"-","-","-","-","-","-","-","-","-","-","-","-","-","-",{"$error":"#DIV/0!"},"-","-","-","-","-","-","-","-","-","-","-","-","-","-",{"$error":"#DIV/0!"},"-","-","-","-","-","-","-"]
[null,"Коробейников Павел","ЗГД","-",{"$error":"#DIV/0!"},{"$error":"#DIV/0!"},"-","-",{"$error":"#DIV/0!"},"-","-","-","-","-","-","-","-","-","-","-","-","-","-",{"$error":"#DIV/0!"},"-","-","-","-","-","-","-","-","-","-","-","-","-","-",{"$error":"#DIV/0!"},"-","-","-","-","-","-","-"]
[null,"Марченко Лариса","ОКР","-",{"$error":"#DIV/0!"},{"$error":"#DIV/0!"},"-","-",{"$error":"#DIV/0!"},"-","-","-","-","-","-","-","-","-","-","-","-","-","-",{"$error":"#DIV/0!"},"-","-","-","-","-","-","-","-","-","-","-","-","-","-",{"$error":"#DIV/0!"},"-","-","-","-","-","-","-"]
[null,"Мелёхин Денис","ОКР (КЦ)","-",{"$error":"#DIV/0!"},{"$error":"#DIV/0!"},"-","-",{"$error":"#DIV/0!"},"-","-","-","-","-","-","-","-","-","-","-","-","-","-",{"$error":"#DIV/0!"},"-","-","-","-","-","-","-","-","-","-","-","-","-","-",{"$error":"#DIV/0!"},"-","-","-","-","-","-","-"]
[null,"Миняева Ирина","ОКР (КЦ)","-",{"$error":"#DIV/0!"},{"$error":"#DIV/0!"},"-","-",{"$error":"#DIV/0!"},"-","-","-","-","-","-","-","-","-","-","-","-","-","-",{"$error":"#DIV/0!"},"-","-","-","-","-","-","-","-","-","-","-","-","-","-",{"$error":"#DIV/0!"},"-","-","-","-","-","-","-"]
[null,"Мирсаитов Дмитрий","ЗГД","-",{"$error":"#DIV/0!"},{"$error":"#DIV/0!"},"-","-",{"$error":"#DIV/0!"},"-","-","-","-","-","-","-","-","-","-","-","-","-","-",{"$error":"#DIV/0!"},"-","-","-","-","-","-","-","-","-","-","-","-","-","-",{"$error":"#DIV/0!"},"-","-","-","-","-","-","-"]
[null,"Навальнева Евгения","ЗГД","-",{"$error":"#DIV/0!"},{"$error":"#DIV/0!"},"-","-",{"$error":"#DIV/0!"},"-","-","-","-","-","-","-","-","-","-","-","-","-","-",{"$error":"#DIV/0!"},"-","-","-","-","-","-","-","-","-","-","-","-","-","-",{"$error":"#DIV/0!"},"-","-","-","-","-","-","-"]
[null,"Османов Руслан","ЗГД","-",{"$error":"#DIV/0!"},{"$error":"#DIV/0!"},"-","-",{"$error":"#DIV/0!"},"-","-","-","-","-","-","-","-","-","-","-","-","-","-",{"$error":"#DIV/0!"},"-","-","-","-","-","-","-","-","-","-","-","-","-","-",{"$error":"#DIV/0!"},"-","-","-","-","-","-","-"]
[null,"Приймак Андрей","ЗГД","-",{"$error":"#DIV/0!"},{"$error":"#DIV/0!"},"-","-",{"$error":"#DIV/0!"},"-","-","-","-","-","-","-","-","-","-","-","-","-","-",{"$error":"#DIV/0!"},"-","-","-","-","-","-","-","-","-","-","-","-","-","-",{"$error":"#DIV/0!"},"-","-","-","-","-","-","-"]
[null,"Проскуряков Алексей","ОКР","-",{"$error":"#DIV/0!"},{"$error":"#DIV/0!"},"-","-",{"$error":"#DIV/0!"},"-","-","-","-","-","-","-","-","-","-","-","-","-","-",{"$error":"#DIV/0!"},"-","-","-","-","-","-","-","-","-","-","-","-","-","-",{"$error":"#DIV/0!"},"-","-","-","-","-","-","-"]
[null,"Савченко Яна","ОКР (КЦ)","-",{"$error":"#DIV/0!"},{"$error":"#DIV/0!"},"-","-",{"$error":"#DIV/0!"},"-","-","-","-","-","-","-","-","-","-","-","-","-","-",{"$error":"#DIV/0!"},"-","-","-","-","-","-","-","-","-","-","-","-","-","-",{"$error":"#DIV/0!"},"-","-","-","-","-","-","-"]
[null,"Сафиуллин Наиль","ОКР (КЦ)","-",{"$error":"#DIV/0!"},{"$error":"#DIV/0!"},"-","-",{"$error":"#DIV/0!"},"-","-","-","-","-","-","-","-","-","-","-","-","-","-",{"$error":"#DIV/0!"},"-","-","-","-","-","-","-","-","-","-","-","-","-","-",{"$error":"#DIV/0!"},"-","-","-","-","-","-","-"]
[null,"Сметанин Павел","ОКР","-",{"$error":"#DIV/0!"},{"$error":"#DIV/0!"},"-","-",{"$error":"#DIV/0!"},"-","-","-","-","-","-","-","-","-","-","-","-","-","-",{"$error":"#DIV/0!"},"-","-","-","-","-","-","-","-","-","-","-","-","-","-",{"$error":"#DIV/0!"},"-","-","-","-","-","-","-"]
[null,"Степин Константин","ОКР (КЦ)","-",{"$error":"#DIV/0!"},{"$error":"#DIV/0!"},"-","-",{"$error":"#DIV/0!"},"-","-","-","-","-","-","-","-","-","-","-","-","-","-",{"$error":"#DIV/0!"},"-","-","-","-","-","-","-","-","-","-","-","-","-","-",{"$error":"#DIV/0!"},"-","-","-","-","-","-","-"]
[null,"Титов Александр","ЗГД","-",{"$error":"#DIV/0!"},{"$error":"#DIV/0!"},"-","-",{"$error":"#DIV/0!"},"-","-","-","-","-","-","-","-","-","-","-","-","-","-",{"$error":"#DIV/0!"},"-","-","-","-","-","-","-","-","-","-","-","-","-","-",{"$error":"#DIV/0!"},"-","-","-","-","-","-","-"]
[null,"Фирсов Владимир","ОКР","-",{"$error":"#DIV/0!"},{"$error":"#DIV/0!"},"-","-",{"$error":"#DIV/0!"},"-","-","-","-","-","-","-","-","-","-","-","-","-","-",{"$error":"#DIV/0!"},"-","-","-","-","-","-","-","-","-","-","-","-","-","-",{"$error":"#DIV/0!"},"-","-","-","-","-","-","-"]
[null,"Чунц Илья","ЗГД","-",{"$error":"#DIV/0!"},{"$error":"#DIV/0!"},"-","-",{"$error":"#DIV/0!"},"-","-","-","-","-","-","-","-","-","-","-","-","-","-",{"$error":"#DIV/0!"},"-","-","-","-","-","-","-","-","-","-","-","-","-","-",{"$error":"#DIV/0!"},"-","-","-","-","-","-","-"]
[null,"Шепляков Алексей","ЗГД","-",{"$error":"#DIV/0!"},{"$error":"#DIV/0!"},"-","-",{"$error":"#DIV/0!"},"-","-","-","-","-","-","-","-","-","-","-","-","-","-",{"$error":"#DIV/0!"},"-","-","-","-","-","-","-","-","-","-","-","-","-","-",{"$error":"#DIV/0!"},"-","-","-","-","-","-","-"]
[null,"Шестаков Антон","ЗГД","-",{"$error":"#DIV/0!"},{"$error":"#DIV/0!"},"-","-",{"$error":"#DIV/0!"},"-","-","-","-","-","-","-","-","-","-","-","-","-","-",{"$error":"#DIV/0!"},"-","-","-","-","-","-","-","-","-","-","-","-","-","-",{"$error":"#DIV/0!"},"-","-","-","-","-","-","-"]
[null,"Ялымов Денис","ОКР","-",{"$error":"#DIV/0!"},{"$error":"#DIV/0!"},"-","-",{"$error":"#DIV/0!"},"-","-","-","-","-","-","-","-","-","-","-","-","-","-",{"$error":"#DIV/0!"},"-","-","-","-","-","-","-","-","-","-","-","-","-","-",{"$error":"#DIV/0!"},"-","-","-","-","-","-","-"]
[null,"Винокурова Елена","КЦ","-",{"$f":"_xlfn.RANK.AVG(E80,E$80:E$84)","v":{"$error":"#DIV/0!"}},{"$f":"_xlfn.RANK.AVG(F118,F$118:F$122)","v":{"$error":"#DIV/0!"}},"-","-",{"$f":"_xlfn.RANK.AVG(I118,I$118:I$122)","v":{"$error":"#DIV/0!"}},"-","-","-","-","-","-","-","-","-","-","-","-","-","-",{"$f":"_xlfn.RANK.AVG(X118,X$118:X$122)","v":{"$error":"#DIV/0!"}},"-","-","-","-","-","-","-","-","-","-","-","-","-","-",{"$f":"_xlfn.RANK.AVG(AM118,AM$118:AM$122)","v":{"$error":"#DIV/0!"}},"-","-","-","-","-","-","-"]
[null,"Горбунова Татьяна","КЦ","-",{"$f":"_xlfn.RANK.AVG(E81,E$80:E$84)","v":{"$error":"#DIV/0!"}},{"$f":"_xlfn.RANK.AVG(F119,F$118:F$122)","v":{"$error":"#DIV/0!"}},"-","-",{"$f":"_xlfn.RANK.AVG(I119,I$118:I$122)","v":{"$error":"#DIV/0!"}},"-","-","-","-","-","-","-","-","-","-","-","-","-","-",{"$f":"_xlfn.RANK.AVG(X119,X$118:X$122)","v":{"$error":"#DIV/0!"}},"-","-","-","-","-","-","-","-","-","-","-","-","-","-",{"$f":"_xlfn.RANK.AVG(AM119,AM$118:AM$122)","v":{"$error":"#DIV/0!"}},"-","-","-","-","-","-","-"]
[null,"Давыденков Евгений","КЦ","-",{"$error":"#DIV/0!"},{"$error":"#DIV/0!"},"-","-",{"$error":"#DIV/0!"},"-","-","-","-","-","-","-","-","-","-","-","-","-","-",{"$error":"#DIV/0!"},"-","-","-","-","-","-","-","-","-","-","-","-","-","-",{"$error":"#DIV/0!"},"-","-","-","-","-","-","-"]
[null,"Журавлев Сергей","КЦ","-",{"$error":"#DIV/0!"},{"$error":"#DIV/0!"},"-","-",{"$error":"#DIV/0!"},"-","-","-","-","-","-","-","-","-","-","-","-","-","-",{"$error":"#DIV/0!"},"-","-","-","-","-","-","-","-","-","-","-","-","-","-",{"$error":"#DIV/0!"},"-","-","-","-","-","-","-"]
[null,"Ульданов Динар","КЦ","-",{"$error":"#DIV/0!"},{"$error":"#DIV/0!"},"-","-",{"$error":"#DIV/0!"},"-","-","-","-","-","-","-","-","-","-","-","-","-","-",{"$error":"#DIV/0!"},"-","-","-","-","-","-","-","-","-","-","-","-","-","-",{"$error":"#DIV/0!"},"-","-","-","-","-","-","-"]

{"sheet":"Сбор показателей IV кв","index":22,"n_rows":160,"n_cols":46,"rows_kept":160,"cut":false,"hidden":false,"merged":[[7,1,7,2],[7,3,7,4],[8,31,8,37],[8,1,9,1],[8,2,9,2],[8,3,9,3],[8,4,9,4],[8,6,9,6],[8,7,9,7],[7,38,7,45],[7,23,7,37],[8,23,9,23],[8,38,9,38],[8,5,9,5],[8,8,9,8],[7,5,7,7],[8,9,8,15],[8,16,8,22],[7,8,7,22],[8,39,9,39],[8,40,9,40],[8,41,8,45],[8,24,9,24],[8,25,9,25],[8,26,8,30]]}
[null,null,null,null,"Коэфицент интегрального рейтинга",0.1,null,null,null,0.1,null,null,null,null,null,null,0.1,null,null,null,null,null,null,null,0.1,0.1,0.1,null,null,null,null,0.1,null,null,null,null,null,null,null,0.1,0.1,0.1]
[null,null,null,null,"Коэфицент рейтинга блока",1,null,null,null,0.5,null,null,null,null,null,null,0.5,null,null,null,null,null,null,null,0.25,0.25,0.25,null,null,null,null,0.25,null,null,null,null,null,null,null,0.33,0.33,0.33]
[]
[null,"К СОДЕРЖАНИЮ"]
[]
[null,"IV КВАРТАЛ"]
[]
[null,"УЧАСТНИК",null,"ЗОНА УПРАВЛЕНИЯ",null,"РЕЗУЛЬТАТИВНОСТЬ",null,null,"ПРОАКТИВНОСТЬ",null,null,null,null,null,null,null,null,null,null,null,null,null,null,"ПРОФЕССИОНАЛЬНОЕ РАЗВИТИЕ",null,null,null,null,null,null,null,null,null,null,null,null,null,null,"ЭФФЕКТИВНОЕ ВЗАИМОДЕЙСТВИЕ"]
[null,"ФИО","ТИП","Число сотрудников      в прямом подчинении","Число сотрудников в подразделении","Интегральный показатель","Выполнение УПЦ","Множитель","Интегральный показатель - проактивность","Поданные инициативы",null,null,null,null,null,null,"Инициативы, одобренные к реализации",null,null,null,null,null,null,"Интегральный показатель - профессиональное развитие","Выполнение ИПР самим участником","Выполнение ИПР непосредственными подчиненными ","Наполнение Кадрового резерва функции",null,null,null,null,"Управление знаниями функции",null,null,null,null,null,null,"Интегральный показатель - эффективное взаимодействие","Обратная связь от подрядчиков","Обратная связь от прямых подчиненных","Работа кросс-функциональных команд"]
[null,null,null,null,null,null,null,null,null,"Интегральный показатель - ПоИн","Преобразование - ПоИн ЛИНиЯ","Преобразование - ПоИн И.Д.Е.Я.","Преобразование - ПоИн Другие","Формат 1","Формат 2","Другие","Интегральный показатель - ОдИн","Преобразование - ОдИн ЛИНиЯ","Преобразование - ОдИн И.Д.Е.Я.","Преобразование - ОдИн Другие","Формат 1","Формат 2","Другие",null,null,null,"Интегральный показатель - НКРФ","Преобразование - ОКР","Преобразование - ПКР","Оперативный кадровый резерв","Перспективный кадровый резерв","Интегральный показатель - УЗФ","Преобразование - тренеры","Преобразование - программы б/ИЗ","Преобразование - программы т/ИЗ","Число внутренних тренеров","Число курсов внутренних тренеров вне Института Закупки","Число курсов внутренних тренеров в рамках Института Закупки",null,null,null,"Интегральный показатель - РКФК","Преобразование - инициация","Преобразование - участие","Инициация кросс-функциональных команд","Участие в кросс-функциональных командах"]
[null,"Василий Леонтьев","ОКР",5,15,{"$f":"G11*H11","v":0},null,null,null,{"$f":"SUM(K11:M11)","v":0},{"$f":"N11/$E11","v":0},{"$f":"O11/$E11","v":0},0,null,null,null,null,null,null,null,null,null,null,null,null,null,{"$f":"SUM((AB11/MAX(AB$11:AB$46)),(AC11/MAX(AC$11:AC$46)))","v":{"$error":"#DIV/0!"}},{"$f":"(AD11*5)/E11","v":0},{"$f":"(AE11*2)/E11","v":0},null,null,{"$f":"IF(AJ11=\"\",0,IF(AJ11=0,0,(SUM((AG11/MAX($AG$11:$AG$41))*0.25,(AH11/MAX($AH$11:$AH$41))*0.25,(AI11/MAX($AI$11:$AI$41))*0.5))))","v":0},{"$f":"IF(AJ11=\"\",0,IF(AJ11=0,0,AJ11/E11))","v":0},{"$f":"IF(AJ11=\"\",0,IF(AJ11=0,0,IF(AK11=0,\"0\",AK11/AJ11)))","v":0},{"$f":"IF(AL11=0,0,IF(AJ11=0,0,IF(AL11=\"\",\"\",AL11/AJ11)))","v":0},null,null,null,null,null,null,{"$f":"SUM((AQ11/MAX($AQ$11:$AQ$46))*0.5,(AR11/MAX($AR$11:$AR$46)*0.5))","v":{"$error":"#DIV/0!"}},{"$f":"AS11/$E11","v":0},{"$f":"AT11/$E11","v":0}]
[null,"Гуннар Мюрдаль","ОКР",6,25,{"$f":"G12*H12","v":0},null,null,null,{"$f":"SUM(K12:M12)","v":0},{"$f":"N12/$E12","v":0},{"$f":"O12/$E12","v":0},{"$f":"P12/$E12","v":0},null,null,null,null,null,null,null,null,null,null,null,null,null,{"$f":"SUM((AB12/MAX(AB$11:AB$46)),(AC12/MAX(AC$11:AC$46)))","v":{"$error":"#DIV/0!"}},0,0,null,null,{"$f":"IF(AJ12=\"\",0,IF(AJ12=0,0,(SUM((AG12/MAX($AG$11:$AG$41))*0.25,(AH12/MAX($AH$11:$AH$41))*0.25,(AI12/MAX($AI$11:$AI$41))*0.5))))","v":0},{"$f":"IF(AJ12=\"\",0,IF(AJ12=0,0,AJ12/E12))","v":0},{"$f":"IF(AJ12=\"\",0,IF(AJ12=0,0,IF(AK12=0,\"0\",AK12/AJ12)))","v":0},{"$f":"IF(AL12=0,0,IF(AJ12=0,0,IF(AL12=\"\",\"\",AL12/AJ12)))","v":0},null,null,null,null,null,null,{"$f":"SUM((AQ12/MAX($AQ$11:$AQ$46))*0.5,(AR12/MAX($AR$11:$AR$46)*0.5))","v":{"$error":"#DIV/0!"}},{"$f":"AS12/$E12","v":0},{"$f":"AT12/$E12","v":0}]
[null,"Джон Ричард Хикс","ОКР",6,7,0,null,null,null,0,0,0,0,null,null,null,null,null,null,null,null,null,null,null,null,null,{"$error":"#DIV/0!"},0,0,null,null,0,0,0,0,null,null,null,null,null,null,{"$error":"#DIV/0!"},0,0]
[null,"Кеннет Эрроу","ОКР",3,10,0,null,null,null,0,0,0,0,null,null,null,null,null,null,null,null,null,null,null,null,null,{"$error":"#DIV/0!"},0,0,null,null,0,0,0,0,null,null,null,null,null,null,{"$error":"#DIV/0!"},0,0]
[null,"Кэрол Грейдер","ОКР",5,21,0,null,null,null,0,0,0,0,null,null,null,null,null,null,null,null,null,null,null,null,null,{"$error":"#DIV/0!"},0,0,null,null,0,0,0,0,null,null,null,null,null,null,{"$error":"#DIV/0!"},0,0]
[null,"Линда Бак","ЗГД",6,37,0,null,null,null,0,0,0,0,null,null,null,null,null,null,null,null,null,null,null,null,null,{"$error":"#DIV/0!"},0,0,null,null,0,0,0,0,null,null,null,null,null,null,{"$error":"#DIV/0!"},0,0]
[null,"Мэй-Брит Мозер","ОКР",6,11,0,null,null,null,0,0,0,0,null,null,null,null,null,null,null,null,null,null,null,null,null,{"$error":"#DIV/0!"},0,0,null,null,0,0,0,0,null,null,null,null,null,null,{"$error":"#DIV/0!"},0,0]
[null,"Саймон Кузнец","ОКР (КЦ)",7,8,0,null,null,null,0,0,0,0,null,null,null,null,null,null,null,null,null,null,null,null,null,{"$error":"#DIV/0!"},0,0,null,null,0,0,0,0,null,null,null,null,null,null,{"$error":"#DIV/0!"},0,0]
[null,"Светлана Алексеевич","ЗГД",5,7,0,null,null,null,0,0,0,0,null,null,null,null,null,null,null,null,null,null,null,null,null,{"$error":"#DIV/0!"},0,0,null,null,0,0,0,0,null,null,null,null,null,null,{"$error":"#DIV/0!"},0,0]
[null,"Эстер Дюфло","ЗГД",7,8,0,null,null,null,0,0,0,0,null,null,null,null,null,null,null,null,null,null,null,null,null,{"$error":"#DIV/0!"},0,0,null,null,0,0,0,0,null,null,null,null,null,null,{"$error":"#DIV/0!"},0,0]
[null,"Коваленко Тамара","ОКР",7,33,0,null,null,null,0,0,0,0,null,null,null,null,null,null,null,null,null,null,null,null,null,{"$error":"#DIV/0!"},0,0,null,null,0,0,0,0,null,null,null,null,null,null,{"$error":"#DIV/0!"},0,0]
[null,"Колесников Сергей","ОКР",5,7,0,null,null,null,0,0,0,0,null,null,null,null,null,null,null,null,null,null,null,null,null,{"$error":"#DIV/0!"},0,0,null,null,0,0,0,0,null,null,null,null,null,null,{"$error":"#DIV/0!"},0,0]
[null,"Коробейников Павел","ЗГД",6,6,0,null,null,null,0,0,0,0,null,null,null,null,null,null,null,null,null,null,null,null,null,{"$error":"#DIV/0!"},0,0,null,null,0,0,0,0,null,null,null,null,null,null,{"$error":"#DIV/0!"},0,0]
[null,"Марченко Лариса","ОКР",5,39,0,null,null,null,0,0,0,0,null,null,null,null,null,null,null,null,null,null,null,null,null,{"$error":"#DIV/0!"},0,0,null,null,0,0,0,0,null,null,null,null,null,null,{"$error":"#DIV/0!"},0,0]
[null,"Мелёхин Денис","ОКР (КЦ)",6,14,0,null,null,null,0,0,0,0,null,null,null,null,null,null,null,null,null,null,null,null,null,{"$error":"#DIV/0!"},0,0,null,null,0,0,0,0,null,null,null,null,null,null,{"$error":"#DIV/0!"},0,0]
[null,"Миняева Ирина","ОКР (КЦ)",3,11,0,null,null,null,0,0,0,0,null,null,null,null,null,null,null,null,null,null,null,null,null,{"$error":"#DIV/0!"},0,0,null,null,0,0,0,0,null,null,null,null,null,null,{"$error":"#DIV/0!"},0,0]
[null,"Мирсаитов Дмитрий","ЗГД",5,30,0,null,null,null,0,0,0,0,null,null,null,null,null,null,null,null,null,null,null,null,null,{"$error":"#DIV/0!"},0,0,null,null,0,0,0,0,null,null,null,null,null,null,{"$error":"#DIV/0!"},0,0]
[null,"Навальнева Евгения","ЗГД",6,21,0,null,null,null,0,0,0,0,null,null,null,null,null,null,null,null,null,null,null,null,null,{"$error":"#DIV/0!"},0,0,null,null,0,0,0,0,null,null,null,null,null,null,{"$error":"#DIV/0!"},0,0]
[null,"Османов Руслан","ЗГД",6,6,0,null,null,null,0,0,0,0,null,null,null,null,null,null,null,null,null,null,null,null,null,{"$error":"#DIV/0!"},0,0,null,null,0,0,0,0,null,null,null,null,null,null,{"$error":"#DIV/0!"},0,0]
[null,"Приймак Андрей","ЗГД",5,12,0,null,null,null,0,0,0,0,null,null,null,null,null,null,null,null,null,null,null,null,null,{"$error":"#DIV/0!"},0,0,null,null,0,0,0,0,null,null,null,null,null,null,{"$error":"#DIV/0!"},0,0]
[null,"Проскуряков Алексей","ОКР",5,16,0,null,null,null,0,0,0,0,null,null,null,null,null,null,null,null,null,null,null,null,null,{"$error":"#DIV/0!"},0,0,null,null,0,0,0,0,null,null,null,null,null,null,{"$error":"#DIV/0!"},0,0]
[null,"Савченко Яна","ОКР (КЦ)",5,8,0,null,null,null,0,0,0,0,null,null,null,null,null,null,null,null,null,null,null,null,null,{"$error":"#DIV/0!"},0,0,null,null,0,0,0,0,null,null,null,null,null,null,{"$error":"#DIV/0!"},0,0]
[null,"Сафиуллин Наиль","ОКР (КЦ)",3,17,0,null,null,null,0,0,0,0,null,null,null,null,null,null,null,null,null,null,null,null,null,{"$error":"#DIV/0!"},0,0,null,null,0,0,0,0,null,null,null,null,null,null,{"$error":"#DIV/0!"},0,0]
[null,"Сметанин Павел","ОКР",5,33,0,null,null,null,0,{"$f":"N38/$E34","v":0},{"$f":"O38/$E34","v":0},0,null,null,null,null,null,null,null,null,null,null,null,null,null,{"$error":"#DIV/0!"},0,0,null,null,0,0,0,0,null,null,null,null,null,null,{"$error":"#DIV/0!"},0,0]
[null,"Степин Константин","ОКР (КЦ)",7,21,0,null,null,null,0,0,0,0,null,null,null,null,null,null,null,null,null,null,null,null,null,{"$error":"#DIV/0!"},0,0,null,null,0,0,0,0,null,null,null,null,null,null,{"$error":"#DIV/0!"},0,0]
[null,"Титов Александр","ЗГД",7,13,0,null,null,null,0,0,0,0,null,null,null,null,null,null,null,null,null,null,null,null,null,{"$error":"#DIV/0!"},0,0,null,null,0,0,0,0,null,null,null,null,null,null,{"$error":"#DIV/0!"},0,0]
[null,"Фирсов Владимир","ОКР",6,11,0,null,null,null,0,0,0,0,null,null,null,null,null,null,null,null,null,null,null,null,null,{"$error":"#DIV/0!"},0,0,null,null,0,0,0,0,null,null,null,null,null,null,{"$error":"#DIV/0!"},0,0]
[null,"Чунц Илья","ЗГД",7,18,0,null,null,null,{"$f":"SUM(K38:M38)","v":0},{"$f":"N38/$E38","v":0},{"$f":"O38/$E38","v":0},{"$f":"P38/$E38","v":0},null,null,null,null,null,null,null,null,null,null,null,null,null,{"$error":"#DIV/0!"},0,0,null,null,0,0,0,0,null,null,null,null,null,null,{"$error":"#DIV/0!"},0,0]
[null,"Шепляков Алексей","ЗГД",5,13,0,null,null,null,0,0,0,0,null,null,null,null,null,null,null,null,null,null,null,null,null,{"$error":"#DIV/0!"},0,0,null,null,0,0,0,0,null,null,null,null,null,null,{"$error":"#DIV/0!"},0,0]
[null,"Шестаков Антон","ЗГД",6,10,0,null,null,null,0,0,0,0,null,null,null,null,null,null,null,null,null,null,null,null,null,{"$error":"#DIV/0!"},0,0,null,null,0,0,0,0,null,null,null,null,null,null,{"$error":"#DIV/0!"},0,0]
[null,"Ялымов Денис","ОКР",6,12,0,null,null,null,0,0,0,0,null,null,null,null,null,null,null,null,null,null,null,null,null,{"$error":"#DIV/0!"},0,0,null,null,0,0,0,0,null,null,null,null,null,null,{"$error":"#DIV/0!"},0,0]
[null,"Винокурова Елена","КЦ",6,21,0,null,null,null,0,0,0,0,null,null,null,null,null,null,null,null,null,null,null,null,null,{"$error":"#DIV/0!"},0,0,null,null,0,0,0,0,null,null,null,null,null,null,{"$error":"#DIV/0!"},0,0]
[null,"Горбунова Татьяна","КЦ",4,41,0,null,null,null,0,0,0,0,null,null,null,null,null,null,null,null,null,null,null,null,null,{"$error":"#DIV/0!"},0,0,null,null,0,0,0,0,null,null,null,null,null,null,{"$error":"#DIV/0!"},0,0]
[null,"Давыденков Евгений","КЦ",3,11,0,null,null,null,0,0,0,0,null,null,null,null,null,null,null,null,null,null,null,null,null,{"$error":"#DIV/0!"},0,0,null,null,0,0,0,0,null,null,null,null,null,null,{"$error":"#DIV/0!"},0,0]
[null,"Журавлев Сергей","КЦ",3,8,0,null,null,null,0,0,0,0,null,null,null,null,null,null,null,null,null,null,null,null,null,{"$error":"#DIV/0!"},0,0,null,null,0,0,0,0,null,null,null,null,null,null,{"$error":"#DIV/0!"},0,0]
[null,"Ульданов Динар","КЦ",3,6,0,null,null,null,0,0,0,0,null,null,null,null,null,null,null,null,null,null,null,null,null,{"$error":"#DIV/0!"},0,0,null,null,0,0,0,0,null,null,null,null,null,null,{"$error":"#DIV/0!"},0,0]
[]
[null,"ПЕРЕСЧЕТ ДЛЯ ИНТЕГРАЛЬНОГО РЕЙТИНГА"]
[null,"Андреева Анна","ОКР","-",{"$f":"SUM(F49:AT49)","v":{"$error":"#DIV/0!"}},{"$f":"(F11/MAX(F$11:F$46))*F$1","v":{"$error":"#DIV/0!"}},"-","-",null,{"$f":"(J11/MAX(J$11:J$46))*J$1","v":{"$error":"#DIV/0!"}},"-","-","-","-","-","-",{"$f":"(Q11/MAX(Q$11:Q$46))*Q$1","v":{"$error":"#DIV/0!"}},"-","-","-","-","-","-","-",{"$f":"(Y11/MAX(Y$11:Y$46))*Y$1","v":{"$error":"#DIV/0!"}},{"$error":"#DIV/0!"},{"$error":"#DIV/0!"},"-","-","-","-",{"$f":"IF(AF11=0,0,(AF11/MAX(AF$11:AF$46))*AF$1)","v":0},"-","-","-","-","-","-","-",{"$f":"(AN11/MAX(AN$11:AN$46))*AN$1","v":{"$error":"#DIV/0!"}},{"$error":"#DIV/0!"},{"$error":"#DIV/0!"},"-","-","-","-"]
[null,"Анисимова Марина","ОКР","-",{"$f":"SUM(F50:AT50)","v":{"$error":"#DIV/0!"}},{"$error":"#DIV/0!"},"-","-",null,{"$error":"#DIV/0!"},"-","-","-","-","-","-",{"$error":"#DIV/0!"},"-","-","-","-","-","-","-",{"$error":"#DIV/0!"},{"$error":"#DIV/0!"},{"$error":"#DIV/0!"},"-","-","-","-",{"$f":"IF(AF12=0,0,(AF12/MAX(AF$11:AF$46))*AF$1)","v":0},"-","-","-","-","-","-","-",{"$error":"#DIV/0!"},{"$error":"#DIV/0!"},{"$error":"#DIV/0!"},"-","-","-","-"]
[null,"Билый Александр","ОКР","-",{"$error":"#DIV/0!"},{"$error":"#DIV/0!"},"-","-",null,{"$error":"#DIV/0!"},"-","-","-","-","-","-",{"$error":"#DIV/0!"},"-","-","-","-","-","-","-",{"$error":"#DIV/0!"},{"$error":"#DIV/0!"},{"$error":"#DIV/0!"},"-","-","-","-",0,"-","-","-","-","-","-","-",{"$error":"#DIV/0!"},{"$error":"#DIV/0!"},{"$error":"#DIV/0!"},"-","-","-","-"]
[null,"Бильвина Валерия","ОКР","-",{"$error":"#DIV/0!"},{"$error":"#DIV/0!"},"-","-",null,{"$error":"#DIV/0!"},"-","-","-","-","-","-",{"$error":"#DIV/0!"},"-","-","-","-","-","-","-",{"$error":"#DIV/0!"},{"$error":"#DIV/0!"},{"$error":"#DIV/0!"},"-","-","-","-",0,"-","-","-","-","-","-","-",{"$error":"#DIV/0!"},{"$error":"#DIV/0!"},{"$error":"#DIV/0!"},"-","-","-","-"]
[null,"Борисов Сергей","ОКР","-",{"$error":"#DIV/0!"},{"$error":"#DIV/0!"},"-","-",null,{"$error":"#DIV/0!"},"-","-","-","-","-","-",{"$error":"#DIV/0!"},"-","-","-","-","-","-","-",{"$error":"#DIV/0!"},{"$error":"#DIV/0!"},{"$error":"#DIV/0!"},"-","-","-","-",0,"-","-","-","-","-","-","-",{"$error":"#DIV/0!"},{"$error":"#DIV/0!"},{"$error":"#DIV/0!"},"-","-","-","-"]
[null,"Булковский Сергей","ЗГД","-",{"$error":"#DIV/0!"},{"$error":"#DIV/0!"},"-","-",null,{"$error":"#DIV/0!"},"-","-","-","-","-","-",{"$error":"#DIV/0!"},"-","-","-","-","-","-","-",{"$error":"#DIV/0!"},{"$error":"#DIV/0!"},{"$error":"#DIV/0!"},"-","-","-","-",0,"-","-","-","-","-","-","-",{"$error":"#DIV/0!"},{"$error":"#DIV/0!"},{"$error":"#DIV/0!"},"-","-","-","-"]
[null,"Войтюк Юлия","ОКР","-",{"$error":"#DIV/0!"},{"$error":"#DIV/0!"},"-","-",null,{"$error":"#DIV/0!"},"-","-","-","-","-","-",{"$error":"#DIV/0!"},"-","-","-","-","-","-","-",{"$error":"#DIV/0!"},{"$error":"#DIV/0!"},{"$error":"#DIV/0!"},"-","-","-","-",0,"-","-","-","-","-","-","-",{"$error":"#DIV/0!"},{"$error":"#DIV/0!"},{"$error":"#DIV/0!"},"-","-","-","-"]
[null,"Гудкова Людмила","ОКР (КЦ)","-",{"$error":"#DIV/0!"},{"$error":"#DIV/0!"},"-","-",null,{"$error":"#DIV/0!"},"-","-","-","-","-","-",{"$error":"#DIV/0!"},"-","-","-","-","-","-","-",{"$error":"#DIV/0!"},{"$error":"#DIV/0!"},{"$error":"#DIV/0!"},"-","-","-","-",0,"-","-","-","-","-","-","-",{"$error":"#DIV/0!"},{"$error":"#DIV/0!"},{"$error":"#DIV/0!"},"-","-","-","-"]
[null,"Гулиев Рагим","ЗГД","-",{"$error":"#DIV/0!"},{"$error":"#DIV/0!"},"-","-",null,{"$error":"#DIV/0!"},"-","-","-","-","-","-",{"$error":"#DIV/0!"},"-","-","-","-","-","-","-",{"$error":"#DIV/0!"},{"$error":"#DIV/0!"},{"$error":"#DIV/0!"},"-","-","-","-",0,"-","-","-","-","-","-","-",{"$error":"#DIV/0!"},{"$error":"#DIV/0!"},{"$error":"#DIV/0!"},"-","-","-","-"]
[null,"Завьялов Василий","ЗГД","-",{"$error":"#DIV/0!"},{"$error":"#DIV/0!"},"-","-",null,{"$error":"#DIV/0!"},"-","-","-","-","-","-",{"$error":"#DIV/0!"},"-","-","-","-","-","-","-",{"$error":"#DIV/0!"},{"$error":"#DIV/0!"},{"$error":"#DIV/0!"},"-","-","-","-",0,"-","-","-","-","-","-","-",{"$error":"#DIV/0!"},{"$error":"#DIV/0!"},{"$error":"#DIV/0!"},"-","-","-","-"]
[null,"Коваленко Тамара","ОКР","-",{"$error":"#DIV/0!"},{"$error":"#DIV/0!"},"-","-",null,{"$error":"#DIV/0!"},"-","-","-","-","-","-",{"$error":"#DIV/0!"},"-","-","-","-","-","-","-",{"$error":"#DIV/0!"},{"$error":"#DIV/0!"},{"$error":"#DIV/0!"},"-","-","-","-",0,"-","-","-","-","-","-","-",{"$error":"#DIV/0!"},{"$error":"#DIV/0!"},{"$error":"#DIV/0!"},"-","-","-","-"]
[null,"Колесников Сергей","ОКР","-",{"$error":"#DIV/0!"},{"$error":"#DIV/0!"},"-","-",null,{"$error":"#DIV/0!"},"-","-","-","-","-","-",{"$error":"#DIV/0!"},"-","-","-","-","-","-","-",{"$error":"#DIV/0!"},{"$error":"#DIV/0!"},{"$error":"#DIV/0!"},"-","-","-","-",0,"-","-","-","-","-","-","-",{"$error":"#DIV/0!"},{"$error":"#DIV/0!"},{"$error":"#DIV/0!"},"-","-","-","-"]
[null,"Коробейников Павел","ЗГД","-",{"$error":"#DIV/0!"},{"$error":"#DIV/0!"},"-","-",null,{"$error":"#DIV/0!"},"-","-","-","-","-","-",{"$error":"#DIV/0!"},"-","-","-","-","-","-","-",{"$error":"#DIV/0!"},{"$error":"#DIV/0!"},{"$error":"#DIV/0!"},"-","-","-","-",0,"-","-","-","-","-","-","-",{"$error":"#DIV/0!"},{"$error":"#DIV/0!"},{"$error":"#DIV/0!"},"-","-","-","-"]
[null,"Марченко Лариса","ОКР","-",{"$error":"#DIV/0!"},{"$error":"#DIV/0!"},"-","-",null,{"$error":"#DIV/0!"},"-","-","-","-","-","-",{"$error":"#DIV/0!"},"-","-","-","-","-","-","-",{"$error":"#DIV/0!"},{"$error":"#DIV/0!"},{"$error":"#DIV/0!"},"-","-","-","-",0,"-","-","-","-","-","-","-",{"$error":"#DIV/0!"},{"$error":"#DIV/0!"},{"$error":"#DIV/0!"},"-","-","-","-"]
[null,"Мелёхин Денис","ОКР (КЦ)","-",{"$error":"#DIV/0!"},{"$error":"#DIV/0!"},"-","-",null,{"$error":"#DIV/0!"},"-","-","-","-","-","-",{"$error":"#DIV/0!"},"-","-","-","-","-","-","-",{"$error":"#DIV/0!"},{"$error":"#DIV/0!"},{"$error":"#DIV/0!"},"-","-","-","-",0,"-","-","-","-","-","-","-",{"$error":"#DIV/0!"},{"$error":"#DIV/0!"},{"$error":"#DIV/0!"},"-","-","-","-"]
[null,"Миняева Ирина","ОКР (КЦ)","-",{"$error":"#DIV/0!"},{"$error":"#DIV/0!"},"-","-",null,{"$error":"#DIV/0!"},"-","-","-","-","-","-",{"$error":"#DIV/0!"},"-","-","-","-","-","-","-",{"$error":"#DIV/0!"},{"$error":"#DIV/0!"},{"$error":"#DIV/0!"},"-","-","-","-",0,"-","-","-","-","-","-","-",{"$error":"#DIV/0!"},{"$error":"#DIV/0!"},{"$error":"#DIV/0!"},"-","-","-","-"]
[null,"Мирсаитов Дмитрий","ЗГД","-",{"$error":"#DIV/0!"},{"$error":"#DIV/0!"},"-","-",null,{"$error":"#DIV/0!"},"-","-","-","-","-","-",{"$error":"#DIV/0!"},"-","-","-","-","-","-","-",{"$error":"#DIV/0!"},{"$error":"#DIV/0!"},{"$error":"#DIV/0!"},"-","-","-","-",0,"-","-","-","-","-","-","-",{"$error":"#DIV/0!"},{"$error":"#DIV/0!"},{"$error":"#DIV/0!"},"-","-","-","-"]
[null,"Навальнева Евгения","ЗГД","-",{"$error":"#DIV/0!"},{"$error":"#DIV/0!"},"-","-",null,{"$error":"#DIV/0!"},"-","-","-","-","-","-",{"$error":"#DIV/0!"},"-","-","-","-","-","-","-",{"$error":"#DIV/0!"},{"$error":"#DIV/0!"},{"$error":"#DIV/0!"},"-","-","-","-",0,"-","-","-","-","-","-","-",{"$error":"#DIV/0!"},{"$error":"#DIV/0!"},{"$error":"#DIV/0!"},"-","-","-","-"]
[null,"Османов Руслан","ЗГД","-",{"$error":"#DIV/0!"},{"$error":"#DIV/0!"},"-","-",null,{"$error":"#DIV/0!"},"-","-","-","-","-","-",{"$error":"#DIV/0!"},"-","-","-","-","-","-","-",{"$error":"#DIV/0!"},{"$error":"#DIV/0!"},{"$error":"#DIV/0!"},"-","-","-","-",0,"-","-","-","-","-","-","-",{"$error":"#DIV/0!"},{"$error":"#DIV/0!"},{"$error":"#DIV/0!"},"-","-","-","-"]
[null,"Приймак Андрей","ЗГД","-",{"$error":"#DIV/0!"},{"$error":"#DIV/0!"},"-","-",null,{"$error":"#DIV/0!"},"-","-","-","-","-","-",{"$error":"#DIV/0!"},"-","-","-","-","-","-","-",{"$error":"#DIV/0!"},{"$error":"#DIV/0!"},{"$error":"#DIV/0!"},"-","-","-","-",0,"-","-","-","-","-","-","-",{"$error":"#DIV/0!"},{"$error":"#DIV/0!"},{"$error":"#DIV/0!"},"-","-","-","-"]
[null,"Проскуряков Алексей","ОКР","-",{"$error":"#DIV/0!"},{"$error":"#DIV/0!"},"-","-",null,{"$error":"#DIV/0!"},"-","-","-","-","-","-",{"$error":"#DIV/0!"},"-","-","-","-","-","-","-",{"$f":"(Y31/MAX(Y$11:Y$46))*Y$1","v":{"$error":"#DIV/0!"}},{"$error":"#DIV/0!"},{"$error":"#DIV/0!"},"-","-","-","-",0,"-","-","-","-","-","-","-",{"$f":"(AN31/MAX(AN$11:AN$46))*AN$1","v":{"$error":"#DIV/0!"}},{"$error":"#DIV/0!"},{"$error":"#DIV/0!"},"-","-","-","-"]
[null,"Савченко Яна","ОКР (КЦ)","-",{"$error":"#DIV/0!"},{"$error":"#DIV/0!"},"-","-",null,{"$error":"#DIV/0!"},"-","-","-","-","-","-",{"$error":"#DIV/0!"},"-","-","-","-","-","-","-",{"$error":"#DIV/0!"},{"$error":"#DIV/0!"},{"$error":"#DIV/0!"},"-","-","-","-",0,"-","-","-","-","-","-","-",{"$error":"#DIV/0!"},{"$error":"#DIV/0!"},{"$error":"#DIV/0!"},"-","-","-","-"]
[null,"Сафиуллин Наиль","ОКР (КЦ)","-",{"$error":"#DIV/0!"},{"$error":"#DIV/0!"},"-","-",null,{"$error":"#DIV/0!"},"-","-","-","-","-","-",{"$error":"#DIV/0!"},"-","-","-","-","-","-","-",{"$error":"#DIV/0!"},{"$error":"#DIV/0!"},{"$error":"#DIV/0!"},"-","-","-","-",0,"-","-","-","-","-","-","-",{"$error":"#DIV/0!"},{"$error":"#DIV/0!"},{"$error":"#DIV/0!"},"-","-","-","-"]
[null,"Сметанин Павел","ОКР","-",{"$error":"#DIV/0!"},{"$error":"#DIV/0!"},"-","-",null,{"$error":"#DIV/0!"},"-","-","-","-","-","-",{"$error":"#DIV/0!"},"-","-","-","-","-","-","-",{"$error":"#DIV/0!"},{"$error":"#DIV/0!"},{"$error":"#DIV/0!"},"-","-","-","-",0,"-","-","-","-","-","-","-",{"$error":"#DIV/0!"},{"$error":"#DIV/0!"},{"$error":"#DIV/0!"},"-","-","-","-"]
[null,"Степин Константин","ОКР (КЦ)","-",{"$error":"#DIV/0!"},{"$error":"#DIV/0!"},"-","-",null,{"$error":"#DIV/0!"},"-","-","-","-","-","-",{"$error":"#DIV/0!"},"-","-","-","-","-","-","-",{"$error":"#DIV/0!"},{"$error":"#DIV/0!"},{"$error":"#DIV/0!"},"-","-","-","-",0,"-","-","-","-","-","-","-",{"$error":"#DIV/0!"},{"$error":"#DIV/0!"},{"$error":"#DIV/0!"},"-","-","-","-"]
[null,"Титов Александр","ЗГД","-",{"$error":"#DIV/0!"},{"$error":"#DIV/0!"},"-","-",null,{"$error":"#DIV/0!"},"-","-","-","-","-","-",{"$error":"#DIV/0!"},"-","-","-","-","-","-","-",{"$error":"#DIV/0!"},{"$error":"#DIV/0!"},{"$error":"#DIV/0!"},"-","-","-","-",0,"-","-","-","-","-","-","-",{"$error":"#DIV/0!"},{"$error":"#DIV/0!"},{"$error":"#DIV/0!"},"-","-","-","-"]
[null,"Фирсов Владимир","ОКР","-",{"$error":"#DIV/0!"},{"$error":"#DIV/0!"},"-","-",null,{"$error":"#DIV/0!"},"-","-","-","-","-","-",{"$error":"#DIV/0!"},"-","-","-","-","-","-","-",{"$error":"#DIV/0!"},{"$error":"#DIV/0!"},{"$error":"#DIV/0!"},"-","-","-","-",0,"-","-","-","-","-","-","-",{"$error":"#DIV/0!"},{"$error":"#DIV/0!"},{"$error":"#DIV/0!"},"-","-","-","-"]
[null,"Чунц Илья","ЗГД","-",{"$error":"#DIV/0!"},{"$error":"#DIV/0!"},"-","-",null,{"$error":"#DIV/0!"},"-","-","-","-","-","-",{"$error":"#DIV/0!"},"-","-","-","-","-","-","-",{"$error":"#DIV/0!"},{"$error":"#DIV/0!"},{"$error":"#DIV/0!"},"-","-","-","-",0,"-","-","-","-","-","-","-",{"$error":"#DIV/0!"},{"$error":"#DIV/0!"},{"$error":"#DIV/0!"},"-","-","-","-"]
[null,"Шепляков Алексей","ЗГД","-",{"$error":"#DIV/0!"},{"$error":"#DIV/0!"},"-","-",null,{"$error":"#DIV/0!"},"-","-","-","-","-","-",{"$error":"#DIV/0!"},"-","-","-","-","-","-","-",{"$error":"#DIV/0!"},{"$error":"#DIV/0!"},{"$error":"#DIV/0!"},"-","-","-","-",0,"-","-","-","-","-","-","-",{"$error":"#DIV/0!"},{"$error":"#DIV/0!"},{"$error":"#DIV/0!"},"-","-","-","-"]
[null,"Шестаков Антон","ЗГД","-",{"$error":"#DIV/0!"},{"$error":"#DIV/0!"},"-","-",null,{"$error":"#DIV/0!"},"-","-","-","-","-","-",{"$error":"#DIV/0!"},"-","-","-","-","-","-","-",{"$error":"#DIV/0!"},{"$error":"#DIV/0!"},{"$error":"#DIV/0!"},"-","-","-","-",0,"-","-","-","-","-","-","-",{"$error":"#DIV/0!"},{"$error":"#DIV/0!"},{"$error":"#DIV/0!"},"-","-","-","-"]
[null,"Ялымов Денис","ОКР","-",{"$error":"#DIV/0!"},{"$error":"#DIV/0!"},"-","-",null,{"$error":"#DIV/0!"},"-","-","-","-","-","-",{"$error":"#DIV/0!"},"-","-","-","-","-","-","-",{"$error":"#DIV/0!"},{"$error":"#DIV/0!"},{"$error":"#DIV/0!"},"-","-","-","-",0,"-","-","-","-","-","-","-",{"$error":"#DIV/0!"},{"$error":"#DIV/0!"},{"$error":"#DIV/0!"},"-","-","-","-"]
[null,"Винокурова Елена","КЦ","-",{"$error":"#DIV/0!"},{"$error":"#DIV/0!"},"-","-",null,{"$error":"#DIV/0!"},"-","-","-","-","-","-",{"$error":"#DIV/0!"},"-","-","-","-","-","-","-",{"$error":"#DIV/0!"},{"$error":"#DIV/0!"},{"$error":"#DIV/0!"},"-","-","-","-",0,"-","-","-","-","-","-","-",{"$error":"#DIV/0!"},{"$error":"#DIV/0!"},{"$error":"#DIV/0!"},"-","-","-","-"]
[null,"Горбунова Татьяна","КЦ","-",{"$error":"#DIV/0!"},{"$error":"#DIV/0!"},"-","-",null,{"$error":"#DIV/0!"},"-","-","-","-","-","-",{"$error":"#DIV/0!"},"-","-","-","-","-","-","-",{"$error":"#DIV/0!"},{"$error":"#DIV/0!"},{"$error":"#DIV/0!"},"-","-","-","-",0,"-","-","-","-","-","-","-",{"$error":"#DIV/0!"},{"$error":"#DIV/0!"},{"$error":"#DIV/0!"},"-","-","-","-"]
[null,"Давыденков Евгений","КЦ","-",{"$error":"#DIV/0!"},{"$error":"#DIV/0!"},"-","-",null,{"$error":"#DIV/0!"},"-","-","-","-","-","-",{"$error":"#DIV/0!"},"-","-","-","-","-","-","-",{"$error":"#DIV/0!"},{"$error":"#DIV/0!"},{"$error":"#DIV/0!"},"-","-","-","-",0,"-","-","-","-","-","-","-",{"$error":"#DIV/0!"},{"$error":"#DIV/0!"},{"$error":"#DIV/0!"},"-","-","-","-"]
[null,"Журавлев Сергей","КЦ","-",{"$error":"#DIV/0!"},{"$error":"#DIV/0!"},"-","-",null,{"$error":"#DIV/0!"},"-","-","-","-","-","-",{"$error":"#DIV/0!"},"-","-","-","-","-","-","-",{"$error":"#DIV/0!"},{"$error":"#DIV/0!"},{"$error":"#DIV/0!"},"-","-","-","-",0,"-","-","-","-","-","-","-",{"$error":"#DIV/0!"},{"$error":"#DIV/0!"},{"$error":"#DIV/0!"},"-","-","-","-"]
[null,"Ульданов Динар","КЦ","-",{"$error":"#DIV/0!"},{"$error":"#DIV/0!"},"-","-",null,{"$error":"#DIV/0!"},"-","-","-","-","-","-",{"$error":"#DIV/0!"},"-","-","-","-","-","-","-",{"$error":"#DIV/0!"},{"$error":"#DIV/0!"},{"$error":"#DIV/0!"},"-","-","-","-",0,"-","-","-","-","-","-","-",{"$error":"#DIV/0!"},{"$error":"#DIV/0!"},{"$error":"#DIV/0!"},"-","-","-","-"]
[]
[null,"ПЕРЕСЧЕТ ДЛЯ РЕЙТИНГА БЛОКА"]
[null,"Андреева Анна","ОКР","-","-",{"$f":"(F11/MAX(F$11:F$46))*F$2","v":{"$error":"#DIV/0!"}},"-","-",{"$f":"SUM(J87:W87)","v":{"$error":"#DIV/0!"}},{"$f":"(J11/MAX(J$11:J$46))*J$2","v":{"$error":"#DIV/0!"}},"-","-","-","-","-","-",{"$f":"(Q11/MAX(Q$11:Q$46))*Q$2","v":{"$error":"#DIV/0!"}},"-","-","-","-","-","-",{"$f":"SUM(Y87:AL87)","v":{"$error":"#DIV/0!"}},{"$f":"(Y11/MAX(Y$11:Y$46))*Y$2","v":{"$error":"#DIV/0!"}},{"$error":"#DIV/0!"},{"$error":"#DIV/0!"},"-","-","-","-",{"$f":"IF(AF11=0,0,((AF11/MAX(AF$11:AF$46))*AF$2))","v":0},"-","-","-","-","-","-",{"$f":"SUM(AN87:AT87)","v":{"$error":"#DIV/0!"}},{"$f":"(AN11/MAX(AN$11:AN$46))*AN$2","v":{"$error":"#DIV/0!"}},{"$error":"#DIV/0!"},{"$error":"#DIV/0!"},"-","-","-","-"]
[null,"Анисимова Марина","ОКР","-","-",{"$error":"#DIV/0!"},"-","-",{"$f":"SUM(J88:W88)","v":{"$error":"#DIV/0!"}},{"$error":"#DIV/0!"},"-","-","-","-","-","-",{"$error":"#DIV/0!"},"-","-","-","-","-","-",{"$f":"SUM(Y88:AL88)","v":{"$error":"#DIV/0!"}},{"$error":"#DIV/0!"},{"$error":"#DIV/0!"},{"$error":"#DIV/0!"},"-","-","-","-",{"$f":"IF(AF12=0,0,((AF12/MAX(AF$11:AF$46))*AF$2))","v":0},"-","-","-","-","-","-",{"$f":"SUM(AN88:AT88)","v":{"$error":"#DIV/0!"}},{"$error":"#DIV/0!"},{"$error":"#DIV/0!"},{"$error":"#DIV/0!"},"-","-","-","-"]
[null,"Билый Александр","ОКР","-","-",{"$error":"#DIV/0!"},"-","-",{"$error":"#DIV/0!"},{"$error":"#DIV/0!"},"-","-","-","-","-","-",{"$error":"#DIV/0!"},"-","-","-","-","-","-",{"$error":"#DIV/0!"},{"$error":"#DIV/0!"},{"$error":"#DIV/0!"},{"$error":"#DIV/0!"},"-","-","-","-",0,"-","-","-","-","-","-",{"$error":"#DIV/0!"},{"$error":"#DIV/0!"},{"$error":"#DIV/0!"},{"$error":"#DIV/0!"},"-","-","-","-"]
[null,"Бильвина Валерия","ОКР","-","-",{"$error":"#DIV/0!"},"-","-",{"$error":"#DIV/0!"},{"$error":"#DIV/0!"},"-","-","-","-","-","-",{"$error":"#DIV/0!"},"-","-","-","-","-","-",{"$error":"#DIV/0!"},{"$error":"#DIV/0!"},{"$error":"#DIV/0!"},{"$error":"#DIV/0!"},"-","-","-","-",0,"-","-","-","-","-","-",{"$error":"#DIV/0!"},{"$error":"#DIV/0!"},{"$error":"#DIV/0!"},{"$error":"#DIV/0!"},"-","-","-","-"]
[null,"Борисов Сергей","ОКР","-","-",{"$error":"#DIV/0!"},"-","-",{"$error":"#DIV/0!"},{"$error":"#DIV/0!"},"-","-","-","-","-","-",{"$error":"#DIV/0!"},"-","-","-","-","-","-",{"$error":"#DIV/0!"},{"$error":"#DIV/0!"},{"$error":"#DIV/0!"},{"$error":"#DIV/0!"},"-","-","-","-",0,"-","-","-","-","-","-",{"$error":"#DIV/0!"},{"$error":"#DIV/0!"},{"$error":"#DIV/0!"},{"$error":"#DIV/0!"},"-","-","-","-"]
[null,"Булковский Сергей","ЗГД","-","-",{"$error":"#DIV/0!"},"-","-",{"$error":"#DIV/0!"},{"$error":"#DIV/0!"},"-","-","-","-","-","-",{"$error":"#DIV/0!"},"-","-","-","-","-","-",{"$error":"#DIV/0!"},{"$error":"#DIV/0!"},{"$error":"#DIV/0!"},{"$error":"#DIV/0!"},"-","-","-","-",0,"-","-","-","-","-","-",{"$error":"#DIV/0!"},{"$error":"#DIV/0!"},{"$error":"#DIV/0!"},{"$error":"#DIV/0!"},"-","-","-","-"]
[null,"Войтюк Юлия","ОКР","-","-",{"$error":"#DIV/0!"},"-","-",{"$error":"#DIV/0!"},{"$error":"#DIV/0!"},"-","-","-","-","-","-",{"$error":"#DIV/0!"},"-","-","-","-","-","-",{"$error":"#DIV/0!"},{"$error":"#DIV/0!"},{"$error":"#DIV/0!"},{"$error":"#DIV/0!"},"-","-","-","-",0,"-","-","-","-","-","-",{"$error":"#DIV/0!"},{"$error":"#DIV/0!"},{"$error":"#DIV/0!"},{"$error":"#DIV/0!"},"-","-","-","-"]
[null,"Гудкова Людмила","ОКР (КЦ)","-","-",{"$error":"#DIV/0!"},"-","-",{"$error":"#DIV/0!"},{"$error":"#DIV/0!"},"-","-","-","-","-","-",{"$error":"#DIV/0!"},"-","-","-","-","-","-",{"$error":"#DIV/0!"},{"$error":"#DIV/0!"},{"$error":"#DIV/0!"},{"$error":"#DIV/0!"},"-","-","-","-",0,"-","-","-","-","-","-",{"$error":"#DIV/0!"},{"$error":"#DIV/0!"},{"$error":"#DIV/0!"},{"$error":"#DIV/0!"},"-","-","-","-"]
[null,"Гулиев Рагим","ЗГД","-","-",{"$error":"#DIV/0!"},"-","-",{"$error":"#DIV/0!"},{"$error":"#DIV/0!"},"-","-","-","-","-","-",{"$error":"#DIV/0!"},"-","-","-","-","-","-",{"$error":"#DIV/0!"},{"$error":"#DIV/0!"},{"$error":"#DIV/0!"},{"$error":"#DIV/0!"},"-","-","-","-",0,"-","-","-","-","-","-",{"$error":"#DIV/0!"},{"$error":"#DIV/0!"},{"$error":"#DIV/0!"},{"$error":"#DIV/0!"},"-","-","-","-"]
[null,"Завьялов Василий","ЗГД","-","-",{"$error":"#DIV/0!"},"-","-",{"$error":"#DIV/0!"},{"$error":"#DIV/0!"},"-","-","-","-","-","-",{"$error":"#DIV/0!"},"-","-","-","-","-","-",{"$error":"#DIV/0!"},{"$error":"#DIV/0!"},{"$error":"#DIV/0!"},{"$error":"#DIV/0!"},"-","-","-","-",0,"-","-","-","-","-","-",{"$error":"#DIV/0!"},{"$error":"#DIV/0!"},{"$error":"#DIV/0!"},{"$error":"#DIV/0!"},"-","-","-","-"]
[null,"Коваленко Тамара","ОКР","-","-",{"$error":"#DIV/0!"},"-","-",{"$error":"#DIV/0!"},{"$error":"#DIV/0!"},"-","-","-","-","-","-",{"$error":"#DIV/0!"},"-","-","-","-","-","-",{"$error":"#DIV/0!"},{"$error":"#DIV/0!"},{"$error":"#DIV/0!"},{"$error":"#DIV/0!"},"-","-","-","-",0,"-","-","-","-","-","-",{"$error":"#DIV/0!"},{"$error":"#DIV/0!"},{"$error":"#DIV/0!"},{"$error":"#DIV/0!"},"-","-","-","-"]
[null,"Колесников Сергей","ОКР","-","-",{"$error":"#DIV/0!"},"-","-",{"$error":"#DIV/0!"},{"$error":"#DIV/0!"},"-","-","-","-","-","-",{"$error":"#DIV/0!"},"-","-","-","-","-","-",{"$error":"#DIV/0!"},{"$error":"#DIV/0!"},{"$error":"#DIV/0!"},{"$error":"#DIV/0!"},"-","-","-","-",0,"-","-","-","-","-","-",{"$error":"#DIV/0!"},{"$error":"#DIV/0!"},{"$error":"#DIV/0!"},{"$error":"#DIV/0!"},"-","-","-","-"]
[null,"Коробейников Павел","ЗГД","-","-",{"$error":"#DIV/0!"},"-","-",{"$error":"#DIV/0!"},{"$error":"#DIV/0!"},"-","-","-","-","-","-",{"$error":"#DIV/0!"},"-","-","-","-","-","-",{"$error":"#DIV/0!"},{"$error":"#DIV/0!"},{"$error":"#DIV/0!"},{"$error":"#DIV/0!"},"-","-","-","-",0,"-","-","-","-","-","-",{"$error":"#DIV/0!"},{"$error":"#DIV/0!"},{"$error":"#DIV/0!"},{"$error":"#DIV/0!"},"-","-","-","-"]
[null,"Марченко Лариса","ОКР","-","-",{"$error":"#DIV/0!"},"-","-",{"$error":"#DIV/0!"},{"$error":"#DIV/0!"},"-","-","-","-","-","-",{"$error":"#DIV/0!"},"-","-","-","-","-","-",{"$error":"#DIV/0!"},{"$error":"#DIV/0!"},{"$error":"#DIV/0!"},{"$error":"#DIV/0!"},"-","-","-","-",0,"-","-","-","-","-","-",{"$error":"#DIV/0!"},{"$error":"#DIV/0!"},{"$error":"#DIV/0!"},{"$error":"#DIV/0!"},"-","-","-","-"]
[null,"Мелёхин Денис","ОКР (КЦ)","-","-",{"$error":"#DIV/0!"},"-","-",{"$error":"#DIV/0!"},{"$error":"#DIV/0!"},"-","-","-","-","-","-",{"$error":"#DIV/0!"},"-","-","-","-","-","-",{"$error":"#DIV/0!"},{"$error":"#DIV/0!"},{"$error":"#DIV/0!"},{"$error":"#DIV/0!"},"-","-","-","-",0,"-","-","-","-","-","-",{"$error":"#DIV/0!"},{"$error":"#DIV/0!"},{"$error":"#DIV/0!"},{"$error":"#DIV/0!"},"-","-","-","-"]
[null,"Миняева Ирина","ОКР (КЦ)","-","-",{"$error":"#DIV/0!"},"-","-",{"$error":"#DIV/0!"},{"$error":"#DIV/0!"},"-","-","-","-","-","-",{"$error":"#DIV/0!"},"-","-","-","-","-","-",{"$error":"#DIV/0!"},{"$error":"#DIV/0!"},{"$error":"#DIV/0!"},{"$error":"#DIV/0!"},"-","-","-","-",0,"-","-","-","-","-","-",{"$error":"#DIV/0!"},{"$error":"#DIV/0!"},{"$error":"#DIV/0!"},{"$error":"#DIV/0!"},"-","-","-","-"]
[null,"Мирсаитов Дмитрий","ЗГД","-","-",{"$error":"#DIV/0!"},"-","-",{"$error":"#DIV/0!"},{"$error":"#DIV/0!"},"-","-","-","-","-","-",{"$error":"#DIV/0!"},"-","-","-","-","-","-",{"$error":"#DIV/0!"},{"$error":"#DIV/0!"},{"$error":"#DIV/0!"},{"$error":"#DIV/0!"},"-","-","-","-",0,"-","-","-","-","-","-",{"$error":"#DIV/0!"},{"$error":"#DIV/0!"},{"$error":"#DIV/0!"},{"$error":"#DIV/0!"},"-","-","-","-"]
[null,"Навальнева Евгения","ЗГД","-","-",{"$error":"#DIV/0!"},"-","-",{"$error":"#DIV/0!"},{"$error":"#DIV/0!"},"-","-","-","-","-","-",{"$error":"#DIV/0!"},"-","-","-","-","-","-",{"$error":"#DIV/0!"},{"$error":"#DIV/0!"},{"$error":"#DIV/0!"},{"$error":"#DIV/0!"},"-","-","-","-",0,"-","-","-","-","-","-",{"$error":"#DIV/0!"},{"$error":"#DIV/0!"},{"$error":"#DIV/0!"},{"$error":"#DIV/0!"},"-","-","-","-"]
[null,"Османов Руслан","ЗГД","-","-",{"$error":"#DIV/0!"},"-","-",{"$error":"#DIV/0!"},{"$error":"#DIV/0!"},"-","-","-","-","-","-",{"$error":"#DIV/0!"},"-","-","-","-","-","-",{"$error":"#DIV/0!"},{"$error":"#DIV/0!"},{"$error":"#DIV/0!"},{"$error":"#DIV/0!"},"-","-","-","-",0,"-","-","-","-","-","-",{"$error":"#DIV/0!"},{"$error":"#DIV/0!"},{"$error":"#DIV/0!"},{"$error":"#DIV/0!"},"-","-","-","-"]
[null,"Приймак Андрей","ЗГД","-","-",{"$error":"#DIV/0!"},"-","-",{"$error":"#DIV/0!"},{"$error":"#DIV/0!"},"-","-","-","-","-","-",{"$error":"#DIV/0!"},"-","-","-","-","-","-",{"$error":"#DIV/0!"},{"$error":"#DIV/0!"},{"$error":"#DIV/0!"},{"$error":"#DIV/0!"},"-","-","-","-",0,"-","-","-","-","-","-",{"$error":"#DIV/0!"},{"$error":"#DIV/0!"},{"$error":"#DIV/0!"},{"$error":"#DIV/0!"},"-","-","-","-"]
[null,"Проскуряков Алексей","ОКР","-","-",{"$error":"#DIV/0!"},"-","-",{"$error":"#DIV/0!"},{"$error":"#DIV/0!"},"-","-","-","-","-","-",{"$error":"#DIV/0!"},"-","-","-","-","-","-",{"$error":"#DIV/0!"},{"$f":"(Y31/MAX(Y$11:Y$46))*Y$2","v":{"$error":"#DIV/0!"}},{"$error":"#DIV/0!"},{"$error":"#DIV/0!"},"-","-","-","-",0,"-","-","-","-","-","-",{"$error":"#DIV/0!"},{"$f":"(AN31/MAX(AN$11:AN$46))*AN$2","v":{"$error":"#DIV/0!"}},{"$error":"#DIV/0!"},{"$error":"#DIV/0!"},"-","-","-","-"]
[null,"Савченко Яна","ОКР (КЦ)","-","-",{"$error":"#DIV/0!"},"-","-",{"$error":"#DIV/0!"},{"$error":"#DIV/0!"},"-","-","-","-","-","-",{"$error":"#DIV/0!"},"-","-","-","-","-","-",{"$error":"#DIV/0!"},{"$error":"#DIV/0!"},{"$error":"#DIV/0!"},{"$error":"#DIV/0!"},"-","-","-","-",0,"-","-","-","-","-","-",{"$error":"#DIV/0!"},{"$error":"#DIV/0!"},{"$error":"#DIV/0!"},{"$error":"#DIV/0!"},"-","-","-","-"]
[null,"Сафиуллин Наиль","ОКР (КЦ)","-","-",{"$error":"#DIV/0!"},"-","-",{"$error":"#DIV/0!"},{"$error":"#DIV/0!"},"-","-","-","-","-","-",{"$error":"#DIV/0!"},"-","-","-","-","-","-",{"$error":"#DIV/0!"},{"$error":"#DIV/0!"},{"$error":"#DIV/0!"},{"$error":"#DIV/0!"},"-","-","-","-",0,"-","-","-","-","-","-",{"$error":"#DIV/0!"},{"$error":"#DIV/0!"},{"$error":"#DIV/0!"},{"$error":"#DIV/0!"},"-","-","-","-"]
[null,"Сметанин Павел","ОКР","-","-",{"$error":"#DIV/0!"},"-","-",{"$error":"#DIV/0!"},{"$error":"#DIV/0!"},"-","-","-","-","-","-",{"$error":"#DIV/0!"},"-","-","-","-","-","-",{"$error":"#DIV/0!"},{"$error":"#DIV/0!"},{"$error":"#DIV/0!"},{"$error":"#DIV/0!"},"-","-","-","-",0,"-","-","-","-","-","-",{"$error":"#DIV/0!"},{"$error":"#DIV/0!"},{"$error":"#DIV/0!"},{"$error":"#DIV/0!"},"-","-","-","-"]
[null,"Степин Константин","ОКР (КЦ)","-","-",{"$error":"#DIV/0!"},"-","-",{"$error":"#DIV/0!"},{"$error":"#DIV/0!"},"-","-","-","-","-","-",{"$error":"#DIV/0!"},"-","-","-","-","-","-",{"$error":"#DIV/0!"},{"$error":"#DIV/0!"},{"$error":"#DIV/0!"},{"$error":"#DIV/0!"},"-","-","-","-",0,"-","-","-","-","-","-",{"$error":"#DIV/0!"},{"$error":"#DIV/0!"},{"$error":"#DIV/0!"},{"$error":"#DIV/0!"},"-","-","-","-"]
[null,"Титов Александр","ЗГД","-","-",{"$error":"#DIV/0!"},"-","-",{"$error":"#DIV/0!"},{"$error":"#DIV/0!"},"-","-","-","-","-","-",{"$error":"#DIV/0!"},"-","-","-","-","-","-",{"$error":"#DIV/0!"},{"$error":"#DIV/0!"},{"$error":"#DIV/0!"},{"$error":"#DIV/0!"},"-","-","-","-",0,"-","-","-","-","-","-",{"$error":"#DIV/0!"},{"$error":"#DIV/0!"},{"$error":"#DIV/0!"},{"$error":"#DIV/0!"},"-","-","-","-"]
[null,"Фирсов Владимир","ОКР","-","-",{"$error":"#DIV/0!"},"-","-",{"$error":"#DIV/0!"},{"$error":"#DIV/0!"},"-","-","-","-","-","-",{"$error":"#DIV/0!"},"-","-","-","-","-","-",{"$error":"#DIV/0!"},{"$error":"#DIV/0!"},{"$error":"#DIV/0!"},{"$error":"#DIV/0!"},"-","-","-","-",0,"-","-","-","-","-","-",{"$error":"#DIV/0!"},{"$error":"#DIV/0!"},{"$error":"#DIV/0!"},{"$error":"#DIV/0!"},"-","-","-","-"]
[null,"Чунц Илья","ЗГД","-","-",{"$error":"#DIV/0!"},"-","-",{"$error":"#DIV/0!"},{"$error":"#DIV/0!"},"-","-","-","-","-","-",{"$error":"#DIV/0!"},"-","-","-","-","-","-",{"$error":"#DIV/0!"},{"$error":"#DIV/0!"},{"$error":"#DIV/0!"},{"$error":"#DIV/0!"},"-","-","-","-",0,"-","-","-","-","-","-",{"$error":"#DIV/0!"},{"$error":"#DIV/0!"},{"$error":"#DIV/0!"},{"$error":"#DIV/0!"},"-","-","-","-"]
[null,"Шепляков Алексей","ЗГД","-","-",{"$error":"#DIV/0!"},"-","-",{"$error":"#DIV/0!"},{"$error":"#DIV/0!"},"-","-","-","-","-","-",{"$error":"#DIV/0!"},"-","-","-","-","-","-",{"$error":"#DIV/0!"},{"$error":"#DIV/0!"},{"$error":"#DIV/0!"},{"$error":"#DIV/0!"},"-","-","-","-",0,"-","-","-","-","-","-",{"$error":"#DIV/0!"},{"$error":"#DIV/0!"},{"$error":"#DIV/0!"},{"$error":"#DIV/0!"},"-","-","-","-"]
[null,"Шестаков Антон","ЗГД","-","-",{"$error":"#DIV/0!"},"-","-",{"$error":"#DIV/0!"},{"$error":"#DIV/0!"},"-","-","-","-","-","-",{"$error":"#DIV/0!"},"-","-","-","-","-","-",{"$error":"#DIV/0!"},{"$error":"#DIV/0!"},{"$error":"#DIV/0!"},{"$error":"#DIV/0!"},"-","-","-","-",0,"-","-","-","-","-","-",{"$error":"#DIV/0!"},{"$error":"#DIV/0!"},{"$error":"#DIV/0!"},{"$error":"#DIV/0!"},"-","-","-","-"]
[null,"Ялымов Денис","ОКР","-","-",{"$error":"#DIV/0!"},"-","-",{"$error":"#DIV/0!"},{"$error":"#DIV/0!"},"-","-","-","-","-","-",{"$error":"#DIV/0!"},"-","-","-","-","-","-",{"$error":"#DIV/0!"},{"$error":"#DIV/0!"},{"$error":"#DIV/0!"},{"$error":"#DIV/0!"},"-","-","-","-",0,"-","-","-","-","-","-",{"$error":"#DIV/0!"},{"$error":"#DIV/0!"},{"$error":"#DIV/0!"},{"$error":"#DIV/0!"},"-","-","-","-"]
[null,"Винокурова Елена","КЦ","-","-",{"$error":"#DIV/0!"},"-","-",{"$error":"#DIV/0!"},{"$error":"#DIV/0!"},"-","-","-","-","-","-",{"$error":"#DIV/0!"},"-","-","-","-","-","-",{"$error":"#DIV/0!"},{"$error":"#DIV/0!"},{"$error":"#DIV/0!"},{"$error":"#DIV/0!"},"-","-","-","-",0,"-","-","-","-","-","-",{"$error":"#DIV/0!"},{"$error":"#DIV/0!"},{"$error":"#DIV/0!"},{"$error":"#DIV/0!"},"-","-","-","-"]
[null,"Горбунова Татьяна","КЦ","-","-",{"$error":"#DIV/0!"},"-","-",{"$error":"#DIV/0!"},{"$error":"#DIV/0!"},"-","-","-","-","-","-",{"$error":"#DIV/0!"},"-","-","-","-","-","-",{"$error":"#DIV/0!"},{"$error":"#DIV/0!"},{"$error":"#DIV/0!"},{"$error":"#DIV/0!"},"-","-","-","-",0,"-","-","-","-","-","-",{"$error":"#DIV/0!"},{"$error":"#DIV/0!"},{"$error":"#DIV/0!"},{"$error":"#DIV/0!"},"-","-","-","-"]
[null,"Давыденков Евгений","КЦ","-","-",{"$error":"#DIV/0!"},"-","-",{"$error":"#DIV/0!"},{"$error":"#DIV/0!"},"-","-","-","-","-","-",{"$error":"#DIV/0!"},"-","-","-","-","-","-",{"$error":"#DIV/0!"},{"$error":"#DIV/0!"},{"$error":"#DIV/0!"},{"$error":"#DIV/0!"},"-","-","-","-",0,"-","-","-","-","-","-",{"$error":"#DIV/0!"},{"$error":"#DIV/0!"},{"$error":"#DIV/0!"},{"$error":"#DIV/0!"},"-","-","-","-"]
[null,"Журавлев Сергей","КЦ","-","-",{"$error":"#DIV/0!"},"-","-",{"$error":"#DIV/0!"},{"$error":"#DIV/0!"},"-","-","-","-","-","-",{"$error":"#DIV/0!"},"-","-","-","-","-","-",{"$error":"#DIV/0!"},{"$error":"#DIV/0!"},{"$error":"#DIV/0!"},{"$error":"#DIV/0!"},"-","-","-","-",0,"-","-","-","-","-","-",{"$error":"#DIV/0!"},{"$error":"#DIV/0!"},{"$error":"#DIV/0!"},{"$error":"#DIV/0!"},"-","-","-","-"]
[null,"Ульданов Динар","КЦ","-","-",{"$error":"#DIV/0!"},"-","-",{"$error":"#DIV/0!"},{"$error":"#DIV/0!"},"-","-","-","-","-","-",{"$error":"#DIV/0!"},"-","-","-","-","-","-",{"$error":"#DIV/0!"},{"$error":"#DIV/0!"},{"$error":"#DIV/0!"},{"$error":"#DIV/0!"},"-","-","-","-",0,"-","-","-","-","-","-",{"$error":"#DIV/0!"},{"$error":"#DIV/0!"},{"$error":"#DIV/0!"},{"$error":"#DIV/0!"},"-","-","-","-"]
[null,1,2,3,4,5,6,7,8,9,10,11,12,13,14,15,16,17,18,19,20,21,22,23,24,25,26,27,28,29,30,31,32,33,34,35,36,37,38,39,40,41,42,43,44,45]
[null,"РАСПРЕДЕЛЕНИЕ МЕСТ",null,null,"ИНТЕГРАЛЬНЫЙ РЕЙТИНГ","РЕЗУЛЬТАТИВНОСТЬ",null,null,"ПРОАКТИВНОСТЬ",null,null,null,null,null,null,null,null,null,null,null,null,null,null,"ПРОФЕССИОНАЛЬНОЕ РАЗВИТИЕ",null,null,null,null,null,null,null,null,null,null,null,null,null,null,"ЭФФЕКТИВНОЕ ВЗАИМОДЕЙСТВИЕ"]
[null,"Василий Леонтьев","ОКР","-",{"$f":"_xlfn.RANK.AVG(E49,E$49:E$79)","v":{"$error":"#DIV/0!"}},{"$f":"_xlfn.RANK.AVG(F87,F$87:F$117)","v":{"$error":"#DIV/0!"}},"-","-",{"$f":"_xlfn.RANK.AVG(I87,I$87:I$117)","v":{"$error":"#DIV/0!"}},"-","-","-","-","-","-","-","-","-","-","-","-","-","-",{"$f":"_xlfn.RANK.AVG(X87,X$87:X$117)","v":{"$error":"#DIV/0!"}},"-","-","-","-","-","-","-","-","-","-","-","-","-","-",{"$f":"_xlfn.RANK.AVG(AM87,AM$87:AM$117)","v":{"$error":"#DIV/0!"}},"-","-","-","-","-","-","-"]
[null,"Гуннар Мюрдаль","ОКР","-",{"$f":"_xlfn.RANK.AVG(E50,E$49:E$79)","v":{"$error":"#DIV/0!"}},{"$f":"_xlfn.RANK.AVG(F88,F$87:F$117)","v":{"$error":"#DIV/0!"}},"-","-",{"$f":"_xlfn.RANK.AVG(I88,I$87:I$117)","v":{"$error":"#DIV/0!"}},"-","-","-","-","-","-","-","-","-","-","-","-","-","-",{"$f":"_xlfn.RANK.AVG(X88,X$87:X$117)","v":{"$error":"#DIV/0!"}},"-","-","-","-","-","-","-","-","-","-","-","-","-","-",{"$f":"_xlfn.RANK.AVG(AM88,AM$87:AM$117)","v":{"$error":"#DIV/0!"}},"-","-","-","-","-","-","-"]
[null,"Джон Ричард Хикс","ОКР","-",{"$error":"#DIV/0!"},{"$error":"#DIV/0!"},"-","-",{"$error":"#DIV/0!"},"-","-","-","-","-","-","-","-","-","-","-","-","-","-",{"$error":"#DIV/0!"},"-","-","-","-","-","-","-","-","-","-","-","-","-","-",{"$error":"#DIV/0!"},"-","-","-","-","-","-","-"]
[null,"Кеннет Эрроу","ОКР","-",{"$error":"#DIV/0!"},{"$error":"#DIV/0!"},"-","-",{"$error":"#DIV/0!"},"-","-","-","-","-","-","-","-","-","-","-","-","-","-",{"$error":"#DIV/0!"},"-","-","-","-","-","-","-","-","-","-","-","-","-","-",{"$error":"#DIV/0!"},"-","-","-","-","-","-","-"]
[null,"Кэрол Грейдер","ОКР","-",{"$error":"#DIV/0!"},{"$error":"#DIV/0!"},"-","-",{"$error":"#DIV/0!"},"-","-","-","-","-","-","-","-","-","-","-","-","-","-",{"$error":"#DIV/0!"},"-","-","-","-","-","-","-","-","-","-","-","-","-","-",{"$error":"#DIV/0!"},"-","-","-","-","-","-","-"]
[null,"Линда Бак","ЗГД","-",{"$error":"#DIV/0!"},{"$error":"#DIV/0!"},"-","-",{"$error":"#DIV/0!"},"-","-","-","-","-","-","-","-","-","-","-","-","-","-",{"$error":"#DIV/0!"},"-","-","-","-","-","-","-","-","-","-","-","-","-","-",{"$error":"#DIV/0!"},"-","-","-","-","-","-","-"]
[null,"Мэй-Брит Мозер","ОКР","-",{"$error":"#DIV/0!"},{"$error":"#DIV/0!"},"-","-",{"$error":"#DIV/0!"},"-","-","-","-","-","-","-","-","-","-","-","-","-","-",{"$error":"#DIV/0!"},"-","-","-","-","-","-","-","-","-","-","-","-","-","-",{"$error":"#DIV/0!"},"-","-","-","-","-","-","-"]
[null,"Саймон Кузнец","ОКР (КЦ)","-",{"$error":"#DIV/0!"},{"$error":"#DIV/0!"},"-","-",{"$error":"#DIV/0!"},"-","-","-","-","-","-","-","-","-","-","-","-","-","-",{"$error":"#DIV/0!"},"-","-","-","-","-","-","-","-","-","-","-","-","-","-",{"$error":"#DIV/0!"},"-","-","-","-","-","-","-"]
[null,"Светлана Алексеевич","ЗГД","-",{"$error":"#DIV/0!"},{"$error":"#DIV/0!"},"-","-",{"$error":"#DIV/0!"},"-","-","-","-","-","-","-","-","-","-","-","-","-","-",{"$error":"#DIV/0!"},"-","-","-","-","-","-","-","-","-","-","-","-","-","-",{"$error":"#DIV/0!"},"-","-","-","-","-","-","-"]
[null,"Эстер Дюфло","ЗГД","-",{"$error":"#DIV/0!"},{"$error":"#DIV/0!"},"-","-",{"$error":"#DIV/0!"},"-","-","-","-","-","-","-","-","-","-","-","-","-","-",{"$error":"#DIV/0!"},"-","-","-","-","-","-","-","-","-","-","-","-","-","-",{"$error":"#DIV/0!"},"-","-","-","-","-","-","-"]
[null,"Коваленко Тамара","ОКР","-",{"$error":"#DIV/0!"},{"$error":"#DIV/0!"},"-","-",{"$error":"#DIV/0!"},"-","-","-","-","-","-","-","-","-","-","-","-","-","-",{"$error":"#DIV/0!"},"-","-","-","-","-","-","-","-","-","-","-","-","-","-",{"$error":"#DIV/0!"},"-","-","-","-","-","-","-"]
[null,"Колесников Сергей","ОКР","-",{"$error":"#DIV/0!"},{"$error":"#DIV/0!"},"-","-",{"$error":"#DIV/0!"},"-","-","-","-","-","-","-","-","-","-","-","-","-","-",{"$error":"#DIV/0!"},"-","-","-","-","-","-","-","-","-","-","-","-","-","-",{"$error":"#DIV/0!"},"-","-","-","-","-","-","-"]
[null,"Коробейников Павел","ЗГД","-",{"$error":"#DIV/0!"},{"$error":"#DIV/0!"},"-","-",{"$error":"#DIV/0!"},"-","-","-","-","-","-","-","-","-","-","-","-","-","-",{"$error":"#DIV/0!"},"-","-","-","-","-","-","-","-","-","-","-","-","-","-",{"$error":"#DIV/0!"},"-","-","-","-","-","-","-"]
[null,"Марченко Лариса","ОКР","-",{"$error":"#DIV/0!"},{"$error":"#DIV/0!"},"-","-",{"$error":"#DIV/0!"},"-","-","-","-","-","-","-","-","-","-","-","-","-","-",{"$error":"#DIV/0!"},"-","-","-","-","-","-","-","-","-","-","-","-","-","-",{"$error":"#DIV/0!"},"-","-","-","-","-","-","-"]
[null,"Мелёхин Денис","ОКР (КЦ)","-",{"$error":"#DIV/0!"},{"$error":"#DIV/0!"},"-","-",{"$error":"#DIV/0!"},"-","-","-","-","-","-","-","-","-","-","-","-","-","-",{"$error":"#DIV/0!"},"-","-","-","-","-","-","-","-","-","-","-","-","-","-",{"$error":"#DIV/0!"},"-","-","-","-","-","-","-"]
[null,"Миняева Ирина","ОКР (КЦ)","-",{"$error":"#DIV/0!"},{"$error":"#DIV/0!"},"-","-",{"$error":"#DIV/0!"},"-","-","-","-","-","-","-","-","-","-","-","-","-","-",{"$error":"#DIV/0!"},"-","-","-","-","-","-","-","-","-","-","-","-","-","-",{"$error":"#DIV/0!"},"-","-","-","-","-","-","-"]
[null,"Мирсаитов Дмитрий","ЗГД","-",{"$error":"#DIV/0!"},{"$error":"#DIV/0!"},"-","-",{"$error":"#DIV/0!"},"-","-","-","-","-","-","-","-","-","-","-","-","-","-",{"$error":"#DIV/0!"},"-","-","-","-","-","-","-","-","-","-","-","-","-","-",{"$error":"#DIV/0!"},"-","-","-","-","-","-","-"]
[null,"Навальнева Евгения","ЗГД","-",{"$error":"#DIV/0!"},{"$error":"#DIV/0!"},"-","-",{"$error":"#DIV/0!"},"-","-","-","-","-","-","-","-","-","-","-","-","-","-",{"$error":"#DIV/0!"},"-","-","-","-","-","-","-","-","-","-","-","-","-","-",{"$error":"#DIV/0!"},"-","-","-","-","-","-","-"]
[null,"Османов Руслан","ЗГД","-",{"$error":"#DIV/0!"},{"$error":"#DIV/0!"},"-","-",{"$error":"#DIV/0!"},"-","-","-","-","-","-","-","-","-","-","-","-","-","-",{"$error":"#DIV/0!"},"-","-","-","-","-","-","-","-","-","-","-","-","-","-",{"$error":"#DIV/0!"},"-","-","-","-","-","-","-"]
[null,"Приймак Андрей","ЗГД","-",{"$error":"#DIV/0!"},{"$error":"#DIV/0!"},"-","-",{"$error":"#DIV/0!"},"-","-","-","-","-","-","-","-","-","-","-","-","-","-",{"$error":"#DIV/0!"},"-","-","-","-","-","-","-","-","-","-","-","-","-","-",{"$error":"#DIV/0!"},"-","-","-","-","-","-","-"]
[null,"Проскуряков Алексей","ОКР","-",{"$error":"#DIV/0!"},{"$error":"#DIV/0!"},"-","-",{"$error":"#DIV/0!"},"-","-","-","-","-","-","-","-","-","-","-","-","-","-",{"$error":"#DIV/0!"},"-","-","-","-","-","-","-","-","-","-","-","-","-","-",{"$error":"#DIV/0!"},"-","-","-","-","-","-","-"]
[null,"Савченко Яна","ОКР (КЦ)","-",{"$error":"#DIV/0!"},{"$error":"#DIV/0!"},"-","-",{"$error":"#DIV/0!"},"-","-","-","-","-","-","-","-","-","-","-","-","-","-",{"$error":"#DIV/0!"},"-","-","-","-","-","-","-","-","-","-","-","-","-","-",{"$error":"#DIV/0!"},"-","-","-","-","-","-","-"]
[null,"Сафиуллин Наиль","ОКР (КЦ)","-",{"$error":"#DIV/0!"},{"$error":"#DIV/0!"},"-","-",{"$error":"#DIV/0!"},"-","-","-","-","-","-","-","-","-","-","-","-","-","-",{"$error":"#DIV/0!"},"-","-","-","-","-","-","-","-","-","-","-","-","-","-",{"$error":"#DIV/0!"},"-","-","-","-","-","-","-"]
[null,"Сметанин Павел","ОКР","-",{"$error":"#DIV/0!"},{"$error":"#DIV/0!"},"-","-",{"$error":"#DIV/0!"},"-","-","-","-","-","-","-","-","-","-","-","-","-","-",{"$error":"#DIV/0!"},"-","-","-","-","-","-","-","-","-","-","-","-","-","-",{"$error":"#DIV/0!"},"-","-","-","-","-","-","-"]
[null,"Степин Константин","ОКР (КЦ)","-",{"$error":"#DIV/0!"},{"$error":"#DIV/0!"},"-","-",{"$error":"#DIV/0!"},"-","-","-","-","-","-","-","-","-","-","-","-","-","-",{"$error":"#DIV/0!"},"-","-","-","-","-","-","-","-","-","-","-","-","-","-",{"$error":"#DIV/0!"},"-","-","-","-","-","-","-"]
[null,"Титов Александр","ЗГД","-",{"$error":"#DIV/0!"},{"$error":"#DIV/0!"},"-","-",{"$error":"#DIV/0!"},"-","-","-","-","-","-","-","-","-","-","-","-","-","-",{"$error":"#DIV/0!"},"-","-","-","-","-","-","-","-","-","-","-","-","-","-",{"$error":"#DIV/0!"},"-","-","-","-","-","-","-"]
[null,"Фирсов Владимир","ОКР","-",{"$error":"#DIV/0!"},{"$error":"#DIV/0!"},"-","-",{"$error":"#DIV/0!"},"-","-","-","-","-","-","-","-","-","-","-","-","-","-",{"$error":"#DIV/0!"},"-","-","-","-","-","-","-","-","-","-","-","-","-","-",{"$error":"#DIV/0!"},"-","-","-","-","-","-","-"]
[null,"Чунц Илья","ЗГД","-",{"$error":"#DIV/0!"},{"$error":"#DIV/0!"},"-","-",{"$error":"#DIV/0!"},"-","-","-","-","-","-","-","-","-","-","-","-","-","-",{"$error":"#DIV/0!"},"-","-","-","-","-","-","-","-","-","-","-","-","-","-",{"$error":"#DIV/0!"},"-","-","-","-","-","-","-"]
[null,"Шепляков Алексей","ЗГД","-",{"$error":"#DIV/0!"},{"$error":"#DIV/0!"},"-","-",{"$error":"#DIV/0!"},"-","-","-","-","-","-","-","-","-","-","-","-","-","-",{"$error":"#DIV/0!"},"-","-","-","-","-","-","-","-","-","-","-","-","-","-",{"$error":"#DIV/0!"},"-","-","-","-","-","-","-"]
[null,"Шестаков Антон","ЗГД","-",{"$error":"#DIV/0!"},{"$error":"#DIV/0!"},"-","-",{"$error":"#DIV/0!"},"-","-","-","-","-","-","-","-","-","-","-","-","-","-",{"$error":"#DIV/0!"},"-","-","-","-","-","-","-","-","-","-","-","-","-","-",{"$error":"#DIV/0!"},"-","-","-","-","-","-","-"]
[null,"Ялымов Денис","ОКР","-",{"$error":"#DIV/0!"},{"$error":"#DIV/0!"},"-","-",{"$error":"#DIV/0!"},"-","-","-","-","-","-","-","-","-","-","-","-","-","-",{"$error":"#DIV/0!"},"-","-","-","-","-","-","-","-","-","-","-","-","-","-",{"$error":"#DIV/0!"},"-","-","-","-","-","-","-"]
[null,"Винокурова Елена","КЦ","-",{"$f":"_xlfn.RANK.AVG(E80,E$80:E$84)","v":{"$error":"#DIV/0!"}},{"$f":"_xlfn.RANK.AVG(F118,F$118:F$122)","v":{"$error":"#DIV/0!"}},"-","-",{"$f":"_xlfn.RANK.AVG(I118,I$118:I$122)","v":{"$error":"#DIV/0!"}},"-","-","-","-","-","-","-","-","-","-","-","-","-","-",{"$f":"_xlfn.RANK.AVG(X118,X$118:X$122)","v":{"$error":"#DIV/0!"}},"-","-","-","-","-","-","-","-","-","-","-","-","-","-",{"$f":"_xlfn.RANK.AVG(AM118,AM$118:AM$122)","v":{"$error":"#DIV/0!"}},"-","-","-","-","-","-","-"]
[null,"Горбунова Татьяна","КЦ","-",{"$f":"_xlfn.RANK.AVG(E81,E$80:E$84)","v":{"$error":"#DIV/0!"}},{"$f":"_xlfn.RANK.AVG(F119,F$118:F$122)","v":{"$error":"#DIV/0!"}},"-","-",{"$f":"_xlfn.RANK.AVG(I119,I$118:I$122)","v":{"$error":"#DIV/0!"}},"-","-","-","-","-","-","-","-","-","-","-","-","-","-",{"$f":"_xlfn.RANK.AVG(X119,X$118:X$122)","v":{"$error":"#DIV/0!"}},"-","-","-","-","-","-","-","-","-","-","-","-","-","-",{"$f":"_xlfn.RANK.AVG(AM119,AM$118:AM$122)","v":{"$error":"#DIV/0!"}},"-","-","-","-","-","-","-"]
[null,"Давыденков Евгений","КЦ","-",{"$error":"#DIV/0!"},{"$error":"#DIV/0!"},"-","-",{"$error":"#DIV/0!"},"-","-","-","-","-","-","-","-","-","-","-","-","-","-",{"$error":"#DIV/0!"},"-","-","-","-","-","-","-","-","-","-","-","-","-","-",{"$error":"#DIV/0!"},"-","-","-","-","-","-","-"]
[null,"Журавлев Сергей","КЦ","-",{"$error":"#DIV/0!"},{"$error":"#DIV/0!"},"-","-",{"$error":"#DIV/0!"},"-","-","-","-","-","-","-","-","-","-","-","-","-","-",{"$error":"#DIV/0!"},"-","-","-","-","-","-","-","-","-","-","-","-","-","-",{"$error":"#DIV/0!"},"-","-","-","-","-","-","-"]
[null,"Ульданов Динар","КЦ","-",{"$error":"#DIV/0!"},{"$error":"#DIV/0!"},"-","-",{"$error":"#DIV/0!"},"-","-","-","-","-","-","-","-","-","-","-","-","-","-",{"$error":"#DIV/0!"},"-","-","-","-","-","-","-","-","-","-","-","-","-","-",{"$error":"#DIV/0!"},"-","-","-","-","-","-","-"]